{"text_format":"1","workbook":"xlsx","n_sheets":25,"sheets":["Help Sheet","General data ESEF","General data ESRS","General data ITGAAP","General data UKFRC","General data DKGAAP","DKGAAP tags","DKGAAP service workflow","DKGAAP base","Text DKGAAP","General data BASE","Financial highlights","Financial highlights DKGAAP","Income statement","Comprehensive income","Balance sheet","Changes in equity","Cash flow","Cash flow DKGAAP","ESEF tags","Areas","Notes","Notes ESEF+DKGAAP","Notes DKGAAP","Transfer_REPORT"],"not_rendered":{"charts":0,"images":7,"macros":1,"external_links":0,"defined_names":541,"comments":7,"pivot_tables":0},"unopened":[],"bounds":{"document_bytes":16777216,"sheet_cells":100000,"rows_first":2000,"rows_last":500,"rows_between":2000,"halvings":0,"cell_chars":16384,"cell_head_chars":4096},"cells_cut":0,"cells_raw":0,"read":"whole","date_system":"1900"}

{"sheet":"Help Sheet","index":0,"n_rows":125,"n_cols":5,"rows_kept":125,"cut":false,"hidden":false,"merged":[[17,1,32,2],[15,1,15,2],[16,1,16,2],[0,1,0,2],[2,1,2,2],[3,1,3,2],[5,1,5,2],[4,1,4,2],[6,1,14,2],[83,1,83,2],[84,1,84,2],[85,1,85,2],[73,1,81,2],[72,1,72,2],[82,1,82,2],[63,1,71,2],[59,1,59,2],[60,1,60,2],[61,1,61,2],[62,1,62,2],[49,1,58,2],[47,1,47,2],[48,1,48,2],[38,1,46,2],[33,1,33,2],[36,1,36,2],[37,1,37,2],[34,1,34,2],[35,1,35,2],[108,1,108,2],[86,1,86,2],[87,1,87,2],[88,1,88,2],[89,1,89,2]]}
[null,"How to update your excel template:"]
[]
[null,"General Data Sheet"]
[null,"1. Make sure that the template version is the latest one. You can update it by following the guide below:"]
[null,"How to Update Your Excel Template to the Latest Version"]
[null,"2. Check information under \"General\" section and adjust if needed. "]
[]
[]
[]
[]
[]
[]
[]
[]
[]
[null,"3. Scroll down to the \"Dates\" section. Keep updated the lines “Start date of reporting period 1” and “End date of reporting period 1”."]
[null,"The rest of the reporting periods will follow automatically based on Period 1."]
[]
[]
[]
[]
[]
[]
[]
[]
[]
[]
[]
[]
[]
[]
[]
[]
[null,"Financial Statements"]
[null,"How to Update Your Excel Template for a new ESEF Reporting season"]
[]
[null,"If there are no changes in the accounts:"]
[null,"1. Copy the figures from Period 1 to Period 2"]
[]
[]
[]
[]
[]
[]
[null,null,null,null," "]
[]
[]
[null,"2. Insert new figures in Period 1"]
[null,"3. Convert and validate the report by uploading PDF file and Excel template."]
[]
[]
[]
[]
[]
[]
[]
[]
[]
[]
[null,"Disclaimer: After updating the figures in the Excel template, make sure that the FSLI match one to one with the PDF."]
[]
[null,"If there are New accounts/Adjusted accounts"]
[null,"1. Copy the figures from Period 1 to Period 2"]
[]
[]
[]
[]
[]
[]
[]
[]
[]
[null,"2. Insert new accounts, highlight in yellow and leave a small comment (e.g. Note: new account) in column F."]
[]
[]
[]
[]
[]
[]
[]
[]
[]
[null,"Disclaimer: If a FSLI changed name, highlight it in yellow and as a comment write \"Note: name change\"."]
[]
[null,"3. Insert new figures in Period 1"]
[null,"4. Convert and validate the report by uploading PDF file and Excel template."]
[]
[null,"Deleting lines - Lines can be deleted if not present in the PDF report. "]
[]
[null,"TextSearch syntax: "]
[null,"*","Tag everything. If used in a sentence like e.g. in \"You can search for a lot of text\"  \"You can*text\" , the result will be \"You can search for a lot of text\""]
[null,">","Start tagging AFTER a given text.  e.g. in \"You can search for a lot of text\" \"You can>*text\" , the result will be: \"search for a lot of text\""]
[null,">>","Same as above, but next row after a given text, basically skip a row and start tagging. If you add more \">\" signs, you can increase the number of rows to search for after a text"]
[null,"<","Start tagging BEFORE a given text.  e.g. in \"You can search for a lot of text\" \"You can*<of text\", the result will be: \"You can search for a lot \""]
[null,"<<","Same as above, but previous row before a given text.If you add more \"<\" signs, you can increase the number of rows to stop at before a text"]
[null,"area://text","Remember to insert area tag links in the PDF "]
[]
[null,"TextSearch examples:"]
[null,"The search area:","ParsePort had a great financial year. \nA lot happened, but it could have been worse."]
[]
[null,"Search string:","Result:"]
[null,"Parseport*year.","ParsePort had a great financial year."]
[null,"ParsePort*worse.","ParsePort had a great financial year.\nA lot happened, but it could be a lot worse."]
[null,"ParsePort>*year.","had a great financial year."]
[null,"ParsePort>>*worse.","A lot happened, but it could be a lot worse."]
[null,"ParsePort>*<<worse.","had a great financial year."]
[null,"a great>*<it could","financial year.\nA lot happened, but"]
[]
[null,"Keyboard shortcuts when master template is open:"]
[]
[null,"CTRL+W","Update active sheet"]
[null,"CTRL+INSERT","Insert row"]
[null,"CTRL+DELETE","Delete row"]
[null,"CTRL+SHIFT+INSERT","Insert column"]
[null,"CTRL+SHIFT+DELETE","Delete column"]
[null,"CTRL+SHIFT+V","Paste as values"]
[null,"CTRL+SHIFT+F","Paste as formulas"]
[null,"CTRL+SHIFT+D","Reinstate default value for active cell in General data sheet"]
[null,"CTRL+SHIFT+A","Reinstate conditional formatting (coloring of formulas) for selected area"]
[null,"CTRL+SHIFT+I","Align cell indentation with row grouping"]
[null,"CTRL+SHIFT+O","Align row grouping and column B indentation with column A level value"]
[null,"CTRL+LEFT","Roll figures in active cell column left"]
[null,"CTRL+RIGHT","Roll figures in active cell column right"]
[null,"ALT+LEFT","Collapse outline"]
[null,"ALT+RIGHT","Expand outline"]

{"sheet":"General data ESEF","index":1,"n_rows":93,"n_cols":79,"rows_kept":93,"cut":false,"hidden":false,"merged":[[61,1,61,4],[63,1,63,4],[64,1,64,4],[65,1,65,4],[67,1,67,4],[66,1,66,4],[62,1,62,4],[60,1,60,4],[49,1,49,4],[50,1,50,4],[51,1,51,4],[52,1,52,4],[53,1,53,4],[54,1,54,4],[55,1,55,4],[56,1,56,4],[57,1,57,4],[58,1,58,4],[59,1,59,4],[48,1,48,4],[35,1,35,4],[36,1,36,4],[37,1,37,4],[38,1,38,4],[39,1,39,4],[40,1,40,4],[43,1,43,4],[44,1,44,4],[45,1,45,4],[46,1,46,4],[47,1,47,4],[34,1,34,4],[23,1,23,4],[24,1,24,4],[25,1,25,4],[26,1,26,4],[27,1,27,4],[28,1,28,4],[29,1,29,4],[30,1,30,4],[31,1,31,4],[32,1,32,4],[33,1,33,4],[22,1,22,4],[10,1,10,4],[11,1,11,4],[12,1,12,4],[13,1,13,4],[14,1,14,4],[16,1,16,4],[17,1,17,4],[18,1,18,4],[20,1,20,2],[20,3,20,4],[21,1,21,4],[9,1,9,4],[2,1,2,4],[3,1,3,4],[4,1,4,4],[6,1,6,2],[6,3,6,4]]}
[null,null,null,null,null,"Range name","Defaults x4 columns",null,{"$f":"IFERROR(MATCH(PP_LabelLanguage,PP_Languages,0),1)","v":1},{"$f":"IF(ISBLANK(INDEX(PP_Locale,2,PP_LabelLanguageIndex)),1,PP_LabelLanguageIndex)","v":1},"EN","BG","CS","DA","DE","EL","ES","ET","FI","FR","HR","HU","IS","IT","LT","LV","MT","NL","NO","PL","PT","RO","SK","SL","SV",{"$f":"IFERROR(MATCH(PP_CountryCode,PP_Countries,0),1)","v":1},"EU","AT","BE","BG","CH","CY","CZ","DE","DK","EE","EL","ES","FI","FR","GG","GR","HR","HU","IE","IS","IT","LI","LT","LU","LV","MT","NL","NO","PL","PT","RO","SE","SI","SK","UK","Adjusted values x4 columns",null,null,null,"Validation lists"]
[{"$f":"\"\"&INDEX(PP_Locale,ROW(),PP_LanguageIndex)&\" 1.5.7\"","v":"ParsePort ESEF general data, version 1.5.7"},null,null,null,null,null,null,null,null,null,"ParsePort ESEF general data, version",null,null,"ParsePort ESEF stamdata, version","ParsePort ESEF allgemeine daten, ausführung",null,"ParsePort ESEF informacion general, versión",null,null,"Informations générales ESEF ParsePort, version",null,null,null,"ParsePort ESEF dati generali, versione",null,null,null,null,null,"ParsePort ESEF ogólne dane, wersja",null,null,null,null,null,null,null,null,null,null,null,null,null,null,null,null,null,null,null,null,null,null,null,null,null,null,null,null,null,null,null,null,null,null,null,null,null,null,null,null,null,"Adjusted values x4 columns"]
[null,{"$f":"\"\"&INDEX(PP_Locale,ROW(),PP_LanguageIndex)","v":"MANDATORY FIELD"},null,null,null,null,null,null,null,null,"MANDATORY FIELD",null,null,"OBLIGATORISK FELT","PFLICHTFELD",null,"CAMPO OBLIGATORIO",null,null,"CHAMP OBLIGATOIRE",null,null,null,"CAMPO OBBLIGATORIO",null,null,null,null,null,"POLE OBOWIĄZKOWE"]
[null,{"$f":"\"\"&INDEX(PP_Locale,ROW(),PP_LanguageIndex)","v":"AUTOMATIC FIELD (can be overruled)"},null,null,null,null,null,null,null,null,"AUTOMATIC FIELD (can be overruled)",null,null,"AUTOMATISK FELT (kan overstyres)","AUTOMATISCHES FELD (kann gesetzt werden)",null,"CAMPO AUTOMÁTICO (se puede cancelar)",null,null,"CHAMP AUTOMATIQUE (peut être annulé)",null,null,null,"CAMPO AUTOMATICO (può essere annullato)",null,null,null,null,null,"POLE AUTOMATYCZNE (można zmienić)"]
[null,{"$f":"\"\"&INDEX(PP_Locale,ROW(),PP_LanguageIndex)","v":"FILL OUT IF INFORMATION IS PRESENT IN REPORT"},null,null,null,null,null,null,null,null,"FILL OUT IF INFORMATION IS PRESENT IN REPORT",null,null,"UDFYLDES HVIS INFORMATIONEN FINDES I RAPPORTEN","AUSFÜLLEN, WENN INFORMATIONEN IM BERICHT SIND",null,"LLENE SI HAY INFORMACIÓN EN EL INFORME",null,null,"REMPLIR SI L'INFORMATION EST DANS LE RAPPORT",null,null,null,"COMPILA SE LE INFORMAZIONI SONO NEL REPORT",null,null,null,null,null,"WYPEŁNIJ, JEŚLI INFORMACJE ZNAJDUJĄ SIĘ W RAPORTIE"]
[]
[null,null,null,null,null,null,{"$f":"IF(PP_Consolidated,IFERROR(VLOOKUP(\"Group\",PP_Locale,PP_LanguageIndex,FALSE),\"Group\"),\"\")","v":"Group"},{"$f":"IF(PP_Consolidated,IFERROR(VLOOKUP(\"Group\",PP_Locale,PP_LanguageIndex,FALSE),\"Group\"),\"\")","v":"Group"},{"$f":"IF(PP_Consolidated,IFERROR(VLOOKUP(\"Parent\",PP_Locale,PP_LanguageIndex,FALSE),\"Parent\"),\"\")","v":"Parent"},{"$f":"IF(PP_Consolidated,IFERROR(VLOOKUP(\"Parent\",PP_Locale,PP_LanguageIndex,FALSE),\"Parent\"),\"\")","v":"Parent"},null,null,null,null,null,null,null,null,null,null,null,null,null,null,null,null,null,null,null,null,null,null,null,null,null,null,null,null,null,null,null,null,null,null,null,null,null,null,null,null,null,null,null,null,null,null,null,null,null,null,null,null,null,null,null,null,null,null,null,null,null,{"$f":"IF(PP_Consolidated,\"Group\",\"\")","v":"Group"},{"$f":"IF(PP_Consolidated,\"Group\",\"\")","v":"Group"},{"$f":"IF(PP_Consolidated,\"Parent\",\"\")","v":"Parent"},{"$f":"IF(PP_Consolidated,\"Parent\",\"\")","v":"Parent"}]
[null,null,null,null,null,null,{"$f":"IFERROR(VLOOKUP(\"Period\",PP_Locale,PP_LanguageIndex,FALSE),\"Period\")&\" 1\"","v":"Period 1"},{"$f":"IFERROR(VLOOKUP(\"Period\",PP_Locale,PP_LanguageIndex,FALSE),\"Period\")&\" 2\"","v":"Period 2"},{"$f":"IF(PP_Consolidated,IFERROR(VLOOKUP(\"Period\",PP_Locale,PP_LanguageIndex,FALSE),\"Period\")&\" 1\",\"\")","v":"Period 1"},{"$f":"IF(PP_Consolidated,IFERROR(VLOOKUP(\"Period\",PP_Locale,PP_LanguageIndex,FALSE),\"Period\")&\" 2\",\"\")","v":"Period 2"},null,null,null,null,null,null,null,null,null,null,null,null,null,null,null,null,null,null,null,null,null,null,null,null,null,null,null,null,null,null,null,null,null,null,null,null,null,null,null,null,null,null,null,null,null,null,null,null,null,null,null,null,null,null,null,null,null,null,null,null,null,"Period 1","Period 2",{"$f":"IF(PP_Consolidated,\"Period 1\",\"\")","v":"Period 1"},{"$f":"IF(PP_Consolidated,\"Period 2\",\"\")","v":"Period 2"}]
[{"$f":"\"\"&INDEX(PP_Locale,ROW(),PP_LanguageIndex)","v":"General:"},null,null,null,null,null,null,null,null,null,"General:",null,null,"Generelt:","Allgemeines:",null,"General:",null,null,"Générales:",null,null,null,"Generali:",null,null,null,null,null,"Ogólne:",null,null,null,null,null,null,null,null,null,null,null,null,null,null,null,null,null,null,null,null,null,null,null,null,null,null,null,null,null,null,null,null,null,null,null,null,null,null,null,null,null,null,null,null,null,{"$f":"\"/General data(\"&IF(COUNTBLANK(PP_GeneralDataRoleName),\"\",\"statement=\"\"\"&PP_GeneralDataRoleName&\"\"\",\")&\"headers=\"&CELL(\"address\",$BT$7)&\":\"&CELL(\"address\",$BW$8)&\"[language=en],labels=\"&SUBSTITUTE(CELL(\"address\",K9)&\":\"&CELL(\"address\",K68),\"$\",\"\")&\"[language=en],values=\"&SUBSTITUTE(CELL(\"address\",BT9)&\":\"&CELL(\"address\",BW65),\"$\",\"\")&\"[language=\"&LOWER(PP_Language)&\"])\"","v":"/General data(headers=$BT$7:$BW$8[language=en],labels=K9:K68[language=en],values=BT9:BW65[language=en])"}]
[{"$f":"\"\"&INDEX(PP_Locale,ROW(),PP_LanguageIndex)","v":"Report language code"},"EN",null,null,null,"PP_Language","EN",null,null,null,"Report language code",null,null,"Rapport sprogkode","Bericht Sprachcode",null,"Código de lenguaje",null,null,"Code de langue",null,null,null,"Codice lingua",null,null,null,null,null,"Kod języka"]
[{"$f":"\"\"&INDEX(PP_Locale,ROW(),PP_LanguageIndex)","v":"Label language code"},{"$f":"PP_Language","v":"EN"},null,null,null,"PP_LabelLanguage",{"$f":"PP_Language","v":"EN"},null,null,null,"Label language code",null,null,"Label sprogkode","Tag-Sprachcode",null,"Código de lenguaje de la etiqueta",null,null,"Code de langue de l'étiquette",null,null,null,"Codice lingua etichetta",null,null,null,null,null,"Kod języka etykiety"]
[{"$f":"\"\"&INDEX(PP_Locale,ROW(),PP_LanguageIndex)","v":"Country code"},"EU",null,null,null,"PP_CountryCode","EU",null,null,null,"Country code",null,null,"Landekode","Landesvorwahl",null,"Código de país",null,null,"Code postal",null,null,null,"Prefisso internazionale",null,null,null,null,null,"Kod pocztowy"]
[{"$f":"\"\"&INDEX(PP_Locale,ROW(),PP_LanguageIndex)","v":"Currency code"},{"$f":"IFERROR(VLOOKUP(\"EUR\",PP_Locale,PP_LanguageIndex,FALSE),\"EUR\")","v":"EUR"},null,null,null,"PP_Currency",{"$f":"IFERROR(VLOOKUP(\"EUR\",PP_Locale,PP_LanguageIndex,FALSE),\"EUR\")","v":"EUR"},null,null,null,"Currency code",null,null,"Valutakode","Währungscode",null,"Código de moneda",null,null,"Code devise",null,null,null,"Codice valuta",null,null,null,null,null,"Kod waluty",null,null,null,null,null,null,null,null,null,null,null,null,null,null,null,null,null,null,null,null,null,null,null,null,null,null,null,null,null,null,null,null,null,null,null,null,null,null,null,null,null,{"$f":"\"\"&UPPER(B13)","v":"EUR"}]
[{"$f":"\"\"&INDEX(PP_Locale,ROW(),PP_LanguageIndex)","v":"Scale"},6,null,null,null,"PP_MonetaryScaling",6,null,null,null,"Scale",null,null,"Skalering","Skalierung",null,"Redondeo",null,null,"Mise à l'échelle",null,null,null,"Ridimensionamento",null,null,null,null,null,"Skalowanie",null,null,null,null,null,null,null,null,null,null,null,null,null,null,null,null,null,null,null,null,null,null,null,null,null,null,null,null,null,null,null,null,null,null,null,null,null,null,null,null,null,null,null,null,null,0,3,6,9]
[{"$f":"\"\"&INDEX(PP_Locale,ROW(),PP_LanguageIndex)","v":"Consolidated"},true,null,null,null,"PP_Consolidated",true,null,null,null,"Consolidated",null,null,"Koncern","Konsolidiert",null,"Consolidada",null,null,"Consolidée",null,null,null,"Consolidata",null,null,null,null,null,"Skonsolidowany",null,null,null,null,null,null,null,null,null,null,null,null,null,null,null,null,null,null,null,null,null,null,null,null,null,null,null,null,null,null,null,null,null,null,null,null,null,null,null,null,null,null,null,null,null,true,false]
[]
[{"$f":"\"\"&INDEX(PP_Locale,ROW(),PP_LanguageIndex)","v":"Homepage of reporting entity"},"www.customerdomain.com",null,null,null,"PP_HomepageOfReportingEntity","www.customerdomain.com",null,null,null,"Homepage of reporting entity",null,null,"Hjemmeside for regnskabsaflæggende virksomhed","Homepage des berichtenden Unternehmens",null,"Página de inicio de la entidad que informa",null,null,"Page d'accueil de l’entité présentant les états financiers",null,null,null,"Homepage dell'entità che redige il bilancio",null,null,null,null,null,"Strona domowa podmiotu zgłaszającego"]
[{"$f":"\"\"&INDEX(PP_Locale,ROW(),PP_LanguageIndex)","v":"LEI code of reporting entity"},"12345NOTVALID1234503",null,null,null,"PP_IdentificationOfReportingEntity","12345NOTVALID1234503",null,null,null,"LEI code of reporting entity",null,null,"LEI-kode for regnskabsaflæggende virksomhed","LEI-Code des Unternehmens",null,"Código LEI de la entidad",null,null,"Code LEI de l’entité",null,null,null,"Codice LEI dell'entità",null,null,null,null,null,"Kod LEI podmiotu zgłaszającego",null,null,null,null,null,null,null,null,null,null,null,null,null,null,null,null,null,null,null,null,null,null,null,null,null,null,null,null,null,null,null,null,null,null,null,null,null,null,null,null,null,{"$f":"\"\"&SUBSTITUTE(B18,\" \",\"\")","v":"12345NOTVALID1234503"}]
[{"$f":"\"\"&INDEX(PP_Locale,ROW(),PP_LanguageIndex)","v":"Name of reporting entity or other means of identification"},{"$f":"IFERROR(VLOOKUP(\"Test customer\",PP_Locale,PP_LanguageIndex,FALSE),\"Test customer\")","v":"Test customer"},null,null,null,"PP_NameOfReportingEntity",{"$f":"IFERROR(VLOOKUP(\"Test customer\",PP_Locale,PP_LanguageIndex,FALSE),\"Test customer\")","v":"Test customer"},null,null,null,"Name of reporting entity or other means of identification",null,null,"Navn på regnskabsaflæggende virksomhed eller anden form for identifikation","Name des berichtenden Unternehmens oder andere Mittel der Identifizierung",null,"Nombre de la entidad que informa u otras formas de identificación",null,null,"Nom ou tout autre mode d’identification de l’entité présentant les états financiers",null,null,null,"Denominazione dell'entità che redige il bilancio o altro mezzo di identificazione",null,null,null,null,null,"Nazwa jednostki sprawozdawczej lub inne dane identyfikacyjne"]
[]
[{"$f":"\"\"&INDEX(PP_Locale,ROW(),PP_LanguageIndex)","v":"Dates:"},null,null,null,null,null,null,null,null,null,"Dates:",null,null,"Datoer:","Termine:",null,"Fechas:",null,null,"Dates de reporting:",null,null,null,"Date:",null,null,null,null,null,"Daty:"]
[{"$f":"\"\"&INDEX(PP_Locale,ROW(),PP_LanguageIndex)","v":"Start date of reporting period 1"},"2025-01-01",null,null,null,"PP_StartDatePeriod1",{"$f":"DATE(YEAR(TODAY())-1,1,1)","v":"2025-01-01"},null,null,null,"Start date of reporting period 1",null,null,"Startdato for periode 1","Startdatum des Berichtszeitraums 1",null,"Fecha de inicio del período del informe 1",null,null,"Date de début de la période de reporting 1",null,null,null,"Data di inizio del periodo di riferimento 1",null,null,null,null,null,"Data rozpoczęcia okresu sprawozdawczego 1",null,null,null,null,null,null,null,null,null,null,null,null,null,null,null,null,null,null,null,null,null,null,null,null,null,null,null,null,null,null,null,null,null,null,null,null,null,null,null,null,null,{"$f":"IF(COUNTBLANK(B22),\"\",TEXT(YEAR(B22),\"0000\")&\"-\"&TEXT(MONTH(B22),\"00\")&\"-\"&TEXT(DAY(B22),\"00\"))","v":"2025-01-01"}]
[{"$f":"\"\"&INDEX(PP_Locale,ROW(),PP_LanguageIndex)","v":"End date of reporting period 1"},"2025-12-31",null,null,null,"PP_EndDatePeriod1",{"$f":"DATE(YEAR(TODAY())-1,12,31)","v":"2025-12-31"},null,null,null,"End date of reporting period 1",null,null,"Slutdato for periode 1","Enddatum des Berichtszeitraums 1",null,"Fecha final del período del informe 1",null,null,"Date de fin de la période de reporting 1",null,null,null,"Data di fine del periodo di riferimento 1",null,null,null,null,null,"Data zakończenia okresu sprawozdawczego 1",null,null,null,null,null,null,null,null,null,null,null,null,null,null,null,null,null,null,null,null,null,null,null,null,null,null,null,null,null,null,null,null,null,null,null,null,null,null,null,null,null,"2025-12-31"]
[{"$f":"\"\"&INDEX(PP_Locale,ROW(),PP_LanguageIndex)","v":"Start date of reporting period 2"},{"$f":"EDATE(PP_StartDatePeriod1,-1*12)","v":"2024-01-01"},null,null,null,"PP_StartDatePeriod2",{"$f":"EDATE(PP_StartDatePeriod1,-1*12)","v":45292},null,null,null,"Start date of reporting period 2",null,null,"Startdato for periode 2","Startdatum des Berichtszeitraums 2",null,"Fecha de inicio del período del informe 2",null,null,"Date de début de la période de reporting 2",null,null,null,"Data di inizio del periodo di riferimento 2",null,null,null,null,null,"Data rozpoczęcia okresu sprawozdawczego 2",null,null,null,null,null,null,null,null,null,null,null,null,null,null,null,null,null,null,null,null,null,null,null,null,null,null,null,null,null,null,null,null,null,null,null,null,null,null,null,null,null,"2024-01-01"]
[{"$f":"\"\"&INDEX(PP_Locale,ROW(),PP_LanguageIndex)","v":"End date of reporting period 2"},{"$f":"EDATE(PP_EndDatePeriod1,-1*12)","v":"2024-12-31"},null,null,null,"PP_EndDatePeriod2",{"$f":"EDATE(PP_EndDatePeriod1,-1*12)","v":45657},null,null,null,"End date of reporting period 2",null,null,"Slutdato for periode 2","Enddatum des Berichtszeitraums 2",null,"Fecha final del período del informe 2",null,null,"Date de fin de la période de reporting 2",null,null,null,"Data di fine del periodo di riferimento 2",null,null,null,null,null,"Data zakończenia okresu sprawozdawczego 2",null,null,null,null,null,null,null,null,null,null,null,null,null,null,null,null,null,null,null,null,null,null,null,null,null,null,null,null,null,null,null,null,null,null,null,null,null,null,null,null,null,"2024-12-31"]
[{"$f":"\"\"&INDEX(PP_Locale,ROW(),PP_LanguageIndex)","v":"Start date of reporting period 3"},{"$f":"EDATE(PP_StartDatePeriod1,-2*12)","v":"2023-01-01"},null,null,null,"PP_StartDatePeriod3",{"$f":"EDATE(PP_StartDatePeriod1,-2*12)","v":44927},null,null,null,"Start date of reporting period 3",null,null,"Startdato for periode 3","Startdatum des Berichtszeitraums 3",null,"Fecha de inicio del período del informe 3",null,null,"Date de début de la période de reporting 3",null,null,null,"Data di inizio del periodo di riferimento 3",null,null,null,null,null,"Data rozpoczęcia okresu sprawozdawczego 3",null,null,null,null,null,null,null,null,null,null,null,null,null,null,null,null,null,null,null,null,null,null,null,null,null,null,null,null,null,null,null,null,null,null,null,null,null,null,null,null,null,"2023-01-01"]
[{"$f":"\"\"&INDEX(PP_Locale,ROW(),PP_LanguageIndex)","v":"End date of reporting period 3"},{"$f":"EDATE(PP_EndDatePeriod1,-2*12)","v":"2023-12-31"},null,null,null,"PP_EndDatePeriod3",{"$f":"EDATE(PP_EndDatePeriod1,-2*12)","v":45291},null,null,null,"End date of reporting period 3",null,null,"Slutdato for periode 3","Enddatum des Berichtszeitraums 3",null,"Fecha final del período del informe 3",null,null,"Date de fin de la période de reporting 3",null,null,null,"Data di fine del periodo di riferimento 3",null,null,null,null,null,"Data zakończenia okresu sprawozdawczego 3",null,null,null,null,null,null,null,null,null,null,null,null,null,null,null,null,null,null,null,null,null,null,null,null,null,null,null,null,null,null,null,null,null,null,null,null,null,null,null,null,null,"2023-12-31"]
[{"$f":"\"\"&INDEX(PP_Locale,ROW(),PP_LanguageIndex)","v":"Start date of reporting period 4"},{"$f":"EDATE(PP_StartDatePeriod1,-3*12)","v":"2022-01-01"},null,null,null,"PP_StartDatePeriod4",{"$f":"EDATE(PP_StartDatePeriod1,-3*12)","v":44562},null,null,null,"Start date of reporting period 4",null,null,"Startdato for periode 4","Startdatum des Berichtszeitraums 4",null,"Fecha de inicio del período del informe 4",null,null,"Date de début de la période de reporting 4",null,null,null,"Data di inizio del periodo di riferimento 4",null,null,null,null,null,"Data rozpoczęcia okresu sprawozdawczego 4",null,null,null,null,null,null,null,null,null,null,null,null,null,null,null,null,null,null,null,null,null,null,null,null,null,null,null,null,null,null,null,null,null,null,null,null,null,null,null,null,null,"2022-01-01"]
[{"$f":"\"\"&INDEX(PP_Locale,ROW(),PP_LanguageIndex)","v":"End date of reporting period 4"},{"$f":"EDATE(PP_EndDatePeriod1,-3*12)","v":"2022-12-31"},null,null,null,"PP_EndDatePeriod4",{"$f":"EDATE(PP_EndDatePeriod1,-3*12)","v":44926},null,null,null,"End date of reporting period 4",null,null,"Slutdato for periode 4","Enddatum des Berichtszeitraums 4",null,"Fecha final del período del informe 4",null,null,"Date de fin de la période de reporting 4",null,null,null,"Data di fine del periodo di riferimento 4",null,null,null,null,null,"Data zakończenia okresu sprawozdawczego 4",null,null,null,null,null,null,null,null,null,null,null,null,null,null,null,null,null,null,null,null,null,null,null,null,null,null,null,null,null,null,null,null,null,null,null,null,null,null,null,null,null,"2022-12-31"]
[{"$f":"\"\"&INDEX(PP_Locale,ROW(),PP_LanguageIndex)","v":"Start date of reporting period 5"},{"$f":"EDATE(PP_StartDatePeriod1,-4*12)","v":"2021-01-01"},null,null,null,"PP_StartDatePeriod5",{"$f":"EDATE(PP_StartDatePeriod1,-4*12)","v":44197},null,null,null,"Start date of reporting period 5",null,null,"Startdato for periode 5","Startdatum des Berichtszeitraums 5",null,"Fecha de inicio del período del informe 5",null,null,"Date de début de la période de reporting 5",null,null,null,"Data di inizio del periodo di riferimento 5",null,null,null,null,null,"Data rozpoczęcia okresu sprawozdawczego 5",null,null,null,null,null,null,null,null,null,null,null,null,null,null,null,null,null,null,null,null,null,null,null,null,null,null,null,null,null,null,null,null,null,null,null,null,null,null,null,null,null,"2021-01-01"]
[{"$f":"\"\"&INDEX(PP_Locale,ROW(),PP_LanguageIndex)","v":"End date of reporting period 5"},{"$f":"EDATE(PP_EndDatePeriod1,-4*12)","v":"2021-12-31"},null,null,null,"PP_EndDatePeriod5",{"$f":"EDATE(PP_EndDatePeriod1,-4*12)","v":44561},null,null,null,"End date of reporting period 5",null,null,"Slutdato for periode 5","Enddatum des Berichtszeitraums 5",null,"Fecha final del período del informe 5",null,null,"Date de fin de la période de reporting 5",null,null,null,"Data di fine del periodo di riferimento 5",null,null,null,null,null,"Data zakończenia okresu sprawozdawczego 5",null,null,null,null,null,null,null,null,null,null,null,null,null,null,null,null,null,null,null,null,null,null,null,null,null,null,null,null,null,null,null,null,null,null,null,null,null,null,null,null,null,"2021-12-31"]
[{"$f":"\"\"&INDEX(PP_Locale,ROW(),PP_LanguageIndex)","v":"Start date of reporting period 6"},{"$f":"EDATE(PP_StartDatePeriod1,-5*12)","v":"2020-01-01"},null,null,null,"PP_StartDatePeriod6",{"$f":"EDATE(PP_StartDatePeriod1,-5*12)","v":43831},null,null,null,"Start date of reporting period 6",null,null,"Startdato for periode 6","Startdatum des Berichtszeitraums 6",null,"Fecha de inicio del período del informe 6",null,null,"Date de début de la période de reporting 6",null,null,null,"Data di inizio del periodo di riferimento 6",null,null,null,null,null,"Data rozpoczęcia okresu sprawozdawczego 6",null,null,null,null,null,null,null,null,null,null,null,null,null,null,null,null,null,null,null,null,null,null,null,null,null,null,null,null,null,null,null,null,null,null,null,null,null,null,null,null,null,"2020-01-01"]
[{"$f":"\"\"&INDEX(PP_Locale,ROW(),PP_LanguageIndex)","v":"End date of reporting period 6"},{"$f":"EDATE(PP_EndDatePeriod1,-5*12)","v":"2020-12-31"},null,null,null,"PP_EndDatePeriod6",{"$f":"EDATE(PP_EndDatePeriod1,-5*12)","v":44196},null,null,null,"End date of reporting period 6",null,null,"Slutdato for periode 6","Enddatum des Berichtszeitraums 6",null,"Fecha final del período del informe 6",null,null,"Date de fin de la période de reporting 6",null,null,null,"Data di fine del periodo di riferimento 6",null,null,null,null,null,"Data zakończenia okresu sprawozdawczego 6",null,null,null,null,null,null,null,null,null,null,null,null,null,null,null,null,null,null,null,null,null,null,null,null,null,null,null,null,null,null,null,null,null,null,null,null,null,null,null,null,null,"2020-12-31"]
[{"$f":"\"\"&INDEX(PP_Locale,ROW(),PP_LanguageIndex)","v":"Start date of reporting period 7"},{"$f":"EDATE(PP_StartDatePeriod1,-6*12)","v":"2019-01-01"},null,null,null,"PP_StartDatePeriod7",{"$f":"EDATE(PP_StartDatePeriod1,-6*12)","v":"2019-01-01"},null,null,null,"Start date of reporting period 7",null,null,"Startdato for periode 7","Startdatum des Berichtszeitraums 7",null,"Fecha de inicio del período del informe 7",null,null,"Date de début de la période de reporting 7",null,null,null,"Data di inizio del periodo di riferimento 7",null,null,null,null,null,"Data rozpoczęcia okresu sprawozdawczego 7",null,null,null,null,null,null,null,null,null,null,null,null,null,null,null,null,null,null,null,null,null,null,null,null,null,null,null,null,null,null,null,null,null,null,null,null,null,null,null,null,null,"2019-01-01"]
[{"$f":"\"\"&INDEX(PP_Locale,ROW(),PP_LanguageIndex)","v":"End date of reporting period 7"},{"$f":"EDATE(PP_EndDatePeriod1,-6*12)","v":"2019-12-31"},null,null,null,"PP_EndDatePeriod7",{"$f":"EDATE(PP_EndDatePeriod1,-6*12)","v":43830},null,null,null,"End date of reporting period 7",null,null,"Slutdato for periode 7","Enddatum des Berichtszeitraums 7",null,"Fecha final del período del informe 7",null,null,"Date de fin de la période de reporting 7",null,null,null,"Data di fine del periodo di riferimento 7",null,null,null,null,null,"Data zakończenia okresu sprawozdawczego 7",null,null,null,null,null,null,null,null,null,null,null,null,null,null,null,null,null,null,null,null,null,null,null,null,null,null,null,null,null,null,null,null,null,null,null,null,null,null,null,null,null,"2019-12-31"]
[{"$f":"\"\"&INDEX(PP_Locale,ROW(),PP_LanguageIndex)","v":"Start date of reporting period 8"},{"$f":"EDATE(PP_StartDatePeriod1,-7*12)","v":"2018-01-01"},null,null,null,"PP_StartDatePeriod8",{"$f":"EDATE(PP_StartDatePeriod1,-7*12)","v":"2018-01-01"},null,null,null,"Start date of reporting period 8",null,null,"Startdato for periode 8","Startdatum des Berichtszeitraums 8",null,"Fecha de inicio del período del informe 8",null,null,"Date de début de la période de reporting 8",null,null,null,"Data di inizio del periodo di riferimento 8",null,null,null,null,null,"Data rozpoczęcia okresu sprawozdawczego 8",null,null,null,null,null,null,null,null,null,null,null,null,null,null,null,null,null,null,null,null,null,null,null,null,null,null,null,null,null,null,null,null,null,null,null,null,null,null,null,null,null,"2018-01-01"]
[{"$f":"\"\"&INDEX(PP_Locale,ROW(),PP_LanguageIndex)","v":"End date of reporting period 8"},{"$f":"EDATE(PP_EndDatePeriod1,-7*12)","v":"2018-12-31"},null,null,null,"PP_EndDatePeriod8",{"$f":"EDATE(PP_EndDatePeriod1,-7*12)","v":43465},null,null,null,"End date of reporting period 8",null,null,"Slutdato for periode 8","Enddatum des Berichtszeitraums 8",null,"Fecha final del período del informe 8",null,null,"Date de fin de la période de reporting 8",null,null,null,"Data di fine del periodo di riferimento 8",null,null,null,null,null,"Data zakończenia okresu sprawozdawczego 8",null,null,null,null,null,null,null,null,null,null,null,null,null,null,null,null,null,null,null,null,null,null,null,null,null,null,null,null,null,null,null,null,null,null,null,null,null,null,null,null,null,"2018-12-31"]
[{"$f":"\"\"&INDEX(PP_Locale,ROW(),PP_LanguageIndex)","v":"Start date of reporting period 9"},{"$f":"EDATE(PP_StartDatePeriod1,-8*12)","v":"2017-01-01"},null,null,null,"PP_StartDatePeriod9",{"$f":"EDATE(PP_StartDatePeriod1,-8*12)","v":"2017-01-01"},null,null,null,"Start date of reporting period 9",null,null,"Startdato for periode 9","Startdatum des Berichtszeitraums 9",null,"Fecha de inicio del período del informe 9",null,null,"Date de début de la période de reporting 9",null,null,null,"Data di inizio del periodo di riferimento 9",null,null,null,null,null,"Data rozpoczęcia okresu sprawozdawczego 9",null,null,null,null,null,null,null,null,null,null,null,null,null,null,null,null,null,null,null,null,null,null,null,null,null,null,null,null,null,null,null,null,null,null,null,null,null,null,null,null,null,"2017-01-01"]
[{"$f":"\"\"&INDEX(PP_Locale,ROW(),PP_LanguageIndex)","v":"End date of reporting period 9"},{"$f":"EDATE(PP_EndDatePeriod1,-8*12)","v":"2017-12-31"},null,null,null,"PP_EndDatePeriod9",{"$f":"EDATE(PP_EndDatePeriod1,-8*12)","v":43100},null,null,null,"End date of reporting period 9",null,null,"Slutdato for periode 9","Enddatum des Berichtszeitraums 9",null,"Fecha final del período del informe 9",null,null,"Date de fin de la période de reporting 9",null,null,null,"Data di fine del periodo di riferimento 9",null,null,null,null,null,"Data zakończenia okresu sprawozdawczego 9",null,null,null,null,null,null,null,null,null,null,null,null,null,null,null,null,null,null,null,null,null,null,null,null,null,null,null,null,null,null,null,null,null,null,null,null,null,null,null,null,null,"2017-12-31"]
[{"$f":"\"\"&INDEX(PP_Locale,ROW(),PP_LanguageIndex)","v":"Start date of reporting period 10"},{"$f":"EDATE(PP_StartDatePeriod1,-9*12)","v":"2016-01-01"},null,null,null,"PP_StartDatePeriod10",{"$f":"EDATE(PP_StartDatePeriod1,-9*12)","v":"2016-01-01"},null,null,null,"Start date of reporting period 10",null,null,"Startdato for periode 10","Startdatum des Berichtszeitraums 10",null,"Fecha de inicio del período del informe 10",null,null,"Date de début de la période de reporting 10",null,null,null,"Data di inizio del periodo di riferimento 10",null,null,null,null,null,"Data rozpoczęcia okresu sprawozdawczego 10",null,null,null,null,null,null,null,null,null,null,null,null,null,null,null,null,null,null,null,null,null,null,null,null,null,null,null,null,null,null,null,null,null,null,null,null,null,null,null,null,null,"2016-01-01"]
[{"$f":"\"\"&INDEX(PP_Locale,ROW(),PP_LanguageIndex)","v":"End date of reporting period 10"},{"$f":"EDATE(PP_EndDatePeriod1,-9*12)","v":"2016-12-31"},null,null,null,"PP_EndDatePeriod10",{"$f":"EDATE(PP_EndDatePeriod1,-9*12)","v":42735},null,null,null,"End date of reporting period 10",null,null,"Slutdato for periode 10","Enddatum des Berichtszeitraums 10",null,"Fecha final del período del informe 10",null,null,"Date de fin de la période de reporting 10",null,null,null,"Data di fine del periodo di riferimento 10",null,null,null,null,null,"Data zakończenia okresu sprawozdawczego 10",null,null,null,null,null,null,null,null,null,null,null,null,null,null,null,null,null,null,null,null,null,null,null,null,null,null,null,null,null,null,null,null,null,null,null,null,null,null,null,null,null,"2016-12-31"]
[]
[{"$f":"\"\"&INDEX(PP_Locale,ROW(),PP_LanguageIndex)","v":"Technical information:"},null,null,null,null,null,null,null,null,null,"Technical information:",null,null,"Teknisk information:","Technische Information:",null,"Información técnica:",null,null,"Informations techniques:",null,null,null,"Informazioni tecniche:",null,null,null,null,null,"Specyfikacja:"]
[{"$f":"\"\"&INDEX(PP_Locale,ROW(),PP_LanguageIndex)","v":"Taxonomy"},"ESEF",null,null,null,"PP_Taxonomy","ESEF",null,null,null,"Taxonomy",null,null,"Taksonomi","Taxonomie",null,"Taxonomía",null,null,"Taxonomie",null,null,null,"Tassonomia",null,null,null,null,null,"Taksonomia",null,null,null,null,null,null,null,null,null,null,null,null,null,null,null,null,null,null,null,null,null,null,null,null,null,null,null,null,null,null,null,null,null,null,null,null,null,null,null,null,null,null,null,null,null,"ESEF","ESEF 20240327","ESEF 20220324","ESEF 20210324"]
[{"$f":"\"\"&INDEX(PP_Locale,ROW(),PP_LanguageIndex)","v":"Taxonomy ID"},"ESEF",null,null,null,"PP_TaxonomyId","ESEF",null,null,null,"Taxonomy ID",null,null,"Taksonomi ID","Taxonomie-ID",null,"ID de taxonomía",null,null,"ID de taxonomie",null,null,null,"ID tassonomia",null,null,null,null,null,"ID taksonomia"]
[{"$f":"\"\"&INDEX(PP_Locale,ROW(),PP_LanguageIndex)","v":"Taxonomy entrypoint"},"All",null,null,null,"PP_TaxonomyEntrypoint","All",null,null,null,"Taxonomy entrypoint",null,null,"Taksonomi entrypoint","Einstiegspunkt",null,"Punto de acceso",null,null,"Point d'accès",null,null,null,"Punto d'entrata",null,null,null,null,null,"Punkt wejścia",null,null,null,null,null,null,null,null,null,null,null,null,null,null,null,null,null,null,null,null,null,null,null,null,null,null,null,null,null,null,null,null,null,null,null,null,null,null,null,null,null,null,null,null,null,"All"]
[{"$f":"\"\"&INDEX(PP_Locale,ROW(),PP_LanguageIndex)","v":"Identifier scheme"},{"$f":"INDEX(PP_CountryLocale,ROW(),PP_CountryIndex)","v":"http://standards.iso.org/iso/17442"},null,null,null,"PP_IdentifierScheme",{"$f":"INDEX(PP_CountryLocale,ROW(),PP_CountryIndex)","v":"http://standards.iso.org/iso/17442"},null,null,null,"Identifier scheme",null,null,"Identifier scheme","Identifikationsschema",null,"Esquema de identificación",null,null,"Schéma d'identification",null,null,null,"Schema identificativo",null,null,null,null,null,"Schemat identyfikacyjny",null,null,null,null,null,null,"http://standards.iso.org/iso/17442","http://standards.iso.org/iso/17442","http://standards.iso.org/iso/17442","http://standards.iso.org/iso/17442","http://standards.iso.org/iso/17442","http://standards.iso.org/iso/17442","http://standards.iso.org/iso/17442","http://standards.iso.org/iso/17442",{"$f":"IF(LEN(PP_IdentificationOfReportingEntity)=8,\"http://www.dcca.dk/cvr\",\"http://standards.iso.org/iso/17442\")","v":"http://standards.iso.org/iso/17442"},"http://standards.iso.org/iso/17442","http://standards.iso.org/iso/17442","http://standards.iso.org/iso/17442","http://standards.iso.org/iso/17442","http://standards.iso.org/iso/17442","http://standards.iso.org/iso/17442","http://standards.iso.org/iso/17442","http://standards.iso.org/iso/17442","http://standards.iso.org/iso/17442","http://standards.iso.org/iso/17442","http://standards.iso.org/iso/17442","http://standards.iso.org/iso/17442","http://standards.iso.org/iso/17442","http://standards.iso.org/iso/17442","http://standards.iso.org/iso/17442","http://standards.iso.org/iso/17442","http://standards.iso.org/iso/17442","http://standards.iso.org/iso/17442","http://standards.iso.org/iso/17442","http://standards.iso.org/iso/17442","http://standards.iso.org/iso/17442","http://standards.iso.org/iso/17442","http://standards.iso.org/iso/17442","http://standards.iso.org/iso/17442","http://standards.iso.org/iso/17442","http://standards.iso.org/iso/17442",{"$f":"\"\"&B47","v":"http://standards.iso.org/iso/17442"}]
[{"$f":"\"\"&INDEX(PP_Locale,ROW(),PP_LanguageIndex)","v":"Customer domain"},{"$f":"SUBSTITUTE(SUBSTITUTE(SUBSTITUTE(SUBSTITUTE(LOWER(PP_HomepageOfReportingEntity),\"www.\",\"\"),\"https:\",\"\"),\"http:\",\"\"),\"/\",\"\")","v":"customerdomain.com"},null,null,null,"PP_CustomerDomain",{"$f":"SUBSTITUTE(SUBSTITUTE(SUBSTITUTE(SUBSTITUTE(LOWER(PP_HomepageOfReportingEntity),\"www.\",\"\"),\"https:\",\"\"),\"http:\",\"\"),\"/\",\"\")","v":"customerdomain.com"},null,null,null,"Customer domain",null,null,"Kunde domæne","Kundendomäne",null,"Dominio del cliente",null,null,"Domaine client",null,null,null,"Dominio del cliente",null,null,null,null,null,"Domena klienta"]
[{"$f":"\"\"&INDEX(PP_Locale,ROW(),PP_LanguageIndex)","v":"Reference date"},{"$f":"TEXT(YEAR(MAX(PP_Periods)),\"0000\")&\"-\"&TEXT(MONTH(MAX(PP_Periods)),\"00\")&\"-\"&TEXT(DAY(MAX(PP_Periods)),\"00\")","v":"2025-12-31"},null,null,null,"PP_ReferenceDate",{"$f":"TEXT(YEAR(MAX(PP_Periods)),\"0000\")&\"-\"&TEXT(MONTH(MAX(PP_Periods)),\"00\")&\"-\"&TEXT(DAY(MAX(PP_Periods)),\"00\")","v":"2025-12-31"},null,null,null,"Reference date",null,null,"Reference dato","Referenzdatum",null,"Fecha de referencia",null,null,"Date de référence",null,null,null,"Data di riferimento",null,null,null,null,null,"Data odniesienia"]
[{"$f":"\"\"&INDEX(PP_Locale,ROW(),PP_LanguageIndex)","v":"File Version"},1,null,null,null,"PP_FileVersion",0,null,null,null,"File Version",null,null,"Filversion","Dateiversion",null,"Versión del archivo",null,null,"Version du fichier",null,null,null,"Versione del file",null,null,null,null,null,"Wersja pliku"]
[{"$f":"\"\"&INDEX(PP_Locale,ROW(),PP_LanguageIndex)","v":"Customer taxonomy base name"},{"$f":"\"\"&PP_IdentificationOfReportingEntity","v":"12345NOTVALID1234503"},null,null,null,"PP_CustomTaxonomyBaseName",{"$f":"\"\"&PP_IdentificationOfReportingEntity","v":"12345NOTVALID1234503"},null,null,null,"Customer taxonomy base name",null,null,"Kunde taksonomi base navn","Basisname der Kundentaxonomie ",null,"Nombre base de la taxonomía del cliente",null,null,"Nom de base de la taxonomie client",null,null,null,"Nome di base della tassonomia del cliente",null,null,null,null,null,"Nazwa podstawowa taksonomii klienta"]
[{"$f":"\"\"&INDEX(PP_Locale,ROW(),PP_LanguageIndex)","v":"Customer taxonomy filename"},{"$f":"INDEX(PP_CountryLocale,ROW(),PP_CountryIndex)","v":"12345NOTVALID1234503-2025-12-31-1-en"},null,null,null,"PP_CustomTaxonomyFileName",{"$f":"INDEX(PP_CountryLocale,ROW(),PP_CountryIndex)","v":"12345NOTVALID1234503-2025-12-31-1-en"},null,null,null,"Customer taxonomy filename",null,null,"Kunde taksonomi filnavn","Dateiname der Kundentaxonomie ",null,"Nombre de archivo de taxonomía del cliente",null,null,"Nom du fichier de taxonomie client ",null,null,null,"Nome file tassonomia cliente",null,null,null,null,null,"Nazwa pliku taksonomii klienta",null,null,null,null,null,{"$f":"\"\"&PP_CustomTaxonomyBaseName&\"-\"&PP_ReferenceDate&\"-\"&IF(PP_FileVersion<>\"\",PP_FileVersion&\"-\",\"\")&LOWER(PP_Language)","v":"12345NOTVALID1234503-2025-12-31-1-en"},"12345NOTVALID1234503-2025-12-31-1-en","12345NOTVALID1234503-2025-12-31-1-en","12345NOTVALID1234503-2025-12-31-1-en","12345NOTVALID1234503-2025-12-31-1-en","12345NOTVALID1234503-2025-12-31-1-en","12345NOTVALID1234503-2025-12-31-1-en","12345NOTVALID1234503-2025-12-31-1-en","12345NOTVALID1234503-2025-12-31-1-en","12345NOTVALID1234503-2025-12-31-1-en","12345NOTVALID1234503-2025-12-31-1-en","12345NOTVALID1234503-2025-12-31-1-en","12345NOTVALID1234503-2025-12-31-1-en","12345NOTVALID1234503-2025-12-31-1-en","12345NOTVALID1234503-2025-12-31-1-en","12345NOTVALID1234503-2025-12-31-1-en","12345NOTVALID1234503-2025-12-31-1-en","12345NOTVALID1234503-2025-12-31-1-en","12345NOTVALID1234503-2025-12-31-1-en","12345NOTVALID1234503-2025-12-31-1-en","12345NOTVALID1234503-2025-12-31-1-en","12345NOTVALID1234503-2025-12-31-1-en","12345NOTVALID1234503-2025-12-31-1-en","12345NOTVALID1234503-2025-12-31-1-en","12345NOTVALID1234503-2025-12-31-1-en","12345NOTVALID1234503-2025-12-31-1-en","12345NOTVALID1234503-2025-12-31-1-en","12345NOTVALID1234503-2025-12-31-1-en","12345NOTVALID1234503-2025-12-31-1-en","12345NOTVALID1234503-2025-12-31-1-en","12345NOTVALID1234503-2025-12-31-1-en","12345NOTVALID1234503-2025-12-31-1-en","12345NOTVALID1234503-2025-12-31-1-en","12345NOTVALID1234503-2025-12-31-1-en","12345NOTVALID1234503-2025-12-31-1-en",{"$f":"\"\"&PP_CustomTaxonomyBaseName&\"-\"&PP_ReferenceDate&\"-\"&IF(PP_FileVersion<>\"\",PP_FileVersion,\"\")","v":"12345NOTVALID1234503-2025-12-31-1"}]
[{"$f":"\"\"&INDEX(PP_Locale,ROW(),PP_LanguageIndex)","v":"Customer taxonomy report filename"},{"$f":"INDEX(PP_CountryLocale,ROW(),PP_CountryIndex)","v":"reports\\12345NOTVALID1234503-2025-12-31-1-en.xhtml"},null,null,null,"PP_CustomTaxonomyReportFileName",{"$f":"INDEX(PP_CountryLocale,ROW(),PP_CountryIndex)","v":"reports\\12345NOTVALID1234503-2025-12-31-1-en.xhtml"},null,null,null,"Customer taxonomy report filename",null,null,"Kunde taksonomi rapport filnavn","Dateiname des Kundentaxonomieberichts",null,"Nombre de archivo del informe de taxonomía del cliente",null,null,"Nom de fichier du rapport de taxonomie client",null,null,null,"Nome file report tassonomia cliente",null,null,null,null,null,"Nazwa pliku raportu taksonomii klienta",null,null,null,null,null,{"$f":"\"reports\\\"&PP_CustomTaxonomyBaseName&\"-\"&PP_ReferenceDate&\"-\"&IF(PP_FileVersion<>\"\",PP_FileVersion&\"-\",\"\")&LOWER(PP_Language)&\".xhtml\"","v":"reports\\12345NOTVALID1234503-2025-12-31-1-en.xhtml"},"reports\\12345NOTVALID1234503-2025-12-31-1-en.xhtml","reports\\12345NOTVALID1234503-2025-12-31-1-en.xhtml","reports\\12345NOTVALID1234503-2025-12-31-1-en.xhtml","reports\\12345NOTVALID1234503-2025-12-31-1-en.xhtml","reports\\12345NOTVALID1234503-2025-12-31-1-en.xhtml","reports\\12345NOTVALID1234503-2025-12-31-1-en.xhtml","reports\\12345NOTVALID1234503-2025-12-31-1-en.xhtml","reports\\12345NOTVALID1234503-2025-12-31-1-en.xhtml","reports\\12345NOTVALID1234503-2025-12-31-1-en.xhtml","reports\\12345NOTVALID1234503-2025-12-31-1-en.xhtml","reports\\12345NOTVALID1234503-2025-12-31-1-en.xhtml","reports\\12345NOTVALID1234503-2025-12-31-1-en.xhtml","reports\\12345NOTVALID1234503-2025-12-31-1-en.xhtml","reports\\12345NOTVALID1234503-2025-12-31-1-en.xhtml","reports\\12345NOTVALID1234503-2025-12-31-1-en.xhtml","reports\\12345NOTVALID1234503-2025-12-31-1-en.xhtml","reports\\12345NOTVALID1234503-2025-12-31-1-en.xhtml","reports\\12345NOTVALID1234503-2025-12-31-1-en.xhtml","reports\\12345NOTVALID1234503-2025-12-31-1-en.xhtml","reports\\12345NOTVALID1234503-2025-12-31-1-en.xhtml","reports\\12345NOTVALID1234503-2025-12-31-1-en.xhtml","reports\\12345NOTVALID1234503-2025-12-31-1-en.xhtml","reports\\12345NOTVALID1234503-2025-12-31-1-en.xhtml","reports\\12345NOTVALID1234503-2025-12-31-1-en.xhtml","reports\\12345NOTVALID1234503-2025-12-31-1-en.xhtml","reports\\12345NOTVALID1234503-2025-12-31-1-en.xhtml","reports\\12345NOTVALID1234503-2025-12-31-1-en.xhtml","reports\\12345NOTVALID1234503-2025-12-31-1-en.xhtml","reports\\12345NOTVALID1234503-2025-12-31-1-en.xhtml","reports\\12345NOTVALID1234503-2025-12-31-1-en.xhtml","reports\\12345NOTVALID1234503-2025-12-31-1-en.xhtml","reports\\12345NOTVALID1234503-2025-12-31-1-en.xhtml","reports\\12345NOTVALID1234503-2025-12-31-1-en.xhtml","reports\\12345NOTVALID1234503-2025-12-31-1-en.xhtml",{"$f":"\"reports\\\"&PP_CustomTaxonomyBaseName&\"-\"&PP_ReferenceDate&\"-\"&PP_FileVersion&\"-T01.html\"","v":"reports\\12345NOTVALID1234503-2025-12-31-1-T01.html"}]
[{"$f":"\"\"&INDEX(PP_Locale,ROW(),PP_LanguageIndex)","v":"Customer taxonomy name"},{"$f":"INDEX(PP_CountryLocale,ROW(),PP_CountryIndex)","v":"customerdomain.com\\2025-12-31\\12345NOTVALID1234503-2025-12-31"},null,null,null,"PP_CustomTaxonomyName",{"$f":"INDEX(PP_CountryLocale,ROW(),PP_CountryIndex)","v":"customerdomain.com\\2025-12-31\\12345NOTVALID1234503-2025-12-31"},null,null,null,"Customer taxonomy name",null,null,"Kunde taksonomi navn","Name der Kundentaxonomie",null,"Nombre de taxonomía del cliente",null,null,"Nom de la taxonomie du client",null,null,null,"Nome tassonomia cliente",null,null,null,null,null,"Nazwa taksonomii klienta",null,null,null,null,null,{"$f":"PP_CustomerDomain&\"\\\"&PP_ReferenceDate&\"\\\"&PP_CustomTaxonomyBaseName&\"-\"&PP_ReferenceDate","v":"customerdomain.com\\2025-12-31\\12345NOTVALID1234503-2025-12-31"},{"$f":"PP_CustomerDomain&\"\\\"&PP_ReferenceDate&\"\\\"&PP_CustomTaxonomyBaseName&\"-\"&PP_ReferenceDate","v":"customerdomain.com\\2025-12-31\\12345NOTVALID1234503-2025-12-31"},"customerdomain.com\\2025-12-31\\12345NOTVALID1234503-2025-12-31","customerdomain.com\\2025-12-31\\12345NOTVALID1234503-2025-12-31","customerdomain.com\\2025-12-31\\12345NOTVALID1234503-2025-12-31","customerdomain.com\\2025-12-31\\12345NOTVALID1234503-2025-12-31","customerdomain.com\\2025-12-31\\12345NOTVALID1234503-2025-12-31","customerdomain.com\\2025-12-31\\12345NOTVALID1234503-2025-12-31","customerdomain.com\\2025-12-31\\12345NOTVALID1234503-2025-12-31",{"$f":"\"xbrl.\"&PP_CustomerDomain&\"\\\"&PP_ReferenceDate&\"\\\"&PP_CustomTaxonomyBaseName&\"-\"&PP_ReferenceDate","v":"xbrl.customerdomain.com\\2025-12-31\\12345NOTVALID1234503-2025-12-31"},{"$f":"PP_CustomerDomain&\"\\\"&PP_ReferenceDate&\"\\\"&PP_CustomTaxonomyBaseName&\"-\"&PP_ReferenceDate","v":"customerdomain.com\\2025-12-31\\12345NOTVALID1234503-2025-12-31"},"customerdomain.com\\2025-12-31\\12345NOTVALID1234503-2025-12-31","customerdomain.com\\2025-12-31\\12345NOTVALID1234503-2025-12-31","customerdomain.com\\2025-12-31\\12345NOTVALID1234503-2025-12-31","customerdomain.com\\2025-12-31\\12345NOTVALID1234503-2025-12-31","customerdomain.com\\2025-12-31\\12345NOTVALID1234503-2025-12-31","customerdomain.com\\2025-12-31\\12345NOTVALID1234503-2025-12-31","customerdomain.com\\2025-12-31\\12345NOTVALID1234503-2025-12-31","customerdomain.com\\2025-12-31\\12345NOTVALID1234503-2025-12-31","customerdomain.com\\2025-12-31\\12345NOTVALID1234503-2025-12-31","customerdomain.com\\2025-12-31\\12345NOTVALID1234503-2025-12-31","customerdomain.com\\2025-12-31\\12345NOTVALID1234503-2025-12-31","customerdomain.com\\2025-12-31\\12345NOTVALID1234503-2025-12-31","customerdomain.com\\2025-12-31\\12345NOTVALID1234503-2025-12-31","customerdomain.com\\2025-12-31\\12345NOTVALID1234503-2025-12-31","customerdomain.com\\2025-12-31\\12345NOTVALID1234503-2025-12-31","customerdomain.com\\2025-12-31\\12345NOTVALID1234503-2025-12-31","customerdomain.com\\2025-12-31\\12345NOTVALID1234503-2025-12-31","customerdomain.com\\2025-12-31\\12345NOTVALID1234503-2025-12-31","customerdomain.com\\2025-12-31\\12345NOTVALID1234503-2025-12-31","customerdomain.com\\2025-12-31\\12345NOTVALID1234503-2025-12-31","customerdomain.com\\2025-12-31\\12345NOTVALID1234503-2025-12-31","customerdomain.com\\2025-12-31\\12345NOTVALID1234503-2025-12-31","customerdomain.com\\2025-12-31\\12345NOTVALID1234503-2025-12-31","customerdomain.com\\2025-12-31\\12345NOTVALID1234503-2025-12-31","customerdomain.com\\2025-12-31\\12345NOTVALID1234503-2025-12-31"]
[{"$f":"\"\"&INDEX(PP_Locale,ROW(),PP_LanguageIndex)","v":"Customer taxonomy publisher"},{"$f":"\"\"&PP_NameOfReportingEntity","v":"Test customer"},null,null,null,"PP_CustomTaxonomyPublisher",{"$f":"\"\"&PP_NameOfReportingEntity","v":"Test customer"},null,null,null,"Customer taxonomy publisher",null,null,"Kunde taksonomi udgiver","Herausgeber der Kundentaxonomie",null,"Editor de taxonomía de clientes",null,null,"Éditeur de taxonomie client",null,null,null,"Editore della tassonomia del cliente",null,null,null,null,null,"Wydawca taksonomii klienta"]
[{"$f":"\"\"&INDEX(PP_Locale,ROW(),PP_LanguageIndex)","v":"Customer taxonomy publisher website"},{"$f":"\"\"&PP_HomepageOfReportingEntity","v":"www.customerdomain.com"},null,null,null,"PP_CustomTaxonomyPublisherWebsite",{"$f":"\"\"&PP_HomepageOfReportingEntity","v":"www.customerdomain.com"},null,null,null,"Customer taxonomy publisher website",null,null,"Kunde taksonomi website","Publisher-Website für Kundentaxonomie",null,"Sitio web del editor de taxonomía de clientes",null,null,"Site Web de l'éditeur de taxonomie client",null,null,null,"Sito web dell'editore della tassonomia del cliente",null,null,null,null,null,"Witryna wydawcy taksonomii klientów"]
[{"$f":"\"\"&INDEX(PP_Locale,ROW(),PP_LanguageIndex)","v":"Customer taxonomy publisher country"},{"$f":"PP_CountryCode","v":"EU"},null,null,null,"PP_CustomTaxonomyPublisherCountry",{"$f":"PP_CountryCode","v":"EU"},null,null,null,"Customer taxonomy publisher country",null,null,"Kunde taksonomi land","Verlagsland der Kundentaxonomie",null,"País editor de taxonomía del cliente",null,null,"Pays de l'éditeur de la taxonomie client",null,null,null,"Paese editore della tassonomia del cliente",null,null,null,null,null,"Kraj wydawcy taksonomii klienta"]
[{"$f":"\"\"&INDEX(PP_Locale,ROW(),PP_LanguageIndex)","v":"Customer taxonomy abbreviation"},{"$f":"IF(ISBLANK(PP_NameOfReportingEntity),\"REF\",LEFT(SUBSTITUTE(SUBSTITUTE(SUBSTITUTE(SUBSTITUTE(SUBSTITUTE(SUBSTITUTE(SUBSTITUTE(SUBSTITUTE(SUBSTITUTE(SUBSTITUTE(SUBSTITUTE(SUBSTITUTE(SUBSTITUTE(SUBSTITUTE(UPPER(PP_NameOfReportingEntity),\" \",\"\"),\"-\",\"\"),\".\",\"\"),\",\",\"\"),\"'\",\"\"),\"Á\",\"A\"),\"É\",\"E\"),\"Ü\",\"U\"),\"Í\",\"I\"),\"Æ\",\"A\"),\"Ø\",\"O\"),\"Å\",\"A\"),\"&\",\"\"),\"+\",\"\"),3))","v":"TES"},null,null,null,"PP_CustomTaxonomyAbbreviation",{"$f":"IF(ISBLANK(PP_NameOfReportingEntity),\"REF\",LEFT(SUBSTITUTE(SUBSTITUTE(SUBSTITUTE(SUBSTITUTE(SUBSTITUTE(SUBSTITUTE(SUBSTITUTE(SUBSTITUTE(SUBSTITUTE(SUBSTITUTE(SUBSTITUTE(SUBSTITUTE(SUBSTITUTE(SUBSTITUTE(UPPER(PP_NameOfReportingEntity),\" \",\"\"),\"-\",\"\"),\".\",\"\"),\",\",\"\"),\"'\",\"\"),\"Á\",\"A\"),\"É\",\"E\"),\"Ü\",\"U\"),\"Í\",\"I\"),\"Æ\",\"A\"),\"Ø\",\"O\"),\"Å\",\"A\"),\"&\",\"\"),\"+\",\"\"),3))","v":"TES"},null,null,null,"Customer taxonomy abbreviation",null,null,"Kunde taksonomi forkortelse","Abkürzung für Kundentaxonomie",null,"Abreviatura de taxonomía del cliente",null,null,"Abréviation de la taxonomie client",null,null,null,"Abbreviazione della tassonomia del cliente",null,null,null,null,null,"Skrót taksonomii klienta"]
[{"$f":"\"\"&INDEX(PP_Locale,ROW(),PP_LanguageIndex)","v":"Customer taxonomy date"},{"$f":"TEXT(YEAR(TODAY()),\"0000\")&\"-\"&TEXT(MONTH(TODAY()),\"00\")&\"-\"&TEXT(DAY(TODAY()),\"00\")","v":"2026-01-09"},null,null,null,"PP_CustomTaxonomyDate",{"$f":"TEXT(YEAR(TODAY()),\"0000\")&\"-\"&TEXT(MONTH(TODAY()),\"00\")&\"-\"&TEXT(DAY(TODAY()),\"00\")","v":"2026-01-09"},null,null,null,"Customer taxonomy date",null,null,"Kunde taksonomi dato","Datum der Kundentaxonomie",null,"Fecha de taxonomía del cliente",null,null,"Date de taxonomie du client",null,null,null,"Data tassonomia cliente",null,null,null,null,null,"Data taksonomii klienta"]
[{"$f":"\"\"&INDEX(PP_Locale,ROW(),PP_LanguageIndex)","v":"Customer taxonomy description"},"Taxonomy extension",null,null,null,"PP_CustomTaxonomyDescription","Taxonomy extension",null,null,null,"Customer taxonomy description",null,null,"Kunde taksonomi beskrivelse","Beschreibung der Kundentaxonomie",null,"Descripción de la taxonomía del cliente",null,null,"Description de la taxonomie du client",null,null,null,"Descrizione della tassonomia del cliente",null,null,null,null,null,"Opis taksonomii klienta"]
[{"$f":"\"\"&INDEX(PP_Locale,ROW(),PP_LanguageIndex)","v":"Customer taxonomy label languages"},{"$f":"LOWER(IF(AND(PP_Language<>\"EN\",PP_LabelLanguage<>\"EN\"),\"EN,\",\"\")&PP_Language&IF(PP_LabelLanguage<>PP_Language,\",\"&PP_LabelLanguage,\"\"))","v":"en"},null,null,null,"PP_CustomTaxonomyLabelLanguages",{"$f":"LOWER(IF(AND(PP_Language<>\"EN\",PP_LabelLanguage<>\"EN\"),\"EN,\",\"\")&PP_Language&IF(PP_LabelLanguage<>PP_Language,\",\"&PP_LabelLanguage,\"\"))","v":"en"},null,null,null,"Customer taxonomy label languages",null,null,"Kunde taksonomi sprog","Kennzeichnungssprachen für Kundentaxonomie",null,"Idiomas de las etiquetas de taxonomía del cliente",null,null,"Langues de label de taxonomie client",null,null,null,"Lingue delle etichette della tassonomia del cliente",null,null,null,null,null,"Języki etykiet taksonomii klienta",null,null,null,null,null,{"$f":"\"en,\"&LOWER(AJ1)","v":"en,1"},{"$f":"\"en,\"&LOWER(AK1)","v":"en,eu"},{"$f":"\"en,\"&LOWER(AL1)","v":"en,at"},"en,be","en,bg","en,ch","en,cy","en,cz","en,de","en,dk","en,ee","en,el","en,es","en,fi","en,fr",{"$f":"\"en,\"&LOWER(AY1)","v":"en,gg"},{"$f":"\"en,\"&LOWER(AZ1)","v":"en,gr"},"en,hr","en,hu","en,ie","en,is","en,it","en,li","en,lt","en,lu","en,lv","en,mt","en,nl","en,no","en,pl","en,pt","en,ro","en,se","en,si","en,sk","en,uk"]
[{"$f":"\"\"&INDEX(PP_Locale,ROW(),PP_LanguageIndex)","v":"Customer ID"},null,null,null,null,"PP_RunAs",null,null,null,null,"Customer ID",null,null,"Kunde ID","Kundennummer",null,"Identificación del cliente",null,null,"Identifiant du client",null,null,null,"Identificativo del cliente",null,null,null,null,null,"Identyfikator klienta"]
[{"$f":"\"\"&INDEX(PP_Locale,ROW(),PP_LanguageIndex)","v":"Reporting package is .zip"},null,null,null,null,"PP_UseReportingPackageFormat",null,null,null,null,"Reporting package is .zip",null,null,"Rapporteringspakken er .zip","Das Berichtspaket ist eine .zip-Datei.",null,"El paquete de informes es .zip",null,null,"Le package de rapport est au format .zip",null,null,null,"Il pacchetto di segnalazione è .zip",null,null,null,null,null,"Pakiet raportowy to .zip",null,null,null,null,null,null,null,null,null,null,null,null,null,null,null,null,null,null,null,null,null,null,null,null,null,null,null,null,null,null,null,null,null,null,null,null,null,null,null,null,null,null,null,null,null,true,false]
[{"$f":"\"\"&INDEX(PP_Locale,ROW(),PP_LanguageIndex)","v":"Skip validation"},null,null,null,null,"PP_SkipValidation",null,null,null,null,"Skip validation",null,null,"Skip validering","Validierung überspringen",null,"Omitir validación",null,null,"Ignorez la validation",null,null,null,"Salta la convalida",null,null,null,null,null,"Pomiń weryfikację",null,null,null,null,null,null,null,null,null,null,null,null,null,null,null,null,null,null,null,null,null,null,null,null,null,null,null,null,null,null,null,null,null,null,null,null,null,null,null,null,null,null,null,null,null,true,false]
[{"$f":"\"\"&INDEX(PP_Locale,ROW(),PP_LanguageIndex)","v":"Include custom labels"},null,null,null,null,"PP_IncludeCustomLabels",null,null,null,null,"Include custom labels",null,null,"Inkluder tilpassede etiketter","Fügen Sie benutzerdefinierte Labels hinzu",null,"Incluir etiquetas personalizadas",null,null,"Inclure des étiquettes personnalisées",null,null,null,"Includi etichette personalizzate ",null,null,null,null,null,"Uwzględnij niestandardowe etykiety",null,null,null,null,null,null,null,null,null,null,null,null,null,null,null,null,null,null,null,null,null,null,null,null,null,null,null,null,null,null,null,null,null,null,null,null,null,null,null,null,null,null,null,null,null,true,false]
[{"$f":"\"\"&INDEX(PP_Locale,ROW(),PP_LanguageIndex)","v":"General data role name"},null,null,null,null,"PP_GeneralDataRoleName",null,null,null,null,"General data role name",null,null,"General data rollenavn","Name der allgemeinen Datenrolle",null,"Nombre del rol de datos generales",null,null,"Nom du rôle de données générales",null,null,null,"Nome ruolo dati generali",null,null,null,null,null,"Ogólna nazwa roli danych "]
["Tabular class names",null,null,null,null,"PP_Tabular_ClassNames"]
[{"$f":"\"\"&INDEX(PP_Locale,ROW(),PP_LanguageIndex)","v":"Parameters"},null,null,null,null,"PP_Parameters",null,null,null,null,"Parameters",null,null,"Parametre","Parameter",null,"Parámetros",null,null,"Paramètres",null,null,null,"Parametri",null,null,null,null,null,"Parametry"]
[]
[null,null,null,null,null,null,null,null,null,null,"Current period",null,null,"Aktuel periode","Derzeitige Periode",null,"Período actual",null,null,"Période actuelle",null,null,null,"Periodo attuale",null,null,null,null,null,"Obecny okres"]
[null,null,null,null,null,null,null,null,null,null,"Previous period",null,null,"Foregående periode","Vorherige Periode",null,"Periodo anterior",null,null,"Période précédente",null,null,null,"Periodo precedente",null,null,null,null,null,"Poprzedni okres"]
[null,null,null,null,null,null,null,null,null,null,"No",null,null,"Nej","Nein",null,"No",null,null,"Non",null,null,null,"No",null,null,null,null,null,"Nie"]
[null,null,null,null,null,null,null,null,null,null,"Yes",null,null,"Ja","Ja",null,"Si",null,null,"Oui",null,null,null,"Sì",null,null,null,null,null,"Tak"]
[null,null,null,null,null,null,null,null,null,null,"Group",null,null,"Koncern","Konzern",null,"Grupo",null,null,"Groupe",null,null,null,"Gruppo",null,null,null,null,null,"Grupy"]
[null,null,null,null,null,null,null,null,null,null,"Parent",null,null,"Moder","Mutterunternehmen",null,"Dominante",null,null,"Société mère",null,null,null,"Controllante",null,null,null,null,null,"Jednostka dominująca"]
[null,null,null,null,null,null,null,null,null,null,"EUR",null,null,"DKK","EUR",null,"EUR",null,null,"EUR",null,null,null,"EUR",null,null,null,null,null,"PLN"]
[null,null,null,null,null,null,null,null,null,null,"Test customer",null,null,"Test kunde","Kunden testen",null,"Cliente de prueba",null,null,"Test client",null,null,null,"Cliente di prova",null,null,null,null,null,"Klient testowy"]
[null,null,null,null,null,null,null,null,null,null,"UNKNOWN",null,null,"UKENDT","UNBEKANNT",null,"DESCONOCIDO",null,null,"INCONNU",null,null,null,"SCONOSCIUTO",null,null,null,null,null,"NIEZNANY"]
[null,null,null,null,null,null,null,null,null,null,"Income Statement",null,null,"Resultatopgørelse","Gewinn- und Verlustrechnung",null,"Cuenta de resultados",null,null,"Compte de résultat",null,null,null,"Conto economico",null,null,null,null,null,"Rachunek zysków i strat"]
[null,null,null,null,null,null,null,null,null,null,"Comprehensive income","Всеобхватен доход","Hospodářský výsledek","Totalindkomst","Gesamtergebnis","Συνολικά έσοδα","Resultado global","Koondkasum","Laaja tulos","Résultat global","Sveobuhvatna dobit","Átfogó jövedelem",null,"Conto economico complessivo","Bendrosios pajamos","Apvienotie ienākumi","Introjtu komprensiv","Totaalresultaat","Komprehensiv inntekt","Całkowite dochody","Rendimento integral","Rezultatul global","Súčasti komplexného výsledku","Vseobsegajoči donos","Totalresultat"]
[null,null,null,null,null,null,null,null,null,null,"Balance Sheet",null,null,"Balance","Bilanz",null,"Hoja de balance",null,null,"Bilan",null,null,null,"Bilancio",null,null,null,null,null,"Bilans"]
[null,null,null,null,null,null,null,null,null,null,"Changes In Equity","Увеличение (намаление) на собствения капитал","Zvýšení (snížení) vlastního kapitálu","Egenkapitalopgørelse","Veränderungen des Eigenkapitals","Αύξηση (μείωση) ιδίων κεφαλαίων","Cambios en el patrimonio neto","Omakapitali suurenemine (vähenemine)","Oman pääoman lisäys (tai vähennys)","Variations des capitaux propres","Povećanje (smanjenje) vlasničkog kapitala","Saját tőke növekedése (csökkenése)",null,"Variazioni di patrimonio netto","Nuosavybės padidėjimas (sumažėjimas)","Pašu kapitāla palielinājums (samazinājums)","Żieda (tnaqqis) fl-ekwità","Stijging (daling) van eigen vermogen","Endringer i egenkapitalen ","Zmian w kapitale własnym","Aumento (diminuição) do capital próprio","Creșterea (reducerea) capitalurilor proprii","Zvýšenie (zníženie) vlastného imania","Povečanje (zmanjšanje) lastniškega kapitala","Ökning (minskning) av eget kapital"]
[null,null,null,null,null,null,null,null,null,null,"Cash Flow",null,null,"Pengestrømsopgørelse","Kapitalflussrechnung",null,"Flujos de efectivo",null,null,"Flux de trésorerie",null,null,null,"Rendiconto finanziario",null,null,null,null,null,"Przepływ pieniędzy"]
[null,null,null,null,null,null,null,null,null,null,"Profit for the period","Печалба (загуба)","Hospodářský výsledek","Periodens resultat","Gewinn (Verlust)","Κέρδη (ζημίες)","Ganancia (pérdida)","Kasum (kahjum)","Voitto (tai tappio)","Résultat","Dobit (gubitak)","Eredmény",null,"Utile (perdita)","Pelnas (nuostoliai)","Peļņa (zaudējumi)","Profitt (telf)","Winst (verlies)","Periodens resultat","Zysk (strata)","Lucros (perdas)","Profit (pierdere)","Zisk (strata)","Poslovni izid","Periodens resultat"]
[null,null,null,null,null,null,null,null,null,null,"Equity at end of period",null,null,"Egenkapital ultimo","Eigenkapital am Ende der Periode",null,"Patrimonio neto al final del período",null,null,"Capitaux propres en fin de période",null,null,null,"Patrimonio netto a fine periodo",null,null,null,null,null,"Kapitał własny na koniec okresu"]
[null,null,null,null,null,null,null,null,null,null,"Total equity",null,null,"Egenkapital i alt","Eigenkapital",null,"Patrimonio neto",null,null,"Capitaux propres",null,null,null,"Patrimonio netto",null,null,null,null,null,"Kapitał własny"]
[null,null,null,null,null,null,null,null,null,null,"Cash flow from operating activities","Парични потоци от (използвани в) оперативни дейности","Peněžní toky z (použité při) provozní činnosti","Pengestrømme fra driftsaktiviteter","Zahlungsströme aus (in) betrieblichen Tätigkeiten","Ταμειακές ροές από (που χρησιμοποιούνται σε) λειτουργικές δραστηριότητες","Flujos de efectivo procedentes de (utilizados en) actividades de explotación","Rahavood põhitegevusest","Liiketoiminnasta saadut (tai liiketoiminnassa käytetyt) rahavirrat","Flux de trésorerie résultant (utilisés dans le cadre) des activités opérationnelles","Novčani tokovi od (upotrijebljeni u okviru) poslovnih aktivnosti","Működési tevékenységekből származó (ezekben használt) cash flow-k",null,"Flussi finanziari derivanti da (usati in) attività operative","Pinigų srautai, susidarantys dėl pagrindinės veiklos (arba jai naudojami)","Naudas plūsmas no (kas izmantotas) pamatdarbībām","Flussi ta’ flus minn (użati fi) attivitajiet operatorji","Kasstromen uit hoofde van (gebruikt in) operationele activiteiten","Kontantstrømmer fra (brukt i) driftsaktiviteter","Przepływy pieniężne z działalności operacyjnej (wykorzystane w działalności operacyjnej)","Fluxos de caixa de (utilizados em) atividades de exploração","Fluxurile de trezorerie provenite din (folosite în) activitățile de exploatare","Peňažné toky z prevádzkových činností (použité pri prevádzkových činnostiach)","Denarni tokovi iz poslovnih aktivnosti (uporabljeni pri poslovnih aktivnostih)","Kassaflöden från (som används i) den löpande verksamheten"]
[null,null,null,null,null,null,null,null,null,null,"Cash flow from investing activities","Парични потоци от (използвани в) инвестиционни дейности","Peněžní toky z (použité při) investiční činnosti","Pengestrømme fra investingsaktiviteter","Zahlungsströme aus (in) Investitionstätigkeit","Ταμειακές ροές από (που χρησιμοποιούνται σε) επενδυτικές δραστηριότητες","Flujos de efectivo procedentes de (utilizados en) actividades de inversión","Rahavood investeerimistegevusest","Investoinneista saadut (tai investointeihin käytetyt) rahavirrat","Flux de trésorerie résultant (utilisés dans le cadre) d’activités d’investissement","Novčani tokovi od (upotrijebljeni u okviru) ulagačkih aktivnosti","Befektetési tevékenységekből származó (ezekben használt) cash flow-k",null,"Flussi finanziari derivanti da (usati in) attività di investimento","Pinigų srautai, susidarantys dėl investicinės veiklos (arba jai naudojami)","Naudas plūsmas no (kas izmantotas) ieguldījumu darbībām","Flussi ta’ flus minn (użati fi) attivitajiet ta’ investiment","Kasstromen uit hoofde van (gebruikt in) investeringsactiviteiten","Kontantstrømmer fra (brukt i) investeringsaktiviteter","Przepływy pieniężne z działalności inwestycyjnej (wykorzystane w działalności inwestycyjnej)","Fluxos de caixa de (utilizados em) atividades de investimento","Fluxurile de trezorerie provenite din (folosite în) activitățile de investiție","Peňažné toky z investičných činností (použité pri investičných činnostiach)","Denarni tokovi iz naložbenih aktivnosti (uporabljeni pri naložbenih aktivnostih)","Kassaflöden från (som används i) investeringsverksamhet"]
[null,null,null,null,null,null,null,null,null,null,"Cash flow from financing activities","Парични потоци от (използвани във) финансови дейности","Peněžní toky z (použité při) financování","Pengestrømme fra finansieringsaktiviteter","Zahlungsströme aus (in) Finanzierungstätigkeit","Ταμειακές ροές από (που χρησιμοποιούνται σε) χρηματοδοτικές δραστηριότητες","Flujos de efectivo procedentes de (utilizados en) actividades de financiación","Rahavood finantseerimistegevusest","Rahoituksesta saadut (tai rahoituksessa käytetyt) rahavirrat","Flux de trésorerie résultant (utilisés dans le cadre) d’activités de financement","Novčani tokovi od (upotrijebljeni u okviru) financijskih aktivnosti","Finanszírozási tevékenységekből származó (ezekben használt) cash flow-k",null,"Flussi finanziari derivanti da (usati in) attività di finanziamento","Pinigų srautai, susidarantys dėl finansinės veiklos (arba jai naudojami)","Naudas plūsmas no (kas izmantotas) finansēšanas darbībām","Flussi ta’ flus minn (użati fi) attivitajiet ta’ finanzjament","Kasstromen uit hoofde van (gebruikt in) financieringsactiviteiten","Kontantstrømmer fra (brukt i) finansieringsaktiviteter","Przepływy pieniężne z działalności finansowej (wykorzystane w działalności finansowej)","Fluxos de caixa de (utilizados em) atividades de financiamento","Fluxuri de trezorerie provenite din (folosite în) activitățile de finanțare","Peňažné toky z finančných činností (použité pri finančných činnostiach)","Denarni tokovi iz aktivnosti financiranja (uporabljeni pri aktivnostih financiranja)","Kassaflöden från (som används i) finansieringsverksamhet"]
[null,null,null,null,null,null,null,null,null,null,"Change in cash and cash equivalents","Увеличение (намаление) на паричните средства и паричните еквиваленти","Přírůstek (úbytek) peněžních prostředků a peněžních ekvivalentů","Ændringer i likvide beholdninger","Zunahme (Abnahme) von Zahlungsmitteln und Zahlungsmitteläquivalenten","Αύξηση(μείωση) ταμειακών διαθεσίμων και ταμειακών ισοδυνάμων","Incremento (decremento) en efectivo y equivalentes al efectivo","Raha ja raha ekvivalentide suurenemine (vähenemine)","Rahavarojen lisäys (tai vähennys)","Augmentation (diminution) de la trésorerie et des équivalents de trésorerie","Povećanje (smanjenje) novca i novčanih ekvivalenata","Pénzeszközök és pénzeszköz-egyenértékesek növekedése (csökkenése)",null,"Aumento (diminuzione) di disponibilità liquide e mezzi equivalenti","Pinigų ir pinigų ekvivalentų padidėjimas (sumažėjimas)","Naudas un naudas ekvivalentu palielinājums (samazinājums)","Żieda (tnaqqis) fil-flus u fl-ekwivalenti ta’ flus","Stijging (daling) van geldmiddelen en kasequivalenten","Endring i kontanter og kontantekvivalenter","Zwiększenie (zmniejszenie) stanu środków pieniężnych i ich ekwiwalentów","Aumento (diminuição) de caixa e equivalentes de caixa","Creșterea (reducerea) numerarului și a echivalentelor de numerar","Zvýšenie (zníženie) peňažných prostriedkov a peňažných ekvivalentov","Povečanje (zmanjšanje) denarnih sredstev in njihovih ustreznikov","Ökning (minskning) av likvida medel"]
[null,null,null,null,null,null,null,null,null,null,"Dates",null,null,"Datoer","Dates",null,"Dates",null,null,"Dates",null,null,null,"Dates",null,null,null,null,null,"Dates"]
[null,null,null,null,null,null,null,null,null,null,"Properties",null,null,"Egenskaber","Properties",null,"Properties",null,null,"Properties",null,null,null,"Properties",null,null,null,null,null,"Properties"]
[null,null,null,null,null,null,null,null,null,null,"Period","Период","Období","Periode","Zeitraum","Περίοδος","Periodo","Periood","Jakso","Période","Razdoblje","Időszak",null,"Periodo","Laikotarpis","Periods","Perjodu","Periode","Periode","Okres","Período","Perioada","Obdobie","Obdobje","Period"]

{"sheet":"General data ESRS","index":2,"n_rows":52,"n_cols":80,"rows_kept":52,"cut":false,"hidden":false,"merged":[[9,1,9,4],[2,1,2,4],[3,1,3,4],[4,1,4,4],[6,1,6,2],[6,3,6,4],[10,1,10,4],[11,1,11,4],[12,1,12,4],[13,1,13,4],[15,1,15,2],[15,3,15,4],[26,1,26,4],[27,1,27,4],[28,1,28,4],[29,1,29,4],[16,1,16,4],[17,1,17,4],[18,1,18,4],[19,1,19,4],[22,1,22,4],[25,1,25,4]]}
[null,null,null,null,null,"Range name","Defaults x4 columns",{"$f":"ISERROR(INDIRECT(\"'General Data ESEF'!PP_Language\"))","v":false},{"$f":"IFERROR(MATCH(PP_Language,PP_Languages,0),1)","v":1},{"$f":"IF(ISBLANK(INDEX(PP_Locale,2,I1)),1,I1)","v":1},"EN","BG","CS","DA","DE","EL","ES","ET","FI","FR","HR","HU","IS","IT","LT","LV","MT","NL","NO","PL","PT","RO","SK","SL","SV",{"$f":"IFERROR(MATCH(PP_CountryCode,PP_Countries,0),1)","v":1},"EU","AT","BE","BG","CH","CY","CZ","DE","DK","EE","EL","ES","FI","FR","GG","GR","HR","HU","IE","IS","IT","LI","LT","LU","LV","MT","NL","NO","PL","PT","RO","SE","SI","SK","UK","Adjusted values x4 columns",null,null,null,"Validation lists"]
[{"$f":"\"\"&INDEX(PP_Locale,ROW(),PP_LanguageIndex)&\" 1.0.8.1\"","v":"ParsePort DKGAAP general data, version 1.0.8.1"},null,null,null,null,null,null,null,null,null,"ParsePort DKGAAP general data, version",null,null,"ParsePort DKGAAP stamdata, version"]
[null,{"$f":"\"\"&INDEX(PP_Locale,ROW(),PP_LanguageIndex)","v":"MANDATORY FIELD"},null,null,null,null,null,null,null,null,"MANDATORY FIELD",null,null,"OBLIGATORISK FELT"]
[null,{"$f":"\"\"&INDEX(PP_Locale,ROW(),PP_LanguageIndex)","v":"AUTOMATIC FIELD (can be overruled)"},null,null,null,null,null,null,null,null,"AUTOMATIC FIELD (can be overruled)",null,null,"AUTOMATISK FELT (kan overstyres)"]
[null,{"$f":"\"\"&INDEX(PP_Locale,ROW(),PP_LanguageIndex)","v":"FILL OUT IF INFORMATION IS PRESENT IN REPORT"},null,null,null,null,null,null,null,null,"FILL OUT IF INFORMATION IS PRESENT IN REPORT",null,null,"UDFYLDES HVIS INFORMATIONEN FINDES I RAPPORTEN"]
[]
[null,{"$f":"IF(PP_Consolidated,IFERROR(VLOOKUP(\"Group\",PP_Locale,PP_LanguageIndex,FALSE),\"Group\"),\"\")","v":"Group"},null,{"$f":"IF(PP_Consolidated,IFERROR(VLOOKUP(\"Parent\",PP_Locale,PP_LanguageIndex,FALSE),\"Parent\"),\"\")","v":"Parent"},null,null,{"$f":"IF(PP_Consolidated,IFERROR(VLOOKUP(\"Group\",PP_Locale,PP_LanguageIndex,FALSE),\"Group\"),\"\")","v":"Group"},{"$f":"IF(PP_Consolidated,IFERROR(VLOOKUP(\"Group\",PP_Locale,PP_LanguageIndex,FALSE),\"Group\"),\"\")","v":"Group"},{"$f":"IF(PP_Consolidated,IFERROR(VLOOKUP(\"Parent\",PP_Locale,PP_LanguageIndex,FALSE),\"Parent\"),\"\")","v":"Parent"},{"$f":"IF(PP_Consolidated,IFERROR(VLOOKUP(\"Parent\",PP_Locale,PP_LanguageIndex,FALSE),\"Parent\"),\"\")","v":"Parent"},null,null,null,null,null,null,null,null,null,null,null,null,null,null,null,null,null,null,null,null,null,null,null,null,null,null,null,null,null,null,null,null,null,null,null,null,null,null,null,null,null,null,null,null,null,null,null,null,null,null,null,null,null,null,null,null,null,null,null,null,null,{"$f":"IF(PP_Consolidated,\"Group\",\"\")","v":"Group"},{"$f":"IF(PP_Consolidated,\"Group\",\"\")","v":"Group"},{"$f":"IF(PP_Consolidated,\"Parent\",\"\")","v":"Parent"},{"$f":"IF(PP_Consolidated,\"Parent\",\"\")","v":"Parent"}]
[null,{"$f":"IFERROR(VLOOKUP(\"Period\",PP_Locale,PP_LanguageIndex,FALSE),\"Period\")&\" 1\"","v":"Period 1"},{"$f":"IFERROR(VLOOKUP(\"Period\",PP_Locale,PP_LanguageIndex,FALSE),\"Period\")&\" 2\"","v":"Period 2"},{"$f":"IF(PP_Consolidated,IFERROR(VLOOKUP(\"Period\",PP_Locale,PP_LanguageIndex,FALSE),\"Period\")&\" 1\",\"\")","v":"Period 1"},{"$f":"IF(PP_Consolidated,IFERROR(VLOOKUP(\"Period\",PP_Locale,PP_LanguageIndex,FALSE),\"Period\")&\" 2\",\"\")","v":"Period 2"},null,{"$f":"IFERROR(VLOOKUP(\"Period\",PP_Locale,PP_LanguageIndex,FALSE),\"Period\")&\" 1\"","v":"Period 1"},{"$f":"IFERROR(VLOOKUP(\"Period\",PP_Locale,PP_LanguageIndex,FALSE),\"Period\")&\" 2\"","v":"Period 2"},{"$f":"IF(PP_Consolidated,IFERROR(VLOOKUP(\"Period\",PP_Locale,PP_LanguageIndex,FALSE),\"Period\")&\" 1\",\"\")","v":"Period 1"},{"$f":"IF(PP_Consolidated,IFERROR(VLOOKUP(\"Period\",PP_Locale,PP_LanguageIndex,FALSE),\"Period\")&\" 2\",\"\")","v":"Period 2"},null,null,null,null,null,null,null,null,null,null,null,null,null,null,null,null,null,null,null,null,null,null,null,null,null,null,null,null,null,null,null,null,null,null,null,null,null,null,null,null,null,null,null,null,null,null,null,null,null,null,null,null,null,null,null,null,null,null,null,null,null,"Period 1","Period 2",{"$f":"IF(PP_Consolidated,\"Period 1\",\"\")","v":"Period 1"},{"$f":"IF(PP_Consolidated,\"Period 2\",\"\")","v":"Period 2"}]
[{"$f":"\"\"&INDEX(PP_Locale,ROW(),PP_LanguageIndex)","v":"General:"},null,null,null,null,null,null,null,null,null,"General:",null,null,"Generelt:",null,null,null,null,null,null,null,null,null,null,null,null,null,null,null,null,null,null,null,null,null,null,null,null,null,null,null,null,null,null,null,null,null,null,null,null,null,null,null,null,null,null,null,null,null,null,null,null,null,null,null,null,null,null,null,null,null,null,null,null,null,{"$f":"\"/General data \"&PP_TaxonomyId&\"(headers=\"&CELL(\"address\",$BT$7)&\":\"&CELL(\"address\",$BW$8)&\"[language=en],labels=\"&SUBSTITUTE(CELL(\"address\",K9)&\":\"&CELL(\"address\",K31),\"$\",\"\")&\"[language=en],values=\"&SUBSTITUTE(CELL(\"address\",BT9)&\":\"&CELL(\"address\",BW31),\"$\",\"\")&\"[language=\"&LOWER(PP_Language)&\"])\"","v":"/General data ESRS(headers=$BT$7:$BW$8[language=en],labels=K9:K31[language=en],values=BT9:BW31[language=en])"}]
[{"$f":"\"\"&INDEX(PP_Locale,ROW(),PP_LanguageIndex)","v":"Report language code"},{"$f":"IFERROR(INDIRECT(\"'General Data ESEF'!PP_Language\"),\"DA\")","v":"EN"},null,null,null,"PP_Language",{"$f":"IFERROR(INDIRECT(\"'General Data ESEF'!PP_Language\"),\"DA\")","v":"EN"},null,null,null,"Report language code",null,null,"Rapport sprogkode","Bericht Sprachcode",null,"Código de lenguaje",null,null,"Code de langue",null,null,null,"Codice lingua",null,null,null,null,null,"Kod języka"]
[{"$f":"\"\"&INDEX(PP_Locale,ROW(),PP_LanguageIndex)","v":"Label language code"},{"$f":"PP_Language","v":"EN"},{"$f":"PP_Language","v":"EN"},{"$f":"PP_Language","v":"EN"},{"$f":"PP_Language","v":"EN"},"PP_LabelLanguage",{"$f":"PP_Language","v":"EN"},null,null,null,"Label language code",null,null,"Label sprogkode","Tag-Sprachcode",null,"Código de lenguaje de la etiqueta",null,null,"Code de langue de l'étiquette",null,null,null,"Codice lingua etichetta",null,null,null,null,null,"Kod języka etykiety"]
[{"$f":"\"\"&INDEX(PP_Locale,ROW(),PP_LanguageIndex)","v":"Currency code"},{"$f":"IFERROR(INDIRECT(\"'General Data ESEF'!PP_Currency\"),\"DKK\")","v":"EUR"},null,null,null,"PP_Currency",{"$f":"IFERROR(INDIRECT(\"'General Data ESEF'!PP_Currency\"),\"DKK\")","v":"EUR"},null,null,null,"Currency code",null,null,"Valutakode","Währungscode",null,"Código de moneda",null,null,"Code devise",null,null,null,"Codice valuta",null,null,null,null,null,"Kod waluty",null,null,null,null,null,null,null,null,null,null,null,null,null,null,null,null,null,null,null,null,null,null,null,null,null,null,null,null,null,null,null,null,null,null,null,null,null,null,null,null,null,{"$f":"\"\"&UPPER(B12)","v":"EUR"}]
[{"$f":"\"\"&INDEX(PP_Locale,ROW(),PP_LanguageIndex)","v":"Scale"},{"$f":"IFERROR(INDIRECT(\"'General Data ESEF'!PP_MonetaryScaling\"),0)","v":6},null,null,null,"PP_MonetaryScaling",{"$f":"IFERROR(INDIRECT(\"'General Data ESEF'!PP_MonetaryScaling\"),0)","v":6},null,null,null,"Scale",null,null,"Skalering","Skalierung",null,"Redondeo",null,null,"Mise à l'échelle",null,null,null,"Ridimensionamento",null,null,null,null,null,"Skalowanie",null,null,null,null,null,null,null,null,null,null,null,null,null,null,null,null,null,null,null,null,null,null,null,null,null,null,null,null,null,null,null,null,null,null,null,null,null,null,null,null,null,null,null,null,null,0,3,6,9]
[{"$f":"\"\"&INDEX(PP_Locale,ROW(),PP_LanguageIndex)","v":"Consolidated"},{"$f":"IFERROR(INDIRECT(\"'General Data ESEF'!PP_Consolidated\"),FALSE)","v":true},null,null,null,"PP_Consolidated",{"$f":"IFERROR(INDIRECT(\"'General Data ESEF'!PP_Consolidated\"),FALSE)","v":true},null,null,null,"Consolidated",null,null,"Koncern",null,null,null,null,null,null,null,null,null,null,null,null,null,null,null,null,null,null,null,null,null,null,null,null,null,null,null,null,null,null,null,null,null,null,null,null,null,null,null,null,null,null,null,null,null,null,null,null,null,null,null,null,null,null,null,null,null,null,null,null,null,false,true]
[]
[{"$f":"\"\"&INDEX(PP_Locale,ROW(),PP_LanguageIndex)","v":"Dates:"},null,null,null,null,null,null,null,null,null,"Dates:",null,null,"Datoer:"]
[{"$f":"\"\"&INDEX(PP_Locale,ROW(),PP_LanguageIndex)","v":"Start date of reporting period 1"},{"$f":"IFERROR(INDIRECT(\"'General Data ESEF'!PP_StartDatePeriod1\"),44562)","v":"2025-01-01"},null,null,null,"PP_Period1StartDate",{"$f":"IFERROR(INDIRECT(\"'General Data ESEF'!PP_StartDatePeriod1\"),44562)","v":45658},null,null,null,"Start date of reporting period 1",null,null,"Startdato for periode 1","Startdatum des Berichtszeitraums 1",null,"Fecha de inicio del período del informe 1",null,null,"Date de début de la période de reporting 1",null,null,null,"Data di inizio del periodo di riferimento 1",null,null,null,null,null,"Data rozpoczęcia okresu sprawozdawczego 1",null,null,null,null,null,null,null,null,null,null,null,null,null,null,null,null,null,null,null,null,null,null,null,null,null,null,null,null,null,null,null,null,null,null,null,null,null,null,null,null,null,{"$f":"IF(COUNTBLANK(B17),\"\",TEXT(YEAR(B17),\"0000\")&\"-\"&TEXT(MONTH(B17),\"00\")&\"-\"&TEXT(DAY(B17),\"00\"))","v":"2025-01-01"}]
[{"$f":"\"\"&INDEX(PP_Locale,ROW(),PP_LanguageIndex)","v":"End date of reporting period 1"},{"$f":"IFERROR(INDIRECT(\"'General Data ESEF'!PP_EndDatePeriod1\"),44926)","v":"2025-12-31"},null,null,null,"PP_Period1EndDate",{"$f":"IFERROR(INDIRECT(\"'General Data ESEF'!PP_EndDatePeriod1\"),44926)","v":46022},null,null,null,"End date of reporting period 1",null,null,"Slutdato for periode 1","Enddatum des Berichtszeitraums 1",null,"Fecha final del período del informe 1",null,null,"Date de fin de la période de reporting 1",null,null,null,"Data di fine del periodo di riferimento 1",null,null,null,null,null,"Data zakończenia okresu sprawozdawczego 1",null,null,null,null,null,null,null,null,null,null,null,null,null,null,null,null,null,null,null,null,null,null,null,null,null,null,null,null,null,null,null,null,null,null,null,null,null,null,null,null,null,"2025-12-31"]
[{"$f":"\"\"&INDEX(PP_Locale,ROW(),PP_LanguageIndex)","v":"Start date of reporting period 2"},{"$f":"IF(OR(AND(COUNT(INDIRECT(\"'Income statement'!b1:b99\"))>0,COUNT(INDIRECT(\"'Income statement'!C1:C99\"))=0),AND(COUNT(INDIRECT(\"'Comprehensive income'!b1:b99\"))>0,COUNT(INDIRECT(\"'Comprehensive income'!C1:C99\"))=0)),\"\",IFERROR(INDIRECT(\"'General Data ESEF'!PP_StartDatePeriod2\"),EDATE(PP_Period1StartDate,-1*12)))","v":"2024-01-01"},null,null,null,"PP_Period2StartDate",{"$f":"IF(OR(AND(COUNT(INDIRECT(\"'Income statement'!b1:b99\"))>0,COUNT(INDIRECT(\"'Income statement'!C1:C99\"))=0),AND(COUNT(INDIRECT(\"'Comprehensive income'!b1:b99\"))>0,COUNT(INDIRECT(\"'Comprehensive income'!C1:C99\"))=0)),\"\",IFERROR(INDIRECT(\"'General Data ESEF'!PP_StartDatePeriod2\"),EDATE(PP_Period1StartDate,-1*12)))","v":45292},null,null,null,"Start date of reporting period 2",null,null,"Startdato for periode 2","Startdatum des Berichtszeitraums 2",null,"Fecha de inicio del período del informe 2",null,null,"Date de début de la période de reporting 2",null,null,null,"Data di inizio del periodo di riferimento 2",null,null,null,null,null,"Data rozpoczęcia okresu sprawozdawczego 2",null,null,null,null,null,null,null,null,null,null,null,null,null,null,null,null,null,null,null,null,null,null,null,null,null,null,null,null,null,null,null,null,null,null,null,null,null,null,null,null,null,"2024-01-01"]
[{"$f":"\"\"&INDEX(PP_Locale,ROW(),PP_LanguageIndex)","v":"End date of reporting period 2"},{"$f":"IF(OR(AND(COUNT(INDIRECT(\"'Income statement'!b1:b99\"))>0,COUNT(INDIRECT(\"'Income statement'!C1:C99\"))=0),AND(COUNT(INDIRECT(\"'Comprehensive income'!b1:b99\"))>0,COUNT(INDIRECT(\"'Comprehensive income'!C1:C99\"))=0)),\"\",IFERROR(INDIRECT(\"'General Data ESEF'!PP_EndDatePeriod2\"),EDATE(PP_Period1EndDate,-1*12)))","v":"2024-12-31"},null,null,null,"PP_Period2EndDate",{"$f":"IF(OR(AND(COUNT(INDIRECT(\"'Income statement'!b1:b99\"))>0,COUNT(INDIRECT(\"'Income statement'!C1:C99\"))=0),AND(COUNT(INDIRECT(\"'Comprehensive income'!b1:b99\"))>0,COUNT(INDIRECT(\"'Comprehensive income'!C1:C99\"))=0)),\"\",IFERROR(INDIRECT(\"'General Data ESEF'!PP_EndDatePeriod2\"),EDATE(PP_Period1EndDate,-1*12)))","v":45657},null,null,null,"End date of reporting period 2",null,null,"Slutdato for periode 2","Enddatum des Berichtszeitraums 2",null,"Fecha final del período del informe 2",null,null,"Date de fin de la période de reporting 2",null,null,null,"Data di fine del periodo di riferimento 2",null,null,null,null,null,"Data zakończenia okresu sprawozdawczego 2",null,null,null,null,null,null,null,null,null,null,null,null,null,null,null,null,null,null,null,null,null,null,null,null,null,null,null,null,null,null,null,null,null,null,null,null,null,null,null,null,null,"2024-12-31"]
[]
[{"$f":"\"\"&INDEX(PP_Locale,ROW(),PP_LanguageIndex)","v":"Information on reporting entity:"},null,null,null,null,null,null,null,null,null,"Information on reporting entity:",null,null,"Information om den regnskabsaflæggende virksomhed:"]
["LEI code of reporting entity",{"$f":"IF(ISERROR(INDIRECT(\"'General Data ESEF'!PP_IdentificationOfReportingEntity\")),\"\",IF(LEN(INDIRECT(\"'General Data ESEF'!PP_IdentificationOfReportingEntity\"))<>20,\"\",INDIRECT(\"'General Data ESEF'!PP_IdentificationOfReportingEntity\")))","v":"12345NOTVALID1234503"},null,null,null,"PP_LegalEntityIdentifierOfReportingEntity",{"$f":"IF(ISERROR(INDIRECT(\"'General Data ESEF'!PP_IdentificationOfReportingEntity\")),\"\",IF(LEN(INDIRECT(\"'General Data ESEF'!PP_IdentificationOfReportingEntity\"))<>20,\"\",INDIRECT(\"'General Data ESEF'!PP_IdentificationOfReportingEntity\")))","v":"12345NOTVALID1234503"},null,null,null,"LEI code of reporting entity",null,null,"Regnskabsaflæggende virksomheds LEI-kode",null,null,null,null,null,null,null,null,null,null,null,null,null,null,null,null,null,null,null,null,null,null,null,null,null,null,null,null,null,null,null,null,null,null,null,null,null,null,null,null,null,null,null,null,null,null,null,null,null,null,null,null,null,null,null,null,null,{"$f":"\"\"&B23","v":"12345NOTVALID1234503"}]
[]
[{"$f":"\"\"&INDEX(PP_Locale,ROW(),PP_LanguageIndex)","v":"Technical information:"},null,null,null,null,null,null,null,null,null,"Technical information:",null,null,"Teknisk information:","Technische Information:",null,"Información técnica:",null,null,"Informations techniques:",null,null,null,"Informazioni tecniche:",null,null,null,null,null,"Specyfikacja:"]
[{"$f":"\"\"&INDEX(PP_Locale,ROW(),PP_LanguageIndex)","v":"Taxonomy"},"ESRS",null,null,null,"PP_Taxonomy","DK GAAP",null,null,null,"Taxonomy",null,null,"Taksonomi","Taxonomie",null,"Taxonomía",null,null,"Taxonomie",null,null,null,"Tassonomia",null,null,null,null,null,"Taksonomia",null,null,null,null,null,null,null,null,null,null,null,null,null,null,null,null,null,null,null,null,null,null,null,null,null,null,null,null,null,null,null,null,null,null,null,null,null,null,null,null,null,null,null,null,null,"DK GAAP","DK GAAP 20221001","DK GAAP 20211001","DK GAAP 20201001"]
[{"$f":"\"\"&INDEX(PP_Locale,ROW(),PP_LanguageIndex)","v":"Taxonomy ID"},"ESRS",null,null,null,"PP_TaxonomyId","DKGAAP",null,null,null,"Taxonomy ID",null,null,"Taksonomi ID"]
[{"$f":"\"\"&INDEX(PP_Locale,ROW(),PP_LanguageIndex)","v":"Taxonomy entrypoint"},"Cor",null,null,null,"PP_TaxonomyEntrypoint",{"$f":"IF(ISERROR(INDIRECT(\"'General Data ESEF'!PP_Language\")),\"Balance sheet (\"&IF(IFERROR(COUNTIF(INDIRECT(\"'Balance sheet'!A1:Z99\"),\"*Provisions(*\"),0),\"account form\",\"account by current and longterm form\")&\"), income statement (\"&IF(IFERROR(COUNTIF(INDIRECT(\"'Income statement'!A1:Z99\"),\"*by Function(*\"),0),\"by function\",\"by nature\")&\")\",\"Excluding Balance sheet and Income statement, including managements review and statistics\")","v":"Excluding Balance sheet and Income statement, including managements review and statistics"},null,null,null,"Taxonomy entrypoint",null,null,"Taksonomi entrypoint","Einstiegspunkt",null,"Punto de acceso",null,null,"Point d'accès",null,null,null,"Punto d'entrata",null,null,null,null,null,"Punkt wejścia",null,null,null,null,null,null,null,null,null,null,null,null,null,null,null,null,null,null,null,null,null,null,null,null,null,null,null,null,null,null,null,null,null,null,null,null,null,null,null,null,null,null,null,null,null,"Balance sheet (account form), income statement (by nature)","Balance sheet (account form), income statement (by function)","Balance sheet (account form by current and longterm), income statement (by nature)","Balance sheet (account form by current and longterm), income statement (by function)","Excluding Balance sheet and Income statement, including managements review and statistics"]
[{"$f":"\"\"&INDEX(PP_Locale,ROW(),PP_LanguageIndex)","v":"Identifier scheme"},{"$f":"IFERROR(INDIRECT(\"'General Data ESEF'!PP_IdentifierScheme\"),\"http://www.dcca.dk/cvr\")","v":"http://standards.iso.org/iso/17442"},null,null,null,"PP_IdentifierScheme",{"$f":"IFERROR(INDIRECT(\"'General Data ESEF'!PP_IdentifierScheme\"),\"http://www.dcca.dk/cvr\")","v":"http://standards.iso.org/iso/17442"},null,null,null,"Identifier scheme",null,null,"Identifier scheme","Identifikationsschema",null,"Esquema de identificación",null,null,"Schéma d'identification",null,null,null,"Schema identificativo",null,null,null,null,null,"Schemat identyfikacyjny",null,null,null,null,null,null,null,null,null,null,null,null,null,null,null,null,null,null,null,null,null,null,null,null,null,null,null,null,null,null,null,null,null,null,null,null,null,null,null,null,null,{"$f":"\"\"&B29","v":"http://standards.iso.org/iso/17442"}]
["Parameters",{"$f":"\"\"&IFERROR(INDIRECT(\"'General Data ESEF'!PP_Parameters\"),\"cache=true\")","v":""},null,null,null,"PP_Parameters",{"$f":"\"\"&IFERROR(INDIRECT(\"'General Data ESEF'!PP_Parameters\"),\"cache=true\")","v":""},null,null,null,"Parameters",null,null,"Parametre"]
[]
[null,null,null,null,null,null,null,null,null,null,"UNKNOWN",null,null,"UKENDT"]
[null,null,null,null,null,null,null,null,null,null,"Type of basis for opinion on audited financial statements (audit)",null,null,"Type af grundlag for konklusion (revision)"]
[null,null,null,null,null,null,null,null,null,null,"Type of basis for opinion on financial statements (Extended review)",null,null,"Type af grundlag for konklusion (udvidet gennemgang)"]
[null,null,null,null,null,null,null,null,null,null,"Type of basis for conclusion on financial statements (review)",null,null,"Type af grundlag for konklusion (review)"]
[null,null,null,null,null,null,null,null,null,null,"Type of opinion on audited financial statements (Audit)",null,null,"Type af konklusion (revision)"]
[null,null,null,null,null,null,null,null,null,null,"Type of opinion on financial statements (Extended Review)",null,null,"Type af konklusion (udvidet gennemgang)"]
[null,null,null,null,null,null,null,null,null,null,"Type of conclusion on financial statements (review)",null,null,"Type af konklusion (review)"]
[null,null,null,null,null,null,null,null,null,null,"Reporting responsibilities according to the Danish executive order on approved auditors' reports especially the criminal code and Fiscal-, tax- and subsidy legislation (Audit)",null,null,"Erklæringsforpligtelser i henhold til erklæringsbekendtgørelsen, herunder særligt straffeloven samt skatte-, afgifts- og tilskudslovgivningen (revision)"]
[null,null,null,null,null,null,null,null,null,null,"Reporting responsibilities according to the Danish executive order on approved auditors' reports especially the criminal code and Fiscal-, tax- and subsidy legislation (Extended review)",null,null,"Erklæringsforpligtelser i henhold til erklæringsbekendtgørelsen, herunder særligt straffeloven samt skatte-, afgifts- og tilskudslovgivningen (udvidet gennemgang)"]
[null,null,null,null,null,null,null,null,null,null,"Reporting responsibilities according to the Danish executive order on approved auditors' reports especially the companies act or equivalent legislation, that the company is subject to (Audit)",null,null,"Erklæringsforpligtelser i henhold til erklæringsbekendtgørelsen, herunder særligt den for virksomheden fastsatte selskabsretlige eller tilsvarende lovgivning (revision)"]
[null,null,null,null,null,null,null,null,null,null,"Reporting responsibilities according to the Danish executive order on approved auditors' reports especially the companies act or equivalent legislation, that the company is subject to (Extended review)",null,null,"Erklæringsforpligtelser i henhold til erklæringsbekendtgørelsen, herunder særligt den for virksomheden fastsatte selskabsretlige eller tilsvarende lovgivning (udvidet gennemgang)"]
[null,null,null,null,null,null,null,null,null,null,"Reporting responsibilities according to the Danish executive order on approved auditors' reports especially legislation on financial reporting, including accounting and storage of accounting records (Audit)",null,null,"Erklæringsforpligtelser i henhold til erklæringsbekendtgørelsen, herunder særligt lovgivningen om regnskabsaflæggelse, herunder om bogføring og bevaring af regnskabsmateriale (revision)"]
[null,null,null,null,null,null,null,null,null,null,"Reporting responsibilities according to the Danish executive order on approved auditors' reports especially legislation on financial reporting, including accounting and storage of accounting records (Extended review)",null,null,"Erklæringsforpligtelser i henhold til erklæringsbekendtgørelsen, herunder særligt lovgivningen om regnskabsaflæggelse, herunder om bogføring og bevaring af regnskabsmateriale (udvidet gennemgang)"]
[null,null,null,null,null,null,null,null,null,null,"Reporting responsibilities according to the Danish executive order on approved auditors' reports especially other matters (Audit)",null,null,"Erklæringsforpligtelser i henhold til erklæringsbekendtgørelsen, herunder særligt andre forhold (revision)"]
[null,null,null,null,null,null,null,null,null,null,"Reporting responsibilities according to the Danish executive order on approved auditors' reports especially other matters (Extended review)",null,null,"Erklæringsforpligtelser i henhold til erklæringsbekendtgørelsen, herunder særligt andre forhold (udvidet gennemgang)"]
[null,null,null,null,null,null,null,null,null,null,"Current period",null,null,"Aktuel periode"]
[null,null,null,null,null,null,null,null,null,null,"Previous period",null,null,"Foregående periode"]
[null,null,null,null,null,null,null,null,null,null,"Group",null,null,"Koncern"]
[null,null,null,null,null,null,null,null,null,null,"Parent",null,null,"Moder"]
[null,null,null,null,null,null,null,null,null,null,"Test customer",null,null,"Test kunde","Kunden testen",null,"Cliente de prueba",null,null,"Test client",null,null,null,"Cliente di prova",null,null,null,null,null,"Klient testowy"]
[null,null,null,null,null,null,null,null,null,null,"Period",null,null,"Periode","Zeitraum",null,"Periodo",null,null,"Période",null,null,null,"Periodo",null,null,null,null,null,"Okres"]

{"sheet":"General data ITGAAP","index":3,"n_rows":64,"n_cols":100,"rows_kept":64,"cut":false,"hidden":false,"merged":[[54,1,54,4],[55,1,55,4],[56,1,56,4],[57,1,57,4],[28,1,28,4],[29,1,29,4],[30,1,30,4],[31,1,31,4],[34,1,34,4],[39,1,39,4],[44,1,44,4],[45,1,45,4],[46,1,46,4],[48,1,48,4],[35,1,35,4],[36,1,36,4],[27,1,27,4],[16,1,16,4],[17,1,17,4],[18,1,18,4],[19,1,19,4],[20,1,20,4],[21,1,21,4],[22,1,22,4],[23,1,23,4],[24,1,24,4],[25,1,25,4],[26,1,26,4],[10,1,10,4],[11,1,11,4],[12,1,12,4],[13,1,13,4],[15,1,15,2],[15,3,15,4],[9,1,9,4],[2,1,2,4],[3,1,3,4],[4,1,4,4],[6,1,6,2],[6,3,6,4],[37,1,37,4],[38,1,38,4],[40,1,40,4],[41,1,41,4],[42,1,42,4],[43,1,43,4],[47,1,47,4],[49,1,49,4],[50,1,50,4],[51,1,51,4]]}
[null,null,null,null,null,"Range name","Defaults x4 columns",{"$f":"ISERROR(INDIRECT(\"'General Data ESEF'!PP_Language\"))","v":false},{"$f":"IFERROR(MATCH(PP_Language,PP_Languages,0),1)","v":14},{"$f":"IF(ISBLANK(INDEX(PP_Locale,2,I1)),1,I1)","v":14},"EN","BG","CS","DA","DE","EL","ES","ET","FI","FR","HR","HU","IS","IT","LT","LV","MT","NL","NO","PL","PT","RO","SK","SL","SV",{"$f":"IFERROR(MATCH(PP_CountryCode,PP_Countries,0),1)","v":1},"EU","AT","BE","BG","CH","CY","CZ","DE","DK","EE","EL","ES","FI","FR","GG","GR","HR","HU","IE","IS","IT","LI","LT","LU","LV","MT","NL","NO","PL","PT","RO","SE","SI","SK","UK","Adjusted values x4 columns",null,null,null,"Validation lists"]
[{"$f":"\"\"&INDEX(PP_Locale,ROW(),PP_LanguageIndex)&\" 1.0.0.0\"","v":"ParsePort ITGAAP dati generali, versione 1.0.0.0"},null,null,null,null,null,null,null,null,null,"ParsePort ITGAAP general data, version",null,null,null,null,null,null,null,null,null,null,null,null,"ParsePort ITGAAP dati generali, versione",null,null,null,null,null,null,null,null,null,null,null,null,null,null,null,null,null,null,null,null,null,null,null,null,null,null,null,null,null,null,null,null,null,null,null,null,null,null,null,null,null,null,null,null,null,null,null,null,null,null,null,null,null,null,null,null,null,null,null,null,null,null,null,null,null,null,null,null,null,null,null,null,null,null,"Hypertag properties","Hypertag:"]
[null,{"$f":"\"\"&INDEX(PP_Locale,ROW(),PP_LanguageIndex)","v":"CAMPO OBBLIGATORIO"},null,null,null,null,null,null,null,null,"MANDATORY FIELD",null,null,null,null,null,null,null,null,null,null,null,null,"CAMPO OBBLIGATORIO"]
[null,{"$f":"\"\"&INDEX(PP_Locale,ROW(),PP_LanguageIndex)","v":"CAMPO AUTOMATICO (può essere annullato)"},null,null,null,null,null,null,null,null,"AUTOMATIC FIELD (can be overruled)",null,null,null,null,null,null,null,null,null,null,null,null,"CAMPO AUTOMATICO (può essere annullato)"]
[null,{"$f":"\"\"&INDEX(PP_Locale,ROW(),PP_LanguageIndex)","v":"COMPILARE SE IN RELAZIONE SONO PRESENTI INFORMAZIONI"},null,null,null,null,null,null,null,null,"FILL OUT IF INFORMATION IS PRESENT IN REPORT",null,null,null,null,null,null,null,null,null,null,null,null,"COMPILARE SE IN RELAZIONE SONO PRESENTI INFORMAZIONI"]
[]
[null,{"$f":"IF(PP_Consolidated,IFERROR(VLOOKUP(\"Group\",PP_Locale,PP_LanguageIndex,FALSE),\"Group\"),\"\")","v":"Gruppo"},null,{"$f":"IF(PP_Consolidated,IFERROR(VLOOKUP(\"Parent\",PP_Locale,PP_LanguageIndex,FALSE),\"Parent\"),\"\")","v":"Società capogruppo"},null,null,{"$f":"IF(PP_Consolidated,IFERROR(VLOOKUP(\"Group\",PP_Locale,PP_LanguageIndex,FALSE),\"Group\"),\"\")","v":"Gruppo"},{"$f":"IF(PP_Consolidated,IFERROR(VLOOKUP(\"Group\",PP_Locale,PP_LanguageIndex,FALSE),\"Group\"),\"\")","v":"Gruppo"},{"$f":"IF(PP_Consolidated,IFERROR(VLOOKUP(\"Parent\",PP_Locale,PP_LanguageIndex,FALSE),\"Parent\"),\"\")","v":"Società capogruppo"},{"$f":"IF(PP_Consolidated,IFERROR(VLOOKUP(\"Parent\",PP_Locale,PP_LanguageIndex,FALSE),\"Parent\"),\"\")","v":"Società capogruppo"},null,null,null,null,null,null,null,null,null,null,null,null,null,null,null,null,null,null,null,null,null,null,null,null,null,null,null,null,null,null,null,null,null,null,null,null,null,null,null,null,null,null,null,null,null,null,null,null,null,null,null,null,null,null,null,null,null,null,null,null,null,{"$f":"IF(PP_Consolidated,\"Group\",\"\")","v":"Group"},{"$f":"IF(PP_Consolidated,\"Group\",\"\")","v":"Group"},{"$f":"IF(PP_Consolidated,\"Parent\",\"\")","v":"Parent"},{"$f":"IF(PP_Consolidated,\"Parent\",\"\")","v":"Parent"}]
[null,{"$f":"IFERROR(VLOOKUP(\"Period\",PP_Locale,PP_LanguageIndex,FALSE),\"Period\")&\" 1\"","v":"Periodo 1"},{"$f":"IFERROR(VLOOKUP(\"Period\",PP_Locale,PP_LanguageIndex,FALSE),\"Period\")&\" 2\"","v":"Periodo 2"},{"$f":"IF(PP_Consolidated,IFERROR(VLOOKUP(\"Period\",PP_Locale,PP_LanguageIndex,FALSE),\"Period\")&\" 1\",\"\")","v":"Periodo 1"},{"$f":"IF(PP_Consolidated,IFERROR(VLOOKUP(\"Period\",PP_Locale,PP_LanguageIndex,FALSE),\"Period\")&\" 2\",\"\")","v":"Periodo 2"},null,{"$f":"IFERROR(VLOOKUP(\"Period\",PP_Locale,PP_LanguageIndex,FALSE),\"Period\")&\" 1\"","v":"Periodo 1"},{"$f":"IFERROR(VLOOKUP(\"Period\",PP_Locale,PP_LanguageIndex,FALSE),\"Period\")&\" 2\"","v":"Periodo 2"},{"$f":"IF(PP_Consolidated,IFERROR(VLOOKUP(\"Period\",PP_Locale,PP_LanguageIndex,FALSE),\"Period\")&\" 1\",\"\")","v":"Periodo 1"},{"$f":"IF(PP_Consolidated,IFERROR(VLOOKUP(\"Period\",PP_Locale,PP_LanguageIndex,FALSE),\"Period\")&\" 2\",\"\")","v":"Periodo 2"},null,null,null,null,null,null,null,null,null,null,null,null,null,null,null,null,null,null,null,null,null,null,null,null,null,null,null,null,null,null,null,null,null,null,null,null,null,null,null,null,null,null,null,null,null,null,null,null,null,null,null,null,null,null,null,null,null,null,null,null,null,"Period 1","Period 2",{"$f":"IF(PP_Consolidated,\"Period 1\",\"\")","v":"Period 1"},{"$f":"IF(PP_Consolidated,\"Period 2\",\"\")","v":"Period 2"}]
[{"$f":"\"\"&INDEX(PP_Locale,ROW(),PP_LanguageIndex)","v":""},null,null,null,null,null,null,null,null,null,"General:",null,null,null,null,null,null,null,null,null,null,null,null,null,null,null,null,null,null,null,null,null,null,null,null,null,null,null,null,null,null,null,null,null,null,null,null,null,null,null,null,null,null,null,null,null,null,null,null,null,null,null,null,null,null,null,null,null,null,null,null,null,null,null,null,{"$f":"\"/General data \"&PP_TaxonomyId&\"(headers=\"&CELL(\"address\",$BT$7)&\":\"&CELL(\"address\",$BW$8)&\"[language=en],labels=\"&SUBSTITUTE(CELL(\"address\",X9)&\":\"&CELL(\"address\",X59),\"$\",\"\")&\"[language=it],values=\"&SUBSTITUTE(CELL(\"address\",BT9)&\":\"&CELL(\"address\",BW59),\"$\",\"\")&\"[language=\"&LOWER(PP_Language)&\"])\"","v":"/General data ITGAAP(headers=$BT$7:$BW$8[language=en],labels=X9:X59[language=it],values=BT9:BW59[language=it])"}]
[{"$f":"\"\"&INDEX(PP_Locale,ROW(),PP_LanguageIndex)","v":"Codice lingua"},"IT",null,null,null,"PP_Language",{"$f":"IFERROR(INDIRECT(\"'General Data ESEF'!PP_Language\"),\"DA\")","v":"EN"},null,null,null,"Report language code",null,null,null,null,null,null,null,null,null,null,null,null,"Codice lingua"]
[{"$f":"\"\"&INDEX(PP_Locale,ROW(),PP_LanguageIndex)","v":"Codice lingua etichetta"},{"$f":"PP_Language","v":"IT"},{"$f":"PP_Language","v":"IT"},{"$f":"PP_Language","v":"IT"},{"$f":"PP_Language","v":"IT"},"PP_LabelLanguage",{"$f":"PP_Language","v":"IT"},null,null,null,"Label language code",null,null,null,null,null,null,null,null,null,null,null,null,"Codice lingua etichetta"]
[{"$f":"\"\"&INDEX(PP_Locale,ROW(),PP_LanguageIndex)","v":"Codice valuta"},{"$f":"IFERROR(INDIRECT(\"'General Data ESEF'!PP_Currency\"),\"EUR\")","v":"EUR"},null,null,null,"PP_Currency",{"$f":"IFERROR(INDIRECT(\"'General Data ESEF'!PP_Currency\"),\"EUR\")","v":"EUR"},null,null,null,"Currency code",null,null,null,null,null,null,null,null,null,null,null,null,"Codice valuta",null,null,null,null,null,null,null,null,null,null,null,null,null,null,null,null,null,null,null,null,null,null,null,null,null,null,null,null,null,null,null,null,null,null,null,null,null,null,null,null,null,null,null,null,null,null,null,{"$f":"\"\"&UPPER(B12)","v":"EUR"}]
[{"$f":"\"\"&INDEX(PP_Locale,ROW(),PP_LanguageIndex)","v":"Ridimensionamento"},{"$f":"IFERROR(INDIRECT(\"'General Data ESEF'!PP_MonetaryScaling\"),0)","v":6},null,null,null,"PP_MonetaryScaling",{"$f":"IFERROR(INDIRECT(\"'General Data ESEF'!PP_MonetaryScaling\"),0)","v":6},null,null,null,"Scale",null,null,null,null,null,null,null,null,null,null,null,null,"Ridimensionamento",null,null,null,null,null,null,null,null,null,null,null,null,null,null,null,null,null,null,null,null,null,null,null,null,null,null,null,null,null,null,null,null,null,null,null,null,null,null,null,null,null,null,null,null,null,null,null,null,null,null,null,0,3,6,9]
[{"$f":"\"\"&INDEX(PP_Locale,ROW(),PP_LanguageIndex)","v":"Consolidato"},{"$f":"IFERROR(INDIRECT(\"'General Data ESEF'!PP_Consolidated\"),FALSE)","v":true},null,null,null,"PP_Consolidated",{"$f":"IFERROR(INDIRECT(\"'General Data ESEF'!PP_Consolidated\"),FALSE)","v":true},null,null,null,"Consolidated",null,null,null,null,null,null,null,null,null,null,null,null,"Consolidato",null,null,null,null,null,null,null,null,null,null,null,null,null,null,null,null,null,null,null,null,null,null,null,null,null,null,null,null,null,null,null,null,null,null,null,null,null,null,null,null,null,null,null,null,null,null,null,null,null,null,null,false,true]
[]
[{"$f":"\"\"&INDEX(PP_Locale,ROW(),PP_LanguageIndex)","v":""},null,null,null,null,null,null,null,null,null,"Dates:"]
[{"$f":"\"\"&INDEX(PP_Locale,ROW(),PP_LanguageIndex)","v":"Data di inizio del periodo di riferimento 1"},{"$f":"DATE(YEAR(TODAY())-1,1,1)","v":"2025-01-01"},null,null,null,"PP_Period1StartDate",{"$f":"DATE(YEAR(TODAY())-1,1,1)","v":45658},null,null,null,"Start date of reporting period 1",null,null,null,null,null,null,null,null,null,null,null,null,"Data di inizio del periodo di riferimento 1",null,null,null,null,null,null,null,null,null,null,null,null,null,null,null,null,null,null,null,null,null,null,null,null,null,null,null,null,null,null,null,null,null,null,null,null,null,null,null,null,null,null,null,null,null,null,null,{"$f":"IF(COUNTBLANK(B17),\"\",TEXT(YEAR(B17),\"0000\")&\"-\"&TEXT(MONTH(B17),\"00\")&\"-\"&TEXT(DAY(B17),\"00\"))","v":"2025-01-01"}]
[{"$f":"\"\"&INDEX(PP_Locale,ROW(),PP_LanguageIndex)","v":"Data di fine del periodo di riferimento 1"},{"$f":"DATE(YEAR(TODAY())-1,12,31)","v":"2025-12-31"},null,null,null,"PP_Period1EndDate",{"$f":"DATE(YEAR(TODAY())-1,12,31)","v":46022},null,null,null,"End date of reporting period 1",null,null,null,null,null,null,null,null,null,null,null,null,"Data di fine del periodo di riferimento 1",null,null,null,null,null,null,null,null,null,null,null,null,null,null,null,null,null,null,null,null,null,null,null,null,null,null,null,null,null,null,null,null,null,null,null,null,null,null,null,null,null,null,null,null,null,null,null,"2025-12-31"]
[{"$f":"\"\"&INDEX(PP_Locale,ROW(),PP_LanguageIndex)","v":"Data di inizio del periodo di riferimento 2"},{"$f":"EDATE(PP_Period1StartDate,-1*12)","v":"2024-01-01"},null,null,null,"PP_Period2StartDate",{"$f":"EDATE(PP_Period1StartDate,-1*12)","v":45292},null,null,null,"Start date of reporting period 2",null,null,null,null,null,null,null,null,null,null,null,null,"Data di inizio del periodo di riferimento 2",null,null,null,null,null,null,null,null,null,null,null,null,null,null,null,null,null,null,null,null,null,null,null,null,null,null,null,null,null,null,null,null,null,null,null,null,null,null,null,null,null,null,null,null,null,null,null,"2024-01-01"]
[{"$f":"\"\"&INDEX(PP_Locale,ROW(),PP_LanguageIndex)","v":"Data di fine del periodo di riferimento 2"},{"$f":"EDATE(PP_Period1EndDate,-1*12)","v":"2024-12-31"},null,null,null,"PP_Period2EndDate",{"$f":"EDATE(PP_Period1EndDate,-1*12)","v":45657},null,null,null,"End date of reporting period 2",null,null,null,null,null,null,null,null,null,null,null,null,"Data di fine del periodo di riferimento 2",null,null,null,null,null,null,null,null,null,null,null,null,null,null,null,null,null,null,null,null,null,null,null,null,null,null,null,null,null,null,null,null,null,null,null,null,null,null,null,null,null,null,null,null,null,null,null,"2024-12-31"]
[{"$f":"\"\"&INDEX(PP_Locale,ROW(),PP_LanguageIndex)","v":"Data di inizio del periodo di riferimento 3"},{"$f":"EDATE(PP_Period1StartDate,-2*12)","v":"2023-01-01"},null,null,null,"PP_Period3StartDate",{"$f":"EDATE(PP_Period1StartDate,-2*12)","v":44927},null,null,null,"Start date of reporting period 3",null,null,null,null,null,null,null,null,null,null,null,null,"Data di inizio del periodo di riferimento 3",null,null,null,null,null,null,null,null,null,null,null,null,null,null,null,null,null,null,null,null,null,null,null,null,null,null,null,null,null,null,null,null,null,null,null,null,null,null,null,null,null,null,null,null,null,null,null,"2023-01-01"]
[{"$f":"\"\"&INDEX(PP_Locale,ROW(),PP_LanguageIndex)","v":"Data di fine del periodo di riferimento 3"},{"$f":"EDATE(PP_Period1EndDate,-2*12)","v":"2023-12-31"},null,null,null,"PP_Period3EndDate",{"$f":"EDATE(PP_Period1EndDate,-2*12)","v":45291},null,null,null,"End date of reporting period 3",null,null,null,null,null,null,null,null,null,null,null,null,"Data di fine del periodo di riferimento 3",null,null,null,null,null,null,null,null,null,null,null,null,null,null,null,null,null,null,null,null,null,null,null,null,null,null,null,null,null,null,null,null,null,null,null,null,null,null,null,null,null,null,null,null,null,null,null,"2023-12-31"]
[{"$f":"\"\"&INDEX(PP_Locale,ROW(),PP_LanguageIndex)","v":"Data di inizio del periodo di riferimento 4"},{"$f":"EDATE(PP_Period1StartDate,-3*12)","v":"2022-01-01"},null,null,null,"PP_Period4StartDate",{"$f":"EDATE(PP_Period1StartDate,-3*12)","v":44562},null,null,null,"Start date of reporting period 4",null,null,null,null,null,null,null,null,null,null,null,null,"Data di inizio del periodo di riferimento 4",null,null,null,null,null,null,null,null,null,null,null,null,null,null,null,null,null,null,null,null,null,null,null,null,null,null,null,null,null,null,null,null,null,null,null,null,null,null,null,null,null,null,null,null,null,null,null,"2022-01-01"]
[{"$f":"\"\"&INDEX(PP_Locale,ROW(),PP_LanguageIndex)","v":"Data di fine del periodo di riferimento 4"},{"$f":"EDATE(PP_Period1EndDate,-3*12)","v":"2022-12-31"},null,null,null,"PP_Period4EndDate",{"$f":"EDATE(PP_Period1EndDate,-3*12)","v":44926},null,null,null,"End date of reporting period 4",null,null,null,null,null,null,null,null,null,null,null,null,"Data di fine del periodo di riferimento 4",null,null,null,null,null,null,null,null,null,null,null,null,null,null,null,null,null,null,null,null,null,null,null,null,null,null,null,null,null,null,null,null,null,null,null,null,null,null,null,null,null,null,null,null,null,null,null,"2022-12-31"]
[{"$f":"\"\"&INDEX(PP_Locale,ROW(),PP_LanguageIndex)","v":"Data di inizio del periodo di riferimento 5"},{"$f":"EDATE(PP_Period1StartDate,-4*12)","v":"2021-01-01"},null,null,null,"PP_Period5StartDate",{"$f":"EDATE(PP_Period1StartDate,-4*12)","v":44197},null,null,null,"Start date of reporting period 5",null,null,null,null,null,null,null,null,null,null,null,null,"Data di inizio del periodo di riferimento 5",null,null,null,null,null,null,null,null,null,null,null,null,null,null,null,null,null,null,null,null,null,null,null,null,null,null,null,null,null,null,null,null,null,null,null,null,null,null,null,null,null,null,null,null,null,null,null,"2021-01-01"]
[{"$f":"\"\"&INDEX(PP_Locale,ROW(),PP_LanguageIndex)","v":"Data di fine del periodo di riferimento 5"},{"$f":"EDATE(PP_Period1EndDate,-4*12)","v":"2021-12-31"},null,null,null,"PP_Period5EndDate",{"$f":"EDATE(PP_Period1EndDate,-4*12)","v":44561},null,null,null,"End date of reporting period 5",null,null,null,null,null,null,null,null,null,null,null,null,"Data di fine del periodo di riferimento 5",null,null,null,null,null,null,null,null,null,null,null,null,null,null,null,null,null,null,null,null,null,null,null,null,null,null,null,null,null,null,null,null,null,null,null,null,null,null,null,null,null,null,null,null,null,null,null,"2021-12-31"]
[{"$f":"\"\"&INDEX(PP_Locale,ROW(),PP_LanguageIndex)","v":"Data di inizio del periodo di riferimento 6"},{"$f":"EDATE(PP_Period1StartDate,-5*12)","v":"2020-01-01"},null,null,null,"PP_Period6StartDate",{"$f":"EDATE(PP_Period1StartDate,-5*12)","v":43831},null,null,null,"Start date of reporting period 6",null,null,null,null,null,null,null,null,null,null,null,null,"Data di inizio del periodo di riferimento 6",null,null,null,null,null,null,null,null,null,null,null,null,null,null,null,null,null,null,null,null,null,null,null,null,null,null,null,null,null,null,null,null,null,null,null,null,null,null,null,null,null,null,null,null,null,null,null,"2020-01-01"]
[{"$f":"\"\"&INDEX(PP_Locale,ROW(),PP_LanguageIndex)","v":"Data di fine del periodo di riferimento 6"},{"$f":"EDATE(PP_Period1EndDate,-5*12)","v":"2020-12-31"},null,null,null,"PP_Period6EndDate",{"$f":"EDATE(PP_Period1EndDate,-5*12)","v":44196},null,null,null,"End date of reporting period 6",null,null,null,null,null,null,null,null,null,null,null,null,"Data di fine del periodo di riferimento 6",null,null,null,null,null,null,null,null,null,null,null,null,null,null,null,null,null,null,null,null,null,null,null,null,null,null,null,null,null,null,null,null,null,null,null,null,null,null,null,null,null,null,null,null,null,null,null,"2020-12-31"]
[{"$f":"\"\"&INDEX(PP_Locale,ROW(),PP_LanguageIndex)","v":"Data di inizio del periodo di riferimento 7"},{"$f":"EDATE(PP_Period1StartDate,-6*12)","v":"2019-01-01"},null,null,null,"PP_Period7StartDate",{"$f":"EDATE(PP_Period1StartDate,-6*12)","v":43466},null,null,null,"Start date of reporting period 7",null,null,null,null,null,null,null,null,null,null,null,null,"Data di inizio del periodo di riferimento 7",null,null,null,null,null,null,null,null,null,null,null,null,null,null,null,null,null,null,null,null,null,null,null,null,null,null,null,null,null,null,null,null,null,null,null,null,null,null,null,null,null,null,null,null,null,null,null,"2019-01-01"]
[{"$f":"\"\"&INDEX(PP_Locale,ROW(),PP_LanguageIndex)","v":"Data di fine del periodo di riferimento 7"},{"$f":"EDATE(PP_Period1EndDate,-6*12)","v":"2019-12-31"},null,null,null,"PP_Period7EndDate",{"$f":"EDATE(PP_Period1EndDate,-6*12)","v":43830},null,null,null,"End date of reporting period 7",null,null,null,null,null,null,null,null,null,null,null,null,"Data di fine del periodo di riferimento 7",null,null,null,null,null,null,null,null,null,null,null,null,null,null,null,null,null,null,null,null,null,null,null,null,null,null,null,null,null,null,null,null,null,null,null,null,null,null,null,null,null,null,null,null,null,null,null,"2019-12-31"]
[{"$f":"\"\"&INDEX(PP_Locale,ROW(),PP_LanguageIndex)","v":"Data di inizio del periodo di riferimento 8"},{"$f":"EDATE(PP_Period1StartDate,-7*12)","v":"2018-01-01"},null,null,null,"PP_Period8StartDate",{"$f":"EDATE(PP_Period1StartDate,-7*12)","v":43101},null,null,null,"Start date of reporting period 8",null,null,null,null,null,null,null,null,null,null,null,null,"Data di inizio del periodo di riferimento 8",null,null,null,null,null,null,null,null,null,null,null,null,null,null,null,null,null,null,null,null,null,null,null,null,null,null,null,null,null,null,null,null,null,null,null,null,null,null,null,null,null,null,null,null,null,null,null,"2018-01-01"]
[{"$f":"\"\"&INDEX(PP_Locale,ROW(),PP_LanguageIndex)","v":"Data di fine del periodo di riferimento 8"},{"$f":"EDATE(PP_Period1EndDate,-7*12)","v":"2018-12-31"},null,null,null,"PP_Period8EndDate",{"$f":"EDATE(PP_Period1EndDate,-7*12)","v":43465},null,null,null,"End date of reporting period 8",null,null,null,null,null,null,null,null,null,null,null,null,"Data di fine del periodo di riferimento 8",null,null,null,null,null,null,null,null,null,null,null,null,null,null,null,null,null,null,null,null,null,null,null,null,null,null,null,null,null,null,null,null,null,null,null,null,null,null,null,null,null,null,null,null,null,null,null,"2018-12-31"]
[]
[{"$f":"\"\"&INDEX(PP_Locale,ROW(),PP_LanguageIndex)","v":""},null,null,null,null,null,null,null,null,null,"Information on reporting entity:"]
[{"$f":"\"\"&INDEX(PP_Locale,ROW(),PP_LanguageIndex)","v":"Denominazione"},{"$f":"IFERROR(INDIRECT(\"'General Data ESEF'!PP_NameOfReportingEntity\"),IFERROR(VLOOKUP(\"Test customer\",PP_Locale,PP_LanguageIndex,FALSE),\"Test customer\"))","v":"Test customer"},null,null,null,"PP_CompanyName",{"$f":"IFERROR(INDIRECT(\"'General Data ESEF'!PP_NameOfReportingEntity\"),IFERROR(VLOOKUP(\"Test customer\",PP_Locale,PP_LanguageIndex,FALSE),\"Test customer\"))","v":"Test customer"},null,null,null,"Company name",null,null,null,null,null,null,null,null,null,null,null,null,"Denominazione",null,null,null,null,null,null,null,null,null,null,null,null,null,null,null,null,null,null,null,null,null,null,null,null,null,null,null,null,null,null,null,null,null,null,null,null,null,null,null,null,null,null,null,null,null,null,null,{"$f":"\"\"&B35","v":"Test customer"},null,null,null,null,null,null,null,null,null,null,null,null,null,null,null,null,null,null,null,null,null,null,null,null,null,null,"&allowhtml=false",{"$f":"\"pp://General Data/\"&K35&\"[taxonomy=\"&PP_TaxonomyId&\"]\"&CU35","v":"pp://General Data/Company name[taxonomy=ITGAAP]&allowhtml=false"}]
[{"$f":"\"\"&INDEX(PP_Locale,ROW(),PP_LanguageIndex)","v":"Sede"},null,null,null,null,"PP_CompanySite",null,null,null,null,"Company site",null,null,null,null,null,null,null,null,null,null,null,null,"Sede",null,null,null,null,null,null,null,null,null,null,null,null,null,null,null,null,null,null,null,null,null,null,null,null,null,null,null,null,null,null,null,null,null,null,null,null,null,null,null,null,null,null,null,null,null,null,null,{"$f":"\"\"&B36","v":""},null,null,null,null,null,null,null,null,null,null,null,null,null,null,null,null,null,null,null,null,null,null,null,null,null,null,"&allowhtml=false",{"$f":"\"pp://General Data/\"&K36&\"[taxonomy=\"&PP_TaxonomyId&\"]\"&CU36","v":"pp://General Data/Company site[taxonomy=ITGAAP]&allowhtml=false"}]
[{"$f":"\"\"&INDEX(PP_Locale,ROW(),PP_LanguageIndex)","v":"Capitale sociale"},null,null,null,null,"PP_ShareCapital",null,null,null,null,"Share capital",null,null,null,null,null,null,null,null,null,null,null,null,"Capitale sociale",null,null,null,null,null,null,null,null,null,null,null,null,null,null,null,null,null,null,null,null,null,null,null,null,null,null,null,null,null,null,null,null,null,null,null,null,null,null,null,null,null,null,null,null,null,null,null,{"$f":"IF(COUNTBLANK(B37),\"\",B37)","v":""},null,null,null,null,null,null,null,null,null,null,null,null,null,null,null,null,null,null,null,null,null,null,null,null,null,null,"&allowhtml=false",{"$f":"\"pp://General Data/\"&K37&\"[taxonomy=\"&PP_TaxonomyId&\"]\"&CU37","v":"pp://General Data/Share capital[taxonomy=ITGAAP]&allowhtml=false"}]
[{"$f":"\"\"&INDEX(PP_Locale,ROW(),PP_LanguageIndex)","v":"Capitale sociale interamente versato"},null,null,null,null,"PP_FullyPaidInShareCapital",null,null,null,null,"Fully paid-in share capital",null,null,null,null,null,null,null,null,null,null,null,null,"Capitale sociale interamente versato",null,null,null,null,null,null,null,null,null,null,null,null,null,null,null,null,null,null,null,null,null,null,null,null,null,null,null,null,null,null,null,null,null,null,null,null,null,null,null,null,null,null,null,null,null,null,null,{"$f":"IF(COUNTBLANK(B38),\"\",IF(B38,\"true\",\"false\"))","v":""},null,null,null,false,true,null,null,null,null,null,null,null,null,null,null,null,null,null,null,null,null,null,null,null,null,null,null,{"$f":"IF(COUNTBLANK($BT38),\"N/A\",\"pp://General Data/\"&K38&\"[taxonomy=\"&PP_TaxonomyId&\",transformation=fixed-\"&$BT38&\"]\"&CU38)","v":"N/A"}]
[{"$f":"\"\"&INDEX(PP_Locale,ROW(),PP_LanguageIndex)","v":"Codice CCIAA"},null,null,null,null,"PP_RegistrationAuthorityIdCode",null,null,null,null,"Registration authority ID code",null,null,null,null,null,null,null,null,null,null,null,null,"Codice CCIAA",null,null,null,null,null,null,null,null,null,null,null,null,null,null,null,null,null,null,null,null,null,null,null,null,null,null,null,null,null,null,null,null,null,null,null,null,null,null,null,null,null,null,null,null,null,null,null,"",null,null,null,null,null,null,null,null,null,null,null,null,null,null,null,null,null,null,null,null,null,null,null,null,null,null,"&allowhtml=false",{"$f":"\"pp://General Data/\"&K39&\"[taxonomy=\"&PP_TaxonomyId&\"]\"&CU39","v":"pp://General Data/Registration authority ID code[taxonomy=ITGAAP]&allowhtml=false"}]
[{"$f":"\"\"&INDEX(PP_Locale,ROW(),PP_LanguageIndex)","v":"Partita IVA"},{"$f":"IF(IFERROR(LEN(INDIRECT(\"'General Data ESEF'!PP_IdentificationOfReportingEntity\")),0)=8,INDIRECT(\"'General Data ESEF'!PP_IdentificationOfReportingEntity\"),\"12345678901\")","v":"12345678901"},null,null,null,"PP_VatNumber",{"$f":"IF(IFERROR(LEN(INDIRECT(\"'General Data ESEF'!PP_IdentificationOfReportingEntity\")),0)=8,INDIRECT(\"'General Data ESEF'!PP_IdentificationOfReportingEntity\"),\"12345678901\")","v":"12345678901"},null,null,null,"VAT number",null,null,null,null,null,null,null,null,null,null,null,null,"Partita IVA",null,null,null,null,null,null,null,null,null,null,null,null,null,null,null,null,null,null,null,null,null,null,null,null,null,null,null,null,null,null,null,null,null,null,null,null,null,null,null,null,null,null,null,null,null,null,null,"12345678901",null,null,null,null,null,null,null,null,null,null,null,null,null,null,null,null,null,null,null,null,null,null,null,null,null,null,"&allowhtml=false","pp://General Data/VAT number[taxonomy=ITGAAP]&allowhtml=false"]
[{"$f":"\"\"&INDEX(PP_Locale,ROW(),PP_LanguageIndex)","v":"Codice fiscale"},null,null,null,null,"PP_FiscalCode",null,null,null,null,"Fiscal code",null,null,null,null,null,null,null,null,null,null,null,null,"Codice fiscale",null,null,null,null,null,null,null,null,null,null,null,null,null,null,null,null,null,null,null,null,null,null,null,null,null,null,null,null,null,null,null,null,null,null,null,null,null,null,null,null,null,null,null,null,null,null,null,"",null,null,null,null,null,null,null,null,null,null,null,null,null,null,null,null,null,null,null,null,null,null,null,null,null,null,"&allowhtml=false","pp://General Data/Fiscal code[taxonomy=ITGAAP]&allowhtml=false"]
[{"$f":"\"\"&INDEX(PP_Locale,ROW(),PP_LanguageIndex)","v":"Numero REA"},null,null,null,null,"PP_RegistrationNumber",null,null,null,null,"Registration number",null,null,null,null,null,null,null,null,null,null,null,null,"Numero REA",null,null,null,null,null,null,null,null,null,null,null,null,null,null,null,null,null,null,null,null,null,null,null,null,null,null,null,null,null,null,null,null,null,null,null,null,null,null,null,null,null,null,null,null,null,null,null,{"$f":"\"\"&B42","v":""},null,null,null,null,null,null,null,null,null,null,null,null,null,null,null,null,null,null,null,null,null,null,null,null,null,null,"&allowhtml=false","pp://General Data/Registration number[taxonomy=ITGAAP]&allowhtml=false"]
[{"$f":"\"\"&INDEX(PP_Locale,ROW(),PP_LanguageIndex)","v":"Forma giuridica"},null,null,null,null,"PP_LegalForm",null,null,null,null,"Legal form",null,null,null,null,null,null,null,null,null,null,null,null,"Forma giuridica",null,null,null,null,null,null,null,null,null,null,null,null,null,null,null,null,null,null,null,null,null,null,null,null,null,null,null,null,null,null,null,null,null,null,null,null,null,null,null,null,null,null,null,null,null,null,null,{"$f":"\"\"&B43","v":""},null,null,null,null,null,null,null,null,null,null,null,null,null,null,null,null,null,null,null,null,null,null,null,null,null,null,"&allowhtml=false","pp://General Data/Legal form[taxonomy=ITGAAP]&allowhtml=false"]
[{"$f":"\"\"&INDEX(PP_Locale,ROW(),PP_LanguageIndex)","v":"Settore di attività prevalente (ATECO)"},null,null,null,null,"PP_ActivityCode",null,null,null,null,"Activity code",null,null,null,null,null,null,null,null,null,null,null,null,"Settore di attività prevalente (ATECO)",null,null,null,null,null,null,null,null,null,null,null,null,null,null,null,null,null,null,null,null,null,null,null,null,null,null,null,null,null,null,null,null,null,null,null,null,null,null,null,null,null,null,null,null,null,null,null,{"$f":"\"\"&B44","v":""},null,null,null,null,null,null,null,null,null,null,null,null,null,null,null,null,null,null,null,null,null,null,null,null,null,null,"&allowhtml=false","pp://General Data/Activity code[taxonomy=ITGAAP]&allowhtml=false"]
[{"$f":"\"\"&INDEX(PP_Locale,ROW(),PP_LanguageIndex)","v":"Società in liquidazione"},null,null,null,null,"PP_CompanyInLiquidation",null,null,null,null,"Company in liquidation",null,null,null,null,null,null,null,null,null,null,null,null,"Società in liquidazione",null,null,null,null,null,null,null,null,null,null,null,null,null,null,null,null,null,null,null,null,null,null,null,null,null,null,null,null,null,null,null,null,null,null,null,null,null,null,null,null,null,null,null,null,null,null,null,{"$f":"IF(COUNTBLANK(B45),\"\",IF(B45,\"true\",\"false\"))","v":""},null,null,null,false,true,null,null,null,null,null,null,null,null,null,null,null,null,null,null,null,null,null,null,null,null,null,null,{"$f":"IF(COUNTBLANK($BT45),\"N/A\",\"pp://General Data/\"&K45&\"[taxonomy=\"&PP_TaxonomyId&\",transformation=fixed-\"&$BT45&\"]\"&CU45)","v":"N/A"}]
[{"$f":"\"\"&INDEX(PP_Locale,ROW(),PP_LanguageIndex)","v":"Società con socio unico"},null,null,null,null,"PP_CompanyWithASingleShareholder",null,null,null,null,"Company with a single shareholder",null,null,null,null,null,null,null,null,null,null,null,null,"Società con socio unico",null,null,null,null,null,null,null,null,null,null,null,null,null,null,null,null,null,null,null,null,null,null,null,null,null,null,null,null,null,null,null,null,null,null,null,null,null,null,null,null,null,null,null,null,null,null,null,{"$f":"IF(COUNTBLANK(B46),\"\",IF(B46,\"true\",\"false\"))","v":""},null,null,null,false,true,null,null,null,null,null,null,null,null,null,null,null,null,null,null,null,null,null,null,null,null,null,null,{"$f":"IF(COUNTBLANK($BT46),\"N/A\",\"pp://General Data/\"&K46&\"[taxonomy=\"&PP_TaxonomyId&\",transformation=fixed-\"&$BT46&\"]\"&CU46)","v":"N/A"}]
[{"$f":"\"\"&INDEX(PP_Locale,ROW(),PP_LanguageIndex)","v":"Società sottoposta ad altrui attività di direzione e coordinamento"},null,null,null,null,"PP_CompanySubjectToTheManagementAndCoordinationByOthers",null,null,null,null,"Company subject to the management and coordination by others",null,null,null,null,null,null,null,null,null,null,null,null,"Società sottoposta ad altrui attività di direzione e coordinamento",null,null,null,null,null,null,null,null,null,null,null,null,null,null,null,null,null,null,null,null,null,null,null,null,null,null,null,null,null,null,null,null,null,null,null,null,null,null,null,null,null,null,null,null,null,null,null,{"$f":"IF(COUNTBLANK(B47),\"\",IF(B47,\"true\",\"false\"))","v":""},null,null,null,false,true,null,null,null,null,null,null,null,null,null,null,null,null,null,null,null,null,null,null,null,null,null,null,{"$f":"IF(COUNTBLANK($BT47),\"N/A\",\"pp://General Data/\"&K47&\"[taxonomy=\"&PP_TaxonomyId&\",transformation=fixed-\"&$BT47&\"]\"&CU47)","v":"N/A"}]
[{"$f":"\"\"&INDEX(PP_Locale,ROW(),PP_LanguageIndex)","v":"Denominazione della società o ente che esercita l'attività di direzione e coordinamento"},null,null,null,null,"PP_NameOfTheCompanyOrEntityThatEcercisesManagementAndCoordination",null,null,null,null,"Name of the company or entity that exercises management and coordination",null,null,null,null,null,null,null,null,null,null,null,null,"Denominazione della società o ente che esercita l'attività di direzione e coordinamento",null,null,null,null,null,null,null,null,null,null,null,null,null,null,null,null,null,null,null,null,null,null,null,null,null,null,null,null,null,null,null,null,null,null,null,null,null,null,null,null,null,null,null,null,null,null,null,{"$f":"\"\"&B48","v":""},null,null,null,null,null,null,null,null,null,null,null,null,null,null,null,null,null,null,null,null,null,null,null,null,null,null,"&allowhtml=false",{"$f":"\"pp://General Data/\"&K48&\"[taxonomy=\"&PP_TaxonomyId&\"]\"&CU48","v":"pp://General Data/Name of the company or entity that exercises management and coordination[taxonomy=ITGAAP]&allowhtml=false"}]
[{"$f":"\"\"&INDEX(PP_Locale,ROW(),PP_LanguageIndex)","v":"Appartenenza a un gruppo"},null,null,null,null,"PP_BelongingToAGroup",null,null,null,null,"Belonging to a group",null,null,null,null,null,null,null,null,null,null,null,null,"Appartenenza a un gruppo",null,null,null,null,null,null,null,null,null,null,null,null,null,null,null,null,null,null,null,null,null,null,null,null,null,null,null,null,null,null,null,null,null,null,null,null,null,null,null,null,null,null,null,null,null,null,null,{"$f":"IF(COUNTBLANK(B49),\"\",IF(B49,\"true\",\"false\"))","v":""},null,null,null,false,true,null,null,null,null,null,null,null,null,null,null,null,null,null,null,null,null,null,null,null,null,null,null,{"$f":"IF(COUNTBLANK($BT49),\"N/A\",\"pp://General Data/\"&K49&\"[taxonomy=\"&PP_TaxonomyId&\",transformation=fixed-\"&$BT49&\"]\"&CU49)","v":"N/A"}]
[{"$f":"\"\"&INDEX(PP_Locale,ROW(),PP_LanguageIndex)","v":"Denominazione della società capogruppo"},null,null,null,null,"PP_NameOfTheControllingEntity",null,null,null,null,"Name of the controlling entity",null,null,null,null,null,null,null,null,null,null,null,null,"Denominazione della società capogruppo",null,null,null,null,null,null,null,null,null,null,null,null,null,null,null,null,null,null,null,null,null,null,null,null,null,null,null,null,null,null,null,null,null,null,null,null,null,null,null,null,null,null,null,null,null,null,null,{"$f":"\"\"&B50","v":""},null,null,null,null,null,null,null,null,null,null,null,null,null,null,null,null,null,null,null,null,null,null,null,null,null,null,"&allowhtml=false",{"$f":"\"pp://General Data/\"&K50&\"[taxonomy=\"&PP_TaxonomyId&\"]\"&CU50","v":"pp://General Data/Name of the controlling entity[taxonomy=ITGAAP]&allowhtml=false"}]
[{"$f":"\"\"&INDEX(PP_Locale,ROW(),PP_LanguageIndex)","v":"Paese della capogruppo"},null,null,null,null,"PP_CountryOfTheControllingEntity",null,null,null,null,"Country of the controlling entity",null,null,null,null,null,null,null,null,null,null,null,null,"Paese della capogruppo",null,null,null,null,null,null,null,null,null,null,null,null,null,null,null,null,null,null,null,null,null,null,null,null,null,null,null,null,null,null,null,null,null,null,null,null,null,null,null,null,null,null,null,null,null,null,null,{"$f":"\"\"&B51","v":""},null,null,null,null,null,null,null,null,null,null,null,null,null,null,null,null,null,null,null,null,null,null,null,null,null,null,"&allowhtml=false",{"$f":"\"pp://General Data/\"&K51&\"[taxonomy=\"&PP_TaxonomyId&\"]\"&CU51","v":"pp://General Data/Country of the controlling entity[taxonomy=ITGAAP]&allowhtml=false"}]
[{"$f":"\"\"&INDEX(PP_Locale,ROW(),PP_LanguageIndex)","v":"Numero di iscrizione all'albo delle cooperative"},null,null,null,null,"PP_CooperativeCompanyRegistrationNumber",null,null,null,null,"Cooperative company registration number",null,null,null,null,null,null,null,null,null,null,null,null,"Numero di iscrizione all'albo delle cooperative",null,null,null,null,null,null,null,null,null,null,null,null,null,null,null,null,null,null,null,null,null,null,null,null,null,null,null,null,null,null,null,null,null,null,null,null,null,null,null,null,null,null,null,null,null,null,null,{"$f":"\"\"&B52","v":""},null,null,null,null,null,null,null,null,null,null,null,null,null,null,null,null,null,null,null,null,null,null,null,null,null,null,"&allowhtml=false",{"$f":"\"pp://General Data/\"&K52&\"[taxonomy=\"&PP_TaxonomyId&\"]\"&CU52","v":"pp://General Data/Cooperative company registration number[taxonomy=ITGAAP]&allowhtml=false"}]
[]
[{"$f":"\"\"&INDEX(PP_Locale,ROW(),PP_LanguageIndex)","v":"Informazioni tecniche:"},null,null,null,null,null,null,null,null,null,"Technical information:",null,null,null,null,null,null,null,null,null,null,null,null,"Informazioni tecniche:"]
[{"$f":"\"\"&INDEX(PP_Locale,ROW(),PP_LanguageIndex)","v":"Tassonomia"},"IT GAAP",null,null,null,"PP_Taxonomy","IT GAAP",null,null,null,"Taxonomy",null,null,null,null,null,null,null,null,null,null,null,null,"Tassonomia",null,null,null,null,null,null,null,null,null,null,null,null,null,null,null,null,null,null,null,null,null,null,null,null,null,null,null,null,null,null,null,null,null,null,null,null,null,null,null,null,null,null,null,null,null,null,null,null,null,null,null,"IT GAAP","IT GAAP 2018"]
[{"$f":"\"\"&INDEX(PP_Locale,ROW(),PP_LanguageIndex)","v":"ID tassonomia"},"ITGAAP",null,null,null,"PP_TaxonomyId","ITGAAP",null,null,null,"Taxonomy ID",null,null,null,null,null,null,null,null,null,null,null,null,"ID tassonomia"]
[{"$f":"\"\"&INDEX(PP_Locale,ROW(),PP_LanguageIndex)","v":"Punto d'entrata"},"Bilancio Micro-imprese",null,null,null,"PP_TaxonomyEntrypoint","Bilancio Micro-imprese",null,null,null,"Taxonomy entrypoint",null,null,null,null,null,null,null,null,null,null,null,null,"Punto d'entrata",null,null,null,null,null,null,null,null,null,null,null,null,null,null,null,null,null,null,null,null,null,null,null,null,null,null,null,null,null,null,null,null,null,null,null,null,null,null,null,null,null,null,null,null,null,null,null,null,null,null,null,"Bilancio Abbreviato","Bilancio Consolidato","Bilancio d'Esercizio","Bilancio Micro-imprese"]
[{"$f":"\"\"&INDEX(PP_Locale,ROW(),PP_LanguageIndex)","v":"Schema identificativo"},"http://www.infocamere.it",null,null,null,"PP_IdentifierScheme","http://www.infocamere.it",null,null,null,"Identifier scheme",null,null,null,null,null,null,null,null,null,null,null,null,"Schema identificativo",null,null,null,null,null,null,null,null,null,null,null,null,null,null,null,null,null,null,null,null,null,null,null,null,null,null,null,null,null,null,null,null,null,null,null,null,null,null,null,null,null,null,null,null,null,null,null,{"$f":"\"\"&B58","v":"http://www.infocamere.it"}]
[]
[null,null,null,null,null,null,null,null,null,null,"UNKNOWN"]
[null,null,null,null,null,null,null,null,null,null,"Group",null,null,null,null,null,null,null,null,null,null,null,null,"Gruppo"]
[null,null,null,null,null,null,null,null,null,null,"Parent",null,null,null,null,null,null,null,null,null,null,null,null,"Società capogruppo"]
[null,null,null,null,null,null,null,null,null,null,"Test customer",null,null,null,null,null,null,null,null,null,null,null,null,"Cliente di prova"]
[null,null,null,null,null,null,null,null,null,null,"Period",null,null,null,null,null,null,null,null,null,null,null,null,"Periodo"]

{"sheet":"General data UKFRC","index":4,"n_rows":301,"n_cols":100,"rows_kept":301,"cut":false,"hidden":false,"merged":[[272,1,272,4],[275,1,275,4],[276,1,276,4],[277,1,277,4],[278,1,278,4],[266,1,266,4],[267,1,267,4],[268,1,268,4],[269,1,269,4],[270,1,270,4],[271,1,271,4],[258,1,258,4],[259,1,259,4],[260,1,260,4],[263,1,263,4],[264,1,264,4],[265,1,265,4],[252,1,252,4],[253,1,253,4],[254,1,254,4],[255,1,255,4],[256,1,256,4],[257,1,257,4],[242,1,242,4],[243,1,243,4],[244,1,244,4],[245,1,245,4],[248,1,248,4],[249,1,249,4],[235,1,235,4],[236,1,236,4],[237,1,237,4],[239,1,239,4],[240,1,240,4],[241,1,241,4],[227,1,227,4],[228,1,228,4],[231,1,231,4],[232,1,232,4],[233,1,233,4],[234,1,234,4],[219,1,219,4],[220,1,220,4],[223,1,223,4],[224,1,224,4],[225,1,225,4],[226,1,226,4],[213,1,213,4],[214,1,214,4],[215,1,215,4],[216,1,216,4],[217,1,217,4],[218,1,218,4],[207,1,207,4],[208,1,208,4],[209,1,209,4],[210,1,210,4],[211,1,211,4],[212,1,212,4],[199,1,199,4],[200,1,200,4],[201,1,201,4],[202,1,202,4],[203,1,203,4],[206,1,206,4],[193,1,193,4],[194,1,194,4],[195,1,195,4],[196,1,196,4],[197,1,197,4],[198,1,198,4],[185,1,185,4],[186,1,186,4],[189,1,189,4],[190,1,190,4],[191,1,191,4],[192,1,192,4],[175,1,175,4],[176,1,176,4],[179,1,179,4],[180,1,180,4],[181,1,181,4],[182,1,182,4],[165,1,165,4],[168,1,168,4],[169,1,169,4],[170,1,170,4],[171,1,171,4],[172,1,172,4],[159,1,159,4],[160,1,160,4],[161,1,161,4],[162,1,162,4],[163,1,163,4],[164,1,164,4],[153,1,153,4],[154,1,154,4],[155,1,155,4],[156,1,156,4],[157,1,157,4],[158,1,158,4],[147,1,147,4],[148,1,148,4],[149,1,149,4],[150,1,150,4],[151,1,151,4],[152,1,152,4],[141,1,141,4],[142,1,142,4],[143,1,143,4],[144,1,144,4],[145,1,145,4],[146,1,146,4],[135,1,135,4],[136,1,136,4],[137,1,137,4],[138,1,138,4],[139,1,139,4],[140,1,140,4],[129,1,129,4],[130,1,130,4],[131,1,131,4],[132,1,132,4],[133,1,133,4],[134,1,134,4],[123,1,123,4],[124,1,124,4],[125,1,125,4],[126,1,126,4],[127,1,127,4],[128,1,128,4],[117,1,117,4],[118,1,118,4],[119,1,119,4],[120,1,120,4],[121,1,121,4],[122,1,122,4],[111,1,111,4],[112,1,112,4],[113,1,113,4],[114,1,114,4],[115,1,115,4],[116,1,116,4],[103,1,103,4],[106,1,106,4],[107,1,107,4],[108,1,108,4],[109,1,109,4],[110,1,110,4],[97,1,97,4],[98,1,98,4],[99,1,99,4],[100,1,100,4],[101,1,101,4],[102,1,102,4],[91,1,91,4],[92,1,92,4],[93,1,93,4],[94,1,94,4],[95,1,95,4],[96,1,96,4],[85,1,85,4],[86,1,86,4],[87,1,87,4],[88,1,88,4],[89,1,89,4],[90,1,90,4],[77,1,77,4],[80,1,80,4],[81,1,81,4],[82,1,82,4],[83,1,83,4],[84,1,84,4],[68,1,68,4],[69,1,69,4],[70,1,70,4],[71,1,71,4],[72,1,72,4],[76,1,76,4],[62,1,62,4],[63,1,63,4],[64,1,64,4],[65,1,65,4],[66,1,66,4],[67,1,67,4],[56,1,56,4],[57,1,57,4],[58,1,58,4],[59,1,59,4],[60,1,60,4],[61,1,61,4],[50,1,50,4],[51,1,51,4],[52,1,52,4],[53,1,53,4],[54,1,54,4],[55,1,55,4],[44,1,44,4],[45,1,45,4],[46,1,46,4],[47,1,47,4],[48,1,48,4],[49,1,49,4],[34,1,34,4],[35,1,35,4],[36,1,36,4],[39,1,39,4],[42,1,42,4],[43,1,43,4],[28,1,28,4],[29,1,29,4],[30,1,30,4],[31,1,31,4],[32,1,32,4],[33,1,33,4],[22,1,22,4],[23,1,23,4],[24,1,24,4],[25,1,25,4],[26,1,26,4],[27,1,27,4],[16,1,16,4],[18,1,18,2],[18,3,18,4],[19,1,19,4],[20,1,20,4],[21,1,21,4],[10,1,10,4],[11,1,11,4],[12,1,12,4],[13,1,13,4],[14,1,14,4],[15,1,15,4],[2,1,2,4],[3,1,3,4],[4,1,4,4],[6,1,6,2],[6,3,6,4],[9,1,9,4]]}
[null,null,null,null,null,"Range name","Defaults x4 columns",{"$f":"ISERROR(INDIRECT(\"'General Data ESEF'!PP_Language\"))","v":false},{"$f":"IFERROR(MATCH(PP_Language,PP_Languages,0),1)","v":1},{"$f":"IF(ISBLANK(INDEX(PP_Locale,2,I1)),1,I1)","v":1},"EN","BG","CS","DA","DE","EL","ES","ET","FI","FR","HR","HU","IS","IT","LT","LV","MT","NL","NO","PL","PT","RO","SK","SL","SV",{"$f":"IFERROR(MATCH(PP_CountryCode,PP_Countries,0),1)","v":1},"EU","AT","BE","BG","CH","CY","CZ","DE","DK","EE","EL","ES","FI","FR","GG","GR","HR","HU","IE","IS","IT","LI","LT","LU","LV","MT","NL","NO","PL","PT","RO","SE","SI","SK","UK","Adjusted values x4 columns",null,null,null,"Validation lists"]
[{"$f":"\"\"&INDEX(PP_Locale,ROW(),PP_LanguageIndex)&\" 1.0.0.0\"","v":"ParsePort UKFRC general data, version 1.0.0.0"},null,null,null,null,null,null,null,null,null,"ParsePort UKFRC general data, version",null,null,"ParsePort UKFRC stamdata, version",null,null,null,null,null,null,null,null,null,null,null,null,null,null,null,null,null,null,null,null,null,null,null,null,null,null,null,null,null,null,null,null,null,null,null,null,null,null,null,null,null,null,null,null,null,null,null,null,null,null,null,null,null,null,null,null,null,null,null,null,null,null,null,null,null,null,null,null,null,null,null,null,null,null,null,null,null,null,null,null,null,null,null,null,"Hypertag properties","Hypertag:"]
[null,{"$f":"\"\"&INDEX($K3:$N3,PP_LanguageIndex)","v":"MANDATORY FIELD"},null,null,null,null,null,null,null,null,"MANDATORY FIELD",null,null,"OBLIGATORISK FELT"]
[null,{"$f":"\"\"&INDEX($K4:$N4,PP_LanguageIndex)","v":"AUTOMATIC FIELD (can be overruled)"},null,null,null,null,null,null,null,null,"AUTOMATIC FIELD (can be overruled)",null,null,"AUTOMATISK FELT (kan overstyres)"]
[null,{"$f":"\"\"&INDEX($K5:$N5,PP_LanguageIndex)","v":"FILL OUT IF INFORMATION IS PRESENT IN REPORT"},null,null,null,null,null,null,null,null,"FILL OUT IF INFORMATION IS PRESENT IN REPORT",null,null,"UDFYLDES HVIS INFORMATIONEN FINDES I RAPPORTEN"]
[]
[null,{"$f":"IF(PP_Consolidated,IFERROR(VLOOKUP(\"Group\",PP_Locale,PP_LanguageIndex,FALSE),\"Group\"),\"\")","v":"Group"},null,{"$f":"IF(PP_Consolidated,IFERROR(VLOOKUP(\"Parent\",PP_Locale,PP_LanguageIndex,FALSE),\"Parent\"),\"\")","v":"Parent"},null,null,{"$f":"IF(PP_Consolidated,IFERROR(VLOOKUP(\"Group\",PP_Locale,PP_LanguageIndex,FALSE),\"Group\"),\"\")","v":"Group"},{"$f":"IF(PP_Consolidated,IFERROR(VLOOKUP(\"Group\",PP_Locale,PP_LanguageIndex,FALSE),\"Group\"),\"\")","v":"Group"},{"$f":"IF(PP_Consolidated,IFERROR(VLOOKUP(\"Parent\",PP_Locale,PP_LanguageIndex,FALSE),\"Parent\"),\"\")","v":"Parent"},{"$f":"IF(PP_Consolidated,IFERROR(VLOOKUP(\"Parent\",PP_Locale,PP_LanguageIndex,FALSE),\"Parent\"),\"\")","v":"Parent"},null,null,null,null,null,null,null,null,null,null,null,null,null,null,null,null,null,null,null,null,null,null,null,null,null,null,null,null,null,null,null,null,null,null,null,null,null,null,null,null,null,null,null,null,null,null,null,null,null,null,null,null,null,null,null,null,null,null,null,null,null,{"$f":"IF(PP_Consolidated,\"Group\",\"\")","v":"Group"},{"$f":"IF(PP_Consolidated,\"Group\",\"\")","v":"Group"},{"$f":"IF(PP_Consolidated,\"Parent\",\"\")","v":"Parent"},{"$f":"IF(PP_Consolidated,\"Parent\",\"\")","v":"Parent"}]
[null,{"$f":"IFERROR(VLOOKUP(\"Period\",PP_Locale,PP_LanguageIndex,FALSE),\"Period\")&\" 1\"","v":"Period 1"},{"$f":"IFERROR(VLOOKUP(\"Period\",PP_Locale,PP_LanguageIndex,FALSE),\"Period\")&\" 2\"","v":"Period 2"},{"$f":"IF(PP_Consolidated,IFERROR(VLOOKUP(\"Period\",PP_Locale,PP_LanguageIndex,FALSE),\"Period\")&\" 1\",\"\")","v":"Period 1"},{"$f":"IF(PP_Consolidated,IFERROR(VLOOKUP(\"Period\",PP_Locale,PP_LanguageIndex,FALSE),\"Period\")&\" 2\",\"\")","v":"Period 2"},null,{"$f":"IFERROR(VLOOKUP(\"Period\",PP_Locale,PP_LanguageIndex,FALSE),\"Period\")&\" 1\"","v":"Period 1"},{"$f":"IFERROR(VLOOKUP(\"Period\",PP_Locale,PP_LanguageIndex,FALSE),\"Period\")&\" 2\"","v":"Period 2"},{"$f":"IF(PP_Consolidated,IFERROR(VLOOKUP(\"Period\",PP_Locale,PP_LanguageIndex,FALSE),\"Period\")&\" 1\",\"\")","v":"Period 1"},{"$f":"IF(PP_Consolidated,IFERROR(VLOOKUP(\"Period\",PP_Locale,PP_LanguageIndex,FALSE),\"Period\")&\" 2\",\"\")","v":"Period 2"},null,null,null,null,null,null,null,null,null,null,null,null,null,null,null,null,null,null,null,null,null,null,null,null,null,null,null,null,null,null,null,null,null,null,null,null,null,null,null,null,null,null,null,null,null,null,null,null,null,null,null,null,null,null,null,null,null,null,null,null,null,"Period 1","Period 2",{"$f":"IF(PP_Consolidated,\"Period 1\",\"\")","v":"Period 1"},{"$f":"IF(PP_Consolidated,\"Period 2\",\"\")","v":"Period 2"}]
[{"$f":"\"\"&INDEX(PP_Locale,ROW(),PP_LanguageIndex)","v":"General:"},null,null,null,null,null,null,null,null,null,"General:",null,null,"Generelt:",null,null,null,null,null,null,null,null,null,null,null,null,null,null,null,null,null,null,null,null,null,null,null,null,null,null,null,null,null,null,null,null,null,null,null,null,null,null,null,null,null,null,null,null,null,null,null,null,null,null,null,null,null,null,null,null,null,null,null,null,null,{"$f":"\"/General data \"&PP_TaxonomyId&\"(headers=\"&CELL(\"address\",$BT$7)&\":\"&CELL(\"address\",$BW$8)&\"[language=en],labels=\"&SUBSTITUTE(CELL(\"address\",K9)&\":\"&CELL(\"address\",K280),\"$\",\"\")&\"[language=en],values=\"&SUBSTITUTE(CELL(\"address\",BT9)&\":\"&CELL(\"address\",BW280),\"$\",\"\")&\"[language=\"&LOWER(PP_Language)&\"])\"","v":"/General data UKFRC(headers=$BT$7:$BW$8[language=en],labels=K9:K280[language=en],values=BT9:BW280[language=en])"}]
[{"$f":"\"\"&INDEX(PP_Locale,ROW(),PP_LanguageIndex)","v":"Report language code"},{"$f":"IFERROR(INDIRECT(\"'General Data ESEF'!PP_Language\"),\"DA\")","v":"EN"},null,null,null,"PP_Language",{"$f":"IFERROR(INDIRECT(\"'General Data ESEF'!PP_Language\"),\"DA\")","v":"EN"},null,null,null,"Report language code",null,null,"Rapport sprogkode","Bericht Sprachcode",null,"Código de lenguaje",null,null,"Code de langue",null,null,null,"Codice lingua",null,null,null,null,null,"Kod języka"]
[{"$f":"\"\"&INDEX(PP_Locale,ROW(),PP_LanguageIndex)","v":"Label language code"},{"$f":"PP_Language","v":"EN"},{"$f":"PP_Language","v":"EN"},{"$f":"PP_Language","v":"EN"},{"$f":"PP_Language","v":"EN"},"PP_LabelLanguage",{"$f":"PP_Language","v":"EN"},null,null,null,"Label language code",null,null,"Label sprogkode","Tag-Sprachcode",null,"Código de lenguaje de la etiqueta",null,null,"Code de langue de l'étiquette",null,null,null,"Codice lingua etichetta",null,null,null,null,null,"Kod języka etykiety"]
[{"$f":"\"\"&INDEX(PP_Locale,ROW(),PP_LanguageIndex)","v":"Currency code"},{"$f":"IFERROR(INDIRECT(\"'General Data ESEF'!PP_Currency\"),\"DKK\")","v":"EUR"},null,null,null,"PP_Currency",{"$f":"IFERROR(INDIRECT(\"'General Data ESEF'!PP_Currency\"),\"DKK\")","v":"EUR"},null,null,null,"Currency code",null,null,"Valutakode","Währungscode",null,"Código de moneda",null,null,"Code devise",null,null,null,"Codice valuta",null,null,null,null,null,"Kod waluty",null,null,null,null,null,null,null,null,null,null,null,null,null,null,null,null,null,null,null,null,null,null,null,null,null,null,null,null,null,null,null,null,null,null,null,null,null,null,null,null,null,{"$f":"\"\"&UPPER(B12)","v":"EUR"}]
[{"$f":"\"\"&INDEX(PP_Locale,ROW(),PP_LanguageIndex)","v":"Scale"},{"$f":"IFERROR(INDIRECT(\"'General Data ESEF'!PP_MonetaryScaling\"),0)","v":6},null,null,null,"PP_MonetaryScaling",{"$f":"IFERROR(INDIRECT(\"'General Data ESEF'!PP_MonetaryScaling\"),0)","v":6},null,null,null,"Scale",null,null,"Skalering","Skalierung",null,"Redondeo",null,null,"Mise à l'échelle",null,null,null,"Ridimensionamento",null,null,null,null,null,"Skalowanie",null,null,null,null,null,null,null,null,null,null,null,null,null,null,null,null,null,null,null,null,null,null,null,null,null,null,null,null,null,null,null,null,null,null,null,null,null,null,null,null,null,null,null,null,null,0,3,6,9]
[{"$f":"\"\"&INDEX(PP_Locale,ROW(),PP_LanguageIndex)","v":"Consolidated"},{"$f":"IFERROR(INDIRECT(\"'General Data ESEF'!PP_Consolidated\"),FALSE)","v":true},null,null,null,"PP_Consolidated",{"$f":"IFERROR(INDIRECT(\"'General Data ESEF'!PP_Consolidated\"),FALSE)","v":true},null,null,null,"Consolidated",null,null,"Koncern",null,null,null,null,null,null,null,null,null,null,null,null,null,null,null,null,null,null,null,null,null,null,null,null,null,null,null,null,null,null,null,null,null,null,null,null,null,null,null,null,null,null,null,null,null,null,null,null,null,null,null,null,null,null,null,null,null,null,null,null,null,false,true]
[{"$f":"\"\"&INDEX(PP_Locale,ROW(),PP_LanguageIndex)","v":"Report type"},{"$f":"IF(OR(EDATE(PP_Period1StartDate,3)-1=PP_Period1EndDate,EDATE(PP_Period1StartDate,9)-1=PP_Period1EndDate),LOOKUP(PP_Language,{\"DA\";\"EN\"},{\"Delårsrapport\";\"Interim report (other than 6 months)\"}),IF(EDATE(PP_Period1StartDate,6)-1=PP_Period1EndDate,LOOKUP(PP_Language,{\"DA\";\"EN\"},{\"Halvårsrapport\";\"Interim report (6 months)\"}),LOOKUP(PP_Language,{\"DA\";\"EN\"},{\"Årsrapport\";\"Annual report\"})))","v":"Annual report"},null,null,null,"PP_InformationOnTypeOfSubmittedReport",{"$f":"IF(OR(EDATE(PP_Period1StartDate,3)-1=PP_Period1EndDate,EDATE(PP_Period1StartDate,9)-1=PP_Period1EndDate),LOOKUP(PP_Language,{\"DA\";\"EN\"},{\"Delårsrapport\";\"Interim report (other than 6 months)\"}),IF(EDATE(PP_Period1StartDate,6)-1=PP_Period1EndDate,LOOKUP(PP_Language,{\"DA\";\"EN\"},{\"Halvårsrapport\";\"Interim report (6 months)\"}),LOOKUP(PP_Language,{\"DA\";\"EN\"},{\"Årsrapport\";\"Annual report\"})))","v":"Annual report"},null,null,null,"Report type",null,null,"Rapporttype",null,null,null,null,null,null,null,null,null,null,null,null,null,null,null,null,null,null,null,null,null,null,null,null,null,null,null,null,null,null,null,null,null,null,null,null,null,null,null,null,null,null,null,null,null,null,null,null,null,null,null,null,null,null,null,null,null,{"$f":"\"\"&B15","v":"Annual report"},null,null,null,{"$f":"\"\"&LOOKUP(PP_Language,{\"DA\";\"EN\"},{\"Årsrapport\";\"Annual report\"})","v":"Annual report"},{"$f":"\"\"&LOOKUP(PP_Language,{\"DA\";\"EN\"},{\"Likvidationsregnskab\";\"Liquidation accounts\"})","v":"Liquidation accounts"},{"$f":"\"\"&LOOKUP(PP_Language,{\"DA\";\"EN\"},{\"Halvårsrapport\";\"Interim report (6 months)\"})","v":"Interim report (6 months)"},{"$f":"\"\"&LOOKUP(PP_Language,{\"DA\";\"EN\"},{\"Delårsrapport\";\"Interim report (other than 6 months)\"})","v":"Interim report (other than 6 months)"},{"$f":"\"\"&LOOKUP(PP_Language,{\"DA\";\"EN\"},{\"Erklæring om undtagelse fra aflæggelse årsrapport\";\"Erklæring om undtagelse fra aflæggelse årsrapport\"})","v":"Erklæring om undtagelse fra aflæggelse årsrapport"},{"$f":"\"\"&LOOKUP(PP_Language,{\"DA\";\"EN\"},{\"Erklæring vedr. omsætningsgrænse [Lukkelov]\";\"Erklæring vedr. omsætningsgrænse [Lukkelov]\"})","v":"Erklæring vedr. omsætningsgrænse [Lukkelov]"}]
[{"$f":"\"\"&INDEX(PP_Locale,ROW(),PP_LanguageIndex)","v":"Type of auditor assistance"},{"$f":"IF(PP_InformationOnTypeOfSubmittedReport=LOOKUP(PP_Language,{\"DA\";\"EN\"},{\"Årsrapport\";\"Annual report\"}),LOOKUP(PP_Language,{\"DA\";\"EN\"},{\"Revisionspåtegning\";\"Auditor's report on audited financial statements\"}),LOOKUP(PP_Language,{\"DA\";\"EN\"},{\"Ingen bistand\";\"No audit assistance\"}))","v":"Auditor's report on audited financial statements"},null,null,null,"PP_TypeOfAuditorAssistance",{"$f":"IF(PP_InformationOnTypeOfSubmittedReport=LOOKUP(PP_Language,{\"DA\";\"EN\"},{\"Årsrapport\";\"Annual report\"}),LOOKUP(PP_Language,{\"DA\";\"EN\"},{\"Revisionspåtegning\";\"Auditor's report on audited financial statements\"}),LOOKUP(PP_Language,{\"DA\";\"EN\"},{\"Ingen bistand\";\"No audit assistance\"}))","v":"Auditor's report on audited financial statements"},null,null,null,"Type of auditor assistance",null,null,"Type af revisorbistand",null,null,null,null,null,null,null,null,null,null,null,null,null,null,null,null,null,null,null,null,null,null,null,null,null,null,null,null,null,null,null,null,null,null,null,null,null,null,null,null,null,null,null,null,null,null,null,null,null,null,null,null,null,null,null,null,null,{"$f":"\"\"&B16","v":"Auditor's report on audited financial statements"},null,null,null,{"$f":"\"\"&LOOKUP(PP_Language,{\"DA\";\"EN\"},{\"Revisionspåtegning\";\"Auditor's report on audited financial statements\"})","v":"Auditor's report on audited financial statements"},{"$f":"\"\"&LOOKUP(PP_Language,{\"DA\";\"EN\"},{\"Erklæring om udvidet gennemgang\";\"Auditor's report on extended review\"})","v":"Auditor's report on extended review"},{"$f":"\"\"&LOOKUP(PP_Language,{\"DA\";\"EN\"},{\"Den uafhængige revisors erklæringer (review)\";\"The independent auditor's reports (Review)\"})","v":"The independent auditor's reports (Review)"},{"$f":"\"\"&LOOKUP(PP_Language,{\"DA\";\"EN\"},{\"Andre erklæringer med sikkerhed\";\"The independent auditor's reports (Other assurance Reports)\"})","v":"The independent auditor's reports (Other assurance Reports)"},{"$f":"\"\"&LOOKUP(PP_Language,{\"DA\";\"EN\"},{\"Andre erklæringer uden sikkerhed\";\"Auditor's reports (Other non-assurance reports)\"})","v":"Auditor's reports (Other non-assurance reports)"},{"$f":"\"\"&LOOKUP(PP_Language,{\"DA\";\"EN\"},{\"Ingen bistand\";\"No audit assistance\"})","v":"No audit assistance"}]
[{"$f":"\"\"&INDEX(PP_Locale,ROW(),PP_LanguageIndex)","v":"Tool for preparing the XBRL-instance document"},"ParsePort XBRL Converter",{"$f":"\"\"&LOOKUP(PP_Language,{\"DA\";\"EN\"},{\"Balance (kontoform) / resultatopgørelse (artsopdelt)\";\"Balance sheet (account form) / income statement (by nature)\"})","v":"Balance sheet (account form) / income statement (by nature)"},{"$f":"\"\"&LOOKUP(PP_Language,{\"DA\";\"EN\"},{\"Balance (kontoform) / resultatopgørelse (artsopdelt)\";\"Balance sheet (account form) / income statement (by nature)\"})","v":"Balance sheet (account form) / income statement (by nature)"},{"$f":"\"\"&LOOKUP(PP_Language,{\"DA\";\"EN\"},{\"Balance (kontoform) / resultatopgørelse (artsopdelt)\";\"Balance sheet (account form) / income statement (by nature)\"})","v":"Balance sheet (account form) / income statement (by nature)"},"PP_ToolForPreparingTheXBRLInstanceDocument","ParsePort XBRL Converter",null,null,null,"Tool for preparing the XBRL-instance document",null,null,"Systemværktøj til udarbejdelse af XBRL-instansen",null,null,null,null,null,null,null,null,null,null,null,null,null,null,null,null,null,null,null,null,null,null,null,null,null,null,null,null,null,null,null,null,null,null,null,null,null,null,null,null,null,null,null,null,null,null,null,null,null,null,null,null,null,null,null,null,null,{"$f":"\"\"&B17","v":"ParsePort XBRL Converter"}]
[]
[{"$f":"\"\"&INDEX(PP_Locale,ROW(),PP_LanguageIndex)","v":"Dates:"},null,null,null,null,null,null,null,null,null,"Dates:",null,null,"Datoer:"]
[{"$f":"\"\"&INDEX(PP_Locale,ROW(),PP_LanguageIndex)","v":"Start date of reporting period 1"},{"$f":"DATE(YEAR(TODAY())-1,1,1)","v":"2025-01-01"},null,null,null,"PP_Period1StartDate",{"$f":"DATE(YEAR(TODAY())-1,1,1)","v":45658},null,null,null,"Start date of reporting period 1",null,null,"Startdato for periode 1","Startdatum des Berichtszeitraums 1",null,"Fecha de inicio del período del informe 1",null,null,"Date de début de la période de reporting 1",null,null,null,"Data di inizio del periodo di riferimento 1",null,null,null,null,null,"Data rozpoczęcia okresu sprawozdawczego 1",null,null,null,null,null,null,null,null,null,null,null,null,null,null,null,null,null,null,null,null,null,null,null,null,null,null,null,null,null,null,null,null,null,null,null,null,null,null,null,null,null,{"$f":"IF(COUNTBLANK(B20),\"\",TEXT(YEAR(B20),\"0000\")&\"-\"&TEXT(MONTH(B20),\"00\")&\"-\"&TEXT(DAY(B20),\"00\"))","v":"2025-01-01"}]
[{"$f":"\"\"&INDEX(PP_Locale,ROW(),PP_LanguageIndex)","v":"End date of reporting period 1"},{"$f":"DATE(YEAR(TODAY())-1,12,31)","v":"2025-12-31"},null,null,null,"PP_Period1EndDate",{"$f":"DATE(YEAR(TODAY())-1,12,31)","v":46022},null,null,null,"End date of reporting period 1",null,null,"Slutdato for periode 1","Enddatum des Berichtszeitraums 1",null,"Fecha final del período del informe 1",null,null,"Date de fin de la période de reporting 1",null,null,null,"Data di fine del periodo di riferimento 1",null,null,null,null,null,"Data zakończenia okresu sprawozdawczego 1",null,null,null,null,null,null,null,null,null,null,null,null,null,null,null,null,null,null,null,null,null,null,null,null,null,null,null,null,null,null,null,null,null,null,null,null,null,null,null,null,null,"2025-12-31"]
[{"$f":"\"\"&INDEX(PP_Locale,ROW(),PP_LanguageIndex)","v":"Start date of reporting period 2"},{"$f":"EDATE(PP_Period1StartDate,-1*12)","v":"2024-01-01"},null,null,null,"PP_Period2StartDate",{"$f":"EDATE(PP_Period1StartDate,-1*12)","v":45292},null,null,null,"Start date of reporting period 2",null,null,"Startdato for periode 2","Startdatum des Berichtszeitraums 2",null,"Fecha de inicio del período del informe 2",null,null,"Date de début de la période de reporting 2",null,null,null,"Data di inizio del periodo di riferimento 2",null,null,null,null,null,"Data rozpoczęcia okresu sprawozdawczego 2",null,null,null,null,null,null,null,null,null,null,null,null,null,null,null,null,null,null,null,null,null,null,null,null,null,null,null,null,null,null,null,null,null,null,null,null,null,null,null,null,null,"2024-01-01"]
[{"$f":"\"\"&INDEX(PP_Locale,ROW(),PP_LanguageIndex)","v":"End date of reporting period 2"},{"$f":"EDATE(PP_Period1EndDate,-1*12)","v":"2024-12-31"},null,null,null,"PP_Period2EndDate",{"$f":"EDATE(PP_Period1EndDate,-1*12)","v":45657},null,null,null,"End date of reporting period 2",null,null,"Slutdato for periode 2","Enddatum des Berichtszeitraums 2",null,"Fecha final del período del informe 2",null,null,"Date de fin de la période de reporting 2",null,null,null,"Data di fine del periodo di riferimento 2",null,null,null,null,null,"Data zakończenia okresu sprawozdawczego 2",null,null,null,null,null,null,null,null,null,null,null,null,null,null,null,null,null,null,null,null,null,null,null,null,null,null,null,null,null,null,null,null,null,null,null,null,null,null,null,null,null,"2024-12-31"]
[{"$f":"\"\"&INDEX(PP_Locale,ROW(),PP_LanguageIndex)","v":"Start date of reporting period 3"},{"$f":"EDATE(PP_Period1StartDate,-2*12)","v":"2023-01-01"},null,null,null,"PP_Period3StartDate",{"$f":"EDATE(PP_Period1StartDate,-2*12)","v":44927},null,null,null,"Start date of reporting period 3",null,null,"Startdato for periode 3","Startdatum des Berichtszeitraums 3",null,"Fecha de inicio del período del informe 3",null,null,"Date de début de la période de reporting 3",null,null,null,"Data di inizio del periodo di riferimento 3",null,null,null,null,null,"Data rozpoczęcia okresu sprawozdawczego 3",null,null,null,null,null,null,null,null,null,null,null,null,null,null,null,null,null,null,null,null,null,null,null,null,null,null,null,null,null,null,null,null,null,null,null,null,null,null,null,null,null,"2023-01-01"]
[{"$f":"\"\"&INDEX(PP_Locale,ROW(),PP_LanguageIndex)","v":"End date of reporting period 3"},{"$f":"EDATE(PP_Period1EndDate,-2*12)","v":"2023-12-31"},null,null,null,"PP_Period3EndDate",{"$f":"EDATE(PP_Period1EndDate,-2*12)","v":45291},null,null,null,"End date of reporting period 3",null,null,"Slutdato for periode 3","Enddatum des Berichtszeitraums 3",null,"Fecha final del período del informe 3",null,null,"Date de fin de la période de reporting 3",null,null,null,"Data di fine del periodo di riferimento 3",null,null,null,null,null,"Data zakończenia okresu sprawozdawczego 3",null,null,null,null,null,null,null,null,null,null,null,null,null,null,null,null,null,null,null,null,null,null,null,null,null,null,null,null,null,null,null,null,null,null,null,null,null,null,null,null,null,"2023-12-31"]
[{"$f":"\"\"&INDEX(PP_Locale,ROW(),PP_LanguageIndex)","v":"Start date of reporting period 4"},{"$f":"EDATE(PP_Period1StartDate,-3*12)","v":"2022-01-01"},null,null,null,"PP_Period4StartDate",{"$f":"EDATE(PP_Period1StartDate,-3*12)","v":44562},null,null,null,"Start date of reporting period 4",null,null,"Startdato for periode 4","Startdatum des Berichtszeitraums 4",null,"Fecha de inicio del período del informe 4",null,null,"Date de début de la période de reporting 4",null,null,null,"Data di inizio del periodo di riferimento 4",null,null,null,null,null,"Data rozpoczęcia okresu sprawozdawczego 4",null,null,null,null,null,null,null,null,null,null,null,null,null,null,null,null,null,null,null,null,null,null,null,null,null,null,null,null,null,null,null,null,null,null,null,null,null,null,null,null,null,"2022-01-01"]
[{"$f":"\"\"&INDEX(PP_Locale,ROW(),PP_LanguageIndex)","v":"End date of reporting period 4"},{"$f":"EDATE(PP_Period1EndDate,-3*12)","v":"2022-12-31"},null,null,null,"PP_Period4EndDate",{"$f":"EDATE(PP_Period1EndDate,-3*12)","v":44926},null,null,null,"End date of reporting period 4",null,null,"Slutdato for periode 4","Enddatum des Berichtszeitraums 4",null,"Fecha final del período del informe 4",null,null,"Date de fin de la période de reporting 4",null,null,null,"Data di fine del periodo di riferimento 4",null,null,null,null,null,"Data zakończenia okresu sprawozdawczego 4",null,null,null,null,null,null,null,null,null,null,null,null,null,null,null,null,null,null,null,null,null,null,null,null,null,null,null,null,null,null,null,null,null,null,null,null,null,null,null,null,null,"2022-12-31"]
[{"$f":"\"\"&INDEX(PP_Locale,ROW(),PP_LanguageIndex)","v":"Start date of reporting period 5"},{"$f":"EDATE(PP_Period1StartDate,-4*12)","v":"2021-01-01"},null,null,null,"PP_Period5StartDate",{"$f":"EDATE(PP_Period1StartDate,-4*12)","v":44197},null,null,null,"Start date of reporting period 5",null,null,"Startdato for periode 5","Startdatum des Berichtszeitraums 5",null,"Fecha de inicio del período del informe 5",null,null,"Date de début de la période de reporting 5",null,null,null,"Data di inizio del periodo di riferimento 5",null,null,null,null,null,"Data rozpoczęcia okresu sprawozdawczego 5",null,null,null,null,null,null,null,null,null,null,null,null,null,null,null,null,null,null,null,null,null,null,null,null,null,null,null,null,null,null,null,null,null,null,null,null,null,null,null,null,null,"2021-01-01"]
[{"$f":"\"\"&INDEX(PP_Locale,ROW(),PP_LanguageIndex)","v":"End date of reporting period 5"},{"$f":"EDATE(PP_Period1EndDate,-4*12)","v":"2021-12-31"},null,null,null,"PP_Period5EndDate",{"$f":"EDATE(PP_Period1EndDate,-4*12)","v":44561},null,null,null,"End date of reporting period 5",null,null,"Slutdato for periode 5","Enddatum des Berichtszeitraums 5",null,"Fecha final del período del informe 5",null,null,"Date de fin de la période de reporting 5",null,null,null,"Data di fine del periodo di riferimento 5",null,null,null,null,null,"Data zakończenia okresu sprawozdawczego 5",null,null,null,null,null,null,null,null,null,null,null,null,null,null,null,null,null,null,null,null,null,null,null,null,null,null,null,null,null,null,null,null,null,null,null,null,null,null,null,null,null,"2021-12-31"]
[{"$f":"\"\"&INDEX(PP_Locale,ROW(),PP_LanguageIndex)","v":"Start date of reporting period 6"},{"$f":"EDATE(PP_Period1StartDate,-5*12)","v":"2020-01-01"},null,null,null,"PP_Period6StartDate",{"$f":"EDATE(PP_Period1StartDate,-5*12)","v":43831},null,null,null,"Start date of reporting period 6",null,null,"Startdato for periode 6","Startdatum des Berichtszeitraums 6",null,"Fecha de inicio del período del informe 6",null,null,"Date de début de la période de reporting 6",null,null,null,"Data di inizio del periodo di riferimento 6",null,null,null,null,null,"Data rozpoczęcia okresu sprawozdawczego 6",null,null,null,null,null,null,null,null,null,null,null,null,null,null,null,null,null,null,null,null,null,null,null,null,null,null,null,null,null,null,null,null,null,null,null,null,null,null,null,null,null,"2020-01-01"]
[{"$f":"\"\"&INDEX(PP_Locale,ROW(),PP_LanguageIndex)","v":"End date of reporting period 6"},{"$f":"EDATE(PP_Period1EndDate,-5*12)","v":"2020-12-31"},null,null,null,"PP_Period6EndDate",{"$f":"EDATE(PP_Period1EndDate,-5*12)","v":44196},null,null,null,"End date of reporting period 6",null,null,"Slutdato for periode 6","Enddatum des Berichtszeitraums 6",null,"Fecha final del período del informe 6",null,null,"Date de fin de la période de reporting 6",null,null,null,"Data di fine del periodo di riferimento 6",null,null,null,null,null,"Data zakończenia okresu sprawozdawczego 6",null,null,null,null,null,null,null,null,null,null,null,null,null,null,null,null,null,null,null,null,null,null,null,null,null,null,null,null,null,null,null,null,null,null,null,null,null,null,null,null,null,"2020-12-31"]
[{"$f":"\"\"&INDEX(PP_Locale,ROW(),PP_LanguageIndex)","v":"Start date of reporting period 7"},{"$f":"EDATE(PP_Period1StartDate,-6*12)","v":"2019-01-01"},null,null,null,"PP_Period7StartDate",{"$f":"EDATE(PP_Period1StartDate,-6*12)","v":43466},null,null,null,"Start date of reporting period 7",null,null,"Startdato for periode 7","Startdatum des Berichtszeitraums 7",null,"Fecha de inicio del período del informe 7",null,null,"Date de début de la période de reporting 7",null,null,null,"Data di inizio del periodo di riferimento 7",null,null,null,null,null,"Data rozpoczęcia okresu sprawozdawczego 7",null,null,null,null,null,null,null,null,null,null,null,null,null,null,null,null,null,null,null,null,null,null,null,null,null,null,null,null,null,null,null,null,null,null,null,null,null,null,null,null,null,"2019-01-01"]
[{"$f":"\"\"&INDEX(PP_Locale,ROW(),PP_LanguageIndex)","v":"End date of reporting period 7"},{"$f":"EDATE(PP_Period1EndDate,-6*12)","v":"2019-12-31"},null,null,null,"PP_Period7EndDate",{"$f":"EDATE(PP_Period1EndDate,-6*12)","v":43830},null,null,null,"End date of reporting period 7",null,null,"Slutdato for periode 7","Enddatum des Berichtszeitraums 7",null,"Fecha final del período del informe 7",null,null,"Date de fin de la période de reporting 7",null,null,null,"Data di fine del periodo di riferimento 7",null,null,null,null,null,"Data zakończenia okresu sprawozdawczego 7",null,null,null,null,null,null,null,null,null,null,null,null,null,null,null,null,null,null,null,null,null,null,null,null,null,null,null,null,null,null,null,null,null,null,null,null,null,null,null,null,null,"2019-12-31"]
[{"$f":"\"\"&INDEX(PP_Locale,ROW(),PP_LanguageIndex)","v":"Start date of reporting period 8"},{"$f":"EDATE(PP_Period1StartDate,-7*12)","v":"2018-01-01"},null,null,null,"PP_Period8StartDate",{"$f":"EDATE(PP_Period1StartDate,-7*12)","v":43101},null,null,null,"Start date of reporting period 8",null,null,"Startdato for periode 8","Startdatum des Berichtszeitraums 8",null,"Fecha de inicio del período del informe 8",null,null,"Date de début de la période de reporting 8",null,null,null,"Data di inizio del periodo di riferimento 8",null,null,null,null,null,"Data rozpoczęcia okresu sprawozdawczego 8",null,null,null,null,null,null,null,null,null,null,null,null,null,null,null,null,null,null,null,null,null,null,null,null,null,null,null,null,null,null,null,null,null,null,null,null,null,null,null,null,null,"2018-01-01"]
[{"$f":"\"\"&INDEX(PP_Locale,ROW(),PP_LanguageIndex)","v":"End date of reporting period 8"},{"$f":"EDATE(PP_Period1EndDate,-7*12)","v":"2018-12-31"},null,null,null,"PP_Period8EndDate",{"$f":"EDATE(PP_Period1EndDate,-7*12)","v":43465},null,null,null,"End date of reporting period 8",null,null,"Slutdato for periode 8","Enddatum des Berichtszeitraums 8",null,"Fecha final del período del informe 8",null,null,"Date de fin de la période de reporting 8",null,null,null,"Data di fine del periodo di riferimento 8",null,null,null,null,null,"Data zakończenia okresu sprawozdawczego 8",null,null,null,null,null,null,null,null,null,null,null,null,null,null,null,null,null,null,null,null,null,null,null,null,null,null,null,null,null,null,null,null,null,null,null,null,null,null,null,null,null,"2018-12-31"]
[{"$f":"\"\"&INDEX(PP_Locale,ROW(),PP_LanguageIndex)","v":"Date of general meeting"},null,null,null,null,"PP_DateOfGeneralMeeting",null,null,null,null,"Date of general meeting",null,null,"Generalforsamlingsdato",null,null,null,null,null,null,null,null,null,null,null,null,null,null,null,null,null,null,null,null,null,null,null,null,null,null,null,null,null,null,null,null,null,null,null,null,null,null,null,null,null,null,null,null,null,null,null,null,null,null,null,null,null,null,null,null,null,"",null,null,null,null,null,null,null,null,null,null,null,null,null,null,null,null,null,null,null,null,null,null,null,null,null,null,"&allowhtml=false",{"$f":"\"pp://General Data/\"&K36&\"?taxonomy=\"&PP_TaxonomyId&\"&labellanguage=en\"&CU36","v":"pp://General Data/Date of general meeting?taxonomy=UKFRC&labellanguage=en&allowhtml=false"}]
[{"$f":"\"\"&INDEX(PP_Locale,ROW(),PP_LanguageIndex)","v":"Reporting period, number"},null,null,null,null,"PP_ReportingPeriodNumber",null,null,null,null,"Reporting period, number",null,null,"Regnskabsår (nr.)",null,null,null,null,null,null,null,null,null,null,null,null,null,null,null,null,null,null,null,null,null,null,null,null,null,null,null,null,null,null,null,null,null,null,null,null,null,null,null,null,null,null,null,null,null,null,null,null,null,null,null,null,null,null,null,null,null,{"$f":"\"\"&B37","v":""},null,null,null,null,null,null,null,null,null,null,null,null,null,null,null,null,null,null,null,null,null,null,null,null,null,null,"&allowhtml=false",{"$f":"\"pp://General Data/\"&K37&\"?taxonomy=\"&PP_TaxonomyId&\"&labellanguage=en\"&CU37","v":"pp://General Data/Reporting period, number?taxonomy=UKFRC&labellanguage=en&allowhtml=false"}]
[]
[{"$f":"\"\"&INDEX(PP_Locale,ROW(),PP_LanguageIndex)","v":"Chairman of general meeting:"},null,null,null,null,null,null,null,null,null,"Chairman of general meeting:",null,null,"Dirigent:"]
[{"$f":"\"\"&INDEX(PP_Locale,ROW(),PP_LanguageIndex)","v":"Name and surname of chairman of general meeting"},null,null,null,null,"PP_NameAndSurnameOfChairmanOfGeneralMeeting",null,null,null,null,"Name and surname of chairman of general meeting",null,null,"Dirigentens navn",null,null,null,null,null,null,null,null,null,null,null,null,null,null,null,null,null,null,null,null,null,null,null,null,null,null,null,null,null,null,null,null,null,null,null,null,null,null,null,null,null,null,null,null,null,null,null,null,null,null,null,null,null,null,null,null,null,{"$f":"\"\"&B40","v":""},null,null,null,null,null,null,null,null,null,null,null,null,null,null,null,null,null,null,null,null,null,null,null,null,null,null,"&allowhtml=false",{"$f":"\"pp://General Data/\"&K40&\"?taxonomy=\"&PP_TaxonomyId&\"&labellanguage=en\"&CU40","v":"pp://General Data/Name and surname of chairman of general meeting?taxonomy=UKFRC&labellanguage=en&allowhtml=false"}]
[]
[{"$f":"\"\"&INDEX(PP_Locale,ROW(),PP_LanguageIndex)","v":"Information on reporting entity:"},null,null,null,null,null,null,null,null,null,"Information on reporting entity:",null,null,"Information om den regnskabsaflæggende virksomhed:"]
[{"$f":"\"\"&INDEX(PP_Locale,ROW(),PP_LanguageIndex)","v":"Legal Entity Identifier [LEI] of reporting entity"},{"$f":"IF(ISERROR(INDIRECT(\"'General Data ESEF'!PP_IdentificationOfReportingEntity\")),\"\",IF(LEN(INDIRECT(\"'General Data ESEF'!PP_IdentificationOfReportingEntity\"))<>20,\"\",INDIRECT(\"'General Data ESEF'!PP_IdentificationOfReportingEntity\")))","v":"12345NOTVALID1234503"},null,null,null,"PP_LegalEntityIdentifierOfReportingEntity",{"$f":"IF(ISERROR(INDIRECT(\"'General Data ESEF'!PP_IdentificationOfReportingEntity\")),\"\",IF(LEN(INDIRECT(\"'General Data ESEF'!PP_IdentificationOfReportingEntity\"))<>20,\"\",INDIRECT(\"'General Data ESEF'!PP_IdentificationOfReportingEntity\")))","v":"12345NOTVALID1234503"},null,null,null,"Legal Entity Identifier [LEI] of reporting entity",null,null,"Regnskabsaflæggende virksomheds LEI-kode",null,null,null,null,null,null,null,null,null,null,null,null,null,null,null,null,null,null,null,null,null,null,null,null,null,null,null,null,null,null,null,null,null,null,null,null,null,null,null,null,null,null,null,null,null,null,null,null,null,null,null,null,null,null,null,null,null,{"$f":"\"\"&B43","v":"12345NOTVALID1234503"},null,null,null,null,null,null,null,null,null,null,null,null,null,null,null,null,null,null,null,null,null,null,null,null,null,null,"&allowhtml=false&skipspace=true",{"$f":"\"pp://General Data/\"&K43&\"?taxonomy=\"&PP_TaxonomyId&\"&labellanguage=en\"&CU43","v":"pp://General Data/Legal Entity Identifier [LEI] of reporting entity?taxonomy=UKFRC&labellanguage=en&allowhtml=false&skipspace=true"}]
[{"$f":"\"\"&INDEX(PP_Locale,ROW(),PP_LanguageIndex)","v":"Name of reporting entity"},{"$f":"IFERROR(INDIRECT(\"'General Data ESEF'!PP_NameOfReportingEntity\"),IFERROR(VLOOKUP(\"Test customer\",PP_Locale,PP_LanguageIndex,FALSE),\"Test customer\"))","v":"Test customer"},null,null,null,"PP_NameOfReportingEntity",{"$f":"IFERROR(INDIRECT(\"'General Data ESEF'!PP_NameOfReportingEntity\"),IFERROR(VLOOKUP(\"Test customer\",PP_Locale,PP_LanguageIndex,FALSE),\"Test customer\"))","v":"Test customer"},null,null,null,"Name of reporting entity",null,null,"Regnskabsaflæggende virksomheds navn",null,null,null,null,null,null,null,null,null,null,null,null,null,null,null,null,null,null,null,null,null,null,null,null,null,null,null,null,null,null,null,null,null,null,null,null,null,null,null,null,null,null,null,null,null,null,null,null,null,null,null,null,null,null,null,null,null,{"$f":"\"\"&B44","v":"Test customer"},null,null,null,null,null,null,null,null,null,null,null,null,null,null,null,null,null,null,null,null,null,null,null,null,null,null,"&allowhtml=false",{"$f":"\"pp://General Data/\"&K44&\"?taxonomy=\"&PP_TaxonomyId&\"&labellanguage=en\"&CU44","v":"pp://General Data/Name of reporting entity?taxonomy=UKFRC&labellanguage=en&allowhtml=false"}]
[{"$f":"\"\"&INDEX(PP_Locale,ROW(),PP_LanguageIndex)","v":"Class of reporting entity"},{"$f":"\"\"&LOOKUP(PP_Language,{\"DA\";\"EN\"},{\"Regnskabsklasse B\";\"Reporting class B\"})","v":"Reporting class B"},null,null,null,"PP_ClassOfReportingEntity",{"$f":"\"\"&LOOKUP(PP_Language,{\"DA\";\"EN\"},{\"Regnskabsklasse B\";\"Reporting class B\"})","v":"Reporting class B"},null,null,null,"Class of reporting entity",null,null,"Regnskabsaflæggende virksomheds regnskabsklasse",null,null,null,null,null,null,null,null,null,null,null,null,null,null,null,null,null,null,null,null,null,null,null,null,null,null,null,null,null,null,null,null,null,null,null,null,null,null,null,null,null,null,null,null,null,null,null,null,null,null,null,null,null,null,null,null,null,{"$f":"\"\"&SUBSTITUTE(B45,\" / \",\", \")","v":"Reporting class B"},null,null,null,{"$f":"\"\"&LOOKUP(PP_Language,{\"DA\";\"EN\"},{\"Regnskabsklasse A\";\"Reporting class A\"})","v":"Reporting class A"},{"$f":"\"\"&LOOKUP(PP_Language,{\"DA\";\"EN\"},{\"Regnskabsklasse B\";\"Reporting class B\"})","v":"Reporting class B"},{"$f":"\"\"&LOOKUP(PP_Language,{\"DA\";\"EN\"},{\"Regnskabsklasse B / mikrovirksomhed\";\"Reporting class B / micro-undertaking\"})","v":"Reporting class B / micro-undertaking"},{"$f":"\"\"&LOOKUP(PP_Language,{\"DA\";\"EN\"},{\"Regnskabsklasse C / mellemstor virksomhed\";\"Reporting class C / medium-size enterprise\"})","v":"Reporting class C / medium-size enterprise"},{"$f":"\"\"&LOOKUP(PP_Language,{\"DA\";\"EN\"},{\"Regnskabsklasse C / stor virksomhed\";\"Reporting class C / large enterprise\"})","v":"Reporting class C / large enterprise"},{"$f":"\"\"&LOOKUP(PP_Language,{\"DA\";\"EN\"},{\"Regnskabsklasse D\";\"Reporting class D\"})","v":"Reporting class D"}]
[{"$f":"IF(ISERROR(INDIRECT(\"'General Data ESEF'!PP_Language\")),\"\"&INDEX(PP_Locale,ROW(),PP_LanguageIndex),\"\")","v":""},false,null,null,null,"PP_SelectedElementsFromReportingClassC",false,null,null,null,"Selected elements from reporting class C",null,null,"Der er tilvalgt elementer fra Regnskabsklasse C",null,null,null,null,null,null,null,null,null,null,null,null,null,null,null,null,null,null,null,null,null,null,null,null,null,null,null,null,null,null,null,null,null,null,null,null,null,null,null,null,null,null,null,null,null,null,null,null,null,null,null,null,null,null,null,null,null,{"$f":"IF(COUNTBLANK(A46:B46),\"\",IF(B46,\"true\",\"false\"))","v":""},null,null,null,false,true]
[{"$f":"IF(ISERROR(INDIRECT(\"'General Data ESEF'!PP_Language\")),\"\"&INDEX(PP_Locale,ROW(),PP_LanguageIndex),\"\")","v":""},false,null,null,null,"PP_SelectedElementsFromReportingClassD",false,null,null,null,"Selected elements from reporting class D",null,null,"Der er tilvalgt elementer fra Regnskabsklasse D",null,null,null,null,null,null,null,null,null,null,null,null,null,null,null,null,null,null,null,null,null,null,null,null,null,null,null,null,null,null,null,null,null,null,null,null,null,null,null,null,null,null,null,null,null,null,null,null,null,null,null,null,null,null,null,null,null,{"$f":"IF(COUNTBLANK(A47:B47),\"\",IF(B47,\"true\",\"false\"))","v":""},null,null,null,false,true]
[{"$f":"IF(ISERROR(INDIRECT(\"'General Data ESEF'!PP_Language\")),\"\"&INDEX(PP_Locale,ROW(),PP_LanguageIndex),\"\")","v":""},true,null,null,null,"PP_AccountingPoliciesAreUnchangedFromPreviousPeriod",true,null,null,null,"Accounting policies are unchanged from previous period",null,null,"Den anvendte regnskabspraksis er uændret i forhold til foregående periode",null,null,null,null,null,null,null,null,null,null,null,null,null,null,null,null,null,null,null,null,null,null,null,null,null,null,null,null,null,null,null,null,null,null,null,null,null,null,null,null,null,null,null,null,null,null,null,null,null,null,null,null,null,null,null,null,null,{"$f":"IF(COUNTBLANK(A48:B48),\"\",IF(B48,\"true\",\"false\"))","v":""},null,null,null,true,false]
[{"$f":"IF(ISERROR(INDIRECT(\"'General Data ESEF'!PP_Language\")),\"\"&INDEX(PP_Locale,ROW(),PP_LanguageIndex),\"\")","v":""},false,null,null,null,"PP_TheReportingEntityAppliesTheExceptionConcerningOptingOutOfTheStatementByManagementEtc",false,null,null,null,"The reporting entity applies the exception concerning opting out of the statement by management etc.",null,null,"Virksomheden anvender undtagelsen om at fravælge ledelsespåtegningen",null,null,null,null,null,null,null,null,null,null,null,null,null,null,null,null,null,null,null,null,null,null,null,null,null,null,null,null,null,null,null,null,null,null,null,null,null,null,null,null,null,null,null,null,null,null,null,null,null,null,null,null,null,null,null,null,null,{"$f":"IF(COUNTBLANK(A49:B49),\"\",IF(B49,\"true\",\"false\"))","v":""},null,null,null,false,true]
[{"$f":"\"\"&INDEX(PP_Locale,ROW(),PP_LanguageIndex)","v":"Identification number [CVR] of reporting entity"},{"$f":"IF(IFERROR(LEN(INDIRECT(\"'General Data ESEF'!PP_IdentificationOfReportingEntity\")),0)=8,INDIRECT(\"'General Data ESEF'!PP_IdentificationOfReportingEntity\"),\"12345678\")","v":"12345678"},null,null,null,"PP_IdentificationNumberCvrOfReportingEntity",{"$f":"IF(IFERROR(LEN(INDIRECT(\"'General Data ESEF'!PP_IdentificationOfReportingEntity\")),0)=8,INDIRECT(\"'General Data ESEF'!PP_IdentificationOfReportingEntity\"),\"12345678\")","v":"12345678"},null,null,null,"Identification number [CVR] of reporting entity",null,null,"Regnskabsaflæggende virksomheds CVR-nr.",null,null,null,null,null,null,null,null,null,null,null,null,null,null,null,null,null,null,null,null,null,null,null,null,null,null,null,null,null,null,null,null,null,null,null,null,null,null,null,null,null,null,null,null,null,null,null,null,null,null,null,null,null,null,null,null,null,{"$f":"\"\"&SUBSTITUTE(B50,\" \",\"\")","v":"12345678"},null,null,null,null,null,null,null,null,null,null,null,null,null,null,null,null,null,null,null,null,null,null,null,null,null,null,"&allowhtml=false&skipspace=true",{"$f":"\"pp://General Data/\"&K50&\"?taxonomy=\"&PP_TaxonomyId&\"&labellanguage=en\"&CU50","v":"pp://General Data/Identification number [CVR] of reporting entity?taxonomy=UKFRC&labellanguage=en&allowhtml=false&skipspace=true"}]
[{"$f":"\"\"&INDEX(PP_Locale,ROW(),PP_LanguageIndex)","v":"Address of reporting entity, street name"},{"$f":"IFERROR(VLOOKUP(\"UNKNOWN\",PP_Locale,PP_LanguageIndex,FALSE),\"UNKNOWN\")","v":"UNKNOWN"},null,null,null,"PP_AddressOfReportingEntityStreetName",{"$f":"IFERROR(VLOOKUP(\"UNKNOWN\",PP_Locale,PP_LanguageIndex,FALSE),\"UNKNOWN\")","v":"UNKNOWN"},null,null,null,"Address of reporting entity, street name",null,null,"Regnskabsaflæggende virksomheds adresse, vejnavn",null,null,null,null,null,null,null,null,null,null,null,null,null,null,null,null,null,null,null,null,null,null,null,null,null,null,null,null,null,null,null,null,null,null,null,null,null,null,null,null,null,null,null,null,null,null,null,null,null,null,null,null,null,null,null,null,null,{"$f":"\"\"&B51","v":"UNKNOWN"},null,null,null,null,null,null,null,null,null,null,null,null,null,null,null,null,null,null,null,null,null,null,null,null,null,null,"&allowhtml=false","pp://General Data/Address of reporting entity, street name?taxonomy=UKFRC&labellanguage=en&allowhtml=false"]
[{"$f":"\"\"&INDEX(PP_Locale,ROW(),PP_LanguageIndex)","v":"Address of reporting entity, street building identifier"},{"$f":"IFERROR(VLOOKUP(\"UNKNOWN\",PP_Locale,PP_LanguageIndex,FALSE),\"UNKNOWN\")","v":"UNKNOWN"},null,null,null,"PP_AddressOfReportingEntityStreetBuildingIdentifier",{"$f":"IFERROR(VLOOKUP(\"UNKNOWN\",PP_Locale,PP_LanguageIndex,FALSE),\"UNKNOWN\")","v":"UNKNOWN"},null,null,null,"Address of reporting entity, street building identifier",null,null,"Regnskabsaflæggende virksomheds adresse, vejnr og etage",null,null,null,null,null,null,null,null,null,null,null,null,null,null,null,null,null,null,null,null,null,null,null,null,null,null,null,null,null,null,null,null,null,null,null,null,null,null,null,null,null,null,null,null,null,null,null,null,null,null,null,null,null,null,null,null,null,"UNKNOWN",null,null,null,null,null,null,null,null,null,null,null,null,null,null,null,null,null,null,null,null,null,null,null,null,null,null,"&allowhtml=false","pp://General Data/Address of reporting entity, street building identifier?taxonomy=UKFRC&labellanguage=en&allowhtml=false"]
[{"$f":"\"\"&INDEX(PP_Locale,ROW(),PP_LanguageIndex)","v":"Address of reporting entity, post code identifier"},{"$f":"IFERROR(VLOOKUP(\"UNKNOWN\",PP_Locale,PP_LanguageIndex,FALSE),\"UNKNOWN\")","v":"UNKNOWN"},null,null,null,"PP_AddressOfReportingEntityPostCodeIdentifier",{"$f":"IFERROR(VLOOKUP(\"UNKNOWN\",PP_Locale,PP_LanguageIndex,FALSE),\"UNKNOWN\")","v":"UNKNOWN"},null,null,null,"Address of reporting entity, post code identifier",null,null,"Regnskabsaflæggende virksomheds adresse, postnummer",null,null,null,null,null,null,null,null,null,null,null,null,null,null,null,null,null,null,null,null,null,null,null,null,null,null,null,null,null,null,null,null,null,null,null,null,null,null,null,null,null,null,null,null,null,null,null,null,null,null,null,null,null,null,null,null,null,"UNKNOWN",null,null,null,null,null,null,null,null,null,null,null,null,null,null,null,null,null,null,null,null,null,null,null,null,null,null,"&allowhtml=false","pp://General Data/Address of reporting entity, post code identifier?taxonomy=UKFRC&labellanguage=en&allowhtml=false"]
[{"$f":"\"\"&INDEX(PP_Locale,ROW(),PP_LanguageIndex)","v":"Address of reporting entity, district name"},{"$f":"IFERROR(VLOOKUP(\"UNKNOWN\",PP_Locale,PP_LanguageIndex,FALSE),\"UNKNOWN\")","v":"UNKNOWN"},null,null,null,"PP_AddressOfReportingEntityDistrictName",{"$f":"IFERROR(VLOOKUP(\"UNKNOWN\",PP_Locale,PP_LanguageIndex,FALSE),\"UNKNOWN\")","v":"UNKNOWN"},null,null,null,"Address of reporting entity, district name",null,null,"Regnskabsaflæggende virksomheds adresse, by",null,null,null,null,null,null,null,null,null,null,null,null,null,null,null,null,null,null,null,null,null,null,null,null,null,null,null,null,null,null,null,null,null,null,null,null,null,null,null,null,null,null,null,null,null,null,null,null,null,null,null,null,null,null,null,null,null,"UNKNOWN",null,null,null,null,null,null,null,null,null,null,null,null,null,null,null,null,null,null,null,null,null,null,null,null,null,null,"&allowhtml=false","pp://General Data/Address of reporting entity, district name?taxonomy=UKFRC&labellanguage=en&allowhtml=false"]
[{"$f":"\"\"&INDEX(PP_Locale,ROW(),PP_LanguageIndex)","v":"Address of reporting entity, country"},null,null,null,null,"PP_AddressOfReportingEntityCountry",null,null,null,null,"Address of reporting entity, country",null,null,"Regnskabsaflæggende virksomheds adresse, land",null,null,null,null,null,null,null,null,null,null,null,null,null,null,null,null,null,null,null,null,null,null,null,null,null,null,null,null,null,null,null,null,null,null,null,null,null,null,null,null,null,null,null,null,null,null,null,null,null,null,null,null,null,null,null,null,null,"",null,null,null,null,null,null,null,null,null,null,null,null,null,null,null,null,null,null,null,null,null,null,null,null,null,null,"&allowhtml=false","pp://General Data/Address of reporting entity, country?taxonomy=UKFRC&labellanguage=en&allowhtml=false"]
[{"$f":"\"\"&INDEX(PP_Locale,ROW(),PP_LanguageIndex)","v":"Address of reporting entity, country identification code"},null,null,null,null,"PP_AddressOfReportingEntityCountryIdentificationCode",null,null,null,null,"Address of reporting entity, country identification code",null,null,"Regnskabsaflæggende virksomheds adresse, landekode",null,null,null,null,null,null,null,null,null,null,null,null,null,null,null,null,null,null,null,null,null,null,null,null,null,null,null,null,null,null,null,null,null,null,null,null,null,null,null,null,null,null,null,null,null,null,null,null,null,null,null,null,null,null,null,null,null,"",null,null,null,null,null,null,null,null,null,null,null,null,null,null,null,null,null,null,null,null,null,null,null,null,null,null,"&allowhtml=false","pp://General Data/Address of reporting entity, country identification code?taxonomy=UKFRC&labellanguage=en&allowhtml=false"]
[{"$f":"\"\"&INDEX(PP_Locale,ROW(),PP_LanguageIndex)","v":"Date of foundation of reporting entity"},null,null,null,null,"PP_DateOfFoundationOfReportingEntity",null,null,null,null,"Date of foundation of reporting entity",null,null,"Regnskabsaflæggende virksomheds stiftelsesdato",null,null,null,null,null,null,null,null,null,null,null,null,null,null,null,null,null,null,null,null,null,null,null,null,null,null,null,null,null,null,null,null,null,null,null,null,null,null,null,null,null,null,null,null,null,null,null,null,null,null,null,null,null,null,null,null,null,{"$f":"IF(COUNTBLANK(B57),\"\",TEXT(YEAR(B57),\"0000\")&\"-\"&TEXT(MONTH(B57),\"00\")&\"-\"&TEXT(DAY(B57),\"00\"))","v":""},null,null,null,null,null,null,null,null,null,null,null,null,null,null,null,null,null,null,null,null,null,null,null,null,null,null,"&allowhtml=false","pp://General Data/Date of foundation of reporting entity?taxonomy=UKFRC&labellanguage=en&allowhtml=false"]
[{"$f":"\"\"&INDEX(PP_Locale,ROW(),PP_LanguageIndex)","v":"Registered office of reporting entity"},null,null,null,null,"PP_RegisteredOfficeOfReportingEntity",null,null,null,null,"Registered office of reporting entity",null,null,"Regnskabsaflæggende virksomheds hjemsted",null,null,null,null,null,null,null,null,null,null,null,null,null,null,null,null,null,null,null,null,null,null,null,null,null,null,null,null,null,null,null,null,null,null,null,null,null,null,null,null,null,null,null,null,null,null,null,null,null,null,null,null,null,null,null,null,null,{"$f":"\"\"&B58","v":""},null,null,null,null,null,null,null,null,null,null,null,null,null,null,null,null,null,null,null,null,null,null,null,null,null,null,"&allowhtml=false","pp://General Data/Registered office of reporting entity?taxonomy=UKFRC&labellanguage=en&allowhtml=false"]
[{"$f":"\"\"&INDEX(PP_Locale,ROW(),PP_LanguageIndex)","v":"Telephone number of reporting entity"},null,null,null,null,"PP_TelephoneNumberOfReportingEntity",null,null,null,null,"Telephone number of reporting entity",null,null,"Regnskabsaflæggende virksomheds telefonnummer",null,null,null,null,null,null,null,null,null,null,null,null,null,null,null,null,null,null,null,null,null,null,null,null,null,null,null,null,null,null,null,null,null,null,null,null,null,null,null,null,null,null,null,null,null,null,null,null,null,null,null,null,null,null,null,null,null,{"$f":"\"\"&SUBSTITUTE(B59,\" \",\"\")","v":""},null,null,null,null,null,null,null,null,null,null,null,null,null,null,null,null,null,null,null,null,null,null,null,null,null,null,"&allowhtml=false","pp://General Data/Telephone number of reporting entity?taxonomy=UKFRC&labellanguage=en&allowhtml=false"]
[{"$f":"\"\"&INDEX(PP_Locale,ROW(),PP_LanguageIndex)","v":"Fax number of reporting entity"},null,null,null,null,"PP_FaxNumberOfReportingEntity",null,null,null,null,"Fax number of reporting entity",null,null,"Regnskabsaflæggende virksomheds faxnummer",null,null,null,null,null,null,null,null,null,null,null,null,null,null,null,null,null,null,null,null,null,null,null,null,null,null,null,null,null,null,null,null,null,null,null,null,null,null,null,null,null,null,null,null,null,null,null,null,null,null,null,null,null,null,null,null,null,{"$f":"\"\"&SUBSTITUTE(B60,\" \",\"\")","v":""},null,null,null,null,null,null,null,null,null,null,null,null,null,null,null,null,null,null,null,null,null,null,null,null,null,null,"&allowhtml=false","pp://General Data/Fax number of reporting entity?taxonomy=UKFRC&labellanguage=en&allowhtml=false"]
[{"$f":"\"\"&INDEX(PP_Locale,ROW(),PP_LanguageIndex)","v":"Homepage of reporting entity"},null,null,null,null,"PP_HomepageOfReportingEntity",null,null,null,null,"Homepage of reporting entity",null,null,"Regnskabsaflæggende virksomheds hjemmeside",null,null,null,null,null,null,null,null,null,null,null,null,null,null,null,null,null,null,null,null,null,null,null,null,null,null,null,null,null,null,null,null,null,null,null,null,null,null,null,null,null,null,null,null,null,null,null,null,null,null,null,null,null,null,null,null,null,{"$f":"\"\"&B61","v":""},null,null,null,null,null,null,null,null,null,null,null,null,null,null,null,null,null,null,null,null,null,null,null,null,null,null,"&allowhtml=false","pp://General Data/Homepage of reporting entity?taxonomy=UKFRC&labellanguage=en&allowhtml=false"]
[{"$f":"\"\"&INDEX(PP_Locale,ROW(),PP_LanguageIndex)","v":"E-mail of reporting entity"},null,null,null,null,"PP_EmailOfReportingEntity",null,null,null,null,"E-mail of reporting entity",null,null,"Regnskabsaflæggende virksomheds e-mail",null,null,null,null,null,null,null,null,null,null,null,null,null,null,null,null,null,null,null,null,null,null,null,null,null,null,null,null,null,null,null,null,null,null,null,null,null,null,null,null,null,null,null,null,null,null,null,null,null,null,null,null,null,null,null,null,null,"",null,null,null,null,null,null,null,null,null,null,null,null,null,null,null,null,null,null,null,null,null,null,null,null,null,null,"&allowhtml=false","pp://General Data/E-mail of reporting entity?taxonomy=UKFRC&labellanguage=en&allowhtml=false"]
[{"$f":"\"\"&INDEX(PP_Locale,ROW(),PP_LanguageIndex)","v":"Secondary name of reporting entity 1"},null,null,null,null,"PP_SecondaryNameOfReportingEntity_1",null,null,null,null,"Secondary name of reporting entity 1",null,null,"Regnskabsaflæggende virksomheds binavn 1",null,null,null,null,null,null,null,null,null,null,null,null,null,null,null,null,null,null,null,null,null,null,null,null,null,null,null,null,null,null,null,null,null,null,null,null,null,null,null,null,null,null,null,null,null,null,null,null,null,null,null,null,null,null,null,null,null,"",null,null,null,null,null,null,null,null,null,null,null,null,null,null,null,null,null,null,null,null,null,null,null,null,null,null,"&allowhtml=false","pp://General Data/Secondary name of reporting entity 1?taxonomy=UKFRC&labellanguage=en&allowhtml=false"]
[{"$f":"\"\"&INDEX(PP_Locale,ROW(),PP_LanguageIndex)","v":"Secondary name of reporting entity 2"},null,null,null,null,"PP_SecondaryNameOfReportingEntity_2",null,null,null,null,"Secondary name of reporting entity 2",null,null,"Regnskabsaflæggende virksomheds binavn 2",null,null,null,null,null,null,null,null,null,null,null,null,null,null,null,null,null,null,null,null,null,null,null,null,null,null,null,null,null,null,null,null,null,null,null,null,null,null,null,null,null,null,null,null,null,null,null,null,null,null,null,null,null,null,null,null,null,"",null,null,null,null,null,null,null,null,null,null,null,null,null,null,null,null,null,null,null,null,null,null,null,null,null,null,"&allowhtml=false","pp://General Data/Secondary name of reporting entity 2?taxonomy=UKFRC&labellanguage=en&allowhtml=false"]
[{"$f":"\"\"&INDEX(PP_Locale,ROW(),PP_LanguageIndex)","v":"Secondary name of reporting entity 3"},null,null,null,null,"PP_SecondaryNameOfReportingEntity_3",null,null,null,null,"Secondary name of reporting entity 3",null,null,"Regnskabsaflæggende virksomheds binavn 3",null,null,null,null,null,null,null,null,null,null,null,null,null,null,null,null,null,null,null,null,null,null,null,null,null,null,null,null,null,null,null,null,null,null,null,null,null,null,null,null,null,null,null,null,null,null,null,null,null,null,null,null,null,null,null,null,null,"",null,null,null,null,null,null,null,null,null,null,null,null,null,null,null,null,null,null,null,null,null,null,null,null,null,null,"&allowhtml=false","pp://General Data/Secondary name of reporting entity 3?taxonomy=UKFRC&labellanguage=en&allowhtml=false"]
[{"$f":"\"\"&INDEX(PP_Locale,ROW(),PP_LanguageIndex)","v":"Link to corporate governance report"},null,null,null,null,"PP_LinkToCorporateGovernanceReport",null,null,null,null,"Link to corporate governance report",null,null,"Link til redegørelse for virksomhedsledelse",null,null,null,null,null,null,null,null,null,null,null,null,null,null,null,null,null,null,null,null,null,null,null,null,null,null,null,null,null,null,null,null,null,null,null,null,null,null,null,null,null,null,null,null,null,null,null,null,null,null,null,null,null,null,null,null,null,"",null,null,null,null,null,null,null,null,null,null,null,null,null,null,null,null,null,null,null,null,null,null,null,null,null,null,"&allowhtml=false","pp://General Data/Link to corporate governance report?taxonomy=UKFRC&labellanguage=en&allowhtml=false"]
[{"$f":"\"\"&INDEX(PP_Locale,ROW(),PP_LanguageIndex)","v":"Link to statement of corporate social responsibility"},null,null,null,null,"PP_LinkToStatementOfCorporateSocialResponsibility",null,null,null,null,"Link to statement of corporate social responsibility",null,null,"Link til redegørelse for samfundsansvar",null,null,null,null,null,null,null,null,null,null,null,null,null,null,null,null,null,null,null,null,null,null,null,null,null,null,null,null,null,null,null,null,null,null,null,null,null,null,null,null,null,null,null,null,null,null,null,null,null,null,null,null,null,null,null,null,null,"",null,null,null,null,null,null,null,null,null,null,null,null,null,null,null,null,null,null,null,null,null,null,null,null,null,null,"&allowhtml=false","pp://General Data/Link to statement of corporate social responsibility?taxonomy=UKFRC&labellanguage=en&allowhtml=false"]
[{"$f":"\"\"&INDEX(PP_Locale,ROW(),PP_LanguageIndex)","v":"Link to statement of diversity policies"},null,null,null,null,"PP_LinkToStatementOfDiversityPolicies",null,null,null,null,"Link to statement of diversity policies",null,null,"Link til redegørelse for politikker om mangfoldighed",null,null,null,null,null,null,null,null,null,null,null,null,null,null,null,null,null,null,null,null,null,null,null,null,null,null,null,null,null,null,null,null,null,null,null,null,null,null,null,null,null,null,null,null,null,null,null,null,null,null,null,null,null,null,null,null,null,"",null,null,null,null,null,null,null,null,null,null,null,null,null,null,null,null,null,null,null,null,null,null,null,null,null,null,"&allowhtml=false","pp://General Data/Link to statement of diversity policies?taxonomy=UKFRC&labellanguage=en&allowhtml=false"]
[{"$f":"\"\"&INDEX(PP_Locale,ROW(),PP_LanguageIndex)","v":"Link to statement of target figures and policies for the underrepresented gender"},null,null,null,null,"PP_LinkToStatementOfTargetFiguresAndPoliciesForTheUnderrepresentedGender",null,null,null,null,"Link to statement of target figures and policies for the underrepresented gender",null,null,"Link til redegørelse for måltal og politikker vedrørende det underrepræsenterede køn",null,null,null,null,null,null,null,null,null,null,null,null,null,null,null,null,null,null,null,null,null,null,null,null,null,null,null,null,null,null,null,null,null,null,null,null,null,null,null,null,null,null,null,null,null,null,null,null,null,null,null,null,null,null,null,null,null,"",null,null,null,null,null,null,null,null,null,null,null,null,null,null,null,null,null,null,null,null,null,null,null,null,null,null,"&allowhtml=false","pp://General Data/Link to statement of target figures and policies for the underrepresented gender?taxonomy=UKFRC&labellanguage=en&allowhtml=false"]
[{"$f":"\"\"&INDEX(PP_Locale,ROW(),PP_LanguageIndex)","v":"Link to statement of policy for data ethics"},null,null,null,null,"PP_LinkToStatementOfPolicyForDataEthics",null,null,null,null,"Link to statement of policy for data ethics",null,null,"Link til redegørelse for virksomhedens politik for dataetik",null,null,null,null,null,null,null,null,null,null,null,null,null,null,null,null,null,null,null,null,null,null,null,null,null,null,null,null,null,null,null,null,null,null,null,null,null,null,null,null,null,null,null,null,null,null,null,null,null,null,null,null,null,null,null,null,null,"",null,null,null,null,null,null,null,null,null,null,null,null,null,null,null,null,null,null,null,null,null,null,null,null,null,null,"&allowhtml=false","pp://General Data/Link to statement of policy for data ethics?taxonomy=UKFRC&labellanguage=en&allowhtml=false"]
[{"$f":"\"\"&INDEX(PP_Locale,ROW(),PP_LanguageIndex)","v":"Link to report on payments to authorities"},null,null,null,null,"PP_LinkToReportOnPaymentsToAuthorities",null,null,null,null,"Link to report on payments to authorities",null,null,"Link til beretning om betalinger til myndigheder",null,null,null,null,null,null,null,null,null,null,null,null,null,null,null,null,null,null,null,null,null,null,null,null,null,null,null,null,null,null,null,null,null,null,null,null,null,null,null,null,null,null,null,null,null,null,null,null,null,null,null,null,null,null,null,null,null,"",null,null,null,null,null,null,null,null,null,null,null,null,null,null,null,null,null,null,null,null,null,null,null,null,null,null,"&allowhtml=false","pp://General Data/Link to report on payments to authorities?taxonomy=UKFRC&labellanguage=en&allowhtml=false"]
[{"$f":"\"\"&INDEX(PP_Locale,ROW(),PP_LanguageIndex)","v":"Link to statement of good management concerning foundation"},null,null,null,null,"PP_LinkToStatementOfGoodManagementConcerningFoundation",null,null,null,null,"Link to statement of good management concerning foundation",null,null,"Link til redegørelse for god fondsledelse",null,null,null,null,null,null,null,null,null,null,null,null,null,null,null,null,null,null,null,null,null,null,null,null,null,null,null,null,null,null,null,null,null,null,null,null,null,null,null,null,null,null,null,null,null,null,null,null,null,null,null,null,null,null,null,null,null,"",null,null,null,null,null,null,null,null,null,null,null,null,null,null,null,null,null,null,null,null,null,null,null,null,null,null,"&allowhtml=false","pp://General Data/Link to statement of good management concerning foundation?taxonomy=UKFRC&labellanguage=en&allowhtml=false"]
[{"$f":"\"\"&INDEX(PP_Locale,ROW(),PP_LanguageIndex)","v":"Link to statement of the foundation's distribution policy"},null,null,null,null,"PP_LinkToStatementOfTheFoundationsDistributionPolicy",null,null,null,null,"Link to statement of the foundation's distribution policy",null,null,"Link til redegørelse for fondens uddelingspolitik",null,null,null,null,null,null,null,null,null,null,null,null,null,null,null,null,null,null,null,null,null,null,null,null,null,null,null,null,null,null,null,null,null,null,null,null,null,null,null,null,null,null,null,null,null,null,null,null,null,null,null,null,null,null,null,null,null,"",null,null,null,null,null,null,null,null,null,null,null,null,null,null,null,null,null,null,null,null,null,null,null,null,null,null,"&allowhtml=false","pp://General Data/Link to statement of the foundation's distribution policy?taxonomy=UKFRC&labellanguage=en&allowhtml=false"]
[{"$f":"\"\"&INDEX(PP_Locale,ROW(),PP_LanguageIndex)","v":"Average number of employees"},null,null,null,null,"PP_AverageNumberOfEmployees",null,null,null,null,"Average number of employees",null,null,"Gennemsnitligt antal ansatte",null,null,null,null,null,null,null,null,null,null,null,null,null,null,null,null,null,null,null,null,null,null,null,null,null,null,null,null,null,null,null,null,null,null,null,null,null,null,null,null,null,null,null,null,null,null,null,null,null,null,null,null,null,null,null,null,null,{"$f":"IF(COUNTBLANK(B74),\"\",B74)","v":""},{"$f":"IF(COUNTBLANK(C74),\"\",C74)","v":""},{"$f":"IF(COUNTBLANK(D74),\"\",D74)","v":""},{"$f":"IF(COUNTBLANK(E74),\"\",E74)","v":""}]
[]
[{"$f":"\"\"&INDEX(PP_Locale,ROW(),PP_LanguageIndex)","v":"Dates/locations:"},null,null,null,null,null,null,null,null,null,"Dates/locations:",null,null,"Datoer/lokationer:"]
[{"$f":"\"\"&INDEX(PP_Locale,ROW(),PP_LanguageIndex)","v":"Place of signature of statement by management"},null,null,null,null,"PP_PlaceOfSignatureOfStatement",null,null,null,null,"Place of signature of statement by management",null,null,"Ledelsespåtegning, sted",null,null,null,null,null,null,null,null,null,null,null,null,null,null,null,null,null,null,null,null,null,null,null,null,null,null,null,null,null,null,null,null,null,null,null,null,null,null,null,null,null,null,null,null,null,null,null,null,null,null,null,null,null,null,null,null,null,{"$f":"IF(A77=\"\",\"\",\"\"&B77)","v":""},null,null,null,null,null,null,null,null,null,null,null,null,null,null,null,null,null,null,null,null,null,null,null,null,null,null,"&allowhtml=false",{"$f":"\"pp://General Data/\"&K77&\"?taxonomy=\"&PP_TaxonomyId&\"&labellanguage=en\"&CU77","v":"pp://General Data/Place of signature of statement by management?taxonomy=UKFRC&labellanguage=en&allowhtml=false"}]
[{"$f":"\"\"&INDEX(PP_Locale,ROW(),PP_LanguageIndex)","v":"Date of approval of annual report"},null,null,null,null,"PP_DateOfApprovalOfAnnualReport",null,null,null,null,"Date of approval of annual report",null,null,"Dato for ledelsens godkendelse af årsrapporten",null,null,null,null,null,null,null,null,null,null,null,null,null,null,null,null,null,null,null,null,null,null,null,null,null,null,null,null,null,null,null,null,null,null,null,null,null,null,null,null,null,null,null,null,null,null,null,null,null,null,null,null,null,null,null,null,null,{"$f":"IF(COUNTBLANK(B78),\"\",TEXT(YEAR(B78),\"0000\")&\"-\"&TEXT(MONTH(B78),\"00\")&\"-\"&TEXT(DAY(B78),\"00\"))","v":""},null,null,null,null,null,null,null,null,null,null,null,null,null,null,null,null,null,null,null,null,null,null,null,null,null,null,"&allowhtml=false",{"$f":"\"pp://General Data/\"&K78&\"?taxonomy=\"&PP_TaxonomyId&\"&labellanguage=en\"&CU78","v":"pp://General Data/Date of approval of annual report?taxonomy=UKFRC&labellanguage=en&allowhtml=false"}]
[]
[{"$f":"\"\"&INDEX(PP_Locale,ROW(),PP_LanguageIndex)","v":"Executive board:"},null,null,null,null,null,null,null,null,null,"Executive board:",null,null,"Direktion:"]
[{"$f":"\"\"&INDEX(PP_Locale,ROW(),PP_LanguageIndex)","v":"Name and surname of member of executive board 1"},null,null,null,null,"PP_NameAndSurnameOfMemberOfExecutiveBoard_1",null,null,null,null,"Name and surname of member of executive board 1",null,null,"Direktionsmedlems navn 1",null,null,null,null,null,null,null,null,null,null,null,null,null,null,null,null,null,null,null,null,null,null,null,null,null,null,null,null,null,null,null,null,null,null,null,null,null,null,null,null,null,null,null,null,null,null,null,null,null,null,null,null,null,null,null,null,null,{"$f":"\"\"&B81","v":""},null,null,null,null,null,null,null,null,null,null,null,null,null,null,null,null,null,null,null,null,null,null,null,null,null,null,"&allowhtml=false",{"$f":"\"pp://General Data/\"&K81&\"?taxonomy=\"&PP_TaxonomyId&\"&labellanguage=en\"&CU81","v":"pp://General Data/Name and surname of member of executive board 1?taxonomy=UKFRC&labellanguage=en&allowhtml=false"}]
[{"$f":"\"\"&INDEX(PP_Locale,ROW(),PP_LanguageIndex)","v":"Title of member of executive board 1"},null,null,null,null,"PP_TitleOfMemberOfExecutiveBoard_1",null,null,null,null,"Title of member of executive board 1",null,null,"Direktionsmedlems titel 1",null,null,null,null,null,null,null,null,null,null,null,null,null,null,null,null,null,null,null,null,null,null,null,null,null,null,null,null,null,null,null,null,null,null,null,null,null,null,null,null,null,null,null,null,null,null,null,null,null,null,null,null,null,null,null,null,null,"",null,null,null,null,null,null,null,null,null,null,null,null,null,null,null,null,null,null,null,null,null,null,null,null,null,null,"&allowhtml=false","pp://General Data/Title of member of executive board 1?taxonomy=UKFRC&labellanguage=en&allowhtml=false"]
[{"$f":"\"\"&INDEX(PP_Locale,ROW(),PP_LanguageIndex)","v":"Description of member of executive board 1"},null,null,null,null,"PP_DescriptionOfMemberOfExecutiveBoard_1",null,null,null,null,"Description of member of executive board 1",null,null,"Direktionsmedlems beskrivelse 1",null,null,null,null,null,null,null,null,null,null,null,null,null,null,null,null,null,null,null,null,null,null,null,null,null,null,null,null,null,null,null,null,null,null,null,null,null,null,null,null,null,null,null,null,null,null,null,null,null,null,null,null,null,null,null,null,null,"",null,null,null,null,null,null,null,null,null,null,null,null,null,null,null,null,null,null,null,null,null,null,null,null,null,null,"&allowhtml=false","pp://General Data/Description of member of executive board 1?taxonomy=UKFRC&labellanguage=en&allowhtml=false"]
[{"$f":"\"\"&INDEX(PP_Locale,ROW(),PP_LanguageIndex)","v":"Name and surname of member of executive board 2"},null,null,null,null,"PP_NameAndSurnameOfMemberOfExecutiveBoard_2",null,null,null,null,"Name and surname of member of executive board 2",null,null,"Direktionsmedlems navn 2",null,null,null,null,null,null,null,null,null,null,null,null,null,null,null,null,null,null,null,null,null,null,null,null,null,null,null,null,null,null,null,null,null,null,null,null,null,null,null,null,null,null,null,null,null,null,null,null,null,null,null,null,null,null,null,null,null,"",null,null,null,null,null,null,null,null,null,null,null,null,null,null,null,null,null,null,null,null,null,null,null,null,null,null,"&allowhtml=false","pp://General Data/Name and surname of member of executive board 2?taxonomy=UKFRC&labellanguage=en&allowhtml=false"]
[{"$f":"\"\"&INDEX(PP_Locale,ROW(),PP_LanguageIndex)","v":"Title of member of executive board 2"},null,null,null,null,"PP_TitleOfMemberOfExecutiveBoard_2",null,null,null,null,"Title of member of executive board 2",null,null,"Direktionsmedlems titel 2",null,null,null,null,null,null,null,null,null,null,null,null,null,null,null,null,null,null,null,null,null,null,null,null,null,null,null,null,null,null,null,null,null,null,null,null,null,null,null,null,null,null,null,null,null,null,null,null,null,null,null,null,null,null,null,null,null,"",null,null,null,null,null,null,null,null,null,null,null,null,null,null,null,null,null,null,null,null,null,null,null,null,null,null,"&allowhtml=false","pp://General Data/Title of member of executive board 2?taxonomy=UKFRC&labellanguage=en&allowhtml=false"]
[{"$f":"\"\"&INDEX(PP_Locale,ROW(),PP_LanguageIndex)","v":"Description of member of executive board 2"},null,null,null,null,"PP_DescriptionOfMemberOfExecutiveBoard_2",null,null,null,null,"Description of member of executive board 2",null,null,"Direktionsmedlems beskrivelse 2",null,null,null,null,null,null,null,null,null,null,null,null,null,null,null,null,null,null,null,null,null,null,null,null,null,null,null,null,null,null,null,null,null,null,null,null,null,null,null,null,null,null,null,null,null,null,null,null,null,null,null,null,null,null,null,null,null,"",null,null,null,null,null,null,null,null,null,null,null,null,null,null,null,null,null,null,null,null,null,null,null,null,null,null,"&allowhtml=false","pp://General Data/Description of member of executive board 2?taxonomy=UKFRC&labellanguage=en&allowhtml=false"]
[{"$f":"\"\"&INDEX(PP_Locale,ROW(),PP_LanguageIndex)","v":"Name and surname of member of executive board 3"},null,null,null,null,"PP_NameAndSurnameOfMemberOfExecutiveBoard_3",null,null,null,null,"Name and surname of member of executive board 3",null,null,"Direktionsmedlems navn 3",null,null,null,null,null,null,null,null,null,null,null,null,null,null,null,null,null,null,null,null,null,null,null,null,null,null,null,null,null,null,null,null,null,null,null,null,null,null,null,null,null,null,null,null,null,null,null,null,null,null,null,null,null,null,null,null,null,"",null,null,null,null,null,null,null,null,null,null,null,null,null,null,null,null,null,null,null,null,null,null,null,null,null,null,"&allowhtml=false","pp://General Data/Name and surname of member of executive board 3?taxonomy=UKFRC&labellanguage=en&allowhtml=false"]
[{"$f":"\"\"&INDEX(PP_Locale,ROW(),PP_LanguageIndex)","v":"Title of member of executive board 3"},null,null,null,null,"PP_TitleOfMemberOfExecutiveBoard_3",null,null,null,null,"Title of member of executive board 3",null,null,"Direktionsmedlems titel 3",null,null,null,null,null,null,null,null,null,null,null,null,null,null,null,null,null,null,null,null,null,null,null,null,null,null,null,null,null,null,null,null,null,null,null,null,null,null,null,null,null,null,null,null,null,null,null,null,null,null,null,null,null,null,null,null,null,"",null,null,null,null,null,null,null,null,null,null,null,null,null,null,null,null,null,null,null,null,null,null,null,null,null,null,"&allowhtml=false","pp://General Data/Title of member of executive board 3?taxonomy=UKFRC&labellanguage=en&allowhtml=false"]
[{"$f":"\"\"&INDEX(PP_Locale,ROW(),PP_LanguageIndex)","v":"Description of member of executive board 3"},null,null,null,null,"PP_DescriptionOfMemberOfExecutiveBoard_3",null,null,null,null,"Description of member of executive board 3",null,null,"Direktionsmedlems beskrivelse 3",null,null,null,null,null,null,null,null,null,null,null,null,null,null,null,null,null,null,null,null,null,null,null,null,null,null,null,null,null,null,null,null,null,null,null,null,null,null,null,null,null,null,null,null,null,null,null,null,null,null,null,null,null,null,null,null,null,"",null,null,null,null,null,null,null,null,null,null,null,null,null,null,null,null,null,null,null,null,null,null,null,null,null,null,"&allowhtml=false","pp://General Data/Description of member of executive board 3?taxonomy=UKFRC&labellanguage=en&allowhtml=false"]
[{"$f":"\"\"&INDEX(PP_Locale,ROW(),PP_LanguageIndex)","v":"Name and surname of member of executive board 4"},null,null,null,null,"PP_NameAndSurnameOfMemberOfExecutiveBoard_4",null,null,null,null,"Name and surname of member of executive board 4",null,null,"Direktionsmedlems navn 4",null,null,null,null,null,null,null,null,null,null,null,null,null,null,null,null,null,null,null,null,null,null,null,null,null,null,null,null,null,null,null,null,null,null,null,null,null,null,null,null,null,null,null,null,null,null,null,null,null,null,null,null,null,null,null,null,null,"",null,null,null,null,null,null,null,null,null,null,null,null,null,null,null,null,null,null,null,null,null,null,null,null,null,null,"&allowhtml=false","pp://General Data/Name and surname of member of executive board 4?taxonomy=UKFRC&labellanguage=en&allowhtml=false"]
[{"$f":"\"\"&INDEX(PP_Locale,ROW(),PP_LanguageIndex)","v":"Title of member of executive board 4"},null,null,null,null,"PP_TitleOfMemberOfExecutiveBoard_4",null,null,null,null,"Title of member of executive board 4",null,null,"Direktionsmedlems titel 4",null,null,null,null,null,null,null,null,null,null,null,null,null,null,null,null,null,null,null,null,null,null,null,null,null,null,null,null,null,null,null,null,null,null,null,null,null,null,null,null,null,null,null,null,null,null,null,null,null,null,null,null,null,null,null,null,null,"",null,null,null,null,null,null,null,null,null,null,null,null,null,null,null,null,null,null,null,null,null,null,null,null,null,null,"&allowhtml=false","pp://General Data/Title of member of executive board 4?taxonomy=UKFRC&labellanguage=en&allowhtml=false"]
[{"$f":"\"\"&INDEX(PP_Locale,ROW(),PP_LanguageIndex)","v":"Description of member of executive board 4"},null,null,null,null,"PP_DescriptionOfMemberOfExecutiveBoard_4",null,null,null,null,"Description of member of executive board 4",null,null,"Direktionsmedlems beskrivelse 4",null,null,null,null,null,null,null,null,null,null,null,null,null,null,null,null,null,null,null,null,null,null,null,null,null,null,null,null,null,null,null,null,null,null,null,null,null,null,null,null,null,null,null,null,null,null,null,null,null,null,null,null,null,null,null,null,null,"",null,null,null,null,null,null,null,null,null,null,null,null,null,null,null,null,null,null,null,null,null,null,null,null,null,null,"&allowhtml=false","pp://General Data/Description of member of executive board 4?taxonomy=UKFRC&labellanguage=en&allowhtml=false"]
[{"$f":"\"\"&INDEX(PP_Locale,ROW(),PP_LanguageIndex)","v":"Name and surname of member of executive board 5"},null,null,null,null,"PP_NameAndSurnameOfMemberOfExecutiveBoard_5",null,null,null,null,"Name and surname of member of executive board 5",null,null,"Direktionsmedlems navn 5",null,null,null,null,null,null,null,null,null,null,null,null,null,null,null,null,null,null,null,null,null,null,null,null,null,null,null,null,null,null,null,null,null,null,null,null,null,null,null,null,null,null,null,null,null,null,null,null,null,null,null,null,null,null,null,null,null,"",null,null,null,null,null,null,null,null,null,null,null,null,null,null,null,null,null,null,null,null,null,null,null,null,null,null,"&allowhtml=false","pp://General Data/Name and surname of member of executive board 5?taxonomy=UKFRC&labellanguage=en&allowhtml=false"]
[{"$f":"\"\"&INDEX(PP_Locale,ROW(),PP_LanguageIndex)","v":"Title of member of executive board 5"},null,null,null,null,"PP_TitleOfMemberOfExecutiveBoard_5",null,null,null,null,"Title of member of executive board 5",null,null,"Direktionsmedlems titel 5",null,null,null,null,null,null,null,null,null,null,null,null,null,null,null,null,null,null,null,null,null,null,null,null,null,null,null,null,null,null,null,null,null,null,null,null,null,null,null,null,null,null,null,null,null,null,null,null,null,null,null,null,null,null,null,null,null,"",null,null,null,null,null,null,null,null,null,null,null,null,null,null,null,null,null,null,null,null,null,null,null,null,null,null,"&allowhtml=false","pp://General Data/Title of member of executive board 5?taxonomy=UKFRC&labellanguage=en&allowhtml=false"]
[{"$f":"\"\"&INDEX(PP_Locale,ROW(),PP_LanguageIndex)","v":"Description of member of executive board 5"},null,null,null,null,"PP_DescriptionOfMemberOfExecutiveBoard_5",null,null,null,null,"Description of member of executive board 5",null,null,"Direktionsmedlems beskrivelse 5",null,null,null,null,null,null,null,null,null,null,null,null,null,null,null,null,null,null,null,null,null,null,null,null,null,null,null,null,null,null,null,null,null,null,null,null,null,null,null,null,null,null,null,null,null,null,null,null,null,null,null,null,null,null,null,null,null,"",null,null,null,null,null,null,null,null,null,null,null,null,null,null,null,null,null,null,null,null,null,null,null,null,null,null,"&allowhtml=false","pp://General Data/Description of member of executive board 5?taxonomy=UKFRC&labellanguage=en&allowhtml=false"]
[{"$f":"\"\"&INDEX(PP_Locale,ROW(),PP_LanguageIndex)","v":"Name and surname of member of executive board 6"},null,null,null,null,"PP_NameAndSurnameOfMemberOfExecutiveBoard_6",null,null,null,null,"Name and surname of member of executive board 6",null,null,"Direktionsmedlems navn 6",null,null,null,null,null,null,null,null,null,null,null,null,null,null,null,null,null,null,null,null,null,null,null,null,null,null,null,null,null,null,null,null,null,null,null,null,null,null,null,null,null,null,null,null,null,null,null,null,null,null,null,null,null,null,null,null,null,"",null,null,null,null,null,null,null,null,null,null,null,null,null,null,null,null,null,null,null,null,null,null,null,null,null,null,"&allowhtml=false","pp://General Data/Name and surname of member of executive board 6?taxonomy=UKFRC&labellanguage=en&allowhtml=false"]
[{"$f":"\"\"&INDEX(PP_Locale,ROW(),PP_LanguageIndex)","v":"Title of member of executive board 6"},null,null,null,null,"PP_TitleOfMemberOfExecutiveBoard_6",null,null,null,null,"Title of member of executive board 6",null,null,"Direktionsmedlems titel 6",null,null,null,null,null,null,null,null,null,null,null,null,null,null,null,null,null,null,null,null,null,null,null,null,null,null,null,null,null,null,null,null,null,null,null,null,null,null,null,null,null,null,null,null,null,null,null,null,null,null,null,null,null,null,null,null,null,"",null,null,null,null,null,null,null,null,null,null,null,null,null,null,null,null,null,null,null,null,null,null,null,null,null,null,"&allowhtml=false","pp://General Data/Title of member of executive board 6?taxonomy=UKFRC&labellanguage=en&allowhtml=false"]
[{"$f":"\"\"&INDEX(PP_Locale,ROW(),PP_LanguageIndex)","v":"Description of member of executive board 6"},null,null,null,null,"PP_DescriptionOfMemberOfExecutiveBoard_6",null,null,null,null,"Description of member of executive board 6",null,null,"Direktionsmedlems beskrivelse 6",null,null,null,null,null,null,null,null,null,null,null,null,null,null,null,null,null,null,null,null,null,null,null,null,null,null,null,null,null,null,null,null,null,null,null,null,null,null,null,null,null,null,null,null,null,null,null,null,null,null,null,null,null,null,null,null,null,"",null,null,null,null,null,null,null,null,null,null,null,null,null,null,null,null,null,null,null,null,null,null,null,null,null,null,"&allowhtml=false","pp://General Data/Description of member of executive board 6?taxonomy=UKFRC&labellanguage=en&allowhtml=false"]
[{"$f":"\"\"&INDEX(PP_Locale,ROW(),PP_LanguageIndex)","v":"Name and surname of member of executive board 7"},null,null,null,null,"PP_NameAndSurnameOfMemberOfExecutiveBoard_7",null,null,null,null,"Name and surname of member of executive board 7",null,null,"Direktionsmedlems navn 7",null,null,null,null,null,null,null,null,null,null,null,null,null,null,null,null,null,null,null,null,null,null,null,null,null,null,null,null,null,null,null,null,null,null,null,null,null,null,null,null,null,null,null,null,null,null,null,null,null,null,null,null,null,null,null,null,null,"",null,null,null,null,null,null,null,null,null,null,null,null,null,null,null,null,null,null,null,null,null,null,null,null,null,null,"&allowhtml=false","pp://General Data/Name and surname of member of executive board 7?taxonomy=UKFRC&labellanguage=en&allowhtml=false"]
[{"$f":"\"\"&INDEX(PP_Locale,ROW(),PP_LanguageIndex)","v":"Title of member of executive board 7"},null,null,null,null,"PP_TitleOfMemberOfExecutiveBoard_7",null,null,null,null,"Title of member of executive board 7",null,null,"Direktionsmedlems titel 7",null,null,null,null,null,null,null,null,null,null,null,null,null,null,null,null,null,null,null,null,null,null,null,null,null,null,null,null,null,null,null,null,null,null,null,null,null,null,null,null,null,null,null,null,null,null,null,null,null,null,null,null,null,null,null,null,null,"",null,null,null,null,null,null,null,null,null,null,null,null,null,null,null,null,null,null,null,null,null,null,null,null,null,null,"&allowhtml=false","pp://General Data/Title of member of executive board 7?taxonomy=UKFRC&labellanguage=en&allowhtml=false"]
[{"$f":"\"\"&INDEX(PP_Locale,ROW(),PP_LanguageIndex)","v":"Description of member of executive board 7"},null,null,null,null,"PP_DescriptionOfMemberOfExecutiveBoard_7",null,null,null,null,"Description of member of executive board 7",null,null,"Direktionsmedlems beskrivelse 7",null,null,null,null,null,null,null,null,null,null,null,null,null,null,null,null,null,null,null,null,null,null,null,null,null,null,null,null,null,null,null,null,null,null,null,null,null,null,null,null,null,null,null,null,null,null,null,null,null,null,null,null,null,null,null,null,null,"",null,null,null,null,null,null,null,null,null,null,null,null,null,null,null,null,null,null,null,null,null,null,null,null,null,null,"&allowhtml=false","pp://General Data/Description of member of executive board 7?taxonomy=UKFRC&labellanguage=en&allowhtml=false"]
[{"$f":"\"\"&INDEX(PP_Locale,ROW(),PP_LanguageIndex)","v":"Name and surname of member of executive board 8"},null,null,null,null,"PP_NameAndSurnameOfMemberOfExecutiveBoard_8",null,null,null,null,"Name and surname of member of executive board 8",null,null,"Direktionsmedlems navn 8",null,null,null,null,null,null,null,null,null,null,null,null,null,null,null,null,null,null,null,null,null,null,null,null,null,null,null,null,null,null,null,null,null,null,null,null,null,null,null,null,null,null,null,null,null,null,null,null,null,null,null,null,null,null,null,null,null,"",null,null,null,null,null,null,null,null,null,null,null,null,null,null,null,null,null,null,null,null,null,null,null,null,null,null,"&allowhtml=false","pp://General Data/Name and surname of member of executive board 8?taxonomy=UKFRC&labellanguage=en&allowhtml=false"]
[{"$f":"\"\"&INDEX(PP_Locale,ROW(),PP_LanguageIndex)","v":"Title of member of executive board 8"},null,null,null,null,"PP_TitleOfMemberOfExecutiveBoard_8",null,null,null,null,"Title of member of executive board 8",null,null,"Direktionsmedlems titel 8",null,null,null,null,null,null,null,null,null,null,null,null,null,null,null,null,null,null,null,null,null,null,null,null,null,null,null,null,null,null,null,null,null,null,null,null,null,null,null,null,null,null,null,null,null,null,null,null,null,null,null,null,null,null,null,null,null,"",null,null,null,null,null,null,null,null,null,null,null,null,null,null,null,null,null,null,null,null,null,null,null,null,null,null,"&allowhtml=false","pp://General Data/Title of member of executive board 8?taxonomy=UKFRC&labellanguage=en&allowhtml=false"]
[{"$f":"\"\"&INDEX(PP_Locale,ROW(),PP_LanguageIndex)","v":"Description of member of executive board 8"},null,null,null,null,"PP_DescriptionOfMemberOfExecutiveBoard_8",null,null,null,null,"Description of member of executive board 8",null,null,"Direktionsmedlems beskrivelse 8",null,null,null,null,null,null,null,null,null,null,null,null,null,null,null,null,null,null,null,null,null,null,null,null,null,null,null,null,null,null,null,null,null,null,null,null,null,null,null,null,null,null,null,null,null,null,null,null,null,null,null,null,null,null,null,null,null,"",null,null,null,null,null,null,null,null,null,null,null,null,null,null,null,null,null,null,null,null,null,null,null,null,null,null,"&allowhtml=false","pp://General Data/Description of member of executive board 8?taxonomy=UKFRC&labellanguage=en&allowhtml=false"]
[]
[{"$f":"\"\"&INDEX(PP_Locale,ROW(),PP_LanguageIndex)","v":"Supervisory board:"},null,null,null,null,null,null,null,null,null,"Supervisory board:",null,null,"Bestyrelse:"]
[{"$f":"\"\"&INDEX(PP_Locale,ROW(),PP_LanguageIndex)","v":"Name and surname of member of supervisory board 1"},null,null,null,null,"PP_NameAndSurnameOfMemberOfSupervisoryBoard_1",null,null,null,null,"Name and surname of member of supervisory board 1",null,null,"Bestyrelsesmedlems navn 1",null,null,null,null,null,null,null,null,null,null,null,null,null,null,null,null,null,null,null,null,null,null,null,null,null,null,null,null,null,null,null,null,null,null,null,null,null,null,null,null,null,null,null,null,null,null,null,null,null,null,null,null,null,null,null,null,null,{"$f":"\"\"&B107","v":""},null,null,null,null,null,null,null,null,null,null,null,null,null,null,null,null,null,null,null,null,null,null,null,null,null,null,"&allowhtml=false",{"$f":"\"pp://General Data/\"&K107&\"?taxonomy=\"&PP_TaxonomyId&\"&labellanguage=en\"&CU107","v":"pp://General Data/Name and surname of member of supervisory board 1?taxonomy=UKFRC&labellanguage=en&allowhtml=false"}]
[{"$f":"\"\"&INDEX(PP_Locale,ROW(),PP_LanguageIndex)","v":"Title of member of supervisory board 1"},null,null,null,null,"PP_TitleOfMemberOfSupervisoryBoard_1",null,null,null,null,"Title of member of supervisory board 1",null,null,"Bestyrelsesmedlems titel 1",null,null,null,null,null,null,null,null,null,null,null,null,null,null,null,null,null,null,null,null,null,null,null,null,null,null,null,null,null,null,null,null,null,null,null,null,null,null,null,null,null,null,null,null,null,null,null,null,null,null,null,null,null,null,null,null,null,"",null,null,null,null,null,null,null,null,null,null,null,null,null,null,null,null,null,null,null,null,null,null,null,null,null,null,"&allowhtml=false","pp://General Data/Title of member of supervisory board 1?taxonomy=UKFRC&labellanguage=en&allowhtml=false"]
[{"$f":"\"\"&INDEX(PP_Locale,ROW(),PP_LanguageIndex)","v":"Description of member of supervisory board 1"},null,null,null,null,"PP_DescriptionOfMemberOfSupervisoryBoard_1",null,null,null,null,"Description of member of supervisory board 1",null,null,"Bestyrelsesmedlems beskrivelse 1",null,null,null,null,null,null,null,null,null,null,null,null,null,null,null,null,null,null,null,null,null,null,null,null,null,null,null,null,null,null,null,null,null,null,null,null,null,null,null,null,null,null,null,null,null,null,null,null,null,null,null,null,null,null,null,null,null,"",null,null,null,null,null,null,null,null,null,null,null,null,null,null,null,null,null,null,null,null,null,null,null,null,null,null,"&allowhtml=false","pp://General Data/Description of member of supervisory board 1?taxonomy=UKFRC&labellanguage=en&allowhtml=false"]
[{"$f":"\"\"&INDEX(PP_Locale,ROW(),PP_LanguageIndex)","v":"Name and surname of member of supervisory board 2"},null,null,null,null,"PP_NameAndSurnameOfMemberOfSupervisoryBoard_2",null,null,null,null,"Name and surname of member of supervisory board 2",null,null,"Bestyrelsesmedlems navn 2",null,null,null,null,null,null,null,null,null,null,null,null,null,null,null,null,null,null,null,null,null,null,null,null,null,null,null,null,null,null,null,null,null,null,null,null,null,null,null,null,null,null,null,null,null,null,null,null,null,null,null,null,null,null,null,null,null,"",null,null,null,null,null,null,null,null,null,null,null,null,null,null,null,null,null,null,null,null,null,null,null,null,null,null,"&allowhtml=false","pp://General Data/Name and surname of member of supervisory board 2?taxonomy=UKFRC&labellanguage=en&allowhtml=false"]
[{"$f":"\"\"&INDEX(PP_Locale,ROW(),PP_LanguageIndex)","v":"Title of member of supervisory board 2"},null,null,null,null,"PP_TitleOfMemberOfSupervisoryBoard_2",null,null,null,null,"Title of member of supervisory board 2",null,null,"Bestyrelsesmedlems titel 2",null,null,null,null,null,null,null,null,null,null,null,null,null,null,null,null,null,null,null,null,null,null,null,null,null,null,null,null,null,null,null,null,null,null,null,null,null,null,null,null,null,null,null,null,null,null,null,null,null,null,null,null,null,null,null,null,null,"",null,null,null,null,null,null,null,null,null,null,null,null,null,null,null,null,null,null,null,null,null,null,null,null,null,null,"&allowhtml=false","pp://General Data/Title of member of supervisory board 2?taxonomy=UKFRC&labellanguage=en&allowhtml=false"]
[{"$f":"\"\"&INDEX(PP_Locale,ROW(),PP_LanguageIndex)","v":"Description of member of supervisory board 2"},null,null,null,null,"PP_DescriptionOfMemberOfSupervisoryBoard_2",null,null,null,null,"Description of member of supervisory board 2",null,null,"Bestyrelsesmedlems beskrivelse 2",null,null,null,null,null,null,null,null,null,null,null,null,null,null,null,null,null,null,null,null,null,null,null,null,null,null,null,null,null,null,null,null,null,null,null,null,null,null,null,null,null,null,null,null,null,null,null,null,null,null,null,null,null,null,null,null,null,"",null,null,null,null,null,null,null,null,null,null,null,null,null,null,null,null,null,null,null,null,null,null,null,null,null,null,"&allowhtml=false","pp://General Data/Description of member of supervisory board 2?taxonomy=UKFRC&labellanguage=en&allowhtml=false"]
[{"$f":"\"\"&INDEX(PP_Locale,ROW(),PP_LanguageIndex)","v":"Name and surname of member of supervisory board 3"},null,null,null,null,"PP_NameAndSurnameOfMemberOfSupervisoryBoard_3",null,null,null,null,"Name and surname of member of supervisory board 3",null,null,"Bestyrelsesmedlems navn 3",null,null,null,null,null,null,null,null,null,null,null,null,null,null,null,null,null,null,null,null,null,null,null,null,null,null,null,null,null,null,null,null,null,null,null,null,null,null,null,null,null,null,null,null,null,null,null,null,null,null,null,null,null,null,null,null,null,"",null,null,null,null,null,null,null,null,null,null,null,null,null,null,null,null,null,null,null,null,null,null,null,null,null,null,"&allowhtml=false","pp://General Data/Name and surname of member of supervisory board 3?taxonomy=UKFRC&labellanguage=en&allowhtml=false"]
[{"$f":"\"\"&INDEX(PP_Locale,ROW(),PP_LanguageIndex)","v":"Title of member of supervisory board 3"},null,null,null,null,"PP_TitleOfMemberOfSupervisoryBoard_3",null,null,null,null,"Title of member of supervisory board 3",null,null,"Bestyrelsesmedlems titel 3",null,null,null,null,null,null,null,null,null,null,null,null,null,null,null,null,null,null,null,null,null,null,null,null,null,null,null,null,null,null,null,null,null,null,null,null,null,null,null,null,null,null,null,null,null,null,null,null,null,null,null,null,null,null,null,null,null,"",null,null,null,null,null,null,null,null,null,null,null,null,null,null,null,null,null,null,null,null,null,null,null,null,null,null,"&allowhtml=false","pp://General Data/Title of member of supervisory board 3?taxonomy=UKFRC&labellanguage=en&allowhtml=false"]
[{"$f":"\"\"&INDEX(PP_Locale,ROW(),PP_LanguageIndex)","v":"Description of member of supervisory board 3"},null,null,null,null,"PP_DescriptionOfMemberOfSupervisoryBoard_3",null,null,null,null,"Description of member of supervisory board 3",null,null,"Bestyrelsesmedlems beskrivelse 3",null,null,null,null,null,null,null,null,null,null,null,null,null,null,null,null,null,null,null,null,null,null,null,null,null,null,null,null,null,null,null,null,null,null,null,null,null,null,null,null,null,null,null,null,null,null,null,null,null,null,null,null,null,null,null,null,null,"",null,null,null,null,null,null,null,null,null,null,null,null,null,null,null,null,null,null,null,null,null,null,null,null,null,null,"&allowhtml=false","pp://General Data/Description of member of supervisory board 3?taxonomy=UKFRC&labellanguage=en&allowhtml=false"]
[{"$f":"\"\"&INDEX(PP_Locale,ROW(),PP_LanguageIndex)","v":"Name and surname of member of supervisory board 4"},null,null,null,null,"PP_NameAndSurnameOfMemberOfSupervisoryBoard_4",null,null,null,null,"Name and surname of member of supervisory board 4",null,null,"Bestyrelsesmedlems navn 4",null,null,null,null,null,null,null,null,null,null,null,null,null,null,null,null,null,null,null,null,null,null,null,null,null,null,null,null,null,null,null,null,null,null,null,null,null,null,null,null,null,null,null,null,null,null,null,null,null,null,null,null,null,null,null,null,null,"",null,null,null,null,null,null,null,null,null,null,null,null,null,null,null,null,null,null,null,null,null,null,null,null,null,null,"&allowhtml=false","pp://General Data/Name and surname of member of supervisory board 4?taxonomy=UKFRC&labellanguage=en&allowhtml=false"]
[{"$f":"\"\"&INDEX(PP_Locale,ROW(),PP_LanguageIndex)","v":"Title of member of supervisory board 4"},null,null,null,null,"PP_TitleOfMemberOfSupervisoryBoard_4",null,null,null,null,"Title of member of supervisory board 4",null,null,"Bestyrelsesmedlems titel 4",null,null,null,null,null,null,null,null,null,null,null,null,null,null,null,null,null,null,null,null,null,null,null,null,null,null,null,null,null,null,null,null,null,null,null,null,null,null,null,null,null,null,null,null,null,null,null,null,null,null,null,null,null,null,null,null,null,"",null,null,null,null,null,null,null,null,null,null,null,null,null,null,null,null,null,null,null,null,null,null,null,null,null,null,"&allowhtml=false","pp://General Data/Title of member of supervisory board 4?taxonomy=UKFRC&labellanguage=en&allowhtml=false"]
[{"$f":"\"\"&INDEX(PP_Locale,ROW(),PP_LanguageIndex)","v":"Description of member of supervisory board 4"},null,null,null,null,"PP_DescriptionOfMemberOfSupervisoryBoard_4",null,null,null,null,"Description of member of supervisory board 4",null,null,"Bestyrelsesmedlems beskrivelse 4",null,null,null,null,null,null,null,null,null,null,null,null,null,null,null,null,null,null,null,null,null,null,null,null,null,null,null,null,null,null,null,null,null,null,null,null,null,null,null,null,null,null,null,null,null,null,null,null,null,null,null,null,null,null,null,null,null,"",null,null,null,null,null,null,null,null,null,null,null,null,null,null,null,null,null,null,null,null,null,null,null,null,null,null,"&allowhtml=false","pp://General Data/Description of member of supervisory board 4?taxonomy=UKFRC&labellanguage=en&allowhtml=false"]
[{"$f":"\"\"&INDEX(PP_Locale,ROW(),PP_LanguageIndex)","v":"Name and surname of member of supervisory board 5"},null,null,null,null,"PP_NameAndSurnameOfMemberOfSupervisoryBoard_5",null,null,null,null,"Name and surname of member of supervisory board 5",null,null,"Bestyrelsesmedlems navn 5",null,null,null,null,null,null,null,null,null,null,null,null,null,null,null,null,null,null,null,null,null,null,null,null,null,null,null,null,null,null,null,null,null,null,null,null,null,null,null,null,null,null,null,null,null,null,null,null,null,null,null,null,null,null,null,null,null,"",null,null,null,null,null,null,null,null,null,null,null,null,null,null,null,null,null,null,null,null,null,null,null,null,null,null,"&allowhtml=false","pp://General Data/Name and surname of member of supervisory board 5?taxonomy=UKFRC&labellanguage=en&allowhtml=false"]
[{"$f":"\"\"&INDEX(PP_Locale,ROW(),PP_LanguageIndex)","v":"Title of member of supervisory board 5"},null,null,null,null,"PP_TitleOfMemberOfSupervisoryBoard_5",null,null,null,null,"Title of member of supervisory board 5",null,null,"Bestyrelsesmedlems titel 5",null,null,null,null,null,null,null,null,null,null,null,null,null,null,null,null,null,null,null,null,null,null,null,null,null,null,null,null,null,null,null,null,null,null,null,null,null,null,null,null,null,null,null,null,null,null,null,null,null,null,null,null,null,null,null,null,null,"",null,null,null,null,null,null,null,null,null,null,null,null,null,null,null,null,null,null,null,null,null,null,null,null,null,null,"&allowhtml=false","pp://General Data/Title of member of supervisory board 5?taxonomy=UKFRC&labellanguage=en&allowhtml=false"]
[{"$f":"\"\"&INDEX(PP_Locale,ROW(),PP_LanguageIndex)","v":"Description of member of supervisory board 5"},null,null,null,null,"PP_DescriptionOfMemberOfSupervisoryBoard_5",null,null,null,null,"Description of member of supervisory board 5",null,null,"Bestyrelsesmedlems beskrivelse 5",null,null,null,null,null,null,null,null,null,null,null,null,null,null,null,null,null,null,null,null,null,null,null,null,null,null,null,null,null,null,null,null,null,null,null,null,null,null,null,null,null,null,null,null,null,null,null,null,null,null,null,null,null,null,null,null,null,"",null,null,null,null,null,null,null,null,null,null,null,null,null,null,null,null,null,null,null,null,null,null,null,null,null,null,"&allowhtml=false","pp://General Data/Description of member of supervisory board 5?taxonomy=UKFRC&labellanguage=en&allowhtml=false"]
[{"$f":"\"\"&INDEX(PP_Locale,ROW(),PP_LanguageIndex)","v":"Name and surname of member of supervisory board 6"},null,null,null,null,"PP_NameAndSurnameOfMemberOfSupervisoryBoard_6",null,null,null,null,"Name and surname of member of supervisory board 6",null,null,"Bestyrelsesmedlems navn 6",null,null,null,null,null,null,null,null,null,null,null,null,null,null,null,null,null,null,null,null,null,null,null,null,null,null,null,null,null,null,null,null,null,null,null,null,null,null,null,null,null,null,null,null,null,null,null,null,null,null,null,null,null,null,null,null,null,"",null,null,null,null,null,null,null,null,null,null,null,null,null,null,null,null,null,null,null,null,null,null,null,null,null,null,"&allowhtml=false","pp://General Data/Name and surname of member of supervisory board 6?taxonomy=UKFRC&labellanguage=en&allowhtml=false"]
[{"$f":"\"\"&INDEX(PP_Locale,ROW(),PP_LanguageIndex)","v":"Title of member of supervisory board 6"},null,null,null,null,"PP_TitleOfMemberOfSupervisoryBoard_6",null,null,null,null,"Title of member of supervisory board 6",null,null,"Bestyrelsesmedlems titel 6",null,null,null,null,null,null,null,null,null,null,null,null,null,null,null,null,null,null,null,null,null,null,null,null,null,null,null,null,null,null,null,null,null,null,null,null,null,null,null,null,null,null,null,null,null,null,null,null,null,null,null,null,null,null,null,null,null,"",null,null,null,null,null,null,null,null,null,null,null,null,null,null,null,null,null,null,null,null,null,null,null,null,null,null,"&allowhtml=false","pp://General Data/Title of member of supervisory board 6?taxonomy=UKFRC&labellanguage=en&allowhtml=false"]
[{"$f":"\"\"&INDEX(PP_Locale,ROW(),PP_LanguageIndex)","v":"Description of member of supervisory board 6"},null,null,null,null,"PP_DescriptionOfMemberOfSupervisoryBoard_6",null,null,null,null,"Description of member of supervisory board 6",null,null,"Bestyrelsesmedlems beskrivelse 6",null,null,null,null,null,null,null,null,null,null,null,null,null,null,null,null,null,null,null,null,null,null,null,null,null,null,null,null,null,null,null,null,null,null,null,null,null,null,null,null,null,null,null,null,null,null,null,null,null,null,null,null,null,null,null,null,null,"",null,null,null,null,null,null,null,null,null,null,null,null,null,null,null,null,null,null,null,null,null,null,null,null,null,null,"&allowhtml=false","pp://General Data/Description of member of supervisory board 6?taxonomy=UKFRC&labellanguage=en&allowhtml=false"]
[{"$f":"\"\"&INDEX(PP_Locale,ROW(),PP_LanguageIndex)","v":"Name and surname of member of supervisory board 7"},null,null,null,null,"PP_NameAndSurnameOfMemberOfSupervisoryBoard_7",null,null,null,null,"Name and surname of member of supervisory board 7",null,null,"Bestyrelsesmedlems navn 7",null,null,null,null,null,null,null,null,null,null,null,null,null,null,null,null,null,null,null,null,null,null,null,null,null,null,null,null,null,null,null,null,null,null,null,null,null,null,null,null,null,null,null,null,null,null,null,null,null,null,null,null,null,null,null,null,null,"",null,null,null,null,null,null,null,null,null,null,null,null,null,null,null,null,null,null,null,null,null,null,null,null,null,null,"&allowhtml=false","pp://General Data/Name and surname of member of supervisory board 7?taxonomy=UKFRC&labellanguage=en&allowhtml=false"]
[{"$f":"\"\"&INDEX(PP_Locale,ROW(),PP_LanguageIndex)","v":"Title of member of supervisory board 7"},null,null,null,null,"PP_TitleOfMemberOfSupervisoryBoard_7",null,null,null,null,"Title of member of supervisory board 7",null,null,"Bestyrelsesmedlems titel 7",null,null,null,null,null,null,null,null,null,null,null,null,null,null,null,null,null,null,null,null,null,null,null,null,null,null,null,null,null,null,null,null,null,null,null,null,null,null,null,null,null,null,null,null,null,null,null,null,null,null,null,null,null,null,null,null,null,"",null,null,null,null,null,null,null,null,null,null,null,null,null,null,null,null,null,null,null,null,null,null,null,null,null,null,"&allowhtml=false","pp://General Data/Title of member of supervisory board 7?taxonomy=UKFRC&labellanguage=en&allowhtml=false"]
[{"$f":"\"\"&INDEX(PP_Locale,ROW(),PP_LanguageIndex)","v":"Description of member of supervisory board 7"},null,null,null,null,"PP_DescriptionOfMemberOfSupervisoryBoard_7",null,null,null,null,"Description of member of supervisory board 7",null,null,"Bestyrelsesmedlems beskrivelse 7",null,null,null,null,null,null,null,null,null,null,null,null,null,null,null,null,null,null,null,null,null,null,null,null,null,null,null,null,null,null,null,null,null,null,null,null,null,null,null,null,null,null,null,null,null,null,null,null,null,null,null,null,null,null,null,null,null,"",null,null,null,null,null,null,null,null,null,null,null,null,null,null,null,null,null,null,null,null,null,null,null,null,null,null,"&allowhtml=false","pp://General Data/Description of member of supervisory board 7?taxonomy=UKFRC&labellanguage=en&allowhtml=false"]
[{"$f":"\"\"&INDEX(PP_Locale,ROW(),PP_LanguageIndex)","v":"Name and surname of member of supervisory board 8"},null,null,null,null,"PP_NameAndSurnameOfMemberOfSupervisoryBoard_8",null,null,null,null,"Name and surname of member of supervisory board 8",null,null,"Bestyrelsesmedlems navn 8",null,null,null,null,null,null,null,null,null,null,null,null,null,null,null,null,null,null,null,null,null,null,null,null,null,null,null,null,null,null,null,null,null,null,null,null,null,null,null,null,null,null,null,null,null,null,null,null,null,null,null,null,null,null,null,null,null,"",null,null,null,null,null,null,null,null,null,null,null,null,null,null,null,null,null,null,null,null,null,null,null,null,null,null,"&allowhtml=false","pp://General Data/Name and surname of member of supervisory board 8?taxonomy=UKFRC&labellanguage=en&allowhtml=false"]
[{"$f":"\"\"&INDEX(PP_Locale,ROW(),PP_LanguageIndex)","v":"Title of member of supervisory board 8"},null,null,null,null,"PP_TitleOfMemberOfSupervisoryBoard_8",null,null,null,null,"Title of member of supervisory board 8",null,null,"Bestyrelsesmedlems titel 8",null,null,null,null,null,null,null,null,null,null,null,null,null,null,null,null,null,null,null,null,null,null,null,null,null,null,null,null,null,null,null,null,null,null,null,null,null,null,null,null,null,null,null,null,null,null,null,null,null,null,null,null,null,null,null,null,null,"",null,null,null,null,null,null,null,null,null,null,null,null,null,null,null,null,null,null,null,null,null,null,null,null,null,null,"&allowhtml=false","pp://General Data/Title of member of supervisory board 8?taxonomy=UKFRC&labellanguage=en&allowhtml=false"]
[{"$f":"\"\"&INDEX(PP_Locale,ROW(),PP_LanguageIndex)","v":"Description of member of supervisory board 8"},null,null,null,null,"PP_DescriptionOfMemberOfSupervisoryBoard_8",null,null,null,null,"Description of member of supervisory board 8",null,null,"Bestyrelsesmedlems beskrivelse 8",null,null,null,null,null,null,null,null,null,null,null,null,null,null,null,null,null,null,null,null,null,null,null,null,null,null,null,null,null,null,null,null,null,null,null,null,null,null,null,null,null,null,null,null,null,null,null,null,null,null,null,null,null,null,null,null,null,"",null,null,null,null,null,null,null,null,null,null,null,null,null,null,null,null,null,null,null,null,null,null,null,null,null,null,"&allowhtml=false","pp://General Data/Description of member of supervisory board 8?taxonomy=UKFRC&labellanguage=en&allowhtml=false"]
[{"$f":"\"\"&INDEX(PP_Locale,ROW(),PP_LanguageIndex)","v":"Name and surname of member of supervisory board 9"},null,null,null,null,"PP_NameAndSurnameOfMemberOfSupervisoryBoard_9",null,null,null,null,"Name and surname of member of supervisory board 9",null,null,"Bestyrelsesmedlems navn 9",null,null,null,null,null,null,null,null,null,null,null,null,null,null,null,null,null,null,null,null,null,null,null,null,null,null,null,null,null,null,null,null,null,null,null,null,null,null,null,null,null,null,null,null,null,null,null,null,null,null,null,null,null,null,null,null,null,"",null,null,null,null,null,null,null,null,null,null,null,null,null,null,null,null,null,null,null,null,null,null,null,null,null,null,"&allowhtml=false","pp://General Data/Name and surname of member of supervisory board 9?taxonomy=UKFRC&labellanguage=en&allowhtml=false"]
[{"$f":"\"\"&INDEX(PP_Locale,ROW(),PP_LanguageIndex)","v":"Title of member of supervisory board 9"},null,null,null,null,"PP_TitleOfMemberOfSupervisoryBoard_9",null,null,null,null,"Title of member of supervisory board 9",null,null,"Bestyrelsesmedlems titel 9",null,null,null,null,null,null,null,null,null,null,null,null,null,null,null,null,null,null,null,null,null,null,null,null,null,null,null,null,null,null,null,null,null,null,null,null,null,null,null,null,null,null,null,null,null,null,null,null,null,null,null,null,null,null,null,null,null,"",null,null,null,null,null,null,null,null,null,null,null,null,null,null,null,null,null,null,null,null,null,null,null,null,null,null,"&allowhtml=false","pp://General Data/Title of member of supervisory board 9?taxonomy=UKFRC&labellanguage=en&allowhtml=false"]
[{"$f":"\"\"&INDEX(PP_Locale,ROW(),PP_LanguageIndex)","v":"Description of member of supervisory board 9"},null,null,null,null,"PP_DescriptionOfMemberOfSupervisoryBoard_9",null,null,null,null,"Description of member of supervisory board 9",null,null,"Bestyrelsesmedlems beskrivelse 9",null,null,null,null,null,null,null,null,null,null,null,null,null,null,null,null,null,null,null,null,null,null,null,null,null,null,null,null,null,null,null,null,null,null,null,null,null,null,null,null,null,null,null,null,null,null,null,null,null,null,null,null,null,null,null,null,null,"",null,null,null,null,null,null,null,null,null,null,null,null,null,null,null,null,null,null,null,null,null,null,null,null,null,null,"&allowhtml=false","pp://General Data/Description of member of supervisory board 9?taxonomy=UKFRC&labellanguage=en&allowhtml=false"]
[{"$f":"\"\"&INDEX(PP_Locale,ROW(),PP_LanguageIndex)","v":"Name and surname of member of supervisory board 10"},null,null,null,null,"PP_NameAndSurnameOfMemberOfSupervisoryBoard_10",null,null,null,null,"Name and surname of member of supervisory board 10",null,null,"Bestyrelsesmedlems navn 10",null,null,null,null,null,null,null,null,null,null,null,null,null,null,null,null,null,null,null,null,null,null,null,null,null,null,null,null,null,null,null,null,null,null,null,null,null,null,null,null,null,null,null,null,null,null,null,null,null,null,null,null,null,null,null,null,null,"",null,null,null,null,null,null,null,null,null,null,null,null,null,null,null,null,null,null,null,null,null,null,null,null,null,null,"&allowhtml=false","pp://General Data/Name and surname of member of supervisory board 10?taxonomy=UKFRC&labellanguage=en&allowhtml=false"]
[{"$f":"\"\"&INDEX(PP_Locale,ROW(),PP_LanguageIndex)","v":"Title of member of supervisory board 10"},null,null,null,null,"PP_TitleOfMemberOfSupervisoryBoard_10",null,null,null,null,"Title of member of supervisory board 10",null,null,"Bestyrelsesmedlems titel 10",null,null,null,null,null,null,null,null,null,null,null,null,null,null,null,null,null,null,null,null,null,null,null,null,null,null,null,null,null,null,null,null,null,null,null,null,null,null,null,null,null,null,null,null,null,null,null,null,null,null,null,null,null,null,null,null,null,"",null,null,null,null,null,null,null,null,null,null,null,null,null,null,null,null,null,null,null,null,null,null,null,null,null,null,"&allowhtml=false","pp://General Data/Title of member of supervisory board 10?taxonomy=UKFRC&labellanguage=en&allowhtml=false"]
[{"$f":"\"\"&INDEX(PP_Locale,ROW(),PP_LanguageIndex)","v":"Description of member of supervisory board 10"},null,null,null,null,"PP_DescriptionOfMemberOfSupervisoryBoard_10",null,null,null,null,"Description of member of supervisory board 10",null,null,"Bestyrelsesmedlems beskrivelse 10",null,null,null,null,null,null,null,null,null,null,null,null,null,null,null,null,null,null,null,null,null,null,null,null,null,null,null,null,null,null,null,null,null,null,null,null,null,null,null,null,null,null,null,null,null,null,null,null,null,null,null,null,null,null,null,null,null,"",null,null,null,null,null,null,null,null,null,null,null,null,null,null,null,null,null,null,null,null,null,null,null,null,null,null,"&allowhtml=false","pp://General Data/Description of member of supervisory board 10?taxonomy=UKFRC&labellanguage=en&allowhtml=false"]
[{"$f":"\"\"&INDEX(PP_Locale,ROW(),PP_LanguageIndex)","v":"Name and surname of member of supervisory board 11"},null,null,null,null,"PP_NameAndSurnameOfMemberOfSupervisoryBoard_11",null,null,null,null,"Name and surname of member of supervisory board 11",null,null,"Bestyrelsesmedlems navn 11",null,null,null,null,null,null,null,null,null,null,null,null,null,null,null,null,null,null,null,null,null,null,null,null,null,null,null,null,null,null,null,null,null,null,null,null,null,null,null,null,null,null,null,null,null,null,null,null,null,null,null,null,null,null,null,null,null,"",null,null,null,null,null,null,null,null,null,null,null,null,null,null,null,null,null,null,null,null,null,null,null,null,null,null,"&allowhtml=false","pp://General Data/Name and surname of member of supervisory board 11?taxonomy=UKFRC&labellanguage=en&allowhtml=false"]
[{"$f":"\"\"&INDEX(PP_Locale,ROW(),PP_LanguageIndex)","v":"Title of member of supervisory board 11"},null,null,null,null,"PP_TitleOfMemberOfSupervisoryBoard_11",null,null,null,null,"Title of member of supervisory board 11",null,null,"Bestyrelsesmedlems titel 11",null,null,null,null,null,null,null,null,null,null,null,null,null,null,null,null,null,null,null,null,null,null,null,null,null,null,null,null,null,null,null,null,null,null,null,null,null,null,null,null,null,null,null,null,null,null,null,null,null,null,null,null,null,null,null,null,null,"",null,null,null,null,null,null,null,null,null,null,null,null,null,null,null,null,null,null,null,null,null,null,null,null,null,null,"&allowhtml=false","pp://General Data/Title of member of supervisory board 11?taxonomy=UKFRC&labellanguage=en&allowhtml=false"]
[{"$f":"\"\"&INDEX(PP_Locale,ROW(),PP_LanguageIndex)","v":"Description of member of supervisory board 11"},null,null,null,null,"PP_DescriptionOfMemberOfSupervisoryBoard_11",null,null,null,null,"Description of member of supervisory board 11",null,null,"Bestyrelsesmedlems beskrivelse 11",null,null,null,null,null,null,null,null,null,null,null,null,null,null,null,null,null,null,null,null,null,null,null,null,null,null,null,null,null,null,null,null,null,null,null,null,null,null,null,null,null,null,null,null,null,null,null,null,null,null,null,null,null,null,null,null,null,"",null,null,null,null,null,null,null,null,null,null,null,null,null,null,null,null,null,null,null,null,null,null,null,null,null,null,"&allowhtml=false",{"$f":"\"pp://General Data/\"&K139&\"?taxonomy=\"&PP_TaxonomyId&\"&labellanguage=en\"&CU139","v":"pp://General Data/Description of member of supervisory board 11?taxonomy=UKFRC&labellanguage=en&allowhtml=false"}]
[{"$f":"\"\"&INDEX(PP_Locale,ROW(),PP_LanguageIndex)","v":"Name and surname of member of supervisory board 12"},null,null,null,null,"PP_NameAndSurnameOfMemberOfSupervisoryBoard_12",null,null,null,null,"Name and surname of member of supervisory board 12",null,null,"Bestyrelsesmedlems navn 12",null,null,null,null,null,null,null,null,null,null,null,null,null,null,null,null,null,null,null,null,null,null,null,null,null,null,null,null,null,null,null,null,null,null,null,null,null,null,null,null,null,null,null,null,null,null,null,null,null,null,null,null,null,null,null,null,null,"",null,null,null,null,null,null,null,null,null,null,null,null,null,null,null,null,null,null,null,null,null,null,null,null,null,null,"&allowhtml=false","pp://General Data/Name and surname of member of supervisory board 12?taxonomy=UKFRC&labellanguage=en&allowhtml=false"]
[{"$f":"\"\"&INDEX(PP_Locale,ROW(),PP_LanguageIndex)","v":"Title of member of supervisory board 12"},null,null,null,null,"PP_TitleOfMemberOfSupervisoryBoard_12",null,null,null,null,"Title of member of supervisory board 12",null,null,"Bestyrelsesmedlems titel 12",null,null,null,null,null,null,null,null,null,null,null,null,null,null,null,null,null,null,null,null,null,null,null,null,null,null,null,null,null,null,null,null,null,null,null,null,null,null,null,null,null,null,null,null,null,null,null,null,null,null,null,null,null,null,null,null,null,"",null,null,null,null,null,null,null,null,null,null,null,null,null,null,null,null,null,null,null,null,null,null,null,null,null,null,"&allowhtml=false","pp://General Data/Title of member of supervisory board 12?taxonomy=UKFRC&labellanguage=en&allowhtml=false"]
[{"$f":"\"\"&INDEX(PP_Locale,ROW(),PP_LanguageIndex)","v":"Description of member of supervisory board 12"},null,null,null,null,"PP_DescriptionOfMemberOfSupervisoryBoard_12",null,null,null,null,"Description of member of supervisory board 12",null,null,"Bestyrelsesmedlems beskrivelse 12",null,null,null,null,null,null,null,null,null,null,null,null,null,null,null,null,null,null,null,null,null,null,null,null,null,null,null,null,null,null,null,null,null,null,null,null,null,null,null,null,null,null,null,null,null,null,null,null,null,null,null,null,null,null,null,null,null,"",null,null,null,null,null,null,null,null,null,null,null,null,null,null,null,null,null,null,null,null,null,null,null,null,null,null,"&allowhtml=false","pp://General Data/Description of member of supervisory board 12?taxonomy=UKFRC&labellanguage=en&allowhtml=false"]
[{"$f":"\"\"&INDEX(PP_Locale,ROW(),PP_LanguageIndex)","v":"Name and surname of member of supervisory board 13"},null,null,null,null,"PP_NameAndSurnameOfMemberOfSupervisoryBoard_13",null,null,null,null,"Name and surname of member of supervisory board 13",null,null,"Bestyrelsesmedlems navn 13",null,null,null,null,null,null,null,null,null,null,null,null,null,null,null,null,null,null,null,null,null,null,null,null,null,null,null,null,null,null,null,null,null,null,null,null,null,null,null,null,null,null,null,null,null,null,null,null,null,null,null,null,null,null,null,null,null,"",null,null,null,null,null,null,null,null,null,null,null,null,null,null,null,null,null,null,null,null,null,null,null,null,null,null,"&allowhtml=false","pp://General Data/Name and surname of member of supervisory board 13?taxonomy=UKFRC&labellanguage=en&allowhtml=false"]
[{"$f":"\"\"&INDEX(PP_Locale,ROW(),PP_LanguageIndex)","v":"Title of member of supervisory board 13"},null,null,null,null,"PP_TitleOfMemberOfSupervisoryBoard_13",null,null,null,null,"Title of member of supervisory board 13",null,null,"Bestyrelsesmedlems titel 13",null,null,null,null,null,null,null,null,null,null,null,null,null,null,null,null,null,null,null,null,null,null,null,null,null,null,null,null,null,null,null,null,null,null,null,null,null,null,null,null,null,null,null,null,null,null,null,null,null,null,null,null,null,null,null,null,null,"",null,null,null,null,null,null,null,null,null,null,null,null,null,null,null,null,null,null,null,null,null,null,null,null,null,null,"&allowhtml=false","pp://General Data/Title of member of supervisory board 13?taxonomy=UKFRC&labellanguage=en&allowhtml=false"]
[{"$f":"\"\"&INDEX(PP_Locale,ROW(),PP_LanguageIndex)","v":"Description of member of supervisory board 13"},null,null,null,null,"PP_DescriptionOfMemberOfSupervisoryBoard_13",null,null,null,null,"Description of member of supervisory board 13",null,null,"Bestyrelsesmedlems beskrivelse 13",null,null,null,null,null,null,null,null,null,null,null,null,null,null,null,null,null,null,null,null,null,null,null,null,null,null,null,null,null,null,null,null,null,null,null,null,null,null,null,null,null,null,null,null,null,null,null,null,null,null,null,null,null,null,null,null,null,"",null,null,null,null,null,null,null,null,null,null,null,null,null,null,null,null,null,null,null,null,null,null,null,null,null,null,"&allowhtml=false","pp://General Data/Description of member of supervisory board 13?taxonomy=UKFRC&labellanguage=en&allowhtml=false"]
[{"$f":"\"\"&INDEX(PP_Locale,ROW(),PP_LanguageIndex)","v":"Name and surname of member of supervisory board 14"},null,null,null,null,"PP_NameAndSurnameOfMemberOfSupervisoryBoard_14",null,null,null,null,"Name and surname of member of supervisory board 14",null,null,"Bestyrelsesmedlems navn 14",null,null,null,null,null,null,null,null,null,null,null,null,null,null,null,null,null,null,null,null,null,null,null,null,null,null,null,null,null,null,null,null,null,null,null,null,null,null,null,null,null,null,null,null,null,null,null,null,null,null,null,null,null,null,null,null,null,"",null,null,null,null,null,null,null,null,null,null,null,null,null,null,null,null,null,null,null,null,null,null,null,null,null,null,"&allowhtml=false","pp://General Data/Name and surname of member of supervisory board 14?taxonomy=UKFRC&labellanguage=en&allowhtml=false"]
[{"$f":"\"\"&INDEX(PP_Locale,ROW(),PP_LanguageIndex)","v":"Title of member of supervisory board 14"},null,null,null,null,"PP_TitleOfMemberOfSupervisoryBoard_14",null,null,null,null,"Title of member of supervisory board 14",null,null,"Bestyrelsesmedlems titel 14",null,null,null,null,null,null,null,null,null,null,null,null,null,null,null,null,null,null,null,null,null,null,null,null,null,null,null,null,null,null,null,null,null,null,null,null,null,null,null,null,null,null,null,null,null,null,null,null,null,null,null,null,null,null,null,null,null,"",null,null,null,null,null,null,null,null,null,null,null,null,null,null,null,null,null,null,null,null,null,null,null,null,null,null,"&allowhtml=false","pp://General Data/Title of member of supervisory board 14?taxonomy=UKFRC&labellanguage=en&allowhtml=false"]
[{"$f":"\"\"&INDEX(PP_Locale,ROW(),PP_LanguageIndex)","v":"Description of member of supervisory board 14"},null,null,null,null,"PP_DescriptionOfMemberOfSupervisoryBoard_14",null,null,null,null,"Description of member of supervisory board 14",null,null,"Bestyrelsesmedlems beskrivelse 14",null,null,null,null,null,null,null,null,null,null,null,null,null,null,null,null,null,null,null,null,null,null,null,null,null,null,null,null,null,null,null,null,null,null,null,null,null,null,null,null,null,null,null,null,null,null,null,null,null,null,null,null,null,null,null,null,null,"",null,null,null,null,null,null,null,null,null,null,null,null,null,null,null,null,null,null,null,null,null,null,null,null,null,null,"&allowhtml=false","pp://General Data/Description of member of supervisory board 14?taxonomy=UKFRC&labellanguage=en&allowhtml=false"]
[{"$f":"\"\"&INDEX(PP_Locale,ROW(),PP_LanguageIndex)","v":"Name and surname of member of supervisory board 15"},null,null,null,null,"PP_NameAndSurnameOfMemberOfSupervisoryBoard_15",null,null,null,null,"Name and surname of member of supervisory board 15",null,null,"Bestyrelsesmedlems navn 15",null,null,null,null,null,null,null,null,null,null,null,null,null,null,null,null,null,null,null,null,null,null,null,null,null,null,null,null,null,null,null,null,null,null,null,null,null,null,null,null,null,null,null,null,null,null,null,null,null,null,null,null,null,null,null,null,null,"",null,null,null,null,null,null,null,null,null,null,null,null,null,null,null,null,null,null,null,null,null,null,null,null,null,null,"&allowhtml=false","pp://General Data/Name and surname of member of supervisory board 15?taxonomy=UKFRC&labellanguage=en&allowhtml=false"]
[{"$f":"\"\"&INDEX(PP_Locale,ROW(),PP_LanguageIndex)","v":"Title of member of supervisory board 15"},null,null,null,null,"PP_TitleOfMemberOfSupervisoryBoard_15",null,null,null,null,"Title of member of supervisory board 15",null,null,"Bestyrelsesmedlems titel 15",null,null,null,null,null,null,null,null,null,null,null,null,null,null,null,null,null,null,null,null,null,null,null,null,null,null,null,null,null,null,null,null,null,null,null,null,null,null,null,null,null,null,null,null,null,null,null,null,null,null,null,null,null,null,null,null,null,"",null,null,null,null,null,null,null,null,null,null,null,null,null,null,null,null,null,null,null,null,null,null,null,null,null,null,"&allowhtml=false","pp://General Data/Title of member of supervisory board 15?taxonomy=UKFRC&labellanguage=en&allowhtml=false"]
[{"$f":"\"\"&INDEX(PP_Locale,ROW(),PP_LanguageIndex)","v":"Description of member of supervisory board 15"},null,null,null,null,"PP_DescriptionOfMemberOfSupervisoryBoard_15",null,null,null,null,"Description of member of supervisory board 15",null,null,"Bestyrelsesmedlems beskrivelse 15",null,null,null,null,null,null,null,null,null,null,null,null,null,null,null,null,null,null,null,null,null,null,null,null,null,null,null,null,null,null,null,null,null,null,null,null,null,null,null,null,null,null,null,null,null,null,null,null,null,null,null,null,null,null,null,null,null,"",null,null,null,null,null,null,null,null,null,null,null,null,null,null,null,null,null,null,null,null,null,null,null,null,null,null,"&allowhtml=false","pp://General Data/Description of member of supervisory board 15?taxonomy=UKFRC&labellanguage=en&allowhtml=false"]
[{"$f":"\"\"&INDEX(PP_Locale,ROW(),PP_LanguageIndex)","v":"Name and surname of member of supervisory board 16"},null,null,null,null,"PP_NameAndSurnameOfMemberOfSupervisoryBoard_16",null,null,null,null,"Name and surname of member of supervisory board 16",null,null,"Bestyrelsesmedlems navn 16",null,null,null,null,null,null,null,null,null,null,null,null,null,null,null,null,null,null,null,null,null,null,null,null,null,null,null,null,null,null,null,null,null,null,null,null,null,null,null,null,null,null,null,null,null,null,null,null,null,null,null,null,null,null,null,null,null,"",null,null,null,null,null,null,null,null,null,null,null,null,null,null,null,null,null,null,null,null,null,null,null,null,null,null,"&allowhtml=false","pp://General Data/Name and surname of member of supervisory board 16?taxonomy=UKFRC&labellanguage=en&allowhtml=false"]
[{"$f":"\"\"&INDEX(PP_Locale,ROW(),PP_LanguageIndex)","v":"Title of member of supervisory board 16"},null,null,null,null,"PP_TitleOfMemberOfSupervisoryBoard_16",null,null,null,null,"Title of member of supervisory board 16",null,null,"Bestyrelsesmedlems titel 16",null,null,null,null,null,null,null,null,null,null,null,null,null,null,null,null,null,null,null,null,null,null,null,null,null,null,null,null,null,null,null,null,null,null,null,null,null,null,null,null,null,null,null,null,null,null,null,null,null,null,null,null,null,null,null,null,null,"",null,null,null,null,null,null,null,null,null,null,null,null,null,null,null,null,null,null,null,null,null,null,null,null,null,null,"&allowhtml=false","pp://General Data/Title of member of supervisory board 16?taxonomy=UKFRC&labellanguage=en&allowhtml=false"]
[{"$f":"\"\"&INDEX(PP_Locale,ROW(),PP_LanguageIndex)","v":"Description of member of supervisory board 16"},null,null,null,null,"PP_DescriptionOfMemberOfSupervisoryBoard_16",null,null,null,null,"Description of member of supervisory board 16",null,null,"Bestyrelsesmedlems beskrivelse 16",null,null,null,null,null,null,null,null,null,null,null,null,null,null,null,null,null,null,null,null,null,null,null,null,null,null,null,null,null,null,null,null,null,null,null,null,null,null,null,null,null,null,null,null,null,null,null,null,null,null,null,null,null,null,null,null,null,"",null,null,null,null,null,null,null,null,null,null,null,null,null,null,null,null,null,null,null,null,null,null,null,null,null,null,"&allowhtml=false","pp://General Data/Description of member of supervisory board 16?taxonomy=UKFRC&labellanguage=en&allowhtml=false"]
[{"$f":"\"\"&INDEX(PP_Locale,ROW(),PP_LanguageIndex)","v":"Name and surname of member of supervisory board 17"},null,null,null,null,"PP_NameAndSurnameOfMemberOfSupervisoryBoard_17",null,null,null,null,"Name and surname of member of supervisory board 17",null,null,"Bestyrelsesmedlems navn 17",null,null,null,null,null,null,null,null,null,null,null,null,null,null,null,null,null,null,null,null,null,null,null,null,null,null,null,null,null,null,null,null,null,null,null,null,null,null,null,null,null,null,null,null,null,null,null,null,null,null,null,null,null,null,null,null,null,"",null,null,null,null,null,null,null,null,null,null,null,null,null,null,null,null,null,null,null,null,null,null,null,null,null,null,"&allowhtml=false","pp://General Data/Name and surname of member of supervisory board 17?taxonomy=UKFRC&labellanguage=en&allowhtml=false"]
[{"$f":"\"\"&INDEX(PP_Locale,ROW(),PP_LanguageIndex)","v":"Title of member of supervisory board 17"},null,null,null,null,"PP_TitleOfMemberOfSupervisoryBoard_17",null,null,null,null,"Title of member of supervisory board 17",null,null,"Bestyrelsesmedlems titel 17",null,null,null,null,null,null,null,null,null,null,null,null,null,null,null,null,null,null,null,null,null,null,null,null,null,null,null,null,null,null,null,null,null,null,null,null,null,null,null,null,null,null,null,null,null,null,null,null,null,null,null,null,null,null,null,null,null,"",null,null,null,null,null,null,null,null,null,null,null,null,null,null,null,null,null,null,null,null,null,null,null,null,null,null,"&allowhtml=false","pp://General Data/Title of member of supervisory board 17?taxonomy=UKFRC&labellanguage=en&allowhtml=false"]
[{"$f":"\"\"&INDEX(PP_Locale,ROW(),PP_LanguageIndex)","v":"Description of member of supervisory board 17"},null,null,null,null,"PP_DescriptionOfMemberOfSupervisoryBoard_17",null,null,null,null,"Description of member of supervisory board 17",null,null,"Bestyrelsesmedlems beskrivelse 17",null,null,null,null,null,null,null,null,null,null,null,null,null,null,null,null,null,null,null,null,null,null,null,null,null,null,null,null,null,null,null,null,null,null,null,null,null,null,null,null,null,null,null,null,null,null,null,null,null,null,null,null,null,null,null,null,null,"",null,null,null,null,null,null,null,null,null,null,null,null,null,null,null,null,null,null,null,null,null,null,null,null,null,null,"&allowhtml=false","pp://General Data/Description of member of supervisory board 17?taxonomy=UKFRC&labellanguage=en&allowhtml=false"]
[{"$f":"\"\"&INDEX(PP_Locale,ROW(),PP_LanguageIndex)","v":"Name and surname of member of supervisory board 18"},null,null,null,null,"PP_NameAndSurnameOfMemberOfSupervisoryBoard_18",null,null,null,null,"Name and surname of member of supervisory board 18",null,null,"Bestyrelsesmedlems navn 18",null,null,null,null,null,null,null,null,null,null,null,null,null,null,null,null,null,null,null,null,null,null,null,null,null,null,null,null,null,null,null,null,null,null,null,null,null,null,null,null,null,null,null,null,null,null,null,null,null,null,null,null,null,null,null,null,null,"",null,null,null,null,null,null,null,null,null,null,null,null,null,null,null,null,null,null,null,null,null,null,null,null,null,null,"&allowhtml=false","pp://General Data/Name and surname of member of supervisory board 18?taxonomy=UKFRC&labellanguage=en&allowhtml=false"]
[{"$f":"\"\"&INDEX(PP_Locale,ROW(),PP_LanguageIndex)","v":"Title of member of supervisory board 18"},null,null,null,null,"PP_TitleOfMemberOfSupervisoryBoard_18",null,null,null,null,"Title of member of supervisory board 18",null,null,"Bestyrelsesmedlems titel 18",null,null,null,null,null,null,null,null,null,null,null,null,null,null,null,null,null,null,null,null,null,null,null,null,null,null,null,null,null,null,null,null,null,null,null,null,null,null,null,null,null,null,null,null,null,null,null,null,null,null,null,null,null,null,null,null,null,"",null,null,null,null,null,null,null,null,null,null,null,null,null,null,null,null,null,null,null,null,null,null,null,null,null,null,"&allowhtml=false","pp://General Data/Title of member of supervisory board 18?taxonomy=UKFRC&labellanguage=en&allowhtml=false"]
[{"$f":"\"\"&INDEX(PP_Locale,ROW(),PP_LanguageIndex)","v":"Description of member of supervisory board 18"},null,null,null,null,"PP_DescriptionOfMemberOfSupervisoryBoard_18",null,null,null,null,"Description of member of supervisory board 18",null,null,"Bestyrelsesmedlems beskrivelse 18",null,null,null,null,null,null,null,null,null,null,null,null,null,null,null,null,null,null,null,null,null,null,null,null,null,null,null,null,null,null,null,null,null,null,null,null,null,null,null,null,null,null,null,null,null,null,null,null,null,null,null,null,null,null,null,null,null,"",null,null,null,null,null,null,null,null,null,null,null,null,null,null,null,null,null,null,null,null,null,null,null,null,null,null,"&allowhtml=false","pp://General Data/Description of member of supervisory board 18?taxonomy=UKFRC&labellanguage=en&allowhtml=false"]
[{"$f":"\"\"&INDEX(PP_Locale,ROW(),PP_LanguageIndex)","v":"Name and surname of member of supervisory board 19"},null,null,null,null,"PP_NameAndSurnameOfMemberOfSupervisoryBoard_19",null,null,null,null,"Name and surname of member of supervisory board 19",null,null,"Bestyrelsesmedlems navn 19",null,null,null,null,null,null,null,null,null,null,null,null,null,null,null,null,null,null,null,null,null,null,null,null,null,null,null,null,null,null,null,null,null,null,null,null,null,null,null,null,null,null,null,null,null,null,null,null,null,null,null,null,null,null,null,null,null,"",null,null,null,null,null,null,null,null,null,null,null,null,null,null,null,null,null,null,null,null,null,null,null,null,null,null,"&allowhtml=false","pp://General Data/Name and surname of member of supervisory board 19?taxonomy=UKFRC&labellanguage=en&allowhtml=false"]
[{"$f":"\"\"&INDEX(PP_Locale,ROW(),PP_LanguageIndex)","v":"Title of member of supervisory board 19"},null,null,null,null,"PP_TitleOfMemberOfSupervisoryBoard_19",null,null,null,null,"Title of member of supervisory board 19",null,null,"Bestyrelsesmedlems titel 19",null,null,null,null,null,null,null,null,null,null,null,null,null,null,null,null,null,null,null,null,null,null,null,null,null,null,null,null,null,null,null,null,null,null,null,null,null,null,null,null,null,null,null,null,null,null,null,null,null,null,null,null,null,null,null,null,null,"",null,null,null,null,null,null,null,null,null,null,null,null,null,null,null,null,null,null,null,null,null,null,null,null,null,null,"&allowhtml=false","pp://General Data/Title of member of supervisory board 19?taxonomy=UKFRC&labellanguage=en&allowhtml=false"]
[{"$f":"\"\"&INDEX(PP_Locale,ROW(),PP_LanguageIndex)","v":"Description of member of supervisory board 19"},null,null,null,null,"PP_DescriptionOfMemberOfSupervisoryBoard_19",null,null,null,null,"Description of member of supervisory board 19",null,null,"Bestyrelsesmedlems beskrivelse 19",null,null,null,null,null,null,null,null,null,null,null,null,null,null,null,null,null,null,null,null,null,null,null,null,null,null,null,null,null,null,null,null,null,null,null,null,null,null,null,null,null,null,null,null,null,null,null,null,null,null,null,null,null,null,null,null,null,"",null,null,null,null,null,null,null,null,null,null,null,null,null,null,null,null,null,null,null,null,null,null,null,null,null,null,"&allowhtml=false","pp://General Data/Description of member of supervisory board 19?taxonomy=UKFRC&labellanguage=en&allowhtml=false"]
[{"$f":"\"\"&INDEX(PP_Locale,ROW(),PP_LanguageIndex)","v":"Name and surname of member of supervisory board 20"},null,null,null,null,"PP_NameAndSurnameOfMemberOfSupervisoryBoard_20",null,null,null,null,"Name and surname of member of supervisory board 20",null,null,"Bestyrelsesmedlems navn 20",null,null,null,null,null,null,null,null,null,null,null,null,null,null,null,null,null,null,null,null,null,null,null,null,null,null,null,null,null,null,null,null,null,null,null,null,null,null,null,null,null,null,null,null,null,null,null,null,null,null,null,null,null,null,null,null,null,"",null,null,null,null,null,null,null,null,null,null,null,null,null,null,null,null,null,null,null,null,null,null,null,null,null,null,"&allowhtml=false","pp://General Data/Name and surname of member of supervisory board 20?taxonomy=UKFRC&labellanguage=en&allowhtml=false"]
[{"$f":"\"\"&INDEX(PP_Locale,ROW(),PP_LanguageIndex)","v":"Title of member of supervisory board 20"},null,null,null,null,"PP_TitleOfMemberOfSupervisoryBoard_20",null,null,null,null,"Title of member of supervisory board 20",null,null,"Bestyrelsesmedlems titel 20",null,null,null,null,null,null,null,null,null,null,null,null,null,null,null,null,null,null,null,null,null,null,null,null,null,null,null,null,null,null,null,null,null,null,null,null,null,null,null,null,null,null,null,null,null,null,null,null,null,null,null,null,null,null,null,null,null,"",null,null,null,null,null,null,null,null,null,null,null,null,null,null,null,null,null,null,null,null,null,null,null,null,null,null,"&allowhtml=false","pp://General Data/Title of member of supervisory board 20?taxonomy=UKFRC&labellanguage=en&allowhtml=false"]
[{"$f":"\"\"&INDEX(PP_Locale,ROW(),PP_LanguageIndex)","v":"Description of member of supervisory board 20"},null,null,null,null,"PP_DescriptionOfMemberOfSupervisoryBoard_20",null,null,null,null,"Description of member of supervisory board 20",null,null,"Bestyrelsesmedlems beskrivelse 20",null,null,null,null,null,null,null,null,null,null,null,null,null,null,null,null,null,null,null,null,null,null,null,null,null,null,null,null,null,null,null,null,null,null,null,null,null,null,null,null,null,null,null,null,null,null,null,null,null,null,null,null,null,null,null,null,null,"",null,null,null,null,null,null,null,null,null,null,null,null,null,null,null,null,null,null,null,null,null,null,null,null,null,null,"&allowhtml=false","pp://General Data/Description of member of supervisory board 20?taxonomy=UKFRC&labellanguage=en&allowhtml=false"]
[]
[{"$f":"\"\"&INDEX(PP_Locale,ROW(),PP_LanguageIndex)","v":"Submitting enterprise:"},null,null,null,null,null,null,null,null,null,"Submitting enterprise:",null,null,"Indsender:"]
[{"$f":"\"\"&INDEX(PP_Locale,ROW(),PP_LanguageIndex)","v":"Legal Entity Identifier [LEI] of submitting enterprise"},{"$f":"\"\"&PP_LegalEntityIdentifierOfReportingEntity","v":"12345NOTVALID1234503"},null,null,null,"PP_LegalEntityIdentifierOfSubmittingEnterprise",{"$f":"\"\"&PP_LegalEntityIdentifierOfReportingEntity","v":"12345NOTVALID1234503"},null,null,null,"Legal Entity Identifier [LEI] of submitting enterprise",null,null,"Indsendende virksomheds LEI-kode",null,null,null,null,null,null,null,null,null,null,null,null,null,null,null,null,null,null,null,null,null,null,null,null,null,null,null,null,null,null,null,null,null,null,null,null,null,null,null,null,null,null,null,null,null,null,null,null,null,null,null,null,null,null,null,null,null,{"$f":"\"\"&B169","v":"12345NOTVALID1234503"}]
[{"$f":"\"\"&INDEX(PP_Locale,ROW(),PP_LanguageIndex)","v":"Identification number [CVR] of submitting enterprise"},{"$f":"\"\"&PP_IdentificationNumberCvrOfReportingEntity","v":"12345678"},null,null,null,"PP_IdentificationNumberCvrOfSubmittingEnterprise",{"$f":"\"\"&PP_IdentificationNumberCvrOfReportingEntity","v":"12345678"},null,null,null,"Identification number [CVR] of submitting enterprise",null,null,"Indsendende virksomheds CVR-nr.",null,null,null,null,null,null,null,null,null,null,null,null,null,null,null,null,null,null,null,null,null,null,null,null,null,null,null,null,null,null,null,null,null,null,null,null,null,null,null,null,null,null,null,null,null,null,null,null,null,null,null,null,null,null,null,null,null,{"$f":"\"\"&SUBSTITUTE(B170,\" \",\"\")","v":"12345678"}]
[{"$f":"\"\"&INDEX(PP_Locale,ROW(),PP_LanguageIndex)","v":"Name of submitting enterprise"},{"$f":"\"\"&PP_NameOfReportingEntity","v":"Test customer"},null,null,null,"PP_NameOfSubmittingEnterprise",{"$f":"\"\"&PP_NameOfReportingEntity","v":"Test customer"},null,null,null,"Name of submitting enterprise",null,null,"Indsendende virksomheds navn",null,null,null,null,null,null,null,null,null,null,null,null,null,null,null,null,null,null,null,null,null,null,null,null,null,null,null,null,null,null,null,null,null,null,null,null,null,null,null,null,null,null,null,null,null,null,null,null,null,null,null,null,null,null,null,null,null,{"$f":"\"\"&B171","v":"Test customer"}]
[{"$f":"\"\"&INDEX(PP_Locale,ROW(),PP_LanguageIndex)","v":"Address of submitting enterprise, street and number"},{"$f":"\"\"&PP_AddressOfReportingEntityStreetName&\" \"&PP_AddressOfReportingEntityStreetBuildingIdentifier","v":"UNKNOWN UNKNOWN"},null,null,null,"PP_AddressOfSubmittingEnterpriseStreetAndNumber",{"$f":"\"\"&PP_AddressOfReportingEntityStreetName&\" \"&PP_AddressOfReportingEntityStreetBuildingIdentifier","v":"UNKNOWN UNKNOWN"},null,null,null,"Address of submitting enterprise, street and number",null,null,"Indsendende virksomheds adresse, vej og nummer",null,null,null,null,null,null,null,null,null,null,null,null,null,null,null,null,null,null,null,null,null,null,null,null,null,null,null,null,null,null,null,null,null,null,null,null,null,null,null,null,null,null,null,null,null,null,null,null,null,null,null,null,null,null,null,null,null,{"$f":"\"\"&B172","v":"UNKNOWN UNKNOWN"}]
[{"$f":"\"\"&INDEX(PP_Locale,ROW(),PP_LanguageIndex)","v":"Address of submitting enterprise, postcode and town"},{"$f":"\"\"&PP_AddressOfReportingEntityPostCodeIdentifier&\" \"&PP_AddressOfReportingEntityDistrictName","v":"UNKNOWN UNKNOWN"},null,null,null,"PP_AddressOfSubmittingEnterprisePostcodeAndTown",{"$f":"\"\"&PP_AddressOfReportingEntityPostCodeIdentifier&\" \"&PP_AddressOfReportingEntityDistrictName","v":"UNKNOWN UNKNOWN"},null,null,null,"Address of submitting enterprise, postcode and town",null,null,"Indsendende virksomheds adresse, postnummer og by",null,null,null,null,null,null,null,null,null,null,null,null,null,null,null,null,null,null,null,null,null,null,null,null,null,null,null,null,null,null,null,null,null,null,null,null,null,null,null,null,null,null,null,null,null,null,null,null,null,null,null,null,null,null,null,null,null,{"$f":"\"\"&B173","v":"UNKNOWN UNKNOWN"}]
[]
[{"$f":"IF(A176=\"\",\"\",\"\"&INDEX(PP_Locale,ROW(),PP_LanguageIndex))","v":"Opinion:"},null,null,null,null,null,null,null,null,null,"Opinion:",null,null,"Konklusion:"]
[{"$f":"\"\"&INDEX(PP_Locale,ROW(),PP_LanguageIndex)","v":"Type of opinion on audited financial statements (Audit)"},{"$f":"\"\"&LOOKUP(PP_Language,{\"DA\";\"EN\"},{\"Konklusion\";\"Opinion\"})","v":"Opinion"},null,null,null,"PP_TypeOfModifiedOpinion",{"$f":"\"\"&LOOKUP(PP_Language,{\"DA\";\"EN\"},{\"Konklusion\";\"Opinion\"})","v":"Opinion"},null,null,null,{"$f":"IFERROR(INDEX(K$285:K$287,MATCH(PP_TypeOfAuditorAssistance,$BX$16:$CC$16,0),1),\"\")","v":"Type of opinion on audited financial statements (Audit)"},null,null,{"$f":"IFERROR(INDEX(N$285:N$287,MATCH(PP_TypeOfAuditorAssistance,$BX$16:$CC$16,0),1),\"\")","v":"Type af konklusion (revision)"},null,null,null,null,null,null,null,null,null,null,null,null,null,null,null,null,null,null,null,null,null,null,null,null,null,null,null,null,null,null,null,null,null,null,null,null,null,null,null,null,null,null,null,null,null,null,null,null,null,null,null,null,null,null,null,null,null,{"$f":"IF(COUNTBLANK(A176),\"\",\"\"&B176)","v":"Opinion"},null,null,null,{"$f":"\"\"&LOOKUP(PP_Language,{\"DA\";\"EN\"},{\"Konklusion\";\"Opinion\"})","v":"Opinion"},{"$f":"\"\"&LOOKUP(PP_Language,{\"DA\";\"EN\"},{\"Konklusion med forbehold\";\"Qualified Opinion\"})","v":"Qualified Opinion"},{"$f":"\"\"&LOOKUP(PP_Language,{\"DA\";\"EN\"},{\"Afkræftende konklusion\";\"Adverse Opinion\"})","v":"Adverse Opinion"},{"$f":"\"\"&LOOKUP(PP_Language,{\"DA\";\"EN\"},{\"Manglende konklusion\";\"Disclaimer of Opinion\"})","v":"Disclaimer of Opinion"}]
[{"$f":"\"\"&INDEX(PP_Locale,ROW(),PP_LanguageIndex)","v":"Type of basis for opinion on audited financial statements (audit)"},{"$f":"\"\"&LOOKUP(PP_Language,{\"DA\";\"EN\"},{\"Grundlag for konklusion\";\"Basis for Opinion\"})","v":"Basis for Opinion"},null,null,null,"PP_TypeOfBasisForModifiedOpinion",{"$f":"\"\"&LOOKUP(PP_Language,{\"DA\";\"EN\"},{\"Grundlag for konklusion\";\"Basis for Opinion\"})","v":"Basis for Opinion"},null,null,null,{"$f":"IFERROR(INDEX(K$282:K$284,MATCH(PP_TypeOfAuditorAssistance,$BX$16:$CC$16,0),1),\"\")","v":"Type of basis for opinion on audited financial statements (audit)"},null,null,{"$f":"IFERROR(INDEX(N$282:N$284,MATCH(PP_TypeOfAuditorAssistance,$BX$16:$CC$16,0),1),\"\")","v":"Type af grundlag for konklusion (revision)"},null,null,null,null,null,null,null,null,null,null,null,null,null,null,null,null,null,null,null,null,null,null,null,null,null,null,null,null,null,null,null,null,null,null,null,null,null,null,null,null,null,null,null,null,null,null,null,null,null,null,null,null,null,null,null,null,null,{"$f":"IF(COUNTBLANK(A177),\"\",\"\"&B177)","v":"Basis for Opinion"},null,null,null,{"$f":"\"\"&LOOKUP(PP_Language,{\"DA\";\"EN\"},{\"Grundlag for konklusion\";\"Basis for Opinion\"})","v":"Basis for Opinion"},{"$f":"\"\"&LOOKUP(PP_Language,{\"DA\";\"EN\"},{\"Grundlag for konklusion med forbehold\";\"Basis for Qualified Opinion\"})","v":"Basis for Qualified Opinion"},{"$f":"\"\"&LOOKUP(PP_Language,{\"DA\";\"EN\"},{\"Grundlag for afkræftende konklusion\";\"Basis for Adverse Opinion\"})","v":"Basis for Adverse Opinion"},{"$f":"\"\"&LOOKUP(PP_Language,{\"DA\";\"EN\"},{\"Grundlag for manglende konklusion\";\"Basis for Disclaimer of Opinion\"})","v":"Basis for Disclaimer of Opinion"}]
[]
[{"$f":"IF(A180=\"\",\"\",\"\"&INDEX(PP_Locale,ROW(),PP_LanguageIndex))","v":"Reporting responsibilities according to the Danish executive order on approved auditors' reports:"},null,null,null,null,null,null,null,null,null,"Reporting responsibilities according to the Danish executive order on approved auditors' reports:",null,null,"Erklæringsforpligtelser i henhold til erklæringsbekendtgørelsen:"]
[{"$f":"\"\"&INDEX(PP_Locale,ROW(),PP_LanguageIndex)","v":"Reporting responsibilities according to the Danish executive order on approved auditors' reports especially the criminal code and Fiscal-, tax- and subsidy legislation (Audit)"},null,null,null,null,"PP_ReportingResponsibilitiesAccordingToTheDanishExecutiveOrderOnApprovedAuditorsReportsEspeciallyTheCriminalCodeAndFiscalTaxAndSubsidyLegislation",null,null,null,null,{"$f":"IFERROR(INDEX(K$288:K$289,MATCH(PP_TypeOfAuditorAssistance,$BX$16:$CC$16,0),1),\"\")","v":"Reporting responsibilities according to the Danish executive order on approved auditors' reports especially the criminal code and Fiscal-, tax- and subsidy legislation (Audit)"},null,null,{"$f":"IFERROR(INDEX(N$288:N$289,MATCH(PP_TypeOfAuditorAssistance,$BX$16:$CC$16,0),1),\"\")","v":"Erklæringsforpligtelser i henhold til erklæringsbekendtgørelsen, herunder særligt straffeloven samt skatte-, afgifts- og tilskudslovgivningen (revision)"},null,null,null,null,null,null,null,null,null,null,null,null,null,null,null,null,null,null,null,null,null,null,null,null,null,null,null,null,null,null,null,null,null,null,null,null,null,null,null,null,null,null,null,null,null,null,null,null,null,null,null,null,null,null,null,null,null,{"$f":"IF(COUNTBLANK(B180),\"\",IF(B180,\"true\",\"false\"))","v":""},null,null,null,true,false]
[{"$f":"\"\"&INDEX(PP_Locale,ROW(),PP_LanguageIndex)","v":"Reporting responsibilities according to the Danish executive order on approved auditors' reports especially the companies act or equivalent legislation, that the company is subject to (Audit)"},null,null,null,null,"PP_ReportingResponsibilitiesAccordingToTheDanishExecutiveOrderOnApprovedAuditorsReportsEspeciallyTheCompaniesActOrEquivalentLegislationThatTheCompanyIsSubjectTo",null,null,null,null,{"$f":"IFERROR(INDEX(K$290:K$291,MATCH(PP_TypeOfAuditorAssistance,$BX$16:$CC$16,0),1),\"\")","v":"Reporting responsibilities according to the Danish executive order on approved auditors' reports especially the companies act or equivalent legislation, that the company is subject to (Audit)"},null,null,{"$f":"IFERROR(INDEX(N$290:N$291,MATCH(PP_TypeOfAuditorAssistance,$BX$16:$CC$16,0),1),\"\")","v":"Erklæringsforpligtelser i henhold til erklæringsbekendtgørelsen, herunder særligt den for virksomheden fastsatte selskabsretlige eller tilsvarende lovgivning (revision)"},null,null,null,null,null,null,null,null,null,null,null,null,null,null,null,null,null,null,null,null,null,null,null,null,null,null,null,null,null,null,null,null,null,null,null,null,null,null,null,null,null,null,null,null,null,null,null,null,null,null,null,null,null,null,null,null,null,{"$f":"IF(COUNTBLANK(B181),\"\",IF(B181,\"true\",\"false\"))","v":""},null,null,null,true,false]
[{"$f":"\"\"&INDEX(PP_Locale,ROW(),PP_LanguageIndex)","v":"Reporting responsibilities according to the Danish executive order on approved auditors' reports especially legislation on financial reporting, including accounting and storage of accounting records (Audit)"},null,null,null,null,"PP_ReportingResponsibilitiesAccordingToTheDanishExecutiveOrderOnApprovedAuditorsReportsEspeciallyLegislationOnFinancialReportingIncludingAccountingAndStorageOfAccountingRecords",null,null,null,null,{"$f":"IFERROR(INDEX(K$292:K$293,MATCH(PP_TypeOfAuditorAssistance,$BX$16:$CC$16,0),1),\"\")","v":"Reporting responsibilities according to the Danish executive order on approved auditors' reports especially legislation on financial reporting, including accounting and storage of accounting records (Audit)"},null,null,{"$f":"IFERROR(INDEX(N$292:N$293,MATCH(PP_TypeOfAuditorAssistance,$BX$16:$CC$16,0),1),\"\")","v":"Erklæringsforpligtelser i henhold til erklæringsbekendtgørelsen, herunder særligt lovgivningen om regnskabsaflæggelse, herunder om bogføring og bevaring af regnskabsmateriale (revision)"},null,null,null,null,null,null,null,null,null,null,null,null,null,null,null,null,null,null,null,null,null,null,null,null,null,null,null,null,null,null,null,null,null,null,null,null,null,null,null,null,null,null,null,null,null,null,null,null,null,null,null,null,null,null,null,null,null,{"$f":"IF(COUNTBLANK(B182),\"\",IF(B182,\"true\",\"false\"))","v":""},null,null,null,true,false]
[{"$f":"\"\"&INDEX(PP_Locale,ROW(),PP_LanguageIndex)","v":"Reporting responsibilities according to the Danish executive order on approved auditors' reports especially other matters (Audit)"},null,null,null,null,"PP_ReportingResponsibilitiesAccordingToTheDanishExecutiveOrderOnApprovedAuditorsReportsEspeciallyOtherMatters",null,null,null,null,{"$f":"IFERROR(INDEX(K$294:K$295,MATCH(PP_TypeOfAuditorAssistance,$BX$16:$CC$16,0),1),\"\")","v":"Reporting responsibilities according to the Danish executive order on approved auditors' reports especially other matters (Audit)"},null,null,{"$f":"IFERROR(INDEX(N$294:N$295,MATCH(PP_TypeOfAuditorAssistance,$BX$16:$CC$16,0),1),\"\")","v":"Erklæringsforpligtelser i henhold til erklæringsbekendtgørelsen, herunder særligt andre forhold (revision)"},null,null,null,null,null,null,null,null,null,null,null,null,null,null,null,null,null,null,null,null,null,null,null,null,null,null,null,null,null,null,null,null,null,null,null,null,null,null,null,null,null,null,null,null,null,null,null,null,null,null,null,null,null,null,null,null,null,{"$f":"IF(COUNTBLANK(B183),\"\",IF(B183,\"true\",\"false\"))","v":""},null,null,null,true,false]
[]
[{"$f":"IF(PP_TypeOfAuditorAssistance=LOOKUP(PP_Language,{\"DA\";\"EN\"},{\"Ingen bistand\";\"No audit assistance\"}),\"\",\"\"&INDEX(PP_Locale,ROW(),PP_LanguageIndex))","v":"Dates/locations:"},null,null,null,null,null,null,null,null,null,"Dates/locations:",null,null,"Datoer/lokationer:"]
[{"$f":"IF(PP_TypeOfAuditorAssistance=LOOKUP(PP_Language,{\"DA\";\"EN\"},{\"Ingen bistand\";\"No audit assistance\"}),\"\",\"\"&INDEX(PP_Locale,ROW(),PP_LanguageIndex))","v":"Signature of auditors, place"},null,null,null,null,"PP_SignatureOfAuditorsPlace",null,null,null,null,"Signature of auditors, place",null,null,"Revisors underskrift, sted",null,null,null,null,null,null,null,null,null,null,null,null,null,null,null,null,null,null,null,null,null,null,null,null,null,null,null,null,null,null,null,null,null,null,null,null,null,null,null,null,null,null,null,null,null,null,null,null,null,null,null,null,null,null,null,null,null,{"$f":"IF(COUNTBLANK(A186),\"\",\"\"&B186)","v":""},null,null,null,null,null,null,null,null,null,null,null,null,null,null,null,null,null,null,null,null,null,null,null,null,null,null,"&allowhtml=false",{"$f":"\"pp://General Data/\"&K186&\"?taxonomy=\"&PP_TaxonomyId&\"&labellanguage=en\"&CU186","v":"pp://General Data/Signature of auditors, place?taxonomy=UKFRC&labellanguage=en&allowhtml=false"}]
[{"$f":"IF(PP_TypeOfAuditorAssistance=LOOKUP(PP_Language,{\"DA\";\"EN\"},{\"Ingen bistand\";\"No audit assistance\"}),\"\",\"\"&INDEX(PP_Locale,ROW(),PP_LanguageIndex))","v":"Signature of auditors, date"},null,null,null,null,"PP_SignatureOfAuditorsDate",null,null,null,null,"Signature of auditors, date",null,null,"Revisors underskrift, dato",null,null,null,null,null,null,null,null,null,null,null,null,null,null,null,null,null,null,null,null,null,null,null,null,null,null,null,null,null,null,null,null,null,null,null,null,null,null,null,null,null,null,null,null,null,null,null,null,null,null,null,null,null,null,null,null,null,{"$f":"IF(COUNTBLANK(B187),\"\",TEXT(YEAR(B187),\"0000\")&\"-\"&TEXT(MONTH(B187),\"00\")&\"-\"&TEXT(DAY(B187),\"00\"))","v":""},null,null,null,null,null,null,null,null,null,null,null,null,null,null,null,null,null,null,null,null,null,null,null,null,null,null,"&allowhtml=false",{"$f":"\"pp://General Data/\"&K187&\"?taxonomy=\"&PP_TaxonomyId&\"&labellanguage=en\"&CU187","v":"pp://General Data/Signature of auditors, date?taxonomy=UKFRC&labellanguage=en&allowhtml=false"}]
[]
[{"$f":"IF(PP_TypeOfAuditorAssistance=LOOKUP(PP_Language,{\"DA\";\"EN\"},{\"Ingen bistand\";\"No audit assistance\"}),\"\",\"\"&INDEX(PP_Locale,ROW(),PP_LanguageIndex))","v":"Auditor 1:"},null,null,null,null,null,null,null,null,null,"Auditor 1:",null,null,"Revisor 1:"]
[{"$f":"IF(PP_TypeOfAuditorAssistance=LOOKUP(PP_Language,{\"DA\";\"EN\"},{\"Ingen bistand\";\"No audit assistance\"}),\"\",\"\"&INDEX(PP_Locale,ROW(),PP_LanguageIndex))","v":"Name and surname of auditor 1"},null,null,null,null,"PP_NameAndSurnameOfAuditor_1",null,null,null,null,"Name and surname of auditor 1",null,null,"Revisors navn 1",null,null,null,null,null,null,null,null,null,null,null,null,null,null,null,null,null,null,null,null,null,null,null,null,null,null,null,null,null,null,null,null,null,null,null,null,null,null,null,null,null,null,null,null,null,null,null,null,null,null,null,null,null,null,null,null,null,{"$f":"IF(COUNTBLANK(A190),\"\",\"\"&B190)","v":""},null,null,null,null,null,null,null,null,null,null,null,null,null,null,null,null,null,null,null,null,null,null,null,null,null,null,"&allowhtml=false",{"$f":"\"pp://General Data/\"&K190&\"?taxonomy=\"&PP_TaxonomyId&\"&labellanguage=en\"&CU190","v":"pp://General Data/Name and surname of auditor 1?taxonomy=UKFRC&labellanguage=en&allowhtml=false"}]
[{"$f":"IF(PP_TypeOfAuditorAssistance=LOOKUP(PP_Language,{\"DA\";\"EN\"},{\"Ingen bistand\";\"No audit assistance\"}),\"\",\"\"&INDEX(PP_Locale,ROW(),PP_LanguageIndex))","v":"Description of auditor 1"},null,null,null,null,"PP_DescriptionOfAuditor_1",null,null,null,null,"Description of auditor 1",null,null,"Revisors titel 1",null,null,null,null,null,null,null,null,null,null,null,null,null,null,null,null,null,null,null,null,null,null,null,null,null,null,null,null,null,null,null,null,null,null,null,null,null,null,null,null,null,null,null,null,null,null,null,null,null,null,null,null,null,null,null,null,null,{"$f":"IF(COUNTBLANK(A191),\"\",\"\"&B191)","v":""},null,null,null,null,null,null,null,null,null,null,null,null,null,null,null,null,null,null,null,null,null,null,null,null,null,null,"&allowhtml=false","pp://General Data/Description of auditor 1?taxonomy=UKFRC&labellanguage=en&allowhtml=false"]
[{"$f":"IF(PP_TypeOfAuditorAssistance=LOOKUP(PP_Language,{\"DA\";\"EN\"},{\"Ingen bistand\";\"No audit assistance\"}),\"\",\"\"&INDEX(PP_Locale,ROW(),PP_LanguageIndex))","v":"Identification number of auditor 1"},null,null,null,null,"PP_IdentificationNumberOfAuditor_1",null,null,null,null,"Identification number of auditor 1",null,null,"Revisors MNE-nr. 1",null,null,null,null,null,null,null,null,null,null,null,null,null,null,null,null,null,null,null,null,null,null,null,null,null,null,null,null,null,null,null,null,null,null,null,null,null,null,null,null,null,null,null,null,null,null,null,null,null,null,null,null,null,null,null,null,null,{"$f":"IF(COUNTBLANK(A192),\"\",\"\"&B192)","v":""},null,null,null,null,null,null,null,null,null,null,null,null,null,null,null,null,null,null,null,null,null,null,null,null,null,null,"&allowhtml=false","pp://General Data/Identification number of auditor 1?taxonomy=UKFRC&labellanguage=en&allowhtml=false"]
[{"$f":"IF(PP_TypeOfAuditorAssistance=LOOKUP(PP_Language,{\"DA\";\"EN\"},{\"Ingen bistand\";\"No audit assistance\"}),\"\",\"\"&INDEX(PP_Locale,ROW(),PP_LanguageIndex))","v":"Legal Entity Identifier [LEI] of audit firm 1"},null,null,null,null,"PP_LegalEntityIdentifierOfAuditFirm_1",null,null,null,null,"Legal Entity Identifier [LEI] of audit firm 1",null,null,"Revisionsvirksomhedens LEI-kode 1",null,null,null,null,null,null,null,null,null,null,null,null,null,null,null,null,null,null,null,null,null,null,null,null,null,null,null,null,null,null,null,null,null,null,null,null,null,null,null,null,null,null,null,null,null,null,null,null,null,null,null,null,null,null,null,null,null,{"$f":"IF(COUNTBLANK(A193),\"\",\"\"&B193)","v":""},null,null,null,null,null,null,null,null,null,null,null,null,null,null,null,null,null,null,null,null,null,null,null,null,null,null,"&allowhtml=false&skipspace=true","pp://General Data/Legal Entity Identifier [LEI] of audit firm 1?taxonomy=UKFRC&labellanguage=en&allowhtml=false&skipspace=true"]
[{"$f":"IF(PP_TypeOfAuditorAssistance=LOOKUP(PP_Language,{\"DA\";\"EN\"},{\"Ingen bistand\";\"No audit assistance\"}),\"\",\"\"&INDEX(PP_Locale,ROW(),PP_LanguageIndex))","v":"Identification number [CVR] of audit firm 1"},null,null,null,null,"PP_IdentificationNumberCvrOfAuditFirm_1",null,null,null,null,"Identification number [CVR] of audit firm 1",null,null,"Revisionsvirksomhedens CVR-nr. 1",null,null,null,null,null,null,null,null,null,null,null,null,null,null,null,null,null,null,null,null,null,null,null,null,null,null,null,null,null,null,null,null,null,null,null,null,null,null,null,null,null,null,null,null,null,null,null,null,null,null,null,null,null,null,null,null,null,{"$f":"IF(COUNTBLANK(A194),\"\",\"\"&SUBSTITUTE(B194,\" \",\"\"))","v":""},null,null,null,null,null,null,null,null,null,null,null,null,null,null,null,null,null,null,null,null,null,null,null,null,null,null,"&allowhtml=false&skipspace=true","pp://General Data/Identification number [CVR] of audit firm 1?taxonomy=UKFRC&labellanguage=en&allowhtml=false&skipspace=true"]
[{"$f":"IF(PP_TypeOfAuditorAssistance=LOOKUP(PP_Language,{\"DA\";\"EN\"},{\"Ingen bistand\";\"No audit assistance\"}),\"\",\"\"&INDEX(PP_Locale,ROW(),PP_LanguageIndex))","v":"Identification number [PNR] of audit firm 1"},null,null,null,null,"PP_IdentificationNumberPnrOfAuditFirm_1",null,null,null,null,"Identification number [PNR] of audit firm 1",null,null,"Revisionsvirksomhedens P-nr. 1",null,null,null,null,null,null,null,null,null,null,null,null,null,null,null,null,null,null,null,null,null,null,null,null,null,null,null,null,null,null,null,null,null,null,null,null,null,null,null,null,null,null,null,null,null,null,null,null,null,null,null,null,null,null,null,null,null,{"$f":"IF(COUNTBLANK(A195),\"\",\"\"&SUBSTITUTE(B195,\"-\",\"\"))","v":""},null,null,null,null,null,null,null,null,null,null,null,null,null,null,null,null,null,null,null,null,null,null,null,null,null,null,"&allowhtml=false","pp://General Data/Identification number [PNR] of audit firm 1?taxonomy=UKFRC&labellanguage=en&allowhtml=false"]
[{"$f":"IF(PP_TypeOfAuditorAssistance=LOOKUP(PP_Language,{\"DA\";\"EN\"},{\"Ingen bistand\";\"No audit assistance\"}),\"\",\"\"&INDEX(PP_Locale,ROW(),PP_LanguageIndex))","v":"Name of audit firm 1"},null,null,null,null,"PP_NameOfAuditFirm_1",null,null,null,null,"Name of audit firm 1",null,null,"Revisionsvirksomhedens navn 1",null,null,null,null,null,null,null,null,null,null,null,null,null,null,null,null,null,null,null,null,null,null,null,null,null,null,null,null,null,null,null,null,null,null,null,null,null,null,null,null,null,null,null,null,null,null,null,null,null,null,null,null,null,null,null,null,null,{"$f":"IF(COUNTBLANK(A196),\"\",\"\"&B196)","v":""},null,null,null,null,null,null,null,null,null,null,null,null,null,null,null,null,null,null,null,null,null,null,null,null,null,null,"&allowhtml=false","pp://General Data/Name of audit firm 1?taxonomy=UKFRC&labellanguage=en&allowhtml=false"]
[{"$f":"IF(PP_TypeOfAuditorAssistance=LOOKUP(PP_Language,{\"DA\";\"EN\"},{\"Ingen bistand\";\"No audit assistance\"}),\"\",\"\"&INDEX(PP_Locale,ROW(),PP_LanguageIndex))","v":"Address of auditor, street name 1"},null,null,null,null,"PP_AddressOfAuditorStreetName_1",null,null,null,null,"Address of auditor, street name 1",null,null,"Revisionsvirksomhedens adresse, vejnavn 1",null,null,null,null,null,null,null,null,null,null,null,null,null,null,null,null,null,null,null,null,null,null,null,null,null,null,null,null,null,null,null,null,null,null,null,null,null,null,null,null,null,null,null,null,null,null,null,null,null,null,null,null,null,null,null,null,null,"",null,null,null,null,null,null,null,null,null,null,null,null,null,null,null,null,null,null,null,null,null,null,null,null,null,null,"&allowhtml=false","pp://General Data/Address of auditor, street name 1?taxonomy=UKFRC&labellanguage=en&allowhtml=false"]
[{"$f":"IF(PP_TypeOfAuditorAssistance=LOOKUP(PP_Language,{\"DA\";\"EN\"},{\"Ingen bistand\";\"No audit assistance\"}),\"\",\"\"&INDEX(PP_Locale,ROW(),PP_LanguageIndex))","v":"Address of auditor, street building identifier 1"},null,null,null,null,"PP_AddressOfAuditorStreetBuildingIdentifier_1",null,null,null,null,"Address of auditor, street building identifier 1",null,null,"Revisionsvirksomhedens adresse, vejnr og etage 1",null,null,null,null,null,null,null,null,null,null,null,null,null,null,null,null,null,null,null,null,null,null,null,null,null,null,null,null,null,null,null,null,null,null,null,null,null,null,null,null,null,null,null,null,null,null,null,null,null,null,null,null,null,null,null,null,null,"",null,null,null,null,null,null,null,null,null,null,null,null,null,null,null,null,null,null,null,null,null,null,null,null,null,null,"&allowhtml=false","pp://General Data/Address of auditor, street building identifier 1?taxonomy=UKFRC&labellanguage=en&allowhtml=false"]
[{"$f":"IF(PP_TypeOfAuditorAssistance=LOOKUP(PP_Language,{\"DA\";\"EN\"},{\"Ingen bistand\";\"No audit assistance\"}),\"\",\"\"&INDEX(PP_Locale,ROW(),PP_LanguageIndex))","v":"Address of auditor, post code identifier 1"},null,null,null,null,"PP_AddressOfAuditorPostCodeIdentifier_1",null,null,null,null,"Address of auditor, post code identifier 1",null,null,"Revisionsvirksomhedens adresse, postnummer 1",null,null,null,null,null,null,null,null,null,null,null,null,null,null,null,null,null,null,null,null,null,null,null,null,null,null,null,null,null,null,null,null,null,null,null,null,null,null,null,null,null,null,null,null,null,null,null,null,null,null,null,null,null,null,null,null,null,"",null,null,null,null,null,null,null,null,null,null,null,null,null,null,null,null,null,null,null,null,null,null,null,null,null,null,"&allowhtml=false","pp://General Data/Address of auditor, post code identifier 1?taxonomy=UKFRC&labellanguage=en&allowhtml=false"]
[{"$f":"IF(PP_TypeOfAuditorAssistance=LOOKUP(PP_Language,{\"DA\";\"EN\"},{\"Ingen bistand\";\"No audit assistance\"}),\"\",\"\"&INDEX(PP_Locale,ROW(),PP_LanguageIndex))","v":"Address of auditor, district name 1"},null,null,null,null,"PP_AddressOfAuditorDistrictName_1",null,null,null,null,"Address of auditor, district name 1",null,null,"Revisionsvirksomhedens adresse, by 1",null,null,null,null,null,null,null,null,null,null,null,null,null,null,null,null,null,null,null,null,null,null,null,null,null,null,null,null,null,null,null,null,null,null,null,null,null,null,null,null,null,null,null,null,null,null,null,null,null,null,null,null,null,null,null,null,null,"",null,null,null,null,null,null,null,null,null,null,null,null,null,null,null,null,null,null,null,null,null,null,null,null,null,null,"&allowhtml=false","pp://General Data/Address of auditor, district name 1?taxonomy=UKFRC&labellanguage=en&allowhtml=false"]
[{"$f":"IF(PP_TypeOfAuditorAssistance=LOOKUP(PP_Language,{\"DA\";\"EN\"},{\"Ingen bistand\";\"No audit assistance\"}),\"\",\"\"&INDEX(PP_Locale,ROW(),PP_LanguageIndex))","v":"Address of auditor, country 1"},null,null,null,null,"PP_AddressOfAuditorCountry_1",null,null,null,null,"Address of auditor, country 1",null,null,"Revisionsvirksomhedens adresse, land 1",null,null,null,null,null,null,null,null,null,null,null,null,null,null,null,null,null,null,null,null,null,null,null,null,null,null,null,null,null,null,null,null,null,null,null,null,null,null,null,null,null,null,null,null,null,null,null,null,null,null,null,null,null,null,null,null,null,"",null,null,null,null,null,null,null,null,null,null,null,null,null,null,null,null,null,null,null,null,null,null,null,null,null,null,"&allowhtml=false","pp://General Data/Address of auditor, country 1?taxonomy=UKFRC&labellanguage=en&allowhtml=false"]
[{"$f":"IF(PP_TypeOfAuditorAssistance=LOOKUP(PP_Language,{\"DA\";\"EN\"},{\"Ingen bistand\";\"No audit assistance\"}),\"\",\"\"&INDEX(PP_Locale,ROW(),PP_LanguageIndex))","v":"Address of auditor, country identification code 1"},null,null,null,null,"PP_AddressOfAuditorCountryIdentificationCode_1",null,null,null,null,"Address of auditor, country identification code 1",null,null,"Revisionsvirksomhedens adresse, landekode 1",null,null,null,null,null,null,null,null,null,null,null,null,null,null,null,null,null,null,null,null,null,null,null,null,null,null,null,null,null,null,null,null,null,null,null,null,null,null,null,null,null,null,null,null,null,null,null,null,null,null,null,null,null,null,null,null,null,"",null,null,null,null,null,null,null,null,null,null,null,null,null,null,null,null,null,null,null,null,null,null,null,null,null,null,"&allowhtml=false","pp://General Data/Address of auditor, country identification code 1?taxonomy=UKFRC&labellanguage=en&allowhtml=false"]
[{"$f":"IF(PP_TypeOfAuditorAssistance=LOOKUP(PP_Language,{\"DA\";\"EN\"},{\"Ingen bistand\";\"No audit assistance\"}),\"\",\"\"&INDEX(PP_Locale,ROW(),PP_LanguageIndex))","v":"Telephone number of auditor 1"},null,null,null,null,"PP_TelephoneNumberOfAuditor_1",null,null,null,null,"Telephone number of auditor 1",null,null,"Revisionsvirksomhedens telefonnummer 1",null,null,null,null,null,null,null,null,null,null,null,null,null,null,null,null,null,null,null,null,null,null,null,null,null,null,null,null,null,null,null,null,null,null,null,null,null,null,null,null,null,null,null,null,null,null,null,null,null,null,null,null,null,null,null,null,null,"",null,null,null,null,null,null,null,null,null,null,null,null,null,null,null,null,null,null,null,null,null,null,null,null,null,null,"&allowhtml=false","pp://General Data/Telephone number of auditor 1?taxonomy=UKFRC&labellanguage=en&allowhtml=false"]
[{"$f":"IF(PP_TypeOfAuditorAssistance=LOOKUP(PP_Language,{\"DA\";\"EN\"},{\"Ingen bistand\";\"No audit assistance\"}),\"\",\"\"&INDEX(PP_Locale,ROW(),PP_LanguageIndex))","v":"E-mail of auditor 1"},null,null,null,null,"PP_EmailOfAuditor_1",null,null,null,null,"E-mail of auditor 1",null,null,"Revisionsvirksomhedens e-mail 1",null,null,null,null,null,null,null,null,null,null,null,null,null,null,null,null,null,null,null,null,null,null,null,null,null,null,null,null,null,null,null,null,null,null,null,null,null,null,null,null,null,null,null,null,null,null,null,null,null,null,null,null,null,null,null,null,null,"",null,null,null,null,null,null,null,null,null,null,null,null,null,null,null,null,null,null,null,null,null,null,null,null,null,null,"&allowhtml=false","pp://General Data/E-mail of auditor 1?taxonomy=UKFRC&labellanguage=en&allowhtml=false"]
[]
[{"$f":"IF(PP_TypeOfAuditorAssistance=LOOKUP(PP_Language,{\"DA\";\"EN\"},{\"Ingen bistand\";\"No audit assistance\"}),\"\",\"\"&INDEX(PP_Locale,ROW(),PP_LanguageIndex))","v":"Auditor 2:"},null,null,null,null,null,null,null,null,null,"Auditor 2:",null,null,"Revisor 2:"]
[{"$f":"IF(PP_TypeOfAuditorAssistance=LOOKUP(PP_Language,{\"DA\";\"EN\"},{\"Ingen bistand\";\"No audit assistance\"}),\"\",\"\"&INDEX(PP_Locale,ROW(),PP_LanguageIndex))","v":"Name and surname of auditor 2"},null,null,null,null,"PP_NameAndSurnameOfAuditor_2",null,null,null,null,"Name and surname of auditor 2",null,null,"Revisors navn 2",null,null,null,null,null,null,null,null,null,null,null,null,null,null,null,null,null,null,null,null,null,null,null,null,null,null,null,null,null,null,null,null,null,null,null,null,null,null,null,null,null,null,null,null,null,null,null,null,null,null,null,null,null,null,null,null,null,{"$f":"IF(COUNTBLANK(A207),\"\",\"\"&B207)","v":""},null,null,null,null,null,null,null,null,null,null,null,null,null,null,null,null,null,null,null,null,null,null,null,null,null,null,"&allowhtml=false",{"$f":"\"pp://General Data/\"&K207&\"?taxonomy=\"&PP_TaxonomyId&\"&labellanguage=en\"&CU207","v":"pp://General Data/Name and surname of auditor 2?taxonomy=UKFRC&labellanguage=en&allowhtml=false"}]
[{"$f":"IF(PP_TypeOfAuditorAssistance=LOOKUP(PP_Language,{\"DA\";\"EN\"},{\"Ingen bistand\";\"No audit assistance\"}),\"\",\"\"&INDEX(PP_Locale,ROW(),PP_LanguageIndex))","v":"Description of auditor 2"},null,null,null,null,"PP_DescriptionOfAuditor_2",null,null,null,null,"Description of auditor 2",null,null,"Revisors titel 2",null,null,null,null,null,null,null,null,null,null,null,null,null,null,null,null,null,null,null,null,null,null,null,null,null,null,null,null,null,null,null,null,null,null,null,null,null,null,null,null,null,null,null,null,null,null,null,null,null,null,null,null,null,null,null,null,null,{"$f":"IF(COUNTBLANK(A208),\"\",\"\"&B208)","v":""},null,null,null,null,null,null,null,null,null,null,null,null,null,null,null,null,null,null,null,null,null,null,null,null,null,null,"&allowhtml=false","pp://General Data/Description of auditor 2?taxonomy=UKFRC&labellanguage=en&allowhtml=false"]
[{"$f":"IF(PP_TypeOfAuditorAssistance=LOOKUP(PP_Language,{\"DA\";\"EN\"},{\"Ingen bistand\";\"No audit assistance\"}),\"\",\"\"&INDEX(PP_Locale,ROW(),PP_LanguageIndex))","v":"Identification number of auditor 2"},null,null,null,null,"PP_IdentificationNumberOfAuditor_2",null,null,null,null,"Identification number of auditor 2",null,null,"Revisors MNE-nr. 2",null,null,null,null,null,null,null,null,null,null,null,null,null,null,null,null,null,null,null,null,null,null,null,null,null,null,null,null,null,null,null,null,null,null,null,null,null,null,null,null,null,null,null,null,null,null,null,null,null,null,null,null,null,null,null,null,null,{"$f":"IF(COUNTBLANK(A209),\"\",\"\"&B209)","v":""},null,null,null,null,null,null,null,null,null,null,null,null,null,null,null,null,null,null,null,null,null,null,null,null,null,null,"&allowhtml=false","pp://General Data/Identification number of auditor 2?taxonomy=UKFRC&labellanguage=en&allowhtml=false"]
[{"$f":"IF(PP_TypeOfAuditorAssistance=LOOKUP(PP_Language,{\"DA\";\"EN\"},{\"Ingen bistand\";\"No audit assistance\"}),\"\",\"\"&INDEX(PP_Locale,ROW(),PP_LanguageIndex))","v":"Legal Entity Identifier [LEI] of audit firm 2"},{"$f":"\"\"&IF(COUNTBLANK(PP_NameAndSurnameOfAuditor_2),,PP_LegalEntityIdentifierOfAuditFirm_1)","v":""},null,null,null,"PP_LegalEntityIdentifierOfAuditFirm_2",{"$f":"\"\"&IF(COUNTBLANK(PP_NameAndSurnameOfAuditor_2),,PP_LegalEntityIdentifierOfAuditFirm_1)","v":""},null,null,null,"Legal Entity Identifier [LEI] of audit firm 2",null,null,"Revisionsvirksomhedens LEI-kode 2",null,null,null,null,null,null,null,null,null,null,null,null,null,null,null,null,null,null,null,null,null,null,null,null,null,null,null,null,null,null,null,null,null,null,null,null,null,null,null,null,null,null,null,null,null,null,null,null,null,null,null,null,null,null,null,null,null,{"$f":"IF(COUNTBLANK(A210),\"\",\"\"&B210)","v":""},null,null,null,null,null,null,null,null,null,null,null,null,null,null,null,null,null,null,null,null,null,null,null,null,null,null,"&allowhtml=false&skipspace=true","pp://General Data/Legal Entity Identifier [LEI] of audit firm 2?taxonomy=UKFRC&labellanguage=en&allowhtml=false&skipspace=true"]
[{"$f":"IF(PP_TypeOfAuditorAssistance=LOOKUP(PP_Language,{\"DA\";\"EN\"},{\"Ingen bistand\";\"No audit assistance\"}),\"\",\"\"&INDEX(PP_Locale,ROW(),PP_LanguageIndex))","v":"Identification number [CVR] of audit firm 2"},{"$f":"\"\"&IF(COUNTBLANK(PP_NameAndSurnameOfAuditor_2),,PP_IdentificationNumberCvrOfAuditFirm_1)","v":""},null,null,null,"PP_IdentificationNumberCvrOfAuditFirm_2",{"$f":"\"\"&IF(COUNTBLANK(PP_NameAndSurnameOfAuditor_2),,PP_IdentificationNumberCvrOfAuditFirm_1)","v":""},null,null,null,"Identification number [CVR] of audit firm 2",null,null,"Revisionsvirksomhedens CVR-nr. 2",null,null,null,null,null,null,null,null,null,null,null,null,null,null,null,null,null,null,null,null,null,null,null,null,null,null,null,null,null,null,null,null,null,null,null,null,null,null,null,null,null,null,null,null,null,null,null,null,null,null,null,null,null,null,null,null,null,{"$f":"IF(COUNTBLANK(A211),\"\",\"\"&SUBSTITUTE(B211,\" \",\"\"))","v":""},null,null,null,null,null,null,null,null,null,null,null,null,null,null,null,null,null,null,null,null,null,null,null,null,null,null,"&allowhtml=false&skipspace=true","pp://General Data/Identification number [CVR] of audit firm 2?taxonomy=UKFRC&labellanguage=en&allowhtml=false&skipspace=true"]
[{"$f":"IF(PP_TypeOfAuditorAssistance=LOOKUP(PP_Language,{\"DA\";\"EN\"},{\"Ingen bistand\";\"No audit assistance\"}),\"\",\"\"&INDEX(PP_Locale,ROW(),PP_LanguageIndex))","v":"Identification number [PNR] of audit firm 2"},{"$f":"\"\"&IF(COUNTBLANK(PP_NameAndSurnameOfAuditor_2),,PP_IdentificationNumberPnrOfAuditFirm_1)","v":""},null,null,null,"PP_IdentificationNumberPnrOfAuditFirm_2",{"$f":"\"\"&IF(COUNTBLANK(PP_NameAndSurnameOfAuditor_2),,PP_IdentificationNumberPnrOfAuditFirm_1)","v":""},null,null,null,"Identification number [PNR] of audit firm 2",null,null,"Revisionsvirksomhedens P-nr. 2",null,null,null,null,null,null,null,null,null,null,null,null,null,null,null,null,null,null,null,null,null,null,null,null,null,null,null,null,null,null,null,null,null,null,null,null,null,null,null,null,null,null,null,null,null,null,null,null,null,null,null,null,null,null,null,null,null,{"$f":"IF(COUNTBLANK(A212),\"\",\"\"&SUBSTITUTE(B212,\"-\",\"\"))","v":""},null,null,null,null,null,null,null,null,null,null,null,null,null,null,null,null,null,null,null,null,null,null,null,null,null,null,"&allowhtml=false","pp://General Data/Identification number [PNR] of audit firm 2?taxonomy=UKFRC&labellanguage=en&allowhtml=false"]
[{"$f":"IF(PP_TypeOfAuditorAssistance=LOOKUP(PP_Language,{\"DA\";\"EN\"},{\"Ingen bistand\";\"No audit assistance\"}),\"\",\"\"&INDEX(PP_Locale,ROW(),PP_LanguageIndex))","v":"Name of audit firm 2"},{"$f":"\"\"&IF(COUNTBLANK(PP_NameAndSurnameOfAuditor_2),,PP_NameOfAuditFirm_1)","v":""},null,null,null,"PP_NameOfAuditFirm_2",{"$f":"\"\"&IF(COUNTBLANK(PP_NameAndSurnameOfAuditor_2),,PP_NameOfAuditFirm_1)","v":""},null,null,null,"Name of audit firm 2",null,null,"Revisionsvirksomhedens navn 2",null,null,null,null,null,null,null,null,null,null,null,null,null,null,null,null,null,null,null,null,null,null,null,null,null,null,null,null,null,null,null,null,null,null,null,null,null,null,null,null,null,null,null,null,null,null,null,null,null,null,null,null,null,null,null,null,null,{"$f":"IF(COUNTBLANK(A213),\"\",\"\"&B213)","v":""},null,null,null,null,null,null,null,null,null,null,null,null,null,null,null,null,null,null,null,null,null,null,null,null,null,null,"&allowhtml=false","pp://General Data/Name of audit firm 2?taxonomy=UKFRC&labellanguage=en&allowhtml=false"]
[{"$f":"IF(PP_TypeOfAuditorAssistance=LOOKUP(PP_Language,{\"DA\";\"EN\"},{\"Ingen bistand\";\"No audit assistance\"}),\"\",\"\"&INDEX(PP_Locale,ROW(),PP_LanguageIndex))","v":"Address of auditor, street name 2"},{"$f":"\"\"&IF(COUNTBLANK(PP_NameAndSurnameOfAuditor_2),,PP_AddressOfAuditorStreetName_1)","v":""},null,null,null,"PP_AddressOfAuditorStreetName_2",{"$f":"\"\"&IF(COUNTBLANK(PP_NameAndSurnameOfAuditor_2),,PP_AddressOfAuditorStreetName_1)","v":""},null,null,null,"Address of auditor, street name 2",null,null,"Revisionsvirksomhedens adresse, vejnavn 2",null,null,null,null,null,null,null,null,null,null,null,null,null,null,null,null,null,null,null,null,null,null,null,null,null,null,null,null,null,null,null,null,null,null,null,null,null,null,null,null,null,null,null,null,null,null,null,null,null,null,null,null,null,null,null,null,null,"",null,null,null,null,null,null,null,null,null,null,null,null,null,null,null,null,null,null,null,null,null,null,null,null,null,null,"&allowhtml=false","pp://General Data/Address of auditor, street name 2?taxonomy=UKFRC&labellanguage=en&allowhtml=false"]
[{"$f":"IF(PP_TypeOfAuditorAssistance=LOOKUP(PP_Language,{\"DA\";\"EN\"},{\"Ingen bistand\";\"No audit assistance\"}),\"\",\"\"&INDEX(PP_Locale,ROW(),PP_LanguageIndex))","v":"Address of auditor, street building identifier 2"},{"$f":"\"\"&IF(COUNTBLANK(PP_NameAndSurnameOfAuditor_2),,PP_AddressOfAuditorStreetBuildingIdentifier_1)","v":""},null,null,null,"PP_AddressOfAuditorStreetBuildingIdentifier_2",{"$f":"\"\"&IF(COUNTBLANK(PP_NameAndSurnameOfAuditor_2),,PP_AddressOfAuditorStreetBuildingIdentifier_1)","v":""},null,null,null,"Address of auditor, street building identifier 2",null,null,"Revisionsvirksomhedens adresse, vejnr og etage 2",null,null,null,null,null,null,null,null,null,null,null,null,null,null,null,null,null,null,null,null,null,null,null,null,null,null,null,null,null,null,null,null,null,null,null,null,null,null,null,null,null,null,null,null,null,null,null,null,null,null,null,null,null,null,null,null,null,"",null,null,null,null,null,null,null,null,null,null,null,null,null,null,null,null,null,null,null,null,null,null,null,null,null,null,"&allowhtml=false","pp://General Data/Address of auditor, street building identifier 2?taxonomy=UKFRC&labellanguage=en&allowhtml=false"]
[{"$f":"IF(PP_TypeOfAuditorAssistance=LOOKUP(PP_Language,{\"DA\";\"EN\"},{\"Ingen bistand\";\"No audit assistance\"}),\"\",\"\"&INDEX(PP_Locale,ROW(),PP_LanguageIndex))","v":"Address of auditor, post code identifier 2"},{"$f":"\"\"&IF(COUNTBLANK(PP_NameAndSurnameOfAuditor_2),,PP_AddressOfAuditorPostCodeIdentifier_1)","v":""},null,null,null,"PP_AddressOfAuditorPostCodeIdentifier_2",{"$f":"\"\"&IF(COUNTBLANK(PP_NameAndSurnameOfAuditor_2),,PP_AddressOfAuditorPostCodeIdentifier_1)","v":""},null,null,null,"Address of auditor, post code identifier 2",null,null,"Revisionsvirksomhedens adresse, postnummer 2",null,null,null,null,null,null,null,null,null,null,null,null,null,null,null,null,null,null,null,null,null,null,null,null,null,null,null,null,null,null,null,null,null,null,null,null,null,null,null,null,null,null,null,null,null,null,null,null,null,null,null,null,null,null,null,null,null,"",null,null,null,null,null,null,null,null,null,null,null,null,null,null,null,null,null,null,null,null,null,null,null,null,null,null,"&allowhtml=false","pp://General Data/Address of auditor, post code identifier 2?taxonomy=UKFRC&labellanguage=en&allowhtml=false"]
[{"$f":"IF(PP_TypeOfAuditorAssistance=LOOKUP(PP_Language,{\"DA\";\"EN\"},{\"Ingen bistand\";\"No audit assistance\"}),\"\",\"\"&INDEX(PP_Locale,ROW(),PP_LanguageIndex))","v":"Address of auditor, district name 2"},{"$f":"\"\"&IF(COUNTBLANK(PP_NameAndSurnameOfAuditor_2),,PP_AddressOfAuditorDistrictName_1)","v":""},null,null,null,"PP_AddressOfAuditorDistrictName_2",{"$f":"\"\"&IF(COUNTBLANK(PP_NameAndSurnameOfAuditor_2),,PP_AddressOfAuditorDistrictName_1)","v":""},null,null,null,"Address of auditor, district name 2",null,null,"Revisionsvirksomhedens adresse, by 2",null,null,null,null,null,null,null,null,null,null,null,null,null,null,null,null,null,null,null,null,null,null,null,null,null,null,null,null,null,null,null,null,null,null,null,null,null,null,null,null,null,null,null,null,null,null,null,null,null,null,null,null,null,null,null,null,null,"",null,null,null,null,null,null,null,null,null,null,null,null,null,null,null,null,null,null,null,null,null,null,null,null,null,null,"&allowhtml=false","pp://General Data/Address of auditor, district name 2?taxonomy=UKFRC&labellanguage=en&allowhtml=false"]
[{"$f":"IF(PP_TypeOfAuditorAssistance=LOOKUP(PP_Language,{\"DA\";\"EN\"},{\"Ingen bistand\";\"No audit assistance\"}),\"\",\"\"&INDEX(PP_Locale,ROW(),PP_LanguageIndex))","v":"Address of auditor, country 2"},{"$f":"\"\"&IF(COUNTBLANK(PP_NameAndSurnameOfAuditor_2),,PP_AddressOfAuditorCountry_1)","v":""},null,null,null,"PP_AddressOfAuditorCountry_2",{"$f":"\"\"&IF(COUNTBLANK(PP_NameAndSurnameOfAuditor_2),,PP_AddressOfAuditorCountry_1)","v":""},null,null,null,"Address of auditor, country 2",null,null,"Revisionsvirksomhedens adresse, land 2",null,null,null,null,null,null,null,null,null,null,null,null,null,null,null,null,null,null,null,null,null,null,null,null,null,null,null,null,null,null,null,null,null,null,null,null,null,null,null,null,null,null,null,null,null,null,null,null,null,null,null,null,null,null,null,null,null,"",null,null,null,null,null,null,null,null,null,null,null,null,null,null,null,null,null,null,null,null,null,null,null,null,null,null,"&allowhtml=false","pp://General Data/Address of auditor, country 2?taxonomy=UKFRC&labellanguage=en&allowhtml=false"]
[{"$f":"IF(PP_TypeOfAuditorAssistance=LOOKUP(PP_Language,{\"DA\";\"EN\"},{\"Ingen bistand\";\"No audit assistance\"}),\"\",\"\"&INDEX(PP_Locale,ROW(),PP_LanguageIndex))","v":"Address of auditor, country identification code 2"},{"$f":"\"\"&IF(COUNTBLANK(PP_NameAndSurnameOfAuditor_2),,PP_AddressOfAuditorCountryIdentificationCode_1)","v":""},null,null,null,"PP_AddressOfAuditorCountryIdentificationCode_2",{"$f":"\"\"&IF(COUNTBLANK(PP_NameAndSurnameOfAuditor_2),,PP_AddressOfAuditorCountryIdentificationCode_1)","v":""},null,null,null,"Address of auditor, country identification code 2",null,null,"Revisionsvirksomhedens adresse, landekode 2",null,null,null,null,null,null,null,null,null,null,null,null,null,null,null,null,null,null,null,null,null,null,null,null,null,null,null,null,null,null,null,null,null,null,null,null,null,null,null,null,null,null,null,null,null,null,null,null,null,null,null,null,null,null,null,null,null,"",null,null,null,null,null,null,null,null,null,null,null,null,null,null,null,null,null,null,null,null,null,null,null,null,null,null,"&allowhtml=false","pp://General Data/Address of auditor, country identification code 2?taxonomy=UKFRC&labellanguage=en&allowhtml=false"]
[{"$f":"IF(PP_TypeOfAuditorAssistance=LOOKUP(PP_Language,{\"DA\";\"EN\"},{\"Ingen bistand\";\"No audit assistance\"}),\"\",\"\"&INDEX(PP_Locale,ROW(),PP_LanguageIndex))","v":"Telephone number of auditor 2"},{"$f":"\"\"&IF(COUNTBLANK(PP_NameAndSurnameOfAuditor_2),,PP_TelephoneNumberOfAuditor_1)","v":""},null,null,null,"PP_TelephoneNumberOfAuditor_2",{"$f":"\"\"&IF(COUNTBLANK(PP_NameAndSurnameOfAuditor_2),,PP_TelephoneNumberOfAuditor_1)","v":""},null,null,null,"Telephone number of auditor 2",null,null,"Revisionsvirksomhedens telefonnummer 2",null,null,null,null,null,null,null,null,null,null,null,null,null,null,null,null,null,null,null,null,null,null,null,null,null,null,null,null,null,null,null,null,null,null,null,null,null,null,null,null,null,null,null,null,null,null,null,null,null,null,null,null,null,null,null,null,null,"",null,null,null,null,null,null,null,null,null,null,null,null,null,null,null,null,null,null,null,null,null,null,null,null,null,null,"&allowhtml=false","pp://General Data/Telephone number of auditor 2?taxonomy=UKFRC&labellanguage=en&allowhtml=false"]
[{"$f":"IF(PP_TypeOfAuditorAssistance=LOOKUP(PP_Language,{\"DA\";\"EN\"},{\"Ingen bistand\";\"No audit assistance\"}),\"\",\"\"&INDEX(PP_Locale,ROW(),PP_LanguageIndex))","v":"E-mail of auditor 2"},{"$f":"\"\"&IF(COUNTBLANK(PP_NameAndSurnameOfAuditor_2),,PP_EmailOfAuditor_1)","v":""},null,null,null,"PP_EmailOfAuditor_2",{"$f":"\"\"&IF(COUNTBLANK(PP_NameAndSurnameOfAuditor_2),,PP_EmailOfAuditor_1)","v":""},null,null,null,"E-mail of auditor 2",null,null,"Revisionsvirksomhedens e-mail 2",null,null,null,null,null,null,null,null,null,null,null,null,null,null,null,null,null,null,null,null,null,null,null,null,null,null,null,null,null,null,null,null,null,null,null,null,null,null,null,null,null,null,null,null,null,null,null,null,null,null,null,null,null,null,null,null,null,"",null,null,null,null,null,null,null,null,null,null,null,null,null,null,null,null,null,null,null,null,null,null,null,null,null,null,"&allowhtml=false","pp://General Data/E-mail of auditor 2?taxonomy=UKFRC&labellanguage=en&allowhtml=false"]
[]
[{"$f":"\"\"&INDEX(PP_Locale,ROW(),PP_LanguageIndex)","v":"Internal audit:"},null,null,null,null,null,null,null,null,null,"Internal audit:",null,null,"Intern revision:"]
[{"$f":"\"\"&INDEX(PP_Locale,ROW(),PP_LanguageIndex)","v":"Signature internal audit, place"},null,null,null,null,"PP_SignatureInternalAuditPlace",null,null,null,null,"Signature internal audit, place",null,null,"Intern revision, sted",null,null,null,null,null,null,null,null,null,null,null,null,null,null,null,null,null,null,null,null,null,null,null,null,null,null,null,null,null,null,null,null,null,null,null,null,null,null,null,null,null,null,null,null,null,null,null,null,null,null,null,null,null,null,null,null,null,{"$f":"\"\"&B224","v":""},null,null,null,null,null,null,null,null,null,null,null,null,null,null,null,null,null,null,null,null,null,null,null,null,null,null,"&allowhtml=false",{"$f":"\"pp://General Data/\"&K224&\"?taxonomy=\"&PP_TaxonomyId&\"&labellanguage=en\"&CU224","v":"pp://General Data/Signature internal audit, place?taxonomy=UKFRC&labellanguage=en&allowhtml=false"}]
[{"$f":"\"\"&INDEX(PP_Locale,ROW(),PP_LanguageIndex)","v":"Signature internal audit, date"},null,null,null,null,"PP_SignatureInternalAuditDate",null,null,null,null,"Signature internal audit, date",null,null,"Intern revision, dato",null,null,null,null,null,null,null,null,null,null,null,null,null,null,null,null,null,null,null,null,null,null,null,null,null,null,null,null,null,null,null,null,null,null,null,null,null,null,null,null,null,null,null,null,null,null,null,null,null,null,null,null,null,null,null,null,null,{"$f":"IF(COUNTBLANK(B225),\"\",TEXT(YEAR(B225),\"0000\")&\"-\"&TEXT(MONTH(B225),\"00\")&\"-\"&TEXT(DAY(B225),\"00\"))","v":""},null,null,null,null,null,null,null,null,null,null,null,null,null,null,null,null,null,null,null,null,null,null,null,null,null,null,"&allowhtml=false","pp://General Data/Signature internal audit, date?taxonomy=UKFRC&labellanguage=en&allowhtml=false"]
[{"$f":"\"\"&INDEX(PP_Locale,ROW(),PP_LanguageIndex)","v":"Name and surname of performer of internal audit 1"},null,null,null,null,"PP_NameAndSurnameOfPerformerOfInternalAudit_1",null,null,null,null,"Name and surname of performer of internal audit 1",null,null,"Intern revision navn 1",null,null,null,null,null,null,null,null,null,null,null,null,null,null,null,null,null,null,null,null,null,null,null,null,null,null,null,null,null,null,null,null,null,null,null,null,null,null,null,null,null,null,null,null,null,null,null,null,null,null,null,null,null,null,null,null,null,{"$f":"IF(A226=\"\",\"\",\"\"&B226)","v":""},null,null,null,null,null,null,null,null,null,null,null,null,null,null,null,null,null,null,null,null,null,null,null,null,null,null,"&allowhtml=false","pp://General Data/Name and surname of performer of internal audit 1?taxonomy=UKFRC&labellanguage=en&allowhtml=false"]
[{"$f":"\"\"&INDEX(PP_Locale,ROW(),PP_LanguageIndex)","v":"Title of performer of internal audit 1"},null,null,null,null,"PP_TitleOfPerformerOfInternalAudit_1",null,null,null,null,"Title of performer of internal audit 1",null,null,"Intern revision titel 1",null,null,null,null,null,null,null,null,null,null,null,null,null,null,null,null,null,null,null,null,null,null,null,null,null,null,null,null,null,null,null,null,null,null,null,null,null,null,null,null,null,null,null,null,null,null,null,null,null,null,null,null,null,null,null,null,null,{"$f":"IF(A227=\"\",\"\",\"\"&B227)","v":""},null,null,null,null,null,null,null,null,null,null,null,null,null,null,null,null,null,null,null,null,null,null,null,null,null,null,"&allowhtml=false","pp://General Data/Title of performer of internal audit 1?taxonomy=UKFRC&labellanguage=en&allowhtml=false"]
[{"$f":"\"\"&INDEX(PP_Locale,ROW(),PP_LanguageIndex)","v":"Name and surname of performer of internal audit 2"},null,null,null,null,"PP_NameAndSurnameOfPerformerOfInternalAudit_2",null,null,null,null,"Name and surname of performer of internal audit 2",null,null,"Intern revision navn 2",null,null,null,null,null,null,null,null,null,null,null,null,null,null,null,null,null,null,null,null,null,null,null,null,null,null,null,null,null,null,null,null,null,null,null,null,null,null,null,null,null,null,null,null,null,null,null,null,null,null,null,null,null,null,null,null,null,{"$f":"IF(A228=\"\",\"\",\"\"&B228)","v":""},null,null,null,null,null,null,null,null,null,null,null,null,null,null,null,null,null,null,null,null,null,null,null,null,null,null,"&allowhtml=false","pp://General Data/Name and surname of performer of internal audit 2?taxonomy=UKFRC&labellanguage=en&allowhtml=false"]
[{"$f":"\"\"&INDEX(PP_Locale,ROW(),PP_LanguageIndex)","v":"Title of performer of internal audit 2"},null,null,null,null,"PP_TitleOfPerformerOfInternalAudit_2",null,null,null,null,"Title of performer of internal audit 2",null,null,"Intern revision titel 2",null,null,null,null,null,null,null,null,null,null,null,null,null,null,null,null,null,null,null,null,null,null,null,null,null,null,null,null,null,null,null,null,null,null,null,null,null,null,null,null,null,null,null,null,null,null,null,null,null,null,null,null,null,null,null,null,null,{"$f":"IF(A229=\"\",\"\",\"\"&B229)","v":""},null,null,null,null,null,null,null,null,null,null,null,null,null,null,null,null,null,null,null,null,null,null,null,null,null,null,"&allowhtml=false","pp://General Data/Title of performer of internal audit 2?taxonomy=UKFRC&labellanguage=en&allowhtml=false"]
[]
[{"$f":"\"\"&INDEX(PP_Locale,ROW(),PP_LanguageIndex)","v":"Other statements:"},null,null,null,null,null,null,null,null,null,"Other statements:",null,null,"Øvrige erklæringer:"]
[{"$f":"\"\"&INDEX(PP_Locale,ROW(),PP_LanguageIndex)","v":"Signature other statement 1, place"},null,null,null,null,"PP_SignatureOtherStatementsPlace_1",null,null,null,null,"Signature other statement 1, place",null,null,"Øvrig erklæring 1, sted",null,null,null,null,null,null,null,null,null,null,null,null,null,null,null,null,null,null,null,null,null,null,null,null,null,null,null,null,null,null,null,null,null,null,null,null,null,null,null,null,null,null,null,null,null,null,null,null,null,null,null,null,null,null,null,null,null,{"$f":"\"\"&B232","v":""},null,null,null,null,null,null,null,null,null,null,null,null,null,null,null,null,null,null,null,null,null,null,null,null,null,null,"&allowhtml=false",{"$f":"\"pp://General Data/\"&K232&\"?taxonomy=\"&PP_TaxonomyId&\"&labellanguage=en\"&CU232","v":"pp://General Data/Signature other statement 1, place?taxonomy=UKFRC&labellanguage=en&allowhtml=false"}]
[{"$f":"\"\"&INDEX(PP_Locale,ROW(),PP_LanguageIndex)","v":"Signature other statement 1, date"},null,null,null,null,"PP_SignatureOtherStatementsDate_1",null,null,null,null,"Signature other statement 1, date",null,null,"Øvrig erklæring 1, dato",null,null,null,null,null,null,null,null,null,null,null,null,null,null,null,null,null,null,null,null,null,null,null,null,null,null,null,null,null,null,null,null,null,null,null,null,null,null,null,null,null,null,null,null,null,null,null,null,null,null,null,null,null,null,null,null,null,{"$f":"IF(COUNTBLANK(B233),\"\",TEXT(YEAR(B233),\"0000\")&\"-\"&TEXT(MONTH(B233),\"00\")&\"-\"&TEXT(DAY(B233),\"00\"))","v":""},null,null,null,null,null,null,null,null,null,null,null,null,null,null,null,null,null,null,null,null,null,null,null,null,null,null,"&allowhtml=false","pp://General Data/Signature other statement 1, date?taxonomy=UKFRC&labellanguage=en&allowhtml=false"]
[{"$f":"\"\"&INDEX(PP_Locale,ROW(),PP_LanguageIndex)","v":"Legal Entity Identifier [LEI] of performer of other statement 1"},null,null,null,null,"PP_LegalEntityIdentifierOfPerformerOfOtherStatement_1",null,null,null,null,"Legal Entity Identifier [LEI] of performer of other statement 1",null,null,"Øvrig erklæring 1, LEI-kode",null,null,null,null,null,null,null,null,null,null,null,null,null,null,null,null,null,null,null,null,null,null,null,null,null,null,null,null,null,null,null,null,null,null,null,null,null,null,null,null,null,null,null,null,null,null,null,null,null,null,null,null,null,null,null,null,null,{"$f":"\"\"&B234","v":""},null,null,null,null,null,null,null,null,null,null,null,null,null,null,null,null,null,null,null,null,null,null,null,null,null,null,"&allowhtml=false&skipspace=true","pp://General Data/Legal Entity Identifier [LEI] of performer of other statement 1?taxonomy=UKFRC&labellanguage=en&allowhtml=false&skipspace=true"]
[{"$f":"\"\"&INDEX(PP_Locale,ROW(),PP_LanguageIndex)","v":"Identification number [CVR] of performer of other statement 1"},null,null,null,null,"PP_IdentificationNumberCvrOfPerformerOfOtherStatement_1",null,null,null,null,"Identification number [CVR] of performer of other statement 1",null,null,"Øvrig erklæring 1, CVR-nr.",null,null,null,null,null,null,null,null,null,null,null,null,null,null,null,null,null,null,null,null,null,null,null,null,null,null,null,null,null,null,null,null,null,null,null,null,null,null,null,null,null,null,null,null,null,null,null,null,null,null,null,null,null,null,null,null,null,{"$f":"IF(A235=\"\",\"\",\"\"&B235)","v":""},null,null,null,null,null,null,null,null,null,null,null,null,null,null,null,null,null,null,null,null,null,null,null,null,null,null,"&allowhtml=false&skipspace=true","pp://General Data/Identification number [CVR] of performer of other statement 1?taxonomy=UKFRC&labellanguage=en&allowhtml=false&skipspace=true"]
[{"$f":"\"\"&INDEX(PP_Locale,ROW(),PP_LanguageIndex)","v":"Name of firm performing other statement 1"},null,null,null,null,"PP_NameOfFirmperformingOtherStatement_1",null,null,null,null,"Name of firm performing other statement 1",null,null,"Øvrig erklæring 1, firmanavn",null,null,null,null,null,null,null,null,null,null,null,null,null,null,null,null,null,null,null,null,null,null,null,null,null,null,null,null,null,null,null,null,null,null,null,null,null,null,null,null,null,null,null,null,null,null,null,null,null,null,null,null,null,null,null,null,null,{"$f":"IF(A236=\"\",\"\",\"\"&B236)","v":""},null,null,null,null,null,null,null,null,null,null,null,null,null,null,null,null,null,null,null,null,null,null,null,null,null,null,"&allowhtml=false","pp://General Data/Name of firm performing other statement 1?taxonomy=UKFRC&labellanguage=en&allowhtml=false"]
[{"$f":"\"\"&INDEX(PP_Locale,ROW(),PP_LanguageIndex)","v":"Name and surname of performer of other statement 1"},null,null,null,null,"PP_NameAndSurnameOfPerformerOfOtherStatement_1",null,null,null,null,"Name and surname of performer of other statement 1",null,null,"Øvrig erklæring 1, navn",null,null,null,null,null,null,null,null,null,null,null,null,null,null,null,null,null,null,null,null,null,null,null,null,null,null,null,null,null,null,null,null,null,null,null,null,null,null,null,null,null,null,null,null,null,null,null,null,null,null,null,null,null,null,null,null,null,{"$f":"IF(A237=\"\",\"\",\"\"&B237)","v":""},null,null,null,null,null,null,null,null,null,null,null,null,null,null,null,null,null,null,null,null,null,null,null,null,null,null,"&allowhtml=false","pp://General Data/Name and surname of performer of other statement 1?taxonomy=UKFRC&labellanguage=en&allowhtml=false"]
[{"$f":"\"\"&INDEX(PP_Locale,ROW(),PP_LanguageIndex)","v":"Title of performer of other statement 1"},null,null,null,null,"PP_TitleOfPerformerOfOtherStatements_1",null,null,null,null,"Title of performer of other statement 1",null,null,"Øvrig erklæring 1, titel",null,null,null,null,null,null,null,null,null,null,null,null,null,null,null,null,null,null,null,null,null,null,null,null,null,null,null,null,null,null,null,null,null,null,null,null,null,null,null,null,null,null,null,null,null,null,null,null,null,null,null,null,null,null,null,null,null,{"$f":"IF(A238=\"\",\"\",\"\"&B238)","v":""},null,null,null,null,null,null,null,null,null,null,null,null,null,null,null,null,null,null,null,null,null,null,null,null,null,null,"&allowhtml=false","pp://General Data/Title of performer of other statement 1?taxonomy=UKFRC&labellanguage=en&allowhtml=false"]
[]
[{"$f":"\"\"&INDEX(PP_Locale,ROW(),PP_LanguageIndex)","v":"Signature other statement 2, place"},null,null,null,null,"PP_SignatureOtherStatementsPlace_2",null,null,null,null,"Signature other statement 2, place",null,null,"Øvrig erklæring 2, sted",null,null,null,null,null,null,null,null,null,null,null,null,null,null,null,null,null,null,null,null,null,null,null,null,null,null,null,null,null,null,null,null,null,null,null,null,null,null,null,null,null,null,null,null,null,null,null,null,null,null,null,null,null,null,null,null,null,{"$f":"\"\"&B240","v":""},null,null,null,null,null,null,null,null,null,null,null,null,null,null,null,null,null,null,null,null,null,null,null,null,null,null,"&allowhtml=false",{"$f":"\"pp://General Data/\"&K240&\"?taxonomy=\"&PP_TaxonomyId&\"&labellanguage=en\"&CU240","v":"pp://General Data/Signature other statement 2, place?taxonomy=UKFRC&labellanguage=en&allowhtml=false"}]
[{"$f":"\"\"&INDEX(PP_Locale,ROW(),PP_LanguageIndex)","v":"Signature other statement 2, date"},null,null,null,null,"PP_SignatureOtherStatementsDate_2",null,null,null,null,"Signature other statement 2, date",null,null,"Øvrig erklæring 2, dato",null,null,null,null,null,null,null,null,null,null,null,null,null,null,null,null,null,null,null,null,null,null,null,null,null,null,null,null,null,null,null,null,null,null,null,null,null,null,null,null,null,null,null,null,null,null,null,null,null,null,null,null,null,null,null,null,null,{"$f":"IF(COUNTBLANK(B241),\"\",TEXT(YEAR(B241),\"0000\")&\"-\"&TEXT(MONTH(B241),\"00\")&\"-\"&TEXT(DAY(B241),\"00\"))","v":""},null,null,null,null,null,null,null,null,null,null,null,null,null,null,null,null,null,null,null,null,null,null,null,null,null,null,"&allowhtml=false","pp://General Data/Signature other statement 2, date?taxonomy=UKFRC&labellanguage=en&allowhtml=false"]
[{"$f":"\"\"&INDEX(PP_Locale,ROW(),PP_LanguageIndex)","v":"Legal Entity Identifier [LEI] of performer of other statement 2"},null,null,null,null,"PP_LegalEntityIdentifierOfPerformerOfOtherStatement_2",null,null,null,null,"Legal Entity Identifier [LEI] of performer of other statement 2",null,null,"Øvrig erklæring 2, LEI-kode",null,null,null,null,null,null,null,null,null,null,null,null,null,null,null,null,null,null,null,null,null,null,null,null,null,null,null,null,null,null,null,null,null,null,null,null,null,null,null,null,null,null,null,null,null,null,null,null,null,null,null,null,null,null,null,null,null,{"$f":"\"\"&B242","v":""},null,null,null,null,null,null,null,null,null,null,null,null,null,null,null,null,null,null,null,null,null,null,null,null,null,null,"&allowhtml=false&skipspace=true","pp://General Data/Legal Entity Identifier [LEI] of performer of other statement 2?taxonomy=UKFRC&labellanguage=en&allowhtml=false&skipspace=true"]
[{"$f":"\"\"&INDEX(PP_Locale,ROW(),PP_LanguageIndex)","v":"Identification number [CVR] of performer of other statement 2"},null,null,null,null,"PP_IdentificationNumberCvrOfPerformerOfOtherStatement_2",null,null,null,null,"Identification number [CVR] of performer of other statement 2",null,null,"Øvrig erklæring 2, CVR-nr.",null,null,null,null,null,null,null,null,null,null,null,null,null,null,null,null,null,null,null,null,null,null,null,null,null,null,null,null,null,null,null,null,null,null,null,null,null,null,null,null,null,null,null,null,null,null,null,null,null,null,null,null,null,null,null,null,null,{"$f":"IF(A243=\"\",\"\",\"\"&B243)","v":""},null,null,null,null,null,null,null,null,null,null,null,null,null,null,null,null,null,null,null,null,null,null,null,null,null,null,"&allowhtml=false&skipspace=true","pp://General Data/Identification number [CVR] of performer of other statement 2?taxonomy=UKFRC&labellanguage=en&allowhtml=false&skipspace=true"]
[{"$f":"\"\"&INDEX(PP_Locale,ROW(),PP_LanguageIndex)","v":"Name of firm performing other statement 2"},null,null,null,null,"PP_NameOfFirmperformingOtherStatement_2",null,null,null,null,"Name of firm performing other statement 2",null,null,"Øvrig erklæring 2, firmanavn",null,null,null,null,null,null,null,null,null,null,null,null,null,null,null,null,null,null,null,null,null,null,null,null,null,null,null,null,null,null,null,null,null,null,null,null,null,null,null,null,null,null,null,null,null,null,null,null,null,null,null,null,null,null,null,null,null,{"$f":"IF(A244=\"\",\"\",\"\"&B244)","v":""},null,null,null,null,null,null,null,null,null,null,null,null,null,null,null,null,null,null,null,null,null,null,null,null,null,null,"&allowhtml=false","pp://General Data/Name of firm performing other statement 2?taxonomy=UKFRC&labellanguage=en&allowhtml=false"]
[{"$f":"\"\"&INDEX(PP_Locale,ROW(),PP_LanguageIndex)","v":"Name and surname of performer of other statement 2"},null,null,null,null,"PP_NameAndSurnameOfPerformerOfOtherStatement_2",null,null,null,null,"Name and surname of performer of other statement 2",null,null,"Øvrig erklæring 2, navn",null,null,null,null,null,null,null,null,null,null,null,null,null,null,null,null,null,null,null,null,null,null,null,null,null,null,null,null,null,null,null,null,null,null,null,null,null,null,null,null,null,null,null,null,null,null,null,null,null,null,null,null,null,null,null,null,null,{"$f":"IF(A245=\"\",\"\",\"\"&B245)","v":""},null,null,null,null,null,null,null,null,null,null,null,null,null,null,null,null,null,null,null,null,null,null,null,null,null,null,"&allowhtml=false","pp://General Data/Name and surname of performer of other statement 2?taxonomy=UKFRC&labellanguage=en&allowhtml=false"]
[{"$f":"\"\"&INDEX(PP_Locale,ROW(),PP_LanguageIndex)","v":"Title of performer of other statement 2"},null,null,null,null,"PP_TitleOfPerformerOfOtherStatements_2",null,null,null,null,"Title of performer of other statement 2",null,null,"Øvrig erklæring 2, titel",null,null,null,null,null,null,null,null,null,null,null,null,null,null,null,null,null,null,null,null,null,null,null,null,null,null,null,null,null,null,null,null,null,null,null,null,null,null,null,null,null,null,null,null,null,null,null,null,null,null,null,null,null,null,null,null,null,{"$f":"IF(A246=\"\",\"\",\"\"&B246)","v":""},null,null,null,null,null,null,null,null,null,null,null,null,null,null,null,null,null,null,null,null,null,null,null,null,null,null,"&allowhtml=false","pp://General Data/Title of performer of other statement 2?taxonomy=UKFRC&labellanguage=en&allowhtml=false"]
[]
[{"$f":"\"\"&INDEX(PP_Locale,ROW(),PP_LanguageIndex)","v":"Liquidator:"},null,null,null,null,null,null,null,null,null,"Liquidator:",null,null,"Likvidator:"]
[{"$f":"\"\"&INDEX(PP_Locale,ROW(),PP_LanguageIndex)","v":"Name and surname of liquidator"},null,null,null,null,"PP_NameAndSurnameOfLiquidator",null,null,null,null,"Name and surname of liquidator",null,null,"Likvidators navn",null,null,null,null,null,null,null,null,null,null,null,null,null,null,null,null,null,null,null,null,null,null,null,null,null,null,null,null,null,null,null,null,null,null,null,null,null,null,null,null,null,null,null,null,null,null,null,null,null,null,null,null,null,null,null,null,null,{"$f":"\"\"&B249","v":""},null,null,null,null,null,null,null,null,null,null,null,null,null,null,null,null,null,null,null,null,null,null,null,null,null,null,"&allowhtml=false",{"$f":"\"pp://General Data/\"&K249&\"?taxonomy=\"&PP_TaxonomyId&\"&labellanguage=en\"&CU249","v":"pp://General Data/Name and surname of liquidator?taxonomy=UKFRC&labellanguage=en&allowhtml=false"}]
[{"$f":"\"\"&INDEX(PP_Locale,ROW(),PP_LanguageIndex)","v":"Title of liquidator"},null,null,null,null,"PP_TitleOfLiquidator",null,null,null,null,"Title of liquidator",null,null,"Likvidators titel",null,null,null,null,null,null,null,null,null,null,null,null,null,null,null,null,null,null,null,null,null,null,null,null,null,null,null,null,null,null,null,null,null,null,null,null,null,null,null,null,null,null,null,null,null,null,null,null,null,null,null,null,null,null,null,null,null,{"$f":"\"\"&B250","v":""},null,null,null,null,null,null,null,null,null,null,null,null,null,null,null,null,null,null,null,null,null,null,null,null,null,null,"&allowhtml=false",{"$f":"\"pp://General Data/\"&K250&\"?taxonomy=\"&PP_TaxonomyId&\"&labellanguage=en\"&CU250","v":"pp://General Data/Title of liquidator?taxonomy=UKFRC&labellanguage=en&allowhtml=false"}]
[]
[{"$f":"\"\"&INDEX(PP_Locale,ROW(),PP_LanguageIndex)","v":"Financial institution:"},null,null,null,null,null,null,null,null,null,"Financial institution:",null,null,"Primær bankforbindelse:"]
[{"$f":"\"\"&INDEX(PP_Locale,ROW(),PP_LanguageIndex)","v":"Legal Entity Identifier [LEI] of financial institution"},null,null,null,null,"PP_LegalEntityIdentifierOfFinancialInstitution",null,null,null,null,"Legal Entity Identifier [LEI] of financial institution",null,null,"Bankens LEI-kode",null,null,null,null,null,null,null,null,null,null,null,null,null,null,null,null,null,null,null,null,null,null,null,null,null,null,null,null,null,null,null,null,null,null,null,null,null,null,null,null,null,null,null,null,null,null,null,null,null,null,null,null,null,null,null,null,null,{"$f":"\"\"&B253","v":""},null,null,null,null,null,null,null,null,null,null,null,null,null,null,null,null,null,null,null,null,null,null,null,null,null,null,"&allowhtml=false&skipspace=true",{"$f":"\"pp://General Data/\"&K253&\"?taxonomy=\"&PP_TaxonomyId&\"&labellanguage=en\"&CU253","v":"pp://General Data/Legal Entity Identifier [LEI] of financial institution?taxonomy=UKFRC&labellanguage=en&allowhtml=false&skipspace=true"}]
[{"$f":"\"\"&INDEX(PP_Locale,ROW(),PP_LanguageIndex)","v":"Identification number [CVR] of financial institution"},null,null,null,null,"PP_IdentificationNumberCvrOfFinancialInstitution",null,null,null,null,"Identification number [CVR] of financial institution",null,null,"Bankens CVR-nr.",null,null,null,null,null,null,null,null,null,null,null,null,null,null,null,null,null,null,null,null,null,null,null,null,null,null,null,null,null,null,null,null,null,null,null,null,null,null,null,null,null,null,null,null,null,null,null,null,null,null,null,null,null,null,null,null,null,{"$f":"\"\"&SUBSTITUTE(B254,\" \",\"\")","v":""},null,null,null,null,null,null,null,null,null,null,null,null,null,null,null,null,null,null,null,null,null,null,null,null,null,null,"&allowhtml=false&skipspace=true","pp://General Data/Identification number [CVR] of financial institution?taxonomy=UKFRC&labellanguage=en&allowhtml=false&skipspace=true"]
[{"$f":"\"\"&INDEX(PP_Locale,ROW(),PP_LanguageIndex)","v":"Name of financial institution"},null,null,null,null,"PP_NameOfFinancialInstitution",null,null,null,null,"Name of financial institution",null,null,"Bankens navn",null,null,null,null,null,null,null,null,null,null,null,null,null,null,null,null,null,null,null,null,null,null,null,null,null,null,null,null,null,null,null,null,null,null,null,null,null,null,null,null,null,null,null,null,null,null,null,null,null,null,null,null,null,null,null,null,null,{"$f":"\"\"&B255","v":""},null,null,null,null,null,null,null,null,null,null,null,null,null,null,null,null,null,null,null,null,null,null,null,null,null,null,"&allowhtml=false","pp://General Data/Name of financial institution?taxonomy=UKFRC&labellanguage=en&allowhtml=false"]
[{"$f":"\"\"&INDEX(PP_Locale,ROW(),PP_LanguageIndex)","v":"Address of financial institution, street name"},null,null,null,null,"PP_AddressOfFinancialStreetName",null,null,null,null,"Address of financial institution, street name",null,null,"Bankens adresse, vejnavn",null,null,null,null,null,null,null,null,null,null,null,null,null,null,null,null,null,null,null,null,null,null,null,null,null,null,null,null,null,null,null,null,null,null,null,null,null,null,null,null,null,null,null,null,null,null,null,null,null,null,null,null,null,null,null,null,null,"",null,null,null,null,null,null,null,null,null,null,null,null,null,null,null,null,null,null,null,null,null,null,null,null,null,null,"&allowhtml=false","pp://General Data/Address of financial institution, street name?taxonomy=UKFRC&labellanguage=en&allowhtml=false"]
[{"$f":"\"\"&INDEX(PP_Locale,ROW(),PP_LanguageIndex)","v":"Address of financial institution, street building identifier"},null,null,null,null,"PP_AddressOfFinancialStreetBuildingIdentifier",null,null,null,null,"Address of financial institution, street building identifier",null,null,"Bankens adresse, vejnr og etage",null,null,null,null,null,null,null,null,null,null,null,null,null,null,null,null,null,null,null,null,null,null,null,null,null,null,null,null,null,null,null,null,null,null,null,null,null,null,null,null,null,null,null,null,null,null,null,null,null,null,null,null,null,null,null,null,null,"",null,null,null,null,null,null,null,null,null,null,null,null,null,null,null,null,null,null,null,null,null,null,null,null,null,null,"&allowhtml=false","pp://General Data/Address of financial institution, street building identifier?taxonomy=UKFRC&labellanguage=en&allowhtml=false"]
[{"$f":"\"\"&INDEX(PP_Locale,ROW(),PP_LanguageIndex)","v":"Address of financial institution, post code identifier"},null,null,null,null,"PP_AddressOfFinancialPostCodeIdentifier",null,null,null,null,"Address of financial institution, post code identifier",null,null,"Bankens adresse, postnummer",null,null,null,null,null,null,null,null,null,null,null,null,null,null,null,null,null,null,null,null,null,null,null,null,null,null,null,null,null,null,null,null,null,null,null,null,null,null,null,null,null,null,null,null,null,null,null,null,null,null,null,null,null,null,null,null,null,"",null,null,null,null,null,null,null,null,null,null,null,null,null,null,null,null,null,null,null,null,null,null,null,null,null,null,"&allowhtml=false","pp://General Data/Address of financial institution, post code identifier?taxonomy=UKFRC&labellanguage=en&allowhtml=false"]
[{"$f":"\"\"&INDEX(PP_Locale,ROW(),PP_LanguageIndex)","v":"Address of financial institution, district name"},null,null,null,null,"PP_AddressOfFinancialDistrictName",null,null,null,null,"Address of financial institution, district name",null,null,"Bankens adresse, by",null,null,null,null,null,null,null,null,null,null,null,null,null,null,null,null,null,null,null,null,null,null,null,null,null,null,null,null,null,null,null,null,null,null,null,null,null,null,null,null,null,null,null,null,null,null,null,null,null,null,null,null,null,null,null,null,null,"",null,null,null,null,null,null,null,null,null,null,null,null,null,null,null,null,null,null,null,null,null,null,null,null,null,null,"&allowhtml=false","pp://General Data/Address of financial institution, district name?taxonomy=UKFRC&labellanguage=en&allowhtml=false"]
[{"$f":"\"\"&INDEX(PP_Locale,ROW(),PP_LanguageIndex)","v":"Address of financial institution, country"},null,null,null,null,"PP_AddressOfFinancialCountry",null,null,null,null,"Address of financial institution, country",null,null,"Bankens adresse, land",null,null,null,null,null,null,null,null,null,null,null,null,null,null,null,null,null,null,null,null,null,null,null,null,null,null,null,null,null,null,null,null,null,null,null,null,null,null,null,null,null,null,null,null,null,null,null,null,null,null,null,null,null,null,null,null,null,"",null,null,null,null,null,null,null,null,null,null,null,null,null,null,null,null,null,null,null,null,null,null,null,null,null,null,"&allowhtml=false","pp://General Data/Address of financial institution, country?taxonomy=UKFRC&labellanguage=en&allowhtml=false"]
[{"$f":"\"\"&INDEX(PP_Locale,ROW(),PP_LanguageIndex)","v":"Address of financial institution, country identification code"},null,null,null,null,"PP_AddressOfFinancialCountryIdentificationCode",null,null,null,null,"Address of financial institution, country identification code",null,null,"Bankens adresse, landekode",null,null,null,null,null,null,null,null,null,null,null,null,null,null,null,null,null,null,null,null,null,null,null,null,null,null,null,null,null,null,null,null,null,null,null,null,null,null,null,null,null,null,null,null,null,null,null,null,null,null,null,null,null,null,null,null,null,"",null,null,null,null,null,null,null,null,null,null,null,null,null,null,null,null,null,null,null,null,null,null,null,null,null,null,"&allowhtml=false","pp://General Data/Address of financial institution, country identification code?taxonomy=UKFRC&labellanguage=en&allowhtml=false"]
[]
[{"$f":"\"\"&INDEX(PP_Locale,ROW(),PP_LanguageIndex)","v":"Law firm:"},null,null,null,null,null,null,null,null,null,"Law firm:",null,null,"Advokat:"]
[{"$f":"\"\"&INDEX(PP_Locale,ROW(),PP_LanguageIndex)","v":"Legal Entity Identifier [LEI] of law firm"},null,null,null,null,"PP_LegalEntityIdentifierOfLawFirm",null,null,null,null,"Legal Entity Identifier [LEI] of law firm",null,null,"Advokatens LEI-kode",null,null,null,null,null,null,null,null,null,null,null,null,null,null,null,null,null,null,null,null,null,null,null,null,null,null,null,null,null,null,null,null,null,null,null,null,null,null,null,null,null,null,null,null,null,null,null,null,null,null,null,null,null,null,null,null,null,{"$f":"\"\"&B264","v":""},null,null,null,null,null,null,null,null,null,null,null,null,null,null,null,null,null,null,null,null,null,null,null,null,null,null,"&allowhtml=false&skipspace=true",{"$f":"\"pp://General Data/\"&K264&\"?taxonomy=\"&PP_TaxonomyId&\"&labellanguage=en\"&CU264","v":"pp://General Data/Legal Entity Identifier [LEI] of law firm?taxonomy=UKFRC&labellanguage=en&allowhtml=false&skipspace=true"}]
[{"$f":"\"\"&INDEX(PP_Locale,ROW(),PP_LanguageIndex)","v":"Identification number [CVR] of law firm"},null,null,null,null,"PP_IdentificationNumberCvrOfLawFirm",null,null,null,null,"Identification number [CVR] of law firm",null,null,"Advokatens CVR-nr.",null,null,null,null,null,null,null,null,null,null,null,null,null,null,null,null,null,null,null,null,null,null,null,null,null,null,null,null,null,null,null,null,null,null,null,null,null,null,null,null,null,null,null,null,null,null,null,null,null,null,null,null,null,null,null,null,null,{"$f":"\"\"&SUBSTITUTE(B265,\" \",\"\")","v":""},null,null,null,null,null,null,null,null,null,null,null,null,null,null,null,null,null,null,null,null,null,null,null,null,null,null,"&allowhtml=false&skipspace=true","pp://General Data/Identification number [CVR] of law firm?taxonomy=UKFRC&labellanguage=en&allowhtml=false&skipspace=true"]
[{"$f":"\"\"&INDEX(PP_Locale,ROW(),PP_LanguageIndex)","v":"Identification number [PNR] of law firm"},null,null,null,null,"PP_IdentificationNumberPnrOfLawFirm",null,null,null,null,"Identification number [PNR] of law firm",null,null,"Advokatens P-nr.",null,null,null,null,null,null,null,null,null,null,null,null,null,null,null,null,null,null,null,null,null,null,null,null,null,null,null,null,null,null,null,null,null,null,null,null,null,null,null,null,null,null,null,null,null,null,null,null,null,null,null,null,null,null,null,null,null,{"$f":"\"\"&SUBSTITUTE(B266,\"-\",\"\")","v":""},null,null,null,null,null,null,null,null,null,null,null,null,null,null,null,null,null,null,null,null,null,null,null,null,null,null,"&allowhtml=false","pp://General Data/Identification number [PNR] of law firm?taxonomy=UKFRC&labellanguage=en&allowhtml=false"]
[{"$f":"\"\"&INDEX(PP_Locale,ROW(),PP_LanguageIndex)","v":"Name of law firm"},null,null,null,null,"PP_NameOfLawFirm",null,null,null,null,"Name of law firm",null,null,"Advokatens navn",null,null,null,null,null,null,null,null,null,null,null,null,null,null,null,null,null,null,null,null,null,null,null,null,null,null,null,null,null,null,null,null,null,null,null,null,null,null,null,null,null,null,null,null,null,null,null,null,null,null,null,null,null,null,null,null,null,{"$f":"\"\"&B267","v":""},null,null,null,null,null,null,null,null,null,null,null,null,null,null,null,null,null,null,null,null,null,null,null,null,null,null,"&allowhtml=false","pp://General Data/Name of law firm?taxonomy=UKFRC&labellanguage=en&allowhtml=false"]
[{"$f":"\"\"&INDEX(PP_Locale,ROW(),PP_LanguageIndex)","v":"Address of law firm, street name"},null,null,null,null,"PP_AddressOfLawFirmStreetName",null,null,null,null,"Address of law firm, street name",null,null,"Advokatens adresse, vejnavn",null,null,null,null,null,null,null,null,null,null,null,null,null,null,null,null,null,null,null,null,null,null,null,null,null,null,null,null,null,null,null,null,null,null,null,null,null,null,null,null,null,null,null,null,null,null,null,null,null,null,null,null,null,null,null,null,null,"",null,null,null,null,null,null,null,null,null,null,null,null,null,null,null,null,null,null,null,null,null,null,null,null,null,null,"&allowhtml=false","pp://General Data/Address of law firm, street name?taxonomy=UKFRC&labellanguage=en&allowhtml=false"]
[{"$f":"\"\"&INDEX(PP_Locale,ROW(),PP_LanguageIndex)","v":"Address of law firm, street building identifier"},null,null,null,null,"PP_AddressOfLawFirmStreetBuildingIdentifier",null,null,null,null,"Address of law firm, street building identifier",null,null,"Advokatens adresse, vejnr og etage",null,null,null,null,null,null,null,null,null,null,null,null,null,null,null,null,null,null,null,null,null,null,null,null,null,null,null,null,null,null,null,null,null,null,null,null,null,null,null,null,null,null,null,null,null,null,null,null,null,null,null,null,null,null,null,null,null,"",null,null,null,null,null,null,null,null,null,null,null,null,null,null,null,null,null,null,null,null,null,null,null,null,null,null,"&allowhtml=false","pp://General Data/Address of law firm, street building identifier?taxonomy=UKFRC&labellanguage=en&allowhtml=false"]
[{"$f":"\"\"&INDEX(PP_Locale,ROW(),PP_LanguageIndex)","v":"Address of law firm, post code identifier"},null,null,null,null,"PP_AddressOfLawFirmPostCodeIdentifier",null,null,null,null,"Address of law firm, post code identifier",null,null,"Advokatens adresse, postnummer",null,null,null,null,null,null,null,null,null,null,null,null,null,null,null,null,null,null,null,null,null,null,null,null,null,null,null,null,null,null,null,null,null,null,null,null,null,null,null,null,null,null,null,null,null,null,null,null,null,null,null,null,null,null,null,null,null,"",null,null,null,null,null,null,null,null,null,null,null,null,null,null,null,null,null,null,null,null,null,null,null,null,null,null,"&allowhtml=false","pp://General Data/Address of law firm, post code identifier?taxonomy=UKFRC&labellanguage=en&allowhtml=false"]
[{"$f":"\"\"&INDEX(PP_Locale,ROW(),PP_LanguageIndex)","v":"Address of law firm, district name"},null,null,null,null,"PP_AddressOfLawFirmDistrictName",null,null,null,null,"Address of law firm, district name",null,null,"Advokatens adresse, by",null,null,null,null,null,null,null,null,null,null,null,null,null,null,null,null,null,null,null,null,null,null,null,null,null,null,null,null,null,null,null,null,null,null,null,null,null,null,null,null,null,null,null,null,null,null,null,null,null,null,null,null,null,null,null,null,null,"",null,null,null,null,null,null,null,null,null,null,null,null,null,null,null,null,null,null,null,null,null,null,null,null,null,null,"&allowhtml=false","pp://General Data/Address of law firm, district name?taxonomy=UKFRC&labellanguage=en&allowhtml=false"]
[{"$f":"\"\"&INDEX(PP_Locale,ROW(),PP_LanguageIndex)","v":"Address of law firm, country"},null,null,null,null,"PP_AddressOfLawFirmCountry",null,null,null,null,"Address of law firm, country",null,null,"Advokatens adresse, land",null,null,null,null,null,null,null,null,null,null,null,null,null,null,null,null,null,null,null,null,null,null,null,null,null,null,null,null,null,null,null,null,null,null,null,null,null,null,null,null,null,null,null,null,null,null,null,null,null,null,null,null,null,null,null,null,null,"",null,null,null,null,null,null,null,null,null,null,null,null,null,null,null,null,null,null,null,null,null,null,null,null,null,null,"&allowhtml=false","pp://General Data/Address of law firm, country?taxonomy=UKFRC&labellanguage=en&allowhtml=false"]
[{"$f":"\"\"&INDEX(PP_Locale,ROW(),PP_LanguageIndex)","v":"Address of law firm, country identification code"},null,null,null,null,"PP_AddressOfLawFirmCountryIdentificationCode",null,null,null,null,"Address of law firm, country identification code",null,null,"Advokatens adresse, landekode",null,null,null,null,null,null,null,null,null,null,null,null,null,null,null,null,null,null,null,null,null,null,null,null,null,null,null,null,null,null,null,null,null,null,null,null,null,null,null,null,null,null,null,null,null,null,null,null,null,null,null,null,null,null,null,null,null,"",null,null,null,null,null,null,null,null,null,null,null,null,null,null,null,null,null,null,null,null,null,null,null,null,null,null,"&allowhtml=false","pp://General Data/Address of law firm, country identification code?taxonomy=UKFRC&labellanguage=en&allowhtml=false"]
[]
[{"$f":"\"\"&INDEX(PP_Locale,ROW(),PP_LanguageIndex)","v":"Technical information:"},null,null,null,null,null,null,null,null,null,"Technical information:",null,null,"Teknisk information:","Technische Information:",null,"Información técnica:",null,null,"Informations techniques:",null,null,null,"Informazioni tecniche:",null,null,null,null,null,"Specyfikacja:"]
[{"$f":"\"\"&INDEX(PP_Locale,ROW(),PP_LanguageIndex)","v":"Taxonomy"},"UK FRC",null,null,null,"PP_Taxonomy","UK FRC",null,null,null,"Taxonomy",null,null,"Taksonomi","Taxonomie",null,"Taxonomía",null,null,"Taxonomie",null,null,null,"Tassonomia",null,null,null,null,null,"Taksonomia",null,null,null,null,null,null,null,null,null,null,null,null,null,null,null,null,null,null,null,null,null,null,null,null,null,null,null,null,null,null,null,null,null,null,null,null,null,null,null,null,null,null,null,null,null,"DK GAAP","DK GAAP 20211001","DK GAAP 20201001","DK GAAP 20191001","DK GAAP 20171001"]
[{"$f":"\"\"&INDEX(PP_Locale,ROW(),PP_LanguageIndex)","v":"Taxonomy ID"},"UKFRC",null,null,null,"PP_TaxonomyId","DKGAAP",null,null,null,"Taxonomy ID",null,null,"Taksonomi ID"]
[{"$f":"\"\"&INDEX(PP_Locale,ROW(),PP_LanguageIndex)","v":"Taxonomy entrypoint"},"TEST",null,null,null,"PP_TaxonomyEntrypoint","TEST",null,null,null,"Taxonomy entrypoint",null,null,"Taksonomi entrypoint","Einstiegspunkt",null,"Punto de acceso",null,null,"Point d'accès",null,null,null,"Punto d'entrata",null,null,null,null,null,"Punkt wejścia",null,null,null,null,null,null,null,null,null,null,null,null,null,null,null,null,null,null,null,null,null,null,null,null,null,null,null,null,null,null,null,null,null,null,null,null,null,null,null,null,null,null,null,null,null,"Balance sheet (account form), income statement (by nature)","Balance sheet (account form), income statement (by function)","Balance sheet (account form by current and longterm), income statement (by nature)","Balance sheet (account form by current and longterm), income statement (by function)","Excluding Balance sheet and Income statement, including managements review and statistics"]
[{"$f":"\"\"&INDEX(PP_Locale,ROW(),PP_LanguageIndex)","v":"Identifier scheme"},{"$f":"IFERROR(INDIRECT(\"'General Data ESEF'!PP_IdentifierScheme\"),\"http://www.dcca.dk/cvr\")","v":"http://standards.iso.org/iso/17442"},null,null,null,"PP_IdentifierScheme",{"$f":"IFERROR(INDIRECT(\"'General Data ESEF'!PP_IdentifierScheme\"),\"http://www.dcca.dk/cvr\")","v":"http://standards.iso.org/iso/17442"},null,null,null,"Identifier scheme",null,null,"Identifier scheme","Identifikationsschema",null,"Esquema de identificación",null,null,"Schéma d'identification",null,null,null,"Schema identificativo",null,null,null,null,null,"Schemat identyfikacyjny",null,null,null,null,null,null,null,null,null,null,null,null,null,null,null,null,null,null,null,null,null,null,null,null,null,null,null,null,null,null,null,null,null,null,null,null,null,null,null,null,null,{"$f":"\"\"&B279","v":"http://standards.iso.org/iso/17442"}]
[]
[null,null,null,null,null,null,null,null,null,null,"UNKNOWN",null,null,"UKENDT"]
[null,null,null,null,null,null,null,null,null,null,"Type of basis for opinion on audited financial statements (audit)",null,null,"Type af grundlag for konklusion (revision)"]
[null,null,null,null,null,null,null,null,null,null,"Type of basis for opinion on financial statements (Extended review)",null,null,"Type af grundlag for konklusion (udvidet gennemgang)"]
[null,null,null,null,null,null,null,null,null,null,"Type of basis for conclusion on financial statements (review)",null,null,"Type af grundlag for konklusion (review)"]
[null,null,null,null,null,null,null,null,null,null,"Type of opinion on audited financial statements (Audit)",null,null,"Type af konklusion (revision)"]
[null,null,null,null,null,null,null,null,null,null,"Type of opinion on financial statements (Extended Review)",null,null,"Type af konklusion (udvidet gennemgang)"]
[null,null,null,null,null,null,null,null,null,null,"Type of conclusion on financial statements (review)",null,null,"Type af konklusion (review)"]
[null,null,null,null,null,null,null,null,null,null,"Reporting responsibilities according to the Danish executive order on approved auditors' reports especially the criminal code and Fiscal-, tax- and subsidy legislation (Audit)",null,null,"Erklæringsforpligtelser i henhold til erklæringsbekendtgørelsen, herunder særligt straffeloven samt skatte-, afgifts- og tilskudslovgivningen (revision)"]
[null,null,null,null,null,null,null,null,null,null,"Reporting responsibilities according to the Danish executive order on approved auditors' reports especially the criminal code and Fiscal-, tax- and subsidy legislation (Extended review)",null,null,"Erklæringsforpligtelser i henhold til erklæringsbekendtgørelsen, herunder særligt straffeloven samt skatte-, afgifts- og tilskudslovgivningen (udvidet gennemgang)"]
[null,null,null,null,null,null,null,null,null,null,"Reporting responsibilities according to the Danish executive order on approved auditors' reports especially the companies act or equivalent legislation, that the company is subject to (Audit)",null,null,"Erklæringsforpligtelser i henhold til erklæringsbekendtgørelsen, herunder særligt den for virksomheden fastsatte selskabsretlige eller tilsvarende lovgivning (revision)"]
[null,null,null,null,null,null,null,null,null,null,"Reporting responsibilities according to the Danish executive order on approved auditors' reports especially the companies act or equivalent legislation, that the company is subject to (Extended review)",null,null,"Erklæringsforpligtelser i henhold til erklæringsbekendtgørelsen, herunder særligt den for virksomheden fastsatte selskabsretlige eller tilsvarende lovgivning (udvidet gennemgang)"]
[null,null,null,null,null,null,null,null,null,null,"Reporting responsibilities according to the Danish executive order on approved auditors' reports especially legislation on financial reporting, including accounting and storage of accounting records (Audit)",null,null,"Erklæringsforpligtelser i henhold til erklæringsbekendtgørelsen, herunder særligt lovgivningen om regnskabsaflæggelse, herunder om bogføring og bevaring af regnskabsmateriale (revision)"]
[null,null,null,null,null,null,null,null,null,null,"Reporting responsibilities according to the Danish executive order on approved auditors' reports especially legislation on financial reporting, including accounting and storage of accounting records (Extended review)",null,null,"Erklæringsforpligtelser i henhold til erklæringsbekendtgørelsen, herunder særligt lovgivningen om regnskabsaflæggelse, herunder om bogføring og bevaring af regnskabsmateriale (udvidet gennemgang)"]
[null,null,null,null,null,null,null,null,null,null,"Reporting responsibilities according to the Danish executive order on approved auditors' reports especially other matters (Audit)",null,null,"Erklæringsforpligtelser i henhold til erklæringsbekendtgørelsen, herunder særligt andre forhold (revision)"]
[null,null,null,null,null,null,null,null,null,null,"Reporting responsibilities according to the Danish executive order on approved auditors' reports especially other matters (Extended review)",null,null,"Erklæringsforpligtelser i henhold til erklæringsbekendtgørelsen, herunder særligt andre forhold (udvidet gennemgang)"]
[null,null,null,null,null,null,null,null,null,null,"Current period",null,null,"Aktuel periode"]
[null,null,null,null,null,null,null,null,null,null,"Previous period",null,null,"Foregående periode"]
[null,null,null,null,null,null,null,null,null,null,"Group",null,null,"Koncern"]
[null,null,null,null,null,null,null,null,null,null,"Parent",null,null,"Moder"]
[null,null,null,null,null,null,null,null,null,null,"Test customer",null,null,"Test kunde","Kunden testen",null,"Cliente de prueba",null,null,"Test client",null,null,null,"Cliente di prova",null,null,null,null,null,"Klient testowy"]
[null,null,null,null,null,null,null,null,null,null,"Period",null,null,"Periode","Zeitraum",null,"Periodo",null,null,"Période",null,null,null,"Periodo",null,null,null,null,null,"Okres"]

{"sheet":"General data DKGAAP","index":5,"n_rows":83,"n_cols":81,"rows_kept":83,"cut":false,"hidden":false,"merged":[[60,1,60,4],[15,1,15,4],[28,1,28,4],[29,1,29,4],[30,1,30,4],[31,1,31,4],[59,1,59,4],[58,1,58,4],[57,1,57,4],[47,1,47,4],[19,1,19,4],[20,1,20,4],[21,1,21,4],[18,1,18,2],[35,1,35,4],[36,1,36,4],[2,1,2,4],[3,1,3,4],[4,1,4,4],[9,1,9,4],[56,1,56,4],[10,1,10,4],[11,1,11,4],[12,1,12,4],[13,1,13,4],[27,1,27,4],[16,1,16,4],[18,3,18,4],[41,1,41,4],[6,1,6,2],[6,3,6,4],[46,1,46,4],[14,1,14,4],[22,1,22,4],[43,1,43,4],[42,1,42,4],[23,1,23,4],[24,1,24,4],[25,1,25,4],[26,1,26,4],[32,1,32,4],[33,1,33,4],[34,1,34,4],[37,1,37,4],[38,1,38,4],[49,1,49,4],[50,1,50,4],[51,1,51,4],[52,1,52,4],[53,1,53,4]]}
[null,null,null,null,null,"Range name","Defaults x4 columns",{"$f":"ISERROR(INDIRECT(\"'General Data ESEF'!PP_Language\"))","v":false},{"$f":"IFERROR(MATCH(PP_Language,PP_Languages,0),1)","v":1},{"$f":"IF(ISBLANK(INDEX(PP_Locale,2,I1)),1,I1)","v":1},"EN","BG","CS","DA","DE","EL","ES","ET","FI","FR","HR","HU","IS","IT","LT","LV","MT","NL","NO","PL","PT","RO","SK","SL","SV",{"$f":"IFERROR(MATCH(PP_CountryCode,PP_Countries,0),1)","v":1},"EU","AT","BE","BG","CH","CY","CZ","DE","DK","EE","EL","ES","FI","FR","GG","GR","HR","HU","IE","IS","IT","LI","LT","LU","LV","MT","NL","NO","PL","PT","RO","SE","SI","SK","UK","Adjusted values x4 columns",null,null,null,"Validation lists"]
[{"$f":"\"\"&INDEX(PP_Locale,ROW(),PP_LanguageIndex)&\" 1.0.8.1\"","v":"ParsePort DKGAAP general data, version 1.0.8.1"},null,null,null,null,null,null,null,null,null,"ParsePort DKGAAP general data, version",null,null,"ParsePort DKGAAP stamdata, version"]
[null,{"$f":"\"\"&INDEX(PP_Locale,ROW(),PP_LanguageIndex)","v":"MANDATORY FIELD"},null,null,null,null,null,null,null,null,"MANDATORY FIELD",null,null,"OBLIGATORISK FELT"]
[null,{"$f":"\"\"&INDEX(PP_Locale,ROW(),PP_LanguageIndex)","v":"AUTOMATIC FIELD (can be overruled)"},null,null,null,null,null,null,null,null,"AUTOMATIC FIELD (can be overruled)",null,null,"AUTOMATISK FELT (kan overstyres)"]
[null,{"$f":"\"\"&INDEX(PP_Locale,ROW(),PP_LanguageIndex)","v":"FILL OUT IF INFORMATION IS PRESENT IN REPORT"},null,null,null,null,null,null,null,null,"FILL OUT IF INFORMATION IS PRESENT IN REPORT",null,null,"UDFYLDES HVIS INFORMATIONEN FINDES I RAPPORTEN"]
[]
[null,{"$f":"IF(PP_Consolidated,IFERROR(VLOOKUP(\"Group\",PP_Locale,PP_LanguageIndex,FALSE),\"Group\"),\"\")","v":"Group"},null,{"$f":"IF(PP_Consolidated,IFERROR(VLOOKUP(\"Parent\",PP_Locale,PP_LanguageIndex,FALSE),\"Parent\"),\"\")","v":"Parent"},null,null,{"$f":"IF(PP_Consolidated,IFERROR(VLOOKUP(\"Group\",PP_Locale,PP_LanguageIndex,FALSE),\"Group\"),\"\")","v":"Group"},{"$f":"IF(PP_Consolidated,IFERROR(VLOOKUP(\"Group\",PP_Locale,PP_LanguageIndex,FALSE),\"Group\"),\"\")","v":"Group"},{"$f":"IF(PP_Consolidated,IFERROR(VLOOKUP(\"Parent\",PP_Locale,PP_LanguageIndex,FALSE),\"Parent\"),\"\")","v":"Parent"},{"$f":"IF(PP_Consolidated,IFERROR(VLOOKUP(\"Parent\",PP_Locale,PP_LanguageIndex,FALSE),\"Parent\"),\"\")","v":"Parent"},null,null,null,null,null,null,null,null,null,null,null,null,null,null,null,null,null,null,null,null,null,null,null,null,null,null,null,null,null,null,null,null,null,null,null,null,null,null,null,null,null,null,null,null,null,null,null,null,null,null,null,null,null,null,null,null,null,null,null,null,null,{"$f":"IF(PP_Consolidated,\"Group\",\"\")","v":"Group"},{"$f":"IF(PP_Consolidated,\"Group\",\"\")","v":"Group"},{"$f":"IF(PP_Consolidated,\"Parent\",\"\")","v":"Parent"},{"$f":"IF(PP_Consolidated,\"Parent\",\"\")","v":"Parent"}]
[null,{"$f":"IFERROR(VLOOKUP(\"Period\",PP_Locale,PP_LanguageIndex,FALSE),\"Period\")&\" 1\"","v":"Period 1"},{"$f":"IFERROR(VLOOKUP(\"Period\",PP_Locale,PP_LanguageIndex,FALSE),\"Period\")&\" 2\"","v":"Period 2"},{"$f":"IF(PP_Consolidated,IFERROR(VLOOKUP(\"Period\",PP_Locale,PP_LanguageIndex,FALSE),\"Period\")&\" 1\",\"\")","v":"Period 1"},{"$f":"IF(PP_Consolidated,IFERROR(VLOOKUP(\"Period\",PP_Locale,PP_LanguageIndex,FALSE),\"Period\")&\" 2\",\"\")","v":"Period 2"},null,{"$f":"IFERROR(VLOOKUP(\"Period\",PP_Locale,PP_LanguageIndex,FALSE),\"Period\")&\" 1\"","v":"Period 1"},{"$f":"IFERROR(VLOOKUP(\"Period\",PP_Locale,PP_LanguageIndex,FALSE),\"Period\")&\" 2\"","v":"Period 2"},{"$f":"IF(PP_Consolidated,IFERROR(VLOOKUP(\"Period\",PP_Locale,PP_LanguageIndex,FALSE),\"Period\")&\" 1\",\"\")","v":"Period 1"},{"$f":"IF(PP_Consolidated,IFERROR(VLOOKUP(\"Period\",PP_Locale,PP_LanguageIndex,FALSE),\"Period\")&\" 2\",\"\")","v":"Period 2"},null,null,null,null,null,null,null,null,null,null,null,null,null,null,null,null,null,null,null,null,null,null,null,null,null,null,null,null,null,null,null,null,null,null,null,null,null,null,null,null,null,null,null,null,null,null,null,null,null,null,null,null,null,null,null,null,null,null,null,null,null,"Period 1","Period 2",{"$f":"IF(PP_Consolidated,\"Period 1\",\"\")","v":"Period 1"},{"$f":"IF(PP_Consolidated,\"Period 2\",\"\")","v":"Period 2"}]
[{"$f":"\"\"&INDEX(PP_Locale,ROW(),PP_LanguageIndex)","v":"General:"},null,null,null,null,null,null,null,null,null,"General:",null,null,"Generelt:",null,null,null,null,null,null,null,null,null,null,null,null,null,null,null,null,null,null,null,null,null,null,null,null,null,null,null,null,null,null,null,null,null,null,null,null,null,null,null,null,null,null,null,null,null,null,null,null,null,null,null,null,null,null,null,null,null,null,null,null,null,{"$f":"\"/General data \"&PP_TaxonomyId&\"(headers=\"&CELL(\"address\",$BT$7)&\":\"&CELL(\"address\",$BW$8)&\"[language=en],labels=\"&SUBSTITUTE(CELL(\"address\",K9)&\":\"&CELL(\"address\",K62),\"$\",\"\")&\"[language=en],values=\"&SUBSTITUTE(CELL(\"address\",BT9)&\":\"&CELL(\"address\",BW62),\"$\",\"\")&\"[language=\"&LOWER(PP_Language)&\"])\"","v":"/General data DKGAAP(headers=$BT$7:$BW$8[language=en],labels=K9:K62[language=en],values=BT9:BW62[language=en])"}]
[{"$f":"\"\"&INDEX(PP_Locale,ROW(),PP_LanguageIndex)","v":"Report language code"},"EN",null,null,null,"PP_Language",{"$f":"IFERROR(INDIRECT(\"'General Data ESEF'!PP_Language\"),\"DA\")","v":"EN"},null,null,null,"Report language code",null,null,"Rapport sprogkode","Bericht Sprachcode",null,"Código de lenguaje",null,null,"Code de langue",null,null,null,"Codice lingua",null,null,null,null,null,"Kod języka"]
[{"$f":"\"\"&INDEX(PP_Locale,ROW(),PP_LanguageIndex)","v":"Label language code"},{"$f":"PP_Language","v":"EN"},{"$f":"PP_Language","v":"EN"},{"$f":"PP_Language","v":"EN"},{"$f":"PP_Language","v":"EN"},"PP_LabelLanguage",{"$f":"PP_Language","v":"EN"},null,null,null,"Label language code",null,null,"Label sprogkode","Tag-Sprachcode",null,"Código de lenguaje de la etiqueta",null,null,"Code de langue de l'étiquette",null,null,null,"Codice lingua etichetta",null,null,null,null,null,"Kod języka etykiety"]
[{"$f":"\"\"&INDEX(PP_Locale,ROW(),PP_LanguageIndex)","v":"Currency code"},{"$f":"IFERROR(INDIRECT(\"'General Data ESEF'!PP_Currency\"),\"DKK\")","v":"EUR"},null,null,null,"PP_Currency",{"$f":"IFERROR(INDIRECT(\"'General Data ESEF'!PP_Currency\"),\"DKK\")","v":"EUR"},null,null,null,"Currency code",null,null,"Valutakode","Währungscode",null,"Código de moneda",null,null,"Code devise",null,null,null,"Codice valuta",null,null,null,null,null,"Kod waluty",null,null,null,null,null,null,null,null,null,null,null,null,null,null,null,null,null,null,null,null,null,null,null,null,null,null,null,null,null,null,null,null,null,null,null,null,null,null,null,null,null,{"$f":"\"\"&UPPER(B12)","v":"EUR"}]
[{"$f":"\"\"&INDEX(PP_Locale,ROW(),PP_LanguageIndex)","v":"Scale"},{"$f":"IFERROR(INDIRECT(\"'General Data ESEF'!PP_MonetaryScaling\"),0)","v":6},null,null,null,"PP_MonetaryScaling",{"$f":"IFERROR(INDIRECT(\"'General Data ESEF'!PP_MonetaryScaling\"),0)","v":6},null,null,null,"Scale",null,null,"Skalering","Skalierung",null,"Redondeo",null,null,"Mise à l'échelle",null,null,null,"Ridimensionamento",null,null,null,null,null,"Skalowanie",null,null,null,null,null,null,null,null,null,null,null,null,null,null,null,null,null,null,null,null,null,null,null,null,null,null,null,null,null,null,null,null,null,null,null,null,null,null,null,null,null,null,null,null,null,0,3,6,9]
[{"$f":"\"\"&INDEX(PP_Locale,ROW(),PP_LanguageIndex)","v":"Consolidated"},{"$f":"IFERROR(INDIRECT(\"'General Data ESEF'!PP_Consolidated\"),FALSE)","v":true},null,null,null,"PP_Consolidated",{"$f":"IFERROR(INDIRECT(\"'General Data ESEF'!PP_Consolidated\"),FALSE)","v":true},null,null,null,"Consolidated",null,null,"Koncern",null,null,null,null,null,null,null,null,null,null,null,null,null,null,null,null,null,null,null,null,null,null,null,null,null,null,null,null,null,null,null,null,null,null,null,null,null,null,null,null,null,null,null,null,null,null,null,null,null,null,null,null,null,null,null,null,null,null,null,null,null,false,true]
[{"$f":"\"\"&INDEX(PP_Locale,ROW(),PP_LanguageIndex)","v":"Report type"},{"$f":"IF(OR(EDATE(PP_Period1StartDate,3)-1=PP_Period1EndDate,EDATE(PP_Period1StartDate,9)-1=PP_Period1EndDate),LOOKUP(PP_Language,{\"DA\";\"EN\"},{\"Delårsrapport\";\"Interim report (other than 6 months)\"}),IF(EDATE(PP_Period1StartDate,6)-1=PP_Period1EndDate,LOOKUP(PP_Language,{\"DA\";\"EN\"},{\"Halvårsrapport\";\"Interim report (6 months)\"}),LOOKUP(PP_Language,{\"DA\";\"EN\"},{\"Årsrapport\";\"Annual report\"})))","v":"Annual report"},null,null,null,"PP_InformationOnTypeOfSubmittedReport",{"$f":"IF(OR(EDATE(PP_Period1StartDate,3)-1=PP_Period1EndDate,EDATE(PP_Period1StartDate,9)-1=PP_Period1EndDate),LOOKUP(PP_Language,{\"DA\";\"EN\"},{\"Delårsrapport\";\"Interim report (other than 6 months)\"}),IF(EDATE(PP_Period1StartDate,6)-1=PP_Period1EndDate,LOOKUP(PP_Language,{\"DA\";\"EN\"},{\"Halvårsrapport\";\"Interim report (6 months)\"}),LOOKUP(PP_Language,{\"DA\";\"EN\"},{\"Årsrapport\";\"Annual report\"})))","v":"Annual report"},null,null,null,"Report type",null,null,"Rapporttype",null,null,null,null,null,null,null,null,null,null,null,null,null,null,null,null,null,null,null,null,null,null,null,null,null,null,null,null,null,null,null,null,null,null,null,null,null,null,null,null,null,null,null,null,null,null,null,null,null,null,null,null,null,null,null,null,null,{"$f":"\"\"&B15","v":"Annual report"},null,null,null,{"$f":"\"\"&LOOKUP(PP_Language,{\"DA\";\"EN\"},{\"Årsrapport\";\"Annual report\"})","v":"Annual report"},{"$f":"\"\"&LOOKUP(PP_Language,{\"DA\";\"EN\"},{\"Likvidationsregnskab\";\"Liquidation accounts\"})","v":"Liquidation accounts"},{"$f":"\"\"&LOOKUP(PP_Language,{\"DA\";\"EN\"},{\"Halvårsrapport\";\"Interim report (6 months)\"})","v":"Interim report (6 months)"},{"$f":"\"\"&LOOKUP(PP_Language,{\"DA\";\"EN\"},{\"Delårsrapport\";\"Interim report (other than 6 months)\"})","v":"Interim report (other than 6 months)"},{"$f":"\"\"&LOOKUP(PP_Language,{\"DA\";\"EN\"},{\"Erklæring om undtagelse fra aflæggelse årsrapport\";\"Erklæring om undtagelse fra aflæggelse årsrapport\"})","v":"Erklæring om undtagelse fra aflæggelse årsrapport"},{"$f":"\"\"&LOOKUP(PP_Language,{\"DA\";\"EN\"},{\"Erklæring vedr. omsætningsgrænse [Lukkelov]\";\"Erklæring vedr. omsætningsgrænse [Lukkelov]\"})","v":"Erklæring vedr. omsætningsgrænse [Lukkelov]"}]
[{"$f":"\"\"&INDEX(PP_Locale,ROW(),PP_LanguageIndex)","v":"Type of auditor assistance"},{"$f":"IF(PP_InformationOnTypeOfSubmittedReport=LOOKUP(PP_Language,{\"DA\";\"EN\"},{\"Årsrapport\";\"Annual report\"}),LOOKUP(PP_Language,{\"DA\";\"EN\"},{\"Revisionspåtegning\";\"Auditor's report on audited financial statements\"}),LOOKUP(PP_Language,{\"DA\";\"EN\"},{\"Ingen bistand\";\"No audit assistance\"}))","v":"Auditor's report on audited financial statements"},null,null,null,"PP_TypeOfAuditorAssistance",{"$f":"IF(PP_InformationOnTypeOfSubmittedReport=LOOKUP(PP_Language,{\"DA\";\"EN\"},{\"Årsrapport\";\"Annual report\"}),LOOKUP(PP_Language,{\"DA\";\"EN\"},{\"Revisionspåtegning\";\"Auditor's report on audited financial statements\"}),LOOKUP(PP_Language,{\"DA\";\"EN\"},{\"Ingen bistand\";\"No audit assistance\"}))","v":"Auditor's report on audited financial statements"},null,null,null,"Type of auditor assistance",null,null,"Type af revisorbistand",null,null,null,null,null,null,null,null,null,null,null,null,null,null,null,null,null,null,null,null,null,null,null,null,null,null,null,null,null,null,null,null,null,null,null,null,null,null,null,null,null,null,null,null,null,null,null,null,null,null,null,null,null,null,null,null,null,{"$f":"\"\"&B16","v":"Auditor's report on audited financial statements"},null,null,null,{"$f":"\"\"&LOOKUP(PP_Language,{\"DA\";\"EN\"},{\"Revisionspåtegning\";\"Auditor's report on audited financial statements\"})","v":"Auditor's report on audited financial statements"},{"$f":"\"\"&LOOKUP(PP_Language,{\"DA\";\"EN\"},{\"Erklæring om udvidet gennemgang\";\"Auditor's report on extended review\"})","v":"Auditor's report on extended review"},{"$f":"\"\"&LOOKUP(PP_Language,{\"DA\";\"EN\"},{\"Den uafhængige revisors erklæringer (review)\";\"The independent auditor's reports (Review)\"})","v":"The independent auditor's reports (Review)"},{"$f":"\"\"&LOOKUP(PP_Language,{\"DA\";\"EN\"},{\"Andre erklæringer med sikkerhed\";\"The independent auditor's reports (Other assurance Reports)\"})","v":"The independent auditor's reports (Other assurance Reports)"},{"$f":"\"\"&LOOKUP(PP_Language,{\"DA\";\"EN\"},{\"Andre erklæringer uden sikkerhed\";\"Auditor's reports (Other non-assurance reports)\"})","v":"Auditor's reports (Other non-assurance reports)"},{"$f":"\"\"&LOOKUP(PP_Language,{\"DA\";\"EN\"},{\"Ingen bistand\";\"No audit assistance\"})","v":"No audit assistance"}]
[{"$f":"\"\"&INDEX(PP_Locale,ROW(),PP_LanguageIndex)","v":"Tool for preparing the XBRL-instance document"},"ParsePort XBRL Converter",{"$f":"\"\"&LOOKUP(PP_Language,{\"DA\";\"EN\"},{\"Balance (kontoform) / resultatopgørelse (artsopdelt)\";\"Balance sheet (account form) / income statement (by nature)\"})","v":"Balance sheet (account form) / income statement (by nature)"},{"$f":"\"\"&LOOKUP(PP_Language,{\"DA\";\"EN\"},{\"Balance (kontoform) / resultatopgørelse (artsopdelt)\";\"Balance sheet (account form) / income statement (by nature)\"})","v":"Balance sheet (account form) / income statement (by nature)"},{"$f":"\"\"&LOOKUP(PP_Language,{\"DA\";\"EN\"},{\"Balance (kontoform) / resultatopgørelse (artsopdelt)\";\"Balance sheet (account form) / income statement (by nature)\"})","v":"Balance sheet (account form) / income statement (by nature)"},"PP_ToolForPreparingTheXBRLInstanceDocument","ParsePort XBRL Converter",null,null,null,"Tool for preparing the XBRL-instance document",null,null,"Systemværktøj til udarbejdelse af XBRL-instansen",null,null,null,null,null,null,null,null,null,null,null,null,null,null,null,null,null,null,null,null,null,null,null,null,null,null,null,null,null,null,null,null,null,null,null,null,null,null,null,null,null,null,null,null,null,null,null,null,null,null,null,null,null,null,null,null,null,{"$f":"\"\"&B17","v":"ParsePort XBRL Converter"}]
[]
[{"$f":"\"\"&INDEX(PP_Locale,ROW(),PP_LanguageIndex)","v":"Dates:"},null,null,null,null,null,null,null,null,null,"Dates:",null,null,"Datoer:"]
[{"$f":"\"\"&INDEX(PP_Locale,ROW(),PP_LanguageIndex)","v":"Start date of reporting period 1"},{"$f":"IFERROR(INDIRECT(\"'General Data ESEF'!PP_StartDatePeriod1\"),44562)","v":"2025-01-01"},null,null,null,"PP_Period1StartDate",{"$f":"IFERROR(INDIRECT(\"'General Data ESEF'!PP_StartDatePeriod1\"),44562)","v":45658},null,null,null,"Start date of reporting period 1",null,null,"Startdato for periode 1","Startdatum des Berichtszeitraums 1",null,"Fecha de inicio del período del informe 1",null,null,"Date de début de la période de reporting 1",null,null,null,"Data di inizio del periodo di riferimento 1",null,null,null,null,null,"Data rozpoczęcia okresu sprawozdawczego 1",null,null,null,null,null,null,null,null,null,null,null,null,null,null,null,null,null,null,null,null,null,null,null,null,null,null,null,null,null,null,null,null,null,null,null,null,null,null,null,null,null,{"$f":"IF(COUNTBLANK(B20),\"\",TEXT(YEAR(B20),\"0000\")&\"-\"&TEXT(MONTH(B20),\"00\")&\"-\"&TEXT(DAY(B20),\"00\"))","v":"2025-01-01"}]
[{"$f":"\"\"&INDEX(PP_Locale,ROW(),PP_LanguageIndex)","v":"End date of reporting period 1"},{"$f":"IFERROR(INDIRECT(\"'General Data ESEF'!PP_EndDatePeriod1\"),44926)","v":"2025-12-31"},null,null,null,"PP_Period1EndDate",{"$f":"IFERROR(INDIRECT(\"'General Data ESEF'!PP_EndDatePeriod1\"),44926)","v":46022},null,null,null,"End date of reporting period 1",null,null,"Slutdato for periode 1","Enddatum des Berichtszeitraums 1",null,"Fecha final del período del informe 1",null,null,"Date de fin de la période de reporting 1",null,null,null,"Data di fine del periodo di riferimento 1",null,null,null,null,null,"Data zakończenia okresu sprawozdawczego 1",null,null,null,null,null,null,null,null,null,null,null,null,null,null,null,null,null,null,null,null,null,null,null,null,null,null,null,null,null,null,null,null,null,null,null,null,null,null,null,null,null,"2025-12-31"]
[{"$f":"\"\"&INDEX(PP_Locale,ROW(),PP_LanguageIndex)","v":"Start date of reporting period 2"},{"$f":"IF(OR(AND(COUNT(INDIRECT(\"'Income statement'!b1:b99\"))>0,COUNT(INDIRECT(\"'Income statement'!C1:C99\"))=0),AND(COUNT(INDIRECT(\"'Comprehensive income'!b1:b99\"))>0,COUNT(INDIRECT(\"'Comprehensive income'!C1:C99\"))=0)),\"\",IFERROR(INDIRECT(\"'General Data ESEF'!PP_StartDatePeriod2\"),EDATE(PP_Period1StartDate,-1*12)))","v":"2024-01-01"},null,null,null,"PP_Period2StartDate",{"$f":"IF(OR(AND(COUNT(INDIRECT(\"'Income statement'!b1:b99\"))>0,COUNT(INDIRECT(\"'Income statement'!C1:C99\"))=0),AND(COUNT(INDIRECT(\"'Comprehensive income'!b1:b99\"))>0,COUNT(INDIRECT(\"'Comprehensive income'!C1:C99\"))=0)),\"\",IFERROR(INDIRECT(\"'General Data ESEF'!PP_StartDatePeriod2\"),EDATE(PP_Period1StartDate,-1*12)))","v":45292},null,null,null,"Start date of reporting period 2",null,null,"Startdato for periode 2","Startdatum des Berichtszeitraums 2",null,"Fecha de inicio del período del informe 2",null,null,"Date de début de la période de reporting 2",null,null,null,"Data di inizio del periodo di riferimento 2",null,null,null,null,null,"Data rozpoczęcia okresu sprawozdawczego 2",null,null,null,null,null,null,null,null,null,null,null,null,null,null,null,null,null,null,null,null,null,null,null,null,null,null,null,null,null,null,null,null,null,null,null,null,null,null,null,null,null,"2024-01-01"]
[{"$f":"\"\"&INDEX(PP_Locale,ROW(),PP_LanguageIndex)","v":"End date of reporting period 2"},{"$f":"IF(OR(AND(COUNT(INDIRECT(\"'Income statement'!b1:b99\"))>0,COUNT(INDIRECT(\"'Income statement'!C1:C99\"))=0),AND(COUNT(INDIRECT(\"'Comprehensive income'!b1:b99\"))>0,COUNT(INDIRECT(\"'Comprehensive income'!C1:C99\"))=0)),\"\",IFERROR(INDIRECT(\"'General Data ESEF'!PP_EndDatePeriod2\"),EDATE(PP_Period1EndDate,-1*12)))","v":"2024-12-31"},null,null,null,"PP_Period2EndDate",{"$f":"IF(OR(AND(COUNT(INDIRECT(\"'Income statement'!b1:b99\"))>0,COUNT(INDIRECT(\"'Income statement'!C1:C99\"))=0),AND(COUNT(INDIRECT(\"'Comprehensive income'!b1:b99\"))>0,COUNT(INDIRECT(\"'Comprehensive income'!C1:C99\"))=0)),\"\",IFERROR(INDIRECT(\"'General Data ESEF'!PP_EndDatePeriod2\"),EDATE(PP_Period1EndDate,-1*12)))","v":45657},null,null,null,"End date of reporting period 2",null,null,"Slutdato for periode 2","Enddatum des Berichtszeitraums 2",null,"Fecha final del período del informe 2",null,null,"Date de fin de la période de reporting 2",null,null,null,"Data di fine del periodo di riferimento 2",null,null,null,null,null,"Data zakończenia okresu sprawozdawczego 2",null,null,null,null,null,null,null,null,null,null,null,null,null,null,null,null,null,null,null,null,null,null,null,null,null,null,null,null,null,null,null,null,null,null,null,null,null,null,null,null,null,"2024-12-31"]
[{"$f":"\"\"&INDEX(PP_Locale,ROW(),PP_LanguageIndex)","v":"Start date of reporting period 3"},{"$f":"IFERROR(INDIRECT(\"'General Data ESEF'!PP_StartDatePeriod3\"),EDATE(PP_Period1StartDate,-2*12))","v":"2023-01-01"},null,null,null,"PP_Period3StartDate",{"$f":"IFERROR(INDIRECT(\"'General Data ESEF'!PP_StartDatePeriod3\"),EDATE(PP_Period1StartDate,-2*12))","v":44927},null,null,null,"Start date of reporting period 3",null,null,"Startdato for periode 3","Startdatum des Berichtszeitraums 3",null,"Fecha de inicio del período del informe 3",null,null,"Date de début de la période de reporting 3",null,null,null,"Data di inizio del periodo di riferimento 3",null,null,null,null,null,"Data rozpoczęcia okresu sprawozdawczego 3",null,null,null,null,null,null,null,null,null,null,null,null,null,null,null,null,null,null,null,null,null,null,null,null,null,null,null,null,null,null,null,null,null,null,null,null,null,null,null,null,null,"2023-01-01"]
[{"$f":"\"\"&INDEX(PP_Locale,ROW(),PP_LanguageIndex)","v":"End date of reporting period 3"},{"$f":"IFERROR(INDIRECT(\"'General Data ESEF'!PP_EndDatePeriod3\"),EDATE(PP_Period1EndDate,-2*12))","v":"2023-12-31"},null,null,null,"PP_Period3EndDate",{"$f":"IFERROR(INDIRECT(\"'General Data ESEF'!PP_EndDatePeriod3\"),EDATE(PP_Period1EndDate,-2*12))","v":45291},null,null,null,"End date of reporting period 3",null,null,"Slutdato for periode 3","Enddatum des Berichtszeitraums 3",null,"Fecha final del período del informe 3",null,null,"Date de fin de la période de reporting 3",null,null,null,"Data di fine del periodo di riferimento 3",null,null,null,null,null,"Data zakończenia okresu sprawozdawczego 3",null,null,null,null,null,null,null,null,null,null,null,null,null,null,null,null,null,null,null,null,null,null,null,null,null,null,null,null,null,null,null,null,null,null,null,null,null,null,null,null,null,"2023-12-31"]
[{"$f":"\"\"&INDEX(PP_Locale,ROW(),PP_LanguageIndex)","v":"Start date of reporting period 4"},{"$f":"IFERROR(INDIRECT(\"'General Data ESEF'!PP_StartDatePeriod4\"),EDATE(PP_Period1StartDate,-3*12))","v":"2022-01-01"},null,null,null,"PP_Period4StartDate",{"$f":"IFERROR(INDIRECT(\"'General Data ESEF'!PP_StartDatePeriod4\"),EDATE(PP_Period1StartDate,-3*12))","v":44562},null,null,null,"Start date of reporting period 4",null,null,"Startdato for periode 4","Startdatum des Berichtszeitraums 4",null,"Fecha de inicio del período del informe 4",null,null,"Date de début de la période de reporting 4",null,null,null,"Data di inizio del periodo di riferimento 4",null,null,null,null,null,"Data rozpoczęcia okresu sprawozdawczego 4",null,null,null,null,null,null,null,null,null,null,null,null,null,null,null,null,null,null,null,null,null,null,null,null,null,null,null,null,null,null,null,null,null,null,null,null,null,null,null,null,null,"2022-01-01"]
[{"$f":"\"\"&INDEX(PP_Locale,ROW(),PP_LanguageIndex)","v":"End date of reporting period 4"},{"$f":"IFERROR(INDIRECT(\"'General Data ESEF'!PP_EndDatePeriod4\"),EDATE(PP_Period1EndDate,-3*12))","v":"2022-12-31"},null,null,null,"PP_Period4EndDate",{"$f":"IFERROR(INDIRECT(\"'General Data ESEF'!PP_EndDatePeriod4\"),EDATE(PP_Period1EndDate,-3*12))","v":44926},null,null,null,"End date of reporting period 4",null,null,"Slutdato for periode 4","Enddatum des Berichtszeitraums 4",null,"Fecha final del período del informe 4",null,null,"Date de fin de la période de reporting 4",null,null,null,"Data di fine del periodo di riferimento 4",null,null,null,null,null,"Data zakończenia okresu sprawozdawczego 4",null,null,null,null,null,null,null,null,null,null,null,null,null,null,null,null,null,null,null,null,null,null,null,null,null,null,null,null,null,null,null,null,null,null,null,null,null,null,null,null,null,"2022-12-31"]
[{"$f":"\"\"&INDEX(PP_Locale,ROW(),PP_LanguageIndex)","v":"Start date of reporting period 5"},{"$f":"IFERROR(INDIRECT(\"'General Data ESEF'!PP_StartDatePeriod5\"),EDATE(PP_Period1StartDate,-4*12))","v":"2021-01-01"},null,null,null,"PP_Period5StartDate",{"$f":"IFERROR(INDIRECT(\"'General Data ESEF'!PP_StartDatePeriod5\"),EDATE(PP_Period1StartDate,-4*12))","v":44197},null,null,null,"Start date of reporting period 5",null,null,"Startdato for periode 5","Startdatum des Berichtszeitraums 5",null,"Fecha de inicio del período del informe 5",null,null,"Date de début de la période de reporting 5",null,null,null,"Data di inizio del periodo di riferimento 5",null,null,null,null,null,"Data rozpoczęcia okresu sprawozdawczego 5",null,null,null,null,null,null,null,null,null,null,null,null,null,null,null,null,null,null,null,null,null,null,null,null,null,null,null,null,null,null,null,null,null,null,null,null,null,null,null,null,null,"2021-01-01"]
[{"$f":"\"\"&INDEX(PP_Locale,ROW(),PP_LanguageIndex)","v":"End date of reporting period 5"},{"$f":"IFERROR(INDIRECT(\"'General Data ESEF'!PP_EndDatePeriod5\"),EDATE(PP_Period1EndDate,-4*12))","v":"2021-12-31"},null,null,null,"PP_Period5EndDate",{"$f":"IFERROR(INDIRECT(\"'General Data ESEF'!PP_EndDatePeriod5\"),EDATE(PP_Period1EndDate,-4*12))","v":44561},null,null,null,"End date of reporting period 5",null,null,"Slutdato for periode 5","Enddatum des Berichtszeitraums 5",null,"Fecha final del período del informe 5",null,null,"Date de fin de la période de reporting 5",null,null,null,"Data di fine del periodo di riferimento 5",null,null,null,null,null,"Data zakończenia okresu sprawozdawczego 5",null,null,null,null,null,null,null,null,null,null,null,null,null,null,null,null,null,null,null,null,null,null,null,null,null,null,null,null,null,null,null,null,null,null,null,null,null,null,null,null,null,"2021-12-31"]
[{"$f":"\"\"&INDEX(PP_Locale,ROW(),PP_LanguageIndex)","v":"Start date of reporting period 6"},{"$f":"IFERROR(INDIRECT(\"'General Data ESEF'!PP_StartDatePeriod6\"),EDATE(PP_Period1StartDate,-5*12))","v":"2020-01-01"},null,null,null,"PP_Period6StartDate",{"$f":"IFERROR(INDIRECT(\"'General Data ESEF'!PP_StartDatePeriod6\"),EDATE(PP_Period1StartDate,-5*12))","v":43831},null,null,null,"Start date of reporting period 6",null,null,"Startdato for periode 6","Startdatum des Berichtszeitraums 6",null,"Fecha de inicio del período del informe 6",null,null,"Date de début de la période de reporting 6",null,null,null,"Data di inizio del periodo di riferimento 6",null,null,null,null,null,"Data rozpoczęcia okresu sprawozdawczego 6",null,null,null,null,null,null,null,null,null,null,null,null,null,null,null,null,null,null,null,null,null,null,null,null,null,null,null,null,null,null,null,null,null,null,null,null,null,null,null,null,null,"2020-01-01"]
[{"$f":"\"\"&INDEX(PP_Locale,ROW(),PP_LanguageIndex)","v":"End date of reporting period 6"},{"$f":"IFERROR(INDIRECT(\"'General Data ESEF'!PP_EndDatePeriod6\"),EDATE(PP_Period1EndDate,-5*12))","v":"2020-12-31"},null,null,null,"PP_Period6EndDate",{"$f":"IFERROR(INDIRECT(\"'General Data ESEF'!PP_EndDatePeriod6\"),EDATE(PP_Period1EndDate,-5*12))","v":44196},null,null,null,"End date of reporting period 6",null,null,"Slutdato for periode 6","Enddatum des Berichtszeitraums 6",null,"Fecha final del período del informe 6",null,null,"Date de fin de la période de reporting 6",null,null,null,"Data di fine del periodo di riferimento 6",null,null,null,null,null,"Data zakończenia okresu sprawozdawczego 6",null,null,null,null,null,null,null,null,null,null,null,null,null,null,null,null,null,null,null,null,null,null,null,null,null,null,null,null,null,null,null,null,null,null,null,null,null,null,null,null,null,"2020-12-31"]
[{"$f":"\"\"&INDEX(PP_Locale,ROW(),PP_LanguageIndex)","v":"Start date of reporting period 7"},{"$f":"IFERROR(INDIRECT(\"'General Data ESEF'!PP_StartDatePeriod7\"),EDATE(PP_Period1StartDate,-6*12))","v":"2019-01-01"},null,null,null,"PP_Period7StartDate",{"$f":"IFERROR(INDIRECT(\"'General Data ESEF'!PP_StartDatePeriod7\"),EDATE(PP_Period1StartDate,-6*12))","v":43466},null,null,null,"Start date of reporting period 7",null,null,"Startdato for periode 7","Startdatum des Berichtszeitraums 7",null,"Fecha de inicio del período del informe 7",null,null,"Date de début de la période de reporting 7",null,null,null,"Data di inizio del periodo di riferimento 7",null,null,null,null,null,"Data rozpoczęcia okresu sprawozdawczego 7",null,null,null,null,null,null,null,null,null,null,null,null,null,null,null,null,null,null,null,null,null,null,null,null,null,null,null,null,null,null,null,null,null,null,null,null,null,null,null,null,null,"2019-01-01"]
[{"$f":"\"\"&INDEX(PP_Locale,ROW(),PP_LanguageIndex)","v":"End date of reporting period 7"},{"$f":"IFERROR(INDIRECT(\"'General Data ESEF'!PP_EndDatePeriod7\"),EDATE(PP_Period1EndDate,-6*12))","v":"2019-12-31"},null,null,null,"PP_Period7EndDate",{"$f":"IFERROR(INDIRECT(\"'General Data ESEF'!PP_EndDatePeriod7\"),EDATE(PP_Period1EndDate,-6*12))","v":43830},null,null,null,"End date of reporting period 7",null,null,"Slutdato for periode 7","Enddatum des Berichtszeitraums 7",null,"Fecha final del período del informe 7",null,null,"Date de fin de la période de reporting 7",null,null,null,"Data di fine del periodo di riferimento 7",null,null,null,null,null,"Data zakończenia okresu sprawozdawczego 7",null,null,null,null,null,null,null,null,null,null,null,null,null,null,null,null,null,null,null,null,null,null,null,null,null,null,null,null,null,null,null,null,null,null,null,null,null,null,null,null,null,"2019-12-31"]
[{"$f":"\"\"&INDEX(PP_Locale,ROW(),PP_LanguageIndex)","v":"Start date of reporting period 8"},{"$f":"IFERROR(INDIRECT(\"'General Data ESEF'!PP_StartDatePeriod8\"),EDATE(PP_Period1StartDate,-7*12))","v":"2018-01-01"},null,null,null,"PP_Period8StartDate",{"$f":"IFERROR(INDIRECT(\"'General Data ESEF'!PP_StartDatePeriod8\"),EDATE(PP_Period1StartDate,-7*12))","v":43101},null,null,null,"Start date of reporting period 8",null,null,"Startdato for periode 8","Startdatum des Berichtszeitraums 8",null,"Fecha de inicio del período del informe 8",null,null,"Date de début de la période de reporting 8",null,null,null,"Data di inizio del periodo di riferimento 8",null,null,null,null,null,"Data rozpoczęcia okresu sprawozdawczego 8",null,null,null,null,null,null,null,null,null,null,null,null,null,null,null,null,null,null,null,null,null,null,null,null,null,null,null,null,null,null,null,null,null,null,null,null,null,null,null,null,null,"2018-01-01"]
[{"$f":"\"\"&INDEX(PP_Locale,ROW(),PP_LanguageIndex)","v":"End date of reporting period 8"},{"$f":"IFERROR(INDIRECT(\"'General Data ESEF'!PP_EndDatePeriod8\"),EDATE(PP_Period1EndDate,-7*12))","v":"2018-12-31"},null,null,null,"PP_Period8EndDate",{"$f":"IFERROR(INDIRECT(\"'General Data ESEF'!PP_EndDatePeriod8\"),EDATE(PP_Period1EndDate,-7*12))","v":43465},null,null,null,"End date of reporting period 8",null,null,"Slutdato for periode 8","Enddatum des Berichtszeitraums 8",null,"Fecha final del período del informe 8",null,null,"Date de fin de la période de reporting 8",null,null,null,"Data di fine del periodo di riferimento 8",null,null,null,null,null,"Data zakończenia okresu sprawozdawczego 8",null,null,null,null,null,null,null,null,null,null,null,null,null,null,null,null,null,null,null,null,null,null,null,null,null,null,null,null,null,null,null,null,null,null,null,null,null,null,null,null,null,"2018-12-31"]
[{"$f":"\"\"&INDEX(PP_Locale,ROW(),PP_LanguageIndex)","v":"Start date of reporting period 9"},{"$f":"IFERROR(INDIRECT(\"'General Data ESEF'!PP_StartDatePeriod8\"),EDATE(PP_Period1StartDate,-7*12))","v":"2018-01-01"},null,null,null,"PP_Period9StartDate",{"$f":"IFERROR(INDIRECT(\"'General Data ESEF'!PP_StartDatePeriod8\"),EDATE(PP_Period1StartDate,-7*12))","v":43101},null,null,null,"Start date of reporting period 9",null,null,"Startdato for periode 9","Startdatum des Berichtszeitraums 9",null,"Fecha de inicio del período del informe 9",null,null,"Date de début de la période de reporting 9",null,null,null,"Data di inizio del periodo di riferimento 9",null,null,null,null,null,"Data rozpoczęcia okresu sprawozdawczego 9",null,null,null,null,null,null,null,null,null,null,null,null,null,null,null,null,null,null,null,null,null,null,null,null,null,null,null,null,null,null,null,null,null,null,null,null,null,null,null,null,null,{"$f":"IF(COUNTBLANK(B36),\"\",TEXT(YEAR(B36),\"0000\")&\"-\"&TEXT(MONTH(B36),\"00\")&\"-\"&TEXT(DAY(B36),\"00\"))","v":"2018-01-01"}]
[{"$f":"\"\"&INDEX(PP_Locale,ROW(),PP_LanguageIndex)","v":"End date of reporting period 9"},{"$f":"IFERROR(INDIRECT(\"'General Data ESEF'!PP_EndDatePeriod8\"),EDATE(PP_Period1EndDate,-7*12))","v":"2018-12-31"},null,null,null,"PP_Period9EndDate",{"$f":"IFERROR(INDIRECT(\"'General Data ESEF'!PP_EndDatePeriod8\"),EDATE(PP_Period1EndDate,-7*12))","v":43465},null,null,null,"End date of reporting period 9",null,null,"Slutdato for periode 9","Enddatum des Berichtszeitraums 9",null,"Fecha final del período del informe 9",null,null,"Date de fin de la période de reporting 9",null,null,null,"Data di fine del periodo di riferimento 9",null,null,null,null,null,"Data zakończenia okresu sprawozdawczego 9",null,null,null,null,null,null,null,null,null,null,null,null,null,null,null,null,null,null,null,null,null,null,null,null,null,null,null,null,null,null,null,null,null,null,null,null,null,null,null,null,null,"2018-12-31"]
[{"$f":"\"\"&INDEX(PP_Locale,ROW(),PP_LanguageIndex)","v":"Start date of reporting period 10"},{"$f":"IFERROR(INDIRECT(\"'General Data ESEF'!PP_StartDatePeriod9\"),EDATE(PP_Period1StartDate,-8*12))","v":"2017-01-01"},null,null,null,"PP_Period10StartDate",{"$f":"IFERROR(INDIRECT(\"'General Data ESEF'!PP_StartDatePeriod9\"),EDATE(PP_Period1StartDate,-8*12))","v":42736},null,null,null,"Start date of reporting period 10",null,null,"Startdato for periode 10","Startdatum des Berichtszeitraums 10",null,"Fecha de inicio del período del informe 10",null,null,"Date de début de la période de reporting 10",null,null,null,"Data di inizio del periodo di riferimento 10",null,null,null,null,null,"Data rozpoczęcia okresu sprawozdawczego 10",null,null,null,null,null,null,null,null,null,null,null,null,null,null,null,null,null,null,null,null,null,null,null,null,null,null,null,null,null,null,null,null,null,null,null,null,null,null,null,null,null,"2017-01-01"]
[{"$f":"\"\"&INDEX(PP_Locale,ROW(),PP_LanguageIndex)","v":"End date of reporting period 10"},{"$f":"IFERROR(INDIRECT(\"'General Data ESEF'!PP_EndDatePeriod9\"),EDATE(PP_Period1EndDate,-8*12))","v":"2017-12-31"},null,null,null,"PP_Period10EndDate",{"$f":"IFERROR(INDIRECT(\"'General Data ESEF'!PP_EndDatePeriod9\"),EDATE(PP_Period1EndDate,-8*12))","v":43100},null,null,null,"End date of reporting period 10",null,null,"Slutdato for periode 10","Enddatum des Berichtszeitraums 10",null,"Fecha final del período del informe 10",null,null,"Date de fin de la période de reporting 10",null,null,null,"Data di fine del periodo di riferimento 10",null,null,null,null,null,"Data zakończenia okresu sprawozdawczego 10",null,null,null,null,null,null,null,null,null,null,null,null,null,null,null,null,null,null,null,null,null,null,null,null,null,null,null,null,null,null,null,null,null,null,null,null,null,null,null,null,null,"2017-12-31"]
[]
[{"$f":"\"\"&INDEX(PP_Locale,ROW(),PP_LanguageIndex)","v":"Information on reporting entity:"},null,null,null,null,null,null,null,null,null,"Information on reporting entity:",null,null,"Information om den regnskabsaflæggende virksomhed:"]
[{"$f":"\"\"&INDEX(PP_Locale,ROW(),PP_LanguageIndex)","v":"Legal Entity Identifier [LEI] of reporting entity"},{"$f":"IF(ISERROR(INDIRECT(\"'General Data ESEF'!PP_IdentificationOfReportingEntity\")),\"\",IF(LEN(INDIRECT(\"'General Data ESEF'!PP_IdentificationOfReportingEntity\"))<>20,\"\",INDIRECT(\"'General Data ESEF'!PP_IdentificationOfReportingEntity\")))","v":"12345NOTVALID1234503"},null,null,null,"PP_LegalEntityIdentifierOfReportingEntity",{"$f":"IF(ISERROR(INDIRECT(\"'General Data ESEF'!PP_IdentificationOfReportingEntity\")),\"\",IF(LEN(INDIRECT(\"'General Data ESEF'!PP_IdentificationOfReportingEntity\"))<>20,\"\",INDIRECT(\"'General Data ESEF'!PP_IdentificationOfReportingEntity\")))","v":"12345NOTVALID1234503"},null,null,null,"Legal Entity Identifier [LEI] of reporting entity",null,null,"Regnskabsaflæggende virksomheds LEI-kode",null,null,null,null,null,null,null,null,null,null,null,null,null,null,null,null,null,null,null,null,null,null,null,null,null,null,null,null,null,null,null,null,null,null,null,null,null,null,null,null,null,null,null,null,null,null,null,null,null,null,null,null,null,null,null,null,null,{"$f":"\"\"&B42","v":"12345NOTVALID1234503"}]
[{"$f":"\"\"&INDEX(PP_Locale,ROW(),PP_LanguageIndex)","v":"Class of reporting entity"},{"$f":"\"\"&LOOKUP(PP_Language,{\"DA\";\"EN\"},{\"Regnskabsklasse B\";\"Reporting class B\"})","v":"Reporting class B"},null,null,null,"PP_ClassOfReportingEntity",{"$f":"\"\"&LOOKUP(PP_Language,{\"DA\";\"EN\"},{\"Regnskabsklasse B\";\"Reporting class B\"})","v":"Reporting class B"},null,null,null,"Class of reporting entity",null,null,"Regnskabsaflæggende virksomheds regnskabsklasse",null,null,null,null,null,null,null,null,null,null,null,null,null,null,null,null,null,null,null,null,null,null,null,null,null,null,null,null,null,null,null,null,null,null,null,null,null,null,null,null,null,null,null,null,null,null,null,null,null,null,null,null,null,null,null,null,null,{"$f":"\"\"&SUBSTITUTE(B43,\" / \",\", \")","v":"Reporting class B"},null,null,null,{"$f":"\"\"&LOOKUP(PP_Language,{\"DA\";\"EN\"},{\"Regnskabsklasse A\";\"Reporting class A\"})","v":"Reporting class A"},{"$f":"\"\"&LOOKUP(PP_Language,{\"DA\";\"EN\"},{\"Regnskabsklasse B\";\"Reporting class B\"})","v":"Reporting class B"},{"$f":"\"\"&LOOKUP(PP_Language,{\"DA\";\"EN\"},{\"Regnskabsklasse B / mikrovirksomhed\";\"Reporting class B / micro-undertaking\"})","v":"Reporting class B / micro-undertaking"},{"$f":"\"\"&LOOKUP(PP_Language,{\"DA\";\"EN\"},{\"Regnskabsklasse C / mellemstor virksomhed\";\"Reporting class C / medium-size enterprise\"})","v":"Reporting class C / medium-size enterprise"},{"$f":"\"\"&LOOKUP(PP_Language,{\"DA\";\"EN\"},{\"Regnskabsklasse C / stor virksomhed\";\"Reporting class C / large enterprise\"})","v":"Reporting class C / large enterprise"},{"$f":"\"\"&LOOKUP(PP_Language,{\"DA\";\"EN\"},{\"Regnskabsklasse D\";\"Reporting class D\"})","v":"Reporting class D"}]
[{"$f":"\"\"&INDEX(PP_Locale,ROW(),PP_LanguageIndex)","v":"Identification number [CVR] of reporting entity"},{"$f":"IF(IFERROR(LEN(INDIRECT(\"'General Data ESEF'!PP_IdentificationOfReportingEntity\")),0)=8,INDIRECT(\"'General Data ESEF'!PP_IdentificationOfReportingEntity\"),\"12345678\")","v":"12345678"},null,null,null,"PP_IdentificationNumberCvrOfReportingEntity",{"$f":"IF(IFERROR(LEN(INDIRECT(\"'General Data ESEF'!PP_IdentificationOfReportingEntity\")),0)=8,INDIRECT(\"'General Data ESEF'!PP_IdentificationOfReportingEntity\"),\"12345678\")","v":"12345678"},null,null,null,"Identification number [CVR] of reporting entity",null,null,"Regnskabsaflæggende virksomheds CVR-nr.",null,null,null,null,null,null,null,null,null,null,null,null,null,null,null,null,null,null,null,null,null,null,null,null,null,null,null,null,null,null,null,null,null,null,null,null,null,null,null,null,null,null,null,null,null,null,null,null,null,null,null,null,null,null,null,null,null,{"$f":"\"\"&SUBSTITUTE(B44,\" \",\"\")","v":"12345678"}]
[]
[{"$f":"IF(A47=\"\",\"\",\"\"&INDEX(PP_Locale,ROW(),PP_LanguageIndex))","v":"Opinion:"},null,null,null,null,null,null,null,null,null,"Opinion:",null,null,"Konklusion:"]
[{"$f":"\"\"&INDEX(PP_Locale,ROW(),PP_LanguageIndex)","v":"Type of opinion on audited financial statements (Audit)"},{"$f":"\"\"&LOOKUP(PP_Language,{\"DA\";\"EN\"},{\"Konklusion\";\"Opinion\"})","v":"Opinion"},null,null,null,"PP_TypeOfModifiedOpinion",{"$f":"\"\"&LOOKUP(PP_Language,{\"DA\";\"EN\"},{\"Konklusion\";\"Opinion\"})","v":"Opinion"},null,null,null,{"$f":"IFERROR(INDEX(K$67:K$69,MATCH(PP_TypeOfAuditorAssistance,$BX$16:$CC$16,0),1),\"\")","v":"Type of opinion on audited financial statements (Audit)"},null,null,{"$f":"IFERROR(INDEX(N$67:N$69,MATCH(PP_TypeOfAuditorAssistance,$BX$16:$CC$16,0),1),\"\")","v":"Type af konklusion (revision)"},null,null,null,null,null,null,null,null,null,null,null,null,null,null,null,null,null,null,null,null,null,null,null,null,null,null,null,null,null,null,null,null,null,null,null,null,null,null,null,null,null,null,null,null,null,null,null,null,null,null,null,null,null,null,null,null,null,{"$f":"IF(COUNTBLANK(A47),\"\",\"\"&B47)","v":"Opinion"},null,null,null,{"$f":"\"\"&LOOKUP(PP_Language,{\"DA\";\"EN\"},{\"Konklusion\";\"Opinion\"})","v":"Opinion"},{"$f":"\"\"&LOOKUP(PP_Language,{\"DA\";\"EN\"},{\"Konklusion med forbehold\";\"Qualified Opinion\"})","v":"Qualified Opinion"},{"$f":"\"\"&LOOKUP(PP_Language,{\"DA\";\"EN\"},{\"Afkræftende konklusion\";\"Adverse Opinion\"})","v":"Adverse Opinion"},{"$f":"\"\"&LOOKUP(PP_Language,{\"DA\";\"EN\"},{\"Manglende konklusion\";\"Disclaimer of Opinion\"})","v":"Disclaimer of Opinion"}]
[{"$f":"\"\"&INDEX(PP_Locale,ROW(),PP_LanguageIndex)","v":"Type of basis for opinion on audited financial statements (audit)"},{"$f":"\"\"&LOOKUP(PP_Language,{\"DA\";\"EN\"},{\"Grundlag for konklusion\";\"Basis for Opinion\"})","v":"Basis for Opinion"},null,null,null,"PP_TypeOfBasisForModifiedOpinion",{"$f":"\"\"&LOOKUP(PP_Language,{\"DA\";\"EN\"},{\"Grundlag for konklusion\";\"Basis for Opinion\"})","v":"Basis for Opinion"},null,null,null,{"$f":"IFERROR(INDEX(K$64:K$66,MATCH(PP_TypeOfAuditorAssistance,$BX$16:$CC$16,0),1),\"\")","v":"Type of basis for opinion on audited financial statements (audit)"},null,null,{"$f":"IFERROR(INDEX(N$64:N$66,MATCH(PP_TypeOfAuditorAssistance,$BX$16:$CC$16,0),1),\"\")","v":"Type af grundlag for konklusion (revision)"},null,null,null,null,null,null,null,null,null,null,null,null,null,null,null,null,null,null,null,null,null,null,null,null,null,null,null,null,null,null,null,null,null,null,null,null,null,null,null,null,null,null,null,null,null,null,null,null,null,null,null,null,null,null,null,null,null,{"$f":"IF(COUNTBLANK(A48),\"\",\"\"&B48)","v":"Basis for Opinion"},null,null,null,{"$f":"\"\"&LOOKUP(PP_Language,{\"DA\";\"EN\"},{\"Grundlag for konklusion\";\"Basis for Opinion\"})","v":"Basis for Opinion"},{"$f":"\"\"&LOOKUP(PP_Language,{\"DA\";\"EN\"},{\"Grundlag for konklusion med forbehold\";\"Basis for Qualified Opinion\"})","v":"Basis for Qualified Opinion"},{"$f":"\"\"&LOOKUP(PP_Language,{\"DA\";\"EN\"},{\"Grundlag for afkræftende konklusion\";\"Basis for Adverse Opinion\"})","v":"Basis for Adverse Opinion"},{"$f":"\"\"&LOOKUP(PP_Language,{\"DA\";\"EN\"},{\"Grundlag for manglende konklusion\";\"Basis for Disclaimer of Opinion\"})","v":"Basis for Disclaimer of Opinion"}]
[{"$f":"\"\"&INDEX(PP_Locale,ROW(),PP_LanguageIndex)","v":""}]
[{"$f":"\"\"&INDEX(PP_Locale,ROW(),PP_LanguageIndex)","v":"Reporting responsibilities according to the Danish executive order on approved auditors' reports:"},null,null,null,null,null,null,null,null,null,"Reporting responsibilities according to the Danish executive order on approved auditors' reports:",null,null,"Erklæringsforpligtelser i henhold til erklæringsbekendtgørelsen:"]
[{"$f":"\"\"&INDEX(PP_Locale,ROW(),PP_LanguageIndex)","v":"Reporting responsibilities according to the Danish executive order on approved auditors' reports especially the criminal code and Fiscal-, tax- and subsidy legislation (Audit)"},null,null,null,null,"PP_ReportingResponsibilitiesAccordingToTheDanishExecutiveOrderOnApprovedAuditorsReportsEspeciallyTheCriminalCodeAndFiscalTaxAndSubsidyLegislation",null,null,null,null,{"$f":"IFERROR(INDEX(K$70:K$71,MATCH(PP_TypeOfAuditorAssistance,$BX$16:$CC$16,0),1),\"\")","v":"Reporting responsibilities according to the Danish executive order on approved auditors' reports especially the criminal code and Fiscal-, tax- and subsidy legislation (Audit)"},null,null,{"$f":"IFERROR(INDEX(N$70:N$71,MATCH(PP_TypeOfAuditorAssistance,$BX$16:$CC$16,0),1),\"\")","v":"Erklæringsforpligtelser i henhold til erklæringsbekendtgørelsen, herunder særligt straffeloven samt skatte-, afgifts- og tilskudslovgivningen (revision)"},null,null,null,null,null,null,null,null,null,null,null,null,null,null,null,null,null,null,null,null,null,null,null,null,null,null,null,null,null,null,null,null,null,null,null,null,null,null,null,null,null,null,null,null,null,null,null,null,null,null,null,null,null,null,null,null,null,{"$f":"IF(OR(COUNTBLANK(A51),COUNTBLANK(B51)),\"\",IF(B51,\"true\",\"false\"))","v":""},null,null,null,true,false]
[{"$f":"\"\"&INDEX(PP_Locale,ROW(),PP_LanguageIndex)","v":"Reporting responsibilities according to the Danish executive order on approved auditors' reports especially the companies act or equivalent legislation, that the company is subject to (Audit)"},null,null,null,null,"PP_ReportingResponsibilitiesAccordingToTheDanishExecutiveOrderOnApprovedAuditorsReportsEspeciallyTheCompaniesActOrEquivalentLegislationThatTheCompanyIsSubjectTo",null,null,null,null,{"$f":"IFERROR(INDEX(K$72:K$73,MATCH(PP_TypeOfAuditorAssistance,$BX$16:$CC$16,0),1),\"\")","v":"Reporting responsibilities according to the Danish executive order on approved auditors' reports especially the companies act or equivalent legislation, that the company is subject to (Audit)"},null,null,{"$f":"IFERROR(INDEX(N$72:N$73,MATCH(PP_TypeOfAuditorAssistance,$BX$16:$CC$16,0),1),\"\")","v":"Erklæringsforpligtelser i henhold til erklæringsbekendtgørelsen, herunder særligt den for virksomheden fastsatte selskabsretlige eller tilsvarende lovgivning (revision)"},null,null,null,null,null,null,null,null,null,null,null,null,null,null,null,null,null,null,null,null,null,null,null,null,null,null,null,null,null,null,null,null,null,null,null,null,null,null,null,null,null,null,null,null,null,null,null,null,null,null,null,null,null,null,null,null,null,{"$f":"IF(OR(COUNTBLANK(A52),COUNTBLANK(B52)),\"\",IF(B52,\"true\",\"false\"))","v":""},null,null,null,true,false]
[{"$f":"\"\"&INDEX(PP_Locale,ROW(),PP_LanguageIndex)","v":"Reporting responsibilities according to the Danish executive order on approved auditors' reports especially legislation on financial reporting, including accounting and storage of accounting records (Audit)"},null,null,null,null,"PP_ReportingResponsibilitiesAccordingToTheDanishExecutiveOrderOnApprovedAuditorsReportsEspeciallyLegislationOnFinancialReportingIncludingAccountingAndStorageOfAccountingRecords",null,null,null,null,{"$f":"IFERROR(INDEX(K$74:K$75,MATCH(PP_TypeOfAuditorAssistance,$BX$16:$CC$16,0),1),\"\")","v":"Reporting responsibilities according to the Danish executive order on approved auditors' reports especially legislation on financial reporting, including accounting and storage of accounting records (Audit)"},null,null,{"$f":"IFERROR(INDEX(N$74:N$75,MATCH(PP_TypeOfAuditorAssistance,$BX$16:$CC$16,0),1),\"\")","v":"Erklæringsforpligtelser i henhold til erklæringsbekendtgørelsen, herunder særligt lovgivningen om regnskabsaflæggelse, herunder om bogføring og bevaring af regnskabsmateriale (revision)"},null,null,null,null,null,null,null,null,null,null,null,null,null,null,null,null,null,null,null,null,null,null,null,null,null,null,null,null,null,null,null,null,null,null,null,null,null,null,null,null,null,null,null,null,null,null,null,null,null,null,null,null,null,null,null,null,null,"",null,null,null,true,false]
[{"$f":"\"\"&INDEX(PP_Locale,ROW(),PP_LanguageIndex)","v":"Reporting responsibilities according to the Danish executive order on approved auditors' reports especially other matters (Audit)"},null,null,null,null,"PP_ReportingResponsibilitiesAccordingToTheDanishExecutiveOrderOnApprovedAuditorsReportsEspeciallyOtherMatters",null,null,null,null,{"$f":"IFERROR(INDEX(K$76:K$77,MATCH(PP_TypeOfAuditorAssistance,$BX$16:$CC$16,0),1),\"\")","v":"Reporting responsibilities according to the Danish executive order on approved auditors' reports especially other matters (Audit)"},null,null,{"$f":"IFERROR(INDEX(N$76:N$77,MATCH(PP_TypeOfAuditorAssistance,$BX$16:$CC$16,0),1),\"\")","v":"Erklæringsforpligtelser i henhold til erklæringsbekendtgørelsen, herunder særligt andre forhold (revision)"},null,null,null,null,null,null,null,null,null,null,null,null,null,null,null,null,null,null,null,null,null,null,null,null,null,null,null,null,null,null,null,null,null,null,null,null,null,null,null,null,null,null,null,null,null,null,null,null,null,null,null,null,null,null,null,null,null,"",null,null,null,true,false]
[]
[{"$f":"\"\"&INDEX(PP_Locale,ROW(),PP_LanguageIndex)","v":"Technical information:"},null,null,null,null,null,null,null,null,null,"Technical information:",null,null,"Teknisk information:","Technische Information:",null,"Información técnica:",null,null,"Informations techniques:",null,null,null,"Informazioni tecniche:",null,null,null,null,null,"Specyfikacja:"]
[{"$f":"\"\"&INDEX(PP_Locale,ROW(),PP_LanguageIndex)","v":"Taxonomy"},"DK GAAP",null,null,null,"PP_Taxonomy","DK GAAP",null,null,null,"Taxonomy",null,null,"Taksonomi","Taxonomie",null,"Taxonomía",null,null,"Taxonomie",null,null,null,"Tassonomia",null,null,null,null,null,"Taksonomia",null,null,null,null,null,null,null,null,null,null,null,null,null,null,null,null,null,null,null,null,null,null,null,null,null,null,null,null,null,null,null,null,null,null,null,null,null,null,null,null,null,null,null,null,null,"DK GAAP","DK GAAP 20241001","DK GAAP 20231001","DK GAAP 20221001","DK GAAP 20211001"]
[{"$f":"\"\"&INDEX(PP_Locale,ROW(),PP_LanguageIndex)","v":"Taxonomy ID"},"DKGAAP",null,null,null,"PP_TaxonomyId","DKGAAP",null,null,null,"Taxonomy ID",null,null,"Taksonomi ID"]
[{"$f":"\"\"&INDEX(PP_Locale,ROW(),PP_LanguageIndex)","v":"Taxonomy entrypoint"},{"$f":"IF(ISERROR(INDIRECT(\"'General Data ESEF'!PP_Language\")),\"Balance sheet (\"&IF(IFERROR(COUNTIF(INDIRECT(\"'Balance sheet'!A1:Z99\"),\"*Provisions(*\"),0),\"account form\",\"account by current and longterm form\")&\"), income statement (\"&IF(IFERROR(COUNTIF(INDIRECT(\"'Income statement'!A1:Z99\"),\"*by Function(*\"),0),\"by function\",\"by nature\")&\")\",\"Excluding Balance sheet and Income statement, including managements review and statistics\")","v":"Excluding Balance sheet and Income statement, including managements review and statistics"},null,null,null,"PP_TaxonomyEntrypoint",{"$f":"IF(ISERROR(INDIRECT(\"'General Data ESEF'!PP_Language\")),\"Balance sheet (\"&IF(IFERROR(COUNTIF(INDIRECT(\"'Balance sheet'!A1:Z99\"),\"*Provisions(*\"),0),\"account form\",\"account by current and longterm form\")&\"), income statement (\"&IF(IFERROR(COUNTIF(INDIRECT(\"'Income statement'!A1:Z99\"),\"*by Function(*\"),0),\"by function\",\"by nature\")&\")\",\"Excluding Balance sheet and Income statement, including managements review and statistics\")","v":"Excluding Balance sheet and Income statement, including managements review and statistics"},null,null,null,"Taxonomy entrypoint",null,null,"Taksonomi entrypoint","Einstiegspunkt",null,"Punto de acceso",null,null,"Point d'accès",null,null,null,"Punto d'entrata",null,null,null,null,null,"Punkt wejścia",null,null,null,null,null,null,null,null,null,null,null,null,null,null,null,null,null,null,null,null,null,null,null,null,null,null,null,null,null,null,null,null,null,null,null,null,null,null,null,null,null,null,null,null,null,"Balance sheet (account form), income statement (by nature)","Balance sheet (account form), income statement (by function)","Balance sheet (account form by current and longterm), income statement (by nature)","Balance sheet (account form by current and longterm), income statement (by function)","Excluding Balance sheet and Income statement, including managements review and statistics"]
[{"$f":"\"\"&INDEX(PP_Locale,ROW(),PP_LanguageIndex)","v":"Identifier scheme"},{"$f":"IFERROR(INDIRECT(\"'General Data ESEF'!PP_IdentifierScheme\"),\"http://www.dcca.dk/cvr\")","v":"http://standards.iso.org/iso/17442"},null,null,null,"PP_IdentifierScheme",{"$f":"IFERROR(INDIRECT(\"'General Data ESEF'!PP_IdentifierScheme\"),\"http://www.dcca.dk/cvr\")","v":"http://standards.iso.org/iso/17442"},null,null,null,"Identifier scheme",null,null,"Identifier scheme","Identifikationsschema",null,"Esquema de identificación",null,null,"Schéma d'identification",null,null,null,"Schema identificativo",null,null,null,null,null,"Schemat identyfikacyjny",null,null,null,null,null,null,null,null,null,null,null,null,null,null,null,null,null,null,null,null,null,null,null,null,null,null,null,null,null,null,null,null,null,null,null,null,null,null,null,null,null,{"$f":"\"\"&B60","v":"http://standards.iso.org/iso/17442"}]
["Parameters",{"$f":"\"\"&IFERROR(INDIRECT(\"'General Data ESEF'!PP_Parameters\"),\"cache=true\")","v":""},null,null,null,"PP_Parameters",{"$f":"\"\"&IFERROR(INDIRECT(\"'General Data ESEF'!PP_Parameters\"),\"cache=true\")","v":""},null,null,null,"Parameters",null,null,"Parametre"]
[]
[null,null,null,null,null,null,null,null,null,null,"UNKNOWN",null,null,"UKENDT"]
[null,null,null,null,null,null,null,null,null,null,"Type of basis for opinion on audited financial statements (audit)",null,null,"Type af grundlag for konklusion (revision)"]
[null,null,null,null,null,null,null,null,null,null,"Type of basis for opinion on financial statements (Extended review)",null,null,"Type af grundlag for konklusion (udvidet gennemgang)"]
[null,null,null,null,null,null,null,null,null,null,"Type of basis for conclusion on financial statements (review)",null,null,"Type af grundlag for konklusion (review)"]
[null,null,null,null,null,null,null,null,null,null,"Type of opinion on audited financial statements (Audit)",null,null,"Type af konklusion (revision)"]
[null,null,null,null,null,null,null,null,null,null,"Type of opinion on financial statements (Extended Review)",null,null,"Type af konklusion (udvidet gennemgang)"]
[null,null,null,null,null,null,null,null,null,null,"Type of conclusion on financial statements (review)",null,null,"Type af konklusion (review)"]
[null,null,null,null,null,null,null,null,null,null,"Reporting responsibilities according to the Danish executive order on approved auditors' reports especially the criminal code and Fiscal-, tax- and subsidy legislation (Audit)",null,null,"Erklæringsforpligtelser i henhold til erklæringsbekendtgørelsen, herunder særligt straffeloven samt skatte-, afgifts- og tilskudslovgivningen (revision)"]
[null,null,null,null,null,null,null,null,null,null,"Reporting responsibilities according to the Danish executive order on approved auditors' reports especially the criminal code and Fiscal-, tax- and subsidy legislation (Extended review)",null,null,"Erklæringsforpligtelser i henhold til erklæringsbekendtgørelsen, herunder særligt straffeloven samt skatte-, afgifts- og tilskudslovgivningen (udvidet gennemgang)"]
[null,null,null,null,null,null,null,null,null,null,"Reporting responsibilities according to the Danish executive order on approved auditors' reports especially the companies act or equivalent legislation, that the company is subject to (Audit)",null,null,"Erklæringsforpligtelser i henhold til erklæringsbekendtgørelsen, herunder særligt den for virksomheden fastsatte selskabsretlige eller tilsvarende lovgivning (revision)"]
[null,null,null,null,null,null,null,null,null,null,"Reporting responsibilities according to the Danish executive order on approved auditors' reports especially the companies act or equivalent legislation, that the company is subject to (Extended review)",null,null,"Erklæringsforpligtelser i henhold til erklæringsbekendtgørelsen, herunder særligt den for virksomheden fastsatte selskabsretlige eller tilsvarende lovgivning (udvidet gennemgang)"]
[null,null,null,null,null,null,null,null,null,null,"Reporting responsibilities according to the Danish executive order on approved auditors' reports especially legislation on financial reporting, including accounting and storage of accounting records (Audit)",null,null,"Erklæringsforpligtelser i henhold til erklæringsbekendtgørelsen, herunder særligt lovgivningen om regnskabsaflæggelse, herunder om bogføring og bevaring af regnskabsmateriale (revision)"]
[null,null,null,null,null,null,null,null,null,null,"Reporting responsibilities according to the Danish executive order on approved auditors' reports especially legislation on financial reporting, including accounting and storage of accounting records (Extended review)",null,null,"Erklæringsforpligtelser i henhold til erklæringsbekendtgørelsen, herunder særligt lovgivningen om regnskabsaflæggelse, herunder om bogføring og bevaring af regnskabsmateriale (udvidet gennemgang)"]
[null,null,null,null,null,null,null,null,null,null,"Reporting responsibilities according to the Danish executive order on approved auditors' reports especially other matters (Audit)",null,null,"Erklæringsforpligtelser i henhold til erklæringsbekendtgørelsen, herunder særligt andre forhold (revision)"]
[null,null,null,null,null,null,null,null,null,null,"Reporting responsibilities according to the Danish executive order on approved auditors' reports especially other matters (Extended review)",null,null,"Erklæringsforpligtelser i henhold til erklæringsbekendtgørelsen, herunder særligt andre forhold (udvidet gennemgang)"]
[null,null,null,null,null,null,null,null,null,null,"Current period",null,null,"Aktuel periode"]
[null,null,null,null,null,null,null,null,null,null,"Previous period",null,null,"Foregående periode"]
[null,null,null,null,null,null,null,null,null,null,"Group",null,null,"Koncern"]
[null,null,null,null,null,null,null,null,null,null,"Parent",null,null,"Moder"]
[null,null,null,null,null,null,null,null,null,null,"Test customer",null,null,"Test kunde","Kunden testen",null,"Cliente de prueba",null,null,"Test client",null,null,null,"Cliente di prova",null,null,null,null,null,"Klient testowy"]
[null,null,null,null,null,null,null,null,null,null,"Period",null,null,"Periode","Zeitraum",null,"Periodo",null,null,"Période",null,null,null,"Periodo",null,null,null,null,null,"Okres"]

{"sheet":"DKGAAP tags","index":6,"n_rows":359,"n_cols":2,"rows_kept":359,"cut":false,"hidden":false,"merged":[]}
["Local label / version 1.2.4","References"]
["SEARCH BOX:"]
[""]
[]
[]
["Footnotes (relating to item X)"]
["(any label, header or amount)"]
[]
["Managements review "]
["Corporate governance report","ÅRL §107b"]
["Statement of corporate social responsibility","ÅRL §99a"]
["Statement of target figures and policies for the underrepresented gender","ÅRL §99b"]
["Report on payments to authorities","ÅRL §99c"]
["Statement of the diversity policies","ÅRL §107d"]
["Statement of policy for data ethics"]
["Sustainability report"]
["Disclosure of material impacts, risks and opportunities and how they interact with strategy and business model"]
["Description of the Taxonomy Regulation"]
[]
["Statement of target figures and policies for the underrepresented gender [Board of Directors]"]
["Total number of members of board of Directors, excluding employee-elected members"]
["Percentage of underrepresented gender [Board of Directors]"]
["Target figure in percentage of underrepresented gender [Board of Directors]"]
["Year of fulfillment of target figure of underrepresented gender [Board of Directors]"]
["Information on equal distribution of women and men [Board of Directors]"]
["Status of achievement of target figure of underrepresented gender [Board of Directors]"]
["Primary actions for fulfillment of target figure of underrepresented gender [Board of Directors]"]
["Reason for not fulfilling the target figure of underrepresented gender [Board of Directors]"]
[]
["Statement of target figures and policies for the underrepresented gender [Other management levels]"]
["Total number of other management levels"]
["Percentage of underrepresented gender [Other management levels]"]
["Target figure in percentage of underrepresented gender [Other management levels]"]
["Year of fulfillment of target figure of underrepresented gender [Other management levels]"]
["Information on equal distribution of women and men [Other management levels]"]
["Information on exempt from providing information on target figures of underrepresented gender for other management levels due to the number of employees"]
["Statement of the policy to increase the percentage of underrepresented gender [Other management levels]"]
["The main content of the policy of the underrepresented gender [Other management levels]"]
["Primary actions for fulfillment of target figure [Other management levels]"]
["Status of achievement of target figure [Other management levels]"]
["Reason for not fulfilling the target figure [Other management levels]"]
[]
["Statement by executive and supervisory boards"]
["Statement by executive and supervisory boards"]
[]
["Auditors report - AUDIT"]
["Addressee"]
["Opinion"]
["Statement whether qualifications of audited financial statements are of such decisive importance that annual general meeting should not approve financial statements"]
["Basis for opinion"]
["Material uncertainty concerning going concern"]
["Emphasis of matter"]
["Key audit matters"]
["Other matter"]
["Statement on management's review"]
["Statement on other information"]
["Statement of executive and supervisory board's responsibility"]
["Statement of auditor's responsibility"]
["Identification of subject matter of assurance report and description of assurance engagement [Audit, Substainability report]"]
["Statement of auditor's responsibility (Audit, Substainability report)"]
["Description of qualifications of assurance engagement performed [Audit, substainability report]"]
["Opinion on subject matter of assurance report [Audit, Substainability report]"]
["Emphasis of matter (Audit, substainability report)"]
["Auditors report on XBRL-tagging"]
[""]
["Auditors report - Sustainability audit"]
["Auditor's report on substainability report"]
["Addressee of auditor's report (substainability report)"]
["Identification of subject matter of assurance report and description of assurance engagement [Substainability report]"]
["Statement of auditor's responsibility (Substainability report)"]
["Description of qualifications of assurance engagement performed [substainability report]"]
["Opinion on subject matter of assurance report [Substainability report]"]
["Emphasis of matter (substainability report)"]
[]
["Signature of substainability auditor, place"]
["Signature of substainability auditor, date"]
[]
["First name and surname of substainability auditor 1"]
["Description of substainability auditor 1"]
["Identification number of substainability auditor 1"]
["Name of audit firm [Substainability] 1"]
["Identification number [CVR] of audit firm [Substainability] 1"]
["Legal Entity Identifier [LEI] of audit firm [Substainability] 1"]
[]
["First name and surname of substainability auditor 2"]
["Description of substainability auditor 2"]
["Identification number of substainability auditor 2"]
["Name of audit firm [Substainability] 2"]
["Identification number [CVR] of audit firm [Substainability] 2"]
["Legal Entity Identifier [LEI] of audit firm [Substainability] 2"]
[]
["Auditors report - REVIEW"]
["Addressee (review)"]
["Identification of reviewed financial statement"]
["Statement on management's responsibility (review)"]
["Statement of auditor's responsibility (review)"]
["Statement on review performed"]
["Descriptions of qualifications of reviewed financial statements"]
["Conclusion on reviewed financial statements"]
["Emphasis of matter (review)"]
["Other matter (review)"]
["Statement on management's review (review)"]
["Other reports (review)"]
[""]
["ONLY FOR FOUNDATIONS - ONLY APPLICABLE FOR HYPERTAGGING IF NO LINK TO FULL REPORT IS SUPPLIED IN GENERAL DATA \"Link to...\" FIELDS"]
["Statement of good management concerning foundation"]
["Statement of the foundation's distribution policy"]
[""]
["GENERAL DATA"]
["Date of general meeting"]
["Reporting period, number"]
[""]
["Chairman of general meeting:"]
["Name and surname of chairman of general meeting"]
[""]
["Information on reporting entity:"]
["Legal Entity Identifier [LEI] of reporting entity"]
["Name of reporting entity"]
["Class of reporting entity"]
["Selected elements from reporting class C"]
["Selected elements from reporting class D"]
["Accounting policies are UNCHANGED from previous period"]
["Accounting policies are CHANGED from previous period"]
["The reporting entity applies the exception concerning opting out of the statement by management etc."]
["Identification number [CVR] of reporting entity"]
["Address of reporting entity, street name"]
["Address of reporting entity, street building identifier"]
["Address of reporting entity, post code identifier"]
["Address of reporting entity, district name"]
["Address of reporting entity, country"]
["Address of reporting entity, country identification code"]
["Date of foundation of reporting entity"]
["Registered office of reporting entity"]
["Telephone number of reporting entity"]
["Fax number of reporting entity"]
["Homepage of reporting entity"]
["E-mail of reporting entity"]
["Secondary name of reporting entity 1"]
["Secondary name of reporting entity 2"]
["Secondary name of reporting entity 3"]
["Link to corporate governance report"]
["Link to statement of corporate social responsibility"]
["Link to statement of diversity policies"]
["Link to statement of policy for data ethics"]
["Link to report on payments to authorities"]
["Link to statement of good management concerning foundation"]
["Link to statement of the foundation's distribution policy"]
["Average number of employees"]
[""]
["Dates/locations:"]
["Place of signature of statement by management"]
["Date of approval of annual report"]
[""]
["Executive board:"]
["Name and surname of member of executive board 1"]
["Title of member of executive board 1"]
["Description of member of executive board 1"]
["Name and surname of member of executive board 2"]
["Title of member of executive board 2"]
["Description of member of executive board 2"]
["Name and surname of member of executive board 3"]
["Title of member of executive board 3"]
["Description of member of executive board 3"]
["Name and surname of member of executive board 4"]
["Title of member of executive board 4"]
["Description of member of executive board 4"]
["Name and surname of member of executive board 5"]
["Title of member of executive board 5"]
["Description of member of executive board 5"]
["Name and surname of member of executive board 6"]
["Title of member of executive board 6"]
["Description of member of executive board 6"]
["Name and surname of member of executive board 7"]
["Title of member of executive board 7"]
["Description of member of executive board 7"]
["Name and surname of member of executive board 8"]
["Title of member of executive board 8"]
["Description of member of executive board 8"]
[""]
["Supervisory board:"]
["Name and surname of member of supervisory board 1"]
["Title of member of supervisory board 1"]
["Description of member of supervisory board 1"]
["Name and surname of member of supervisory board 2"]
["Title of member of supervisory board 2"]
["Description of member of supervisory board 2"]
["Name and surname of member of supervisory board 3"]
["Title of member of supervisory board 3"]
["Description of member of supervisory board 3"]
["Name and surname of member of supervisory board 4"]
["Title of member of supervisory board 4"]
["Description of member of supervisory board 4"]
["Name and surname of member of supervisory board 5"]
["Title of member of supervisory board 5"]
["Description of member of supervisory board 5"]
["Name and surname of member of supervisory board 6"]
["Title of member of supervisory board 6"]
["Description of member of supervisory board 6"]
["Name and surname of member of supervisory board 7"]
["Title of member of supervisory board 7"]
["Description of member of supervisory board 7"]
["Name and surname of member of supervisory board 8"]
["Title of member of supervisory board 8"]
["Description of member of supervisory board 8"]
["Name and surname of member of supervisory board 9"]
["Title of member of supervisory board 9"]
["Description of member of supervisory board 9"]
["Name and surname of member of supervisory board 10"]
["Title of member of supervisory board 10"]
["Description of member of supervisory board 10"]
["Name and surname of member of supervisory board 11"]
["Title of member of supervisory board 11"]
["Description of member of supervisory board 11"]
["Name and surname of member of supervisory board 12"]
["Title of member of supervisory board 12"]
["Description of member of supervisory board 12"]
["Name and surname of member of supervisory board 13"]
["Title of member of supervisory board 13"]
["Description of member of supervisory board 13"]
["Name and surname of member of supervisory board 14"]
["Title of member of supervisory board 14"]
["Description of member of supervisory board 14"]
["Name and surname of member of supervisory board 15"]
["Title of member of supervisory board 15"]
["Description of member of supervisory board 15"]
["Name and surname of member of supervisory board 16"]
["Title of member of supervisory board 16"]
["Description of member of supervisory board 16"]
["Name and surname of member of supervisory board 17"]
["Title of member of supervisory board 17"]
["Description of member of supervisory board 17"]
["Name and surname of member of supervisory board 18"]
["Title of member of supervisory board 18"]
["Description of member of supervisory board 18"]
["Name and surname of member of supervisory board 19"]
["Title of member of supervisory board 19"]
["Description of member of supervisory board 19"]
["Name and surname of member of supervisory board 20"]
["Title of member of supervisory board 20"]
["Description of member of supervisory board 20"]
[""]
["Submitting enterprise:"]
["Legal Entity Identifier [LEI] of submitting enterprise"]
["Identification number [CVR] of submitting enterprise"]
["Name of submitting enterprise"]
["Address of submitting enterprise, street and number"]
["Address of submitting enterprise, postcode and town"]
[""]
["Opinion:"]
["Type of opinion on audited financial statements (Audit)"]
["Type of basis for opinion on audited financial statements (audit)"]
[""]
["Reporting responsibilities according to the Danish executive order on approved auditors' reports (Audit)"]
["Reporting responsibilities according to the Danish executive order on approved auditors' reports especially the criminal code and Fiscal-, tax- and subsidy legislation (Audit)"]
["Reporting responsibilities according to the Danish executive order on approved auditors' reports especially the companies act or equivalent legislation, that the company is subject to (Audit)"]
["Reporting responsibilities according to the Danish executive order on approved auditors' reports especially legislation on financial reporting, including accounting and storage of accounting records (Audit)"]
["Reporting responsibilities according to the Danish executive order on approved auditors' reports especially other matters (Audit)"]
[""]
["Type of opinion on financial statements (Extended Review)"]
["Type of basis for opinion on financial statements (Extended review)"]
[""]
["Reporting responsibilities according to the Danish executive order on approved auditors' reports (Extended review)"]
["Reporting responsibilities according to the Danish executive order on approved auditors' reports especially the criminal code and Fiscal-, tax- and subsidy legislation (Extended review)"]
["Reporting responsibilities according to the Danish executive order on approved auditors' reports especially the companies act or equivalent legislation, that the company is subject to (Extended review)"]
["Reporting responsibilities according to the Danish executive order on approved auditors' reports especially legislation on financial reporting, including accounting and storage of accounting records (Extended review)"]
["Reporting responsibilities according to the Danish executive order on approved auditors' reports especially other matters (Extended review)"]
[""]
["Type of conclusion on financial statements (review)"]
["Type of basis for conclusion on financial statements (review)"]
[""]
["Dates/locations:"]
["Signature of auditors, place"]
["Signature of auditors, date"]
[""]
["Auditor 1:"]
["Name and surname of auditor 1"]
["Description of auditor 1"]
["Identification number of auditor 1"]
["Legal Entity Identifier [LEI] of audit firm 1"]
["Identification number [CVR] of audit firm 1"]
["Identification number [PNR] of audit firm 1"]
["Name of audit firm 1"]
["Address of auditor, street name 1"]
["Address of auditor, street building identifier 1"]
["Address of auditor, post code identifier 1"]
["Address of auditor, district name 1"]
["Address of auditor, country 1"]
["Address of auditor, country identification code 1"]
["Telephone number of auditor 1"]
["E-mail of auditor 1"]
[""]
["Auditor 2:"]
["Name and surname of auditor 2"]
["Description of auditor 2"]
["Identification number of auditor 2"]
["Legal Entity Identifier [LEI] of audit firm 2"]
["Identification number [CVR] of audit firm 2"]
["Identification number [PNR] of audit firm 2"]
["Name of audit firm 2"]
["Address of auditor, street name 2"]
["Address of auditor, street building identifier 2"]
["Address of auditor, post code identifier 2"]
["Address of auditor, district name 2"]
["Address of auditor, country 2"]
["Address of auditor, country identification code 2"]
["Telephone number of auditor 2"]
["E-mail of auditor 2"]
[""]
["Internal audit:"]
["Signature internal audit, place"]
["Signature internal audit, date"]
["Name and surname of performer of internal audit 1"]
["Title of performer of internal audit 1"]
["Name and surname of performer of internal audit 2"]
["Title of performer of internal audit 2"]
[""]
["Other statements:"]
["Signature other statement 1, place"]
["Signature other statement 1, date"]
["Legal Entity Identifier [LEI] of performer of other statement 1"]
["Identification number [CVR] of performer of other statement 1"]
["Name of firm performing other statement 1"]
["Name and surname of performer of other statement 1"]
["Title of performer of other statement 1"]
[""]
["Signature other statement 2, place"]
["Signature other statement 2, date"]
["Legal Entity Identifier [LEI] of performer of other statement 2"]
["Identification number [CVR] of performer of other statement 2"]
["Name of firm performing other statement 2"]
["Name and surname of performer of other statement 2"]
["Title of performer of other statement 2"]
[""]
["Liquidator:"]
["Name and surname of liquidator"]
["Title of liquidator"]
[""]
["Financial institution:"]
["Legal Entity Identifier [LEI] of financial institution"]
["Identification number [CVR] of financial institution"]
["Name of financial institution"]
["Address of financial institution, street name"]
["Address of financial institution, street building identifier"]
["Address of financial institution, post code identifier"]
["Address of financial institution, district name"]
["Address of financial institution, country"]
["Address of financial institution, country identification code"]
[""]
["Law firm:"]
["Legal Entity Identifier [LEI] of law firm"]
["Identification number [CVR] of law firm"]
["Identification number [PNR] of law firm"]
["Name of law firm"]
["Address of law firm, street name"]
["Address of law firm, street building identifier"]
["Address of law firm, post code identifier"]
["Address of law firm, district name"]
["Address of law firm, country"]
["Address of law firm, country identification code"]

{"sheet":"DKGAAP service workflow","index":7,"n_rows":14,"n_cols":4,"rows_kept":14,"cut":false,"hidden":false,"merged":[]}
["1","Evaluate and fill out all General Data"]
["2","Prepare order of financial statements and number of columns, period order, currency and scaling for financial statements"]
["3","Fill out financial statements"]
["4","If input format is non-scanned PDF (or Word that can be saved as PDF), check if conversion can be performed and that all financial statements light up are correctly aligned"]
["4.1",null,"If yes, perform hypertagging of all remaining information and PREFERABLY copy all hypertags used into Excel sheet for easy recovering going forward"]
["4.1.1",null,null,"Finalize conversion and send xHTML, XBRL and factlist files to customer with information that xHTML should be used for filing but XBRL and PDF can be used as an \"old-fashioned\" alternative"]
["4.2",null,"If no, copy/paste all remaining information into Excel template"]
["4.2.1",null,null,"Finalize conversion and send XBRL and factlist files to customer with information that XBRL and PDF should be used for filing"]
[]
[]
["IMPORTANT"]
[null,"On multi-language reports, use hypertags from \"valuelanguage=en\" column for tagging sections in secondary language and possibly change \"en\" to different language code if secondary language is not English."]
[]
[null,"On consolidated reports, use hypertags from \"period=1_parent\" column for tagging sections that only relate to the parent company."]

{"sheet":"DKGAAP base","index":8,"n_rows":1118,"n_cols":43,"rows_kept":1118,"cut":false,"hidden":false,"merged":[]}
["Local label","Label 1","Label 2","Label 3","Label 4","Label 5","Label 6","Label 7","Label 8","Label 9","Label 10",null,"valuelanguage=en","period=1_parent",null,"Hypertag suffix","Concept",{"$f":"IFERROR(MATCH(INDIRECT(\"'General Data DKGAAP'!PP_Language\"),PP_Languages,0),1)","v":1},"EN","BG-","CS-","DA","DE-","EL-","ES-","ET-","FI-","FR-","HR-","HU-","IS-","IT-","LT-","LV-","MT-","NL-","NO-","PL-","PT-","RO-","SK-","SL-","SV-"]
[]
[{"$f":"\"\"&INDEX(PP_Locale,ROW(),PP_LanguageIndex)","v":"Essential elements"},null,null,null,null,null,null,null,null,null,null,null,null,null,null,null,null,null,"Essential elements",null,null,"Essentielle elementer"]
[{"$f":"\"\"&INDEX(PP_Locale,ROW(),PP_LanguageIndex)","v":"Identification number [CVR] of submitting enterprise"},"Notes/Identification number [CVR] of submitting enterprise[taxonomy=DKGAAP]",null,null,null,null,null,null,null,null,null,{"$f":"IF(COUNTBLANK(L$1),$O4,SUBSTITUTE($O4,\"DKGAAP]\",\"DKGAAP,\"&L$1&\"]\"))","v":"pp://Notes/Identification number [CVR] of submitting enterprise[taxonomy=DKGAAP]"},"pp://Notes/Identification number [CVR] of submitting enterprise[taxonomy=DKGAAP,valuelanguage=en]","pp://Notes/Identification number [CVR] of submitting enterprise[taxonomy=DKGAAP,period=1_parent]",{"$f":"IF(COUNTA($B4),\"pp://\"&$B4&IF(COUNTA($C4),\"+\"&$C4,\"\")&IF(COUNTA($D4),\"+\"&$D4,\"\")&IF(COUNTA($E4),\"+\"&$E4,\"\")&IF(COUNTA($F4),\"+\"&$F4,\"\")&IF(COUNTA($G4),\"+\"&$G4,\"\")&IF(COUNTA($H4),\"+\"&$H4,\"\")&IF(COUNTA($I4),\"+\"&$I4,\"\")&IF(COUNTA($J4),\"+\"&$J4,\"\")&IF(COUNTA($K4),\"+\"&$K4,\"\")&$P4,\"\")","v":"pp://Notes/Identification number [CVR] of submitting enterprise[taxonomy=DKGAAP]"},null,null,null,"Identification number [CVR] of submitting enterprise",null,null,"Indsendende virksomheds CVR-nr."]
[{"$f":"\"\"&INDEX(PP_Locale,ROW(),PP_LanguageIndex)","v":"Name of submitting enterprise"},"Notes/Name of submitting enterprise[taxonomy=DKGAAP]",null,null,null,null,null,null,null,null,null,"pp://Notes/Name of submitting enterprise[taxonomy=DKGAAP]","pp://Notes/Name of submitting enterprise[taxonomy=DKGAAP,valuelanguage=en]","pp://Notes/Name of submitting enterprise[taxonomy=DKGAAP,period=1_parent]",{"$f":"IF(COUNTA($B5),\"pp://\"&$B5&IF(COUNTA($C5),\"+\"&$C5,\"\")&IF(COUNTA($D5),\"+\"&$D5,\"\")&IF(COUNTA($E5),\"+\"&$E5,\"\")&IF(COUNTA($F5),\"+\"&$F5,\"\")&IF(COUNTA($G5),\"+\"&$G5,\"\")&IF(COUNTA($H5),\"+\"&$H5,\"\")&IF(COUNTA($I5),\"+\"&$I5,\"\")&IF(COUNTA($J5),\"+\"&$J5,\"\")&IF(COUNTA($K5),\"+\"&$K5,\"\")&$P5,\"\")","v":"pp://Notes/Name of submitting enterprise[taxonomy=DKGAAP]"},null,null,null,"Name of submitting enterprise",null,null,"Indsendende virksomheds navn"]
[{"$f":"\"\"&INDEX(PP_Locale,ROW(),PP_LanguageIndex)","v":"Address of submitting enterprise, street and number"},"Notes/Address of submitting enterprise, street and number[taxonomy=DKGAAP]",null,null,null,null,null,null,null,null,null,"pp://Notes/Address of submitting enterprise, street and number[taxonomy=DKGAAP]","pp://Notes/Address of submitting enterprise, street and number[taxonomy=DKGAAP,valuelanguage=en]","pp://Notes/Address of submitting enterprise, street and number[taxonomy=DKGAAP,period=1_parent]",{"$f":"IF(COUNTA($B6),\"pp://\"&$B6&IF(COUNTA($C6),\"+\"&$C6,\"\")&IF(COUNTA($D6),\"+\"&$D6,\"\")&IF(COUNTA($E6),\"+\"&$E6,\"\")&IF(COUNTA($F6),\"+\"&$F6,\"\")&IF(COUNTA($G6),\"+\"&$G6,\"\")&IF(COUNTA($H6),\"+\"&$H6,\"\")&IF(COUNTA($I6),\"+\"&$I6,\"\")&IF(COUNTA($J6),\"+\"&$J6,\"\")&IF(COUNTA($K6),\"+\"&$K6,\"\")&$P6,\"\")","v":"pp://Notes/Address of submitting enterprise, street and number[taxonomy=DKGAAP]"},null,null,null,"Address of submitting enterprise, street and number",null,null,"Indsendende virksomheds adresse, vej og nummer"]
[{"$f":"\"\"&INDEX(PP_Locale,ROW(),PP_LanguageIndex)","v":"Address of submitting enterprise, postcode and town"},"Notes/Address of submitting enterprise, postcode and town[taxonomy=DKGAAP]",null,null,null,null,null,null,null,null,null,"pp://Notes/Address of submitting enterprise, postcode and town[taxonomy=DKGAAP]","pp://Notes/Address of submitting enterprise, postcode and town[taxonomy=DKGAAP,valuelanguage=en]","pp://Notes/Address of submitting enterprise, postcode and town[taxonomy=DKGAAP,period=1_parent]",{"$f":"IF(COUNTA($B7),\"pp://\"&$B7&IF(COUNTA($C7),\"+\"&$C7,\"\")&IF(COUNTA($D7),\"+\"&$D7,\"\")&IF(COUNTA($E7),\"+\"&$E7,\"\")&IF(COUNTA($F7),\"+\"&$F7,\"\")&IF(COUNTA($G7),\"+\"&$G7,\"\")&IF(COUNTA($H7),\"+\"&$H7,\"\")&IF(COUNTA($I7),\"+\"&$I7,\"\")&IF(COUNTA($J7),\"+\"&$J7,\"\")&IF(COUNTA($K7),\"+\"&$K7,\"\")&$P7,\"\")","v":"pp://Notes/Address of submitting enterprise, postcode and town[taxonomy=DKGAAP]"},null,null,null,"Address of submitting enterprise, postcode and town",null,null,"Indsendende virksomheds adresse, postnummer og by"]
[{"$f":"\"\"&INDEX(PP_Locale,ROW(),PP_LanguageIndex)","v":"Report type"},"Notes/Report type[taxonomy=DKGAAP]",null,null,null,null,null,null,null,null,null,{"$f":"IF(COUNTBLANK(L$1),$O8,SUBSTITUTE($O8,\"DKGAAP]\",\"DKGAAP,\"&L$1&\"]\"))","v":"pp://Notes/Report type[taxonomy=DKGAAP]"},{"$f":"IF(COUNTBLANK(M$1),$O8,SUBSTITUTE($O8,\"DKGAAP]\",\"DKGAAP,\"&M$1&\"]\"))","v":"pp://Notes/Report type[taxonomy=DKGAAP,valuelanguage=en]"},"pp://Notes/Report type[taxonomy=DKGAAP,period=1_parent]",{"$f":"IF(COUNTA($B8),\"pp://\"&$B8&IF(COUNTA($C8),\"+\"&$C8,\"\")&IF(COUNTA($D8),\"+\"&$D8,\"\")&IF(COUNTA($E8),\"+\"&$E8,\"\")&IF(COUNTA($F8),\"+\"&$F8,\"\")&IF(COUNTA($G8),\"+\"&$G8,\"\")&IF(COUNTA($H8),\"+\"&$H8,\"\")&IF(COUNTA($I8),\"+\"&$I8,\"\")&IF(COUNTA($J8),\"+\"&$J8,\"\")&IF(COUNTA($K8),\"+\"&$K8,\"\")&$P8,\"\")","v":"pp://Notes/Report type[taxonomy=DKGAAP]"},null,null,null,"Report type",null,null,"Rapporttype"]
[{"$f":"\"\"&INDEX(PP_Locale,ROW(),PP_LanguageIndex)","v":""}]
[{"$f":"\"\"&INDEX(PP_Locale,ROW(),PP_LanguageIndex)","v":"The reporting entity applies the exception concerning opting out of the statement by management etc."},"Notes/The reporting entity applies the exception concerning opting out of the statement by management etc.[taxonomy=DKGAAP]",null,null,null,null,null,null,null,null,null,{"$f":"IF(COUNTBLANK(L$1),$O10,SUBSTITUTE($O10,\"DKGAAP]\",\"DKGAAP,\"&L$1&\"]\"))","v":"pp://Notes/The reporting entity applies the exception concerning opting out of the statement by management etc.[taxonomy=DKGAAP]"},"pp://Notes/The reporting entity applies the exception concerning opting out of the statement by management etc.[taxonomy=DKGAAP,valuelanguage=en]","pp://Notes/The reporting entity applies the exception concerning opting out of the statement by management etc.[taxonomy=DKGAAP,period=1_parent]",{"$f":"IF(COUNTA($B10),\"pp://\"&$B10&IF(COUNTA($C10),\"+\"&$C10,\"\")&IF(COUNTA($D10),\"+\"&$D10,\"\")&IF(COUNTA($E10),\"+\"&$E10,\"\")&IF(COUNTA($F10),\"+\"&$F10,\"\")&IF(COUNTA($G10),\"+\"&$G10,\"\")&IF(COUNTA($H10),\"+\"&$H10,\"\")&IF(COUNTA($I10),\"+\"&$I10,\"\")&IF(COUNTA($J10),\"+\"&$J10,\"\")&IF(COUNTA($K10),\"+\"&$K10,\"\")&$P10,\"\")","v":"pp://Notes/The reporting entity applies the exception concerning opting out of the statement by management etc.[taxonomy=DKGAAP]"},null,null,null,"The reporting entity applies the exception concerning opting out of the statement by management etc.",null,null,"Virksomheden anvender undtagelsen om at fravælge ledelsespåtegningen"]
[{"$f":"\"\"&INDEX(PP_Locale,ROW(),PP_LanguageIndex)","v":"Confirmation that financial statements qualify for not been audited"},"Notes/Confirmation that financial statements qualify for not been audited[taxonomy=DKGAAP]",null,null,null,null,null,null,null,null,null,"pp://Notes/Confirmation that financial statements qualify for not been audited[taxonomy=DKGAAP]","pp://Notes/Confirmation that financial statements qualify for not been audited[taxonomy=DKGAAP,valuelanguage=en]","pp://Notes/Confirmation that financial statements qualify for not been audited[taxonomy=DKGAAP,period=1_parent]",{"$f":"IF(COUNTA($B11),\"pp://\"&$B11&IF(COUNTA($C11),\"+\"&$C11,\"\")&IF(COUNTA($D11),\"+\"&$D11,\"\")&IF(COUNTA($E11),\"+\"&$E11,\"\")&IF(COUNTA($F11),\"+\"&$F11,\"\")&IF(COUNTA($G11),\"+\"&$G11,\"\")&IF(COUNTA($H11),\"+\"&$H11,\"\")&IF(COUNTA($I11),\"+\"&$I11,\"\")&IF(COUNTA($J11),\"+\"&$J11,\"\")&IF(COUNTA($K11),\"+\"&$K11,\"\")&$P11,\"\")","v":"pp://Notes/Confirmation that financial statements qualify for not been audited[taxonomy=DKGAAP]"},null,null,null,"Confirmation that financial statements qualify for not been audited",null,null,"Bekræftelse på at betingelserne for fravalg af revision er opfyldt"]
[{"$f":"\"\"&INDEX(PP_Locale,ROW(),PP_LanguageIndex)","v":"Statement on opting out of auditing financial statements in next reporting period due to exemption"},"Notes/Statement on opting out of auditing financial statements in next reporting period due to exemption[taxonomy=DKGAAP]",null,null,null,null,null,null,null,null,null,"pp://Notes/Statement on opting out of auditing financial statements in next reporting period due to exemption[taxonomy=DKGAAP]","pp://Notes/Statement on opting out of auditing financial statements in next reporting period due to exemption[taxonomy=DKGAAP,valuelanguage=en]","pp://Notes/Statement on opting out of auditing financial statements in next reporting period due to exemption[taxonomy=DKGAAP,period=1_parent]",{"$f":"IF(COUNTA($B12),\"pp://\"&$B12&IF(COUNTA($C12),\"+\"&$C12,\"\")&IF(COUNTA($D12),\"+\"&$D12,\"\")&IF(COUNTA($E12),\"+\"&$E12,\"\")&IF(COUNTA($F12),\"+\"&$F12,\"\")&IF(COUNTA($G12),\"+\"&$G12,\"\")&IF(COUNTA($H12),\"+\"&$H12,\"\")&IF(COUNTA($I12),\"+\"&$I12,\"\")&IF(COUNTA($J12),\"+\"&$J12,\"\")&IF(COUNTA($K12),\"+\"&$K12,\"\")&$P12,\"\")","v":"pp://Notes/Statement on opting out of auditing financial statements in next reporting period due to exemption[taxonomy=DKGAAP]"},null,null,null,"Statement on opting out of auditing financial statements in next reporting period due to exemption",null,null,"Fravalg af revision for det kommende regnskabsår"]
[{"$f":"\"\"&INDEX(PP_Locale,ROW(),PP_LanguageIndex)","v":""}]
[{"$f":"\"\"&INDEX(PP_Locale,ROW(),PP_LanguageIndex)","v":"Type of auditor assistance"},"Notes/Type of auditor assistance[taxonomy=DKGAAP]",null,null,null,null,null,null,null,null,null,{"$f":"IF(COUNTBLANK(L$1),$O14,SUBSTITUTE($O14,\"DKGAAP]\",\"DKGAAP,\"&L$1&\"]\"))","v":"pp://Notes/Type of auditor assistance[taxonomy=DKGAAP]"},"pp://Notes/Type of auditor assistance[taxonomy=DKGAAP,valuelanguage=en]","pp://Notes/Type of auditor assistance[taxonomy=DKGAAP,period=1_parent]",{"$f":"IF(COUNTA($B14),\"pp://\"&$B14&IF(COUNTA($C14),\"+\"&$C14,\"\")&IF(COUNTA($D14),\"+\"&$D14,\"\")&IF(COUNTA($E14),\"+\"&$E14,\"\")&IF(COUNTA($F14),\"+\"&$F14,\"\")&IF(COUNTA($G14),\"+\"&$G14,\"\")&IF(COUNTA($H14),\"+\"&$H14,\"\")&IF(COUNTA($I14),\"+\"&$I14,\"\")&IF(COUNTA($J14),\"+\"&$J14,\"\")&IF(COUNTA($K14),\"+\"&$K14,\"\")&$P14,\"\")","v":"pp://Notes/Type of auditor assistance[taxonomy=DKGAAP]"},null,null,null,"Type of auditor assistance",null,null,"Type af revisorbistand"]
[{"$f":"\"\"&INDEX(PP_Locale,ROW(),PP_LanguageIndex)","v":""}]
[{"$f":"\"\"&INDEX(PP_Locale,ROW(),PP_LanguageIndex)","v":"Type of opinion on audited financial statements (Audit)"},"Notes/Type of opinion on audited financial statements (Audit)[taxonomy=DKGAAP]",null,null,null,null,null,null,null,null,null,{"$f":"IF(COUNTBLANK(L$1),$O16,SUBSTITUTE($O16,\"DKGAAP]\",\"DKGAAP,\"&L$1&\"]\"))","v":"pp://Notes/Type of opinion on audited financial statements (Audit)[taxonomy=DKGAAP]"},"pp://Notes/Type of opinion on audited financial statements (Audit)[taxonomy=DKGAAP,valuelanguage=en]","pp://Notes/Type of opinion on audited financial statements (Audit)[taxonomy=DKGAAP,period=1_parent]",{"$f":"IF(COUNTA($B16),\"pp://\"&$B16&IF(COUNTA($C16),\"+\"&$C16,\"\")&IF(COUNTA($D16),\"+\"&$D16,\"\")&IF(COUNTA($E16),\"+\"&$E16,\"\")&IF(COUNTA($F16),\"+\"&$F16,\"\")&IF(COUNTA($G16),\"+\"&$G16,\"\")&IF(COUNTA($H16),\"+\"&$H16,\"\")&IF(COUNTA($I16),\"+\"&$I16,\"\")&IF(COUNTA($J16),\"+\"&$J16,\"\")&IF(COUNTA($K16),\"+\"&$K16,\"\")&$P16,\"\")","v":"pp://Notes/Type of opinion on audited financial statements (Audit)[taxonomy=DKGAAP]"},null,null,null,"Type of opinion on audited financial statements (Audit)",null,null,"Type af konklusion (revision)"]
[{"$f":"\"\"&INDEX(PP_Locale,ROW(),PP_LanguageIndex)","v":"Type of basis for opinion on audited financial statements (audit)"},"Notes/Type of basis for opinion on audited financial statements (audit)[taxonomy=DKGAAP]",null,null,null,null,null,null,null,null,null,"pp://Notes/Type of basis for opinion on audited financial statements (audit)[taxonomy=DKGAAP]","pp://Notes/Type of basis for opinion on audited financial statements (audit)[taxonomy=DKGAAP,valuelanguage=en]","pp://Notes/Type of basis for opinion on audited financial statements (audit)[taxonomy=DKGAAP,period=1_parent]","pp://Notes/Type of basis for opinion on audited financial statements (audit)[taxonomy=DKGAAP]",null,null,null,"Type of basis for opinion on audited financial statements (audit)",null,null,"Type af grundlag for konklusion (revision)"]
[{"$f":"\"\"&INDEX(PP_Locale,ROW(),PP_LanguageIndex)","v":"Reporting responsibilities according to the Danish executive order on approved auditors' reports especially the criminal code and Fiscal-, tax- and subsidy legislation (Audit)"},"Notes/Reporting responsibilities according to the Danish executive order on approved auditors' reports especially the criminal code and Fiscal-, tax- and subsidy legislation (Audit)[taxonomy=DKGAAP]",null,null,null,null,null,null,null,null,null,"pp://Notes/Reporting responsibilities according to the Danish executive order on approved auditors' reports especially the criminal code and Fiscal-, tax- and subsidy legislation (Audit)[taxonomy=DKGAAP]","pp://Notes/Reporting responsibilities according to the Danish executive order on approved auditors' reports especially the criminal code and Fiscal-, tax- and subsidy legislation (Audit)[taxonomy=DKGAAP,valuelanguage=en]","pp://Notes/Reporting responsibilities according to the Danish executive order on approved auditors' reports especially the criminal code and Fiscal-, tax- and subsidy legislation (Audit)[taxonomy=DKGAAP,period=1_parent]","pp://Notes/Reporting responsibilities according to the Danish executive order on approved auditors' reports especially the criminal code and Fiscal-, tax- and subsidy legislation (Audit)[taxonomy=DKGAAP]",null,null,null,"Reporting responsibilities according to the Danish executive order on approved auditors' reports especially the criminal code and Fiscal-, tax- and subsidy legislation (Audit)",null,null,"Erklæringsforpligtelser i henhold til erklæringsbekendtgørelsen, herunder særligt straffeloven samt skatte-, afgifts- og tilskudslovgivningen (revision)"]
[{"$f":"\"\"&INDEX(PP_Locale,ROW(),PP_LanguageIndex)","v":"Reporting responsibilities according to the Danish executive order on approved auditors' reports especially the companies act or equivalent legislation, that the company is subject to (Audit)"},"Notes/Reporting responsibilities according to the Danish executive order on approved auditors' reports especially the companies act or equivalent legislation, that the company is subject to (Audit)[taxonomy=DKGAAP]",null,null,null,null,null,null,null,null,null,"pp://Notes/Reporting responsibilities according to the Danish executive order on approved auditors' reports especially the companies act or equivalent legislation, that the company is subject to (Audit)[taxonomy=DKGAAP]","pp://Notes/Reporting responsibilities according to the Danish executive order on approved auditors' reports especially the companies act or equivalent legislation, that the company is subject to (Audit)[taxonomy=DKGAAP,valuelanguage=en]","pp://Notes/Reporting responsibilities according to the Danish executive order on approved auditors' reports especially the companies act or equivalent legislation, that the company is subject to (Audit)[taxonomy=DKGAAP,period=1_parent]","pp://Notes/Reporting responsibilities according to the Danish executive order on approved auditors' reports especially the companies act or equivalent legislation, that the company is subject to (Audit)[taxonomy=DKGAAP]",null,null,null,"Reporting responsibilities according to the Danish executive order on approved auditors' reports especially the companies act or equivalent legislation, that the company is subject to (Audit)",null,null,"Erklæringsforpligtelser i henhold til erklæringsbekendtgørelsen, herunder særligt den for virksomheden fastsatte selskabsretlige eller tilsvarende lovgivning (revision)"]
[{"$f":"\"\"&INDEX(PP_Locale,ROW(),PP_LanguageIndex)","v":"Reporting responsibilities according to the Danish executive order on approved auditors' reports especially legislation on financial reporting, including accounting and storage of accounting records (Audit)"},"Notes/Reporting responsibilities according to the Danish executive order on approved auditors' reports especially legislation on financial reporting, including accounting and storage of accounting records (Audit)[taxonomy=DKGAAP]",null,null,null,null,null,null,null,null,null,"pp://Notes/Reporting responsibilities according to the Danish executive order on approved auditors' reports especially legislation on financial reporting, including accounting and storage of accounting records (Audit)[taxonomy=DKGAAP]","pp://Notes/Reporting responsibilities according to the Danish executive order on approved auditors' reports especially legislation on financial reporting, including accounting and storage of accounting records (Audit)[taxonomy=DKGAAP,valuelanguage=en]","pp://Notes/Reporting responsibilities according to the Danish executive order on approved auditors' reports especially legislation on financial reporting, including accounting and storage of accounting records (Audit)[taxonomy=DKGAAP,period=1_parent]","pp://Notes/Reporting responsibilities according to the Danish executive order on approved auditors' reports especially legislation on financial reporting, including accounting and storage of accounting records (Audit)[taxonomy=DKGAAP]",null,null,null,"Reporting responsibilities according to the Danish executive order on approved auditors' reports especially legislation on financial reporting, including accounting and storage of accounting records (Audit)",null,null,"Erklæringsforpligtelser i henhold til erklæringsbekendtgørelsen, herunder særligt lovgivningen om regnskabsaflæggelse, herunder om bogføring og bevaring af regnskabsmateriale (revision)"]
[{"$f":"\"\"&INDEX(PP_Locale,ROW(),PP_LanguageIndex)","v":"Reporting responsibilities according to the Danish executive order on approved auditors' reports especially other matters (Audit)"},"Notes/Reporting responsibilities according to the Danish executive order on approved auditors' reports especially other matters (Audit)[taxonomy=DKGAAP]",null,null,null,null,null,null,null,null,null,"pp://Notes/Reporting responsibilities according to the Danish executive order on approved auditors' reports especially other matters (Audit)[taxonomy=DKGAAP]","pp://Notes/Reporting responsibilities according to the Danish executive order on approved auditors' reports especially other matters (Audit)[taxonomy=DKGAAP,valuelanguage=en]","pp://Notes/Reporting responsibilities according to the Danish executive order on approved auditors' reports especially other matters (Audit)[taxonomy=DKGAAP,period=1_parent]","pp://Notes/Reporting responsibilities according to the Danish executive order on approved auditors' reports especially other matters (Audit)[taxonomy=DKGAAP]",null,null,null,"Reporting responsibilities according to the Danish executive order on approved auditors' reports especially other matters (Audit)",null,null,"Erklæringsforpligtelser i henhold til erklæringsbekendtgørelsen, herunder særligt andre forhold (revision)"]
[{"$f":"\"\"&INDEX(PP_Locale,ROW(),PP_LanguageIndex)","v":""}]
[{"$f":"\"\"&INDEX(PP_Locale,ROW(),PP_LanguageIndex)","v":"Type of opinion on financial statements (Extended Review)"},"Notes/Type of opinion on financial statements (Extended Review)[taxonomy=DKGAAP]",null,null,null,null,null,null,null,null,null,{"$f":"IF(COUNTBLANK(L$1),$O23,SUBSTITUTE($O23,\"DKGAAP]\",\"DKGAAP,\"&L$1&\"]\"))","v":"pp://Notes/Type of opinion on financial statements (Extended Review)[taxonomy=DKGAAP]"},"pp://Notes/Type of opinion on financial statements (Extended Review)[taxonomy=DKGAAP,valuelanguage=en]","pp://Notes/Type of opinion on financial statements (Extended Review)[taxonomy=DKGAAP,period=1_parent]",{"$f":"IF(COUNTA($B23),\"pp://\"&$B23&IF(COUNTA($C23),\"+\"&$C23,\"\")&IF(COUNTA($D23),\"+\"&$D23,\"\")&IF(COUNTA($E23),\"+\"&$E23,\"\")&IF(COUNTA($F23),\"+\"&$F23,\"\")&IF(COUNTA($G23),\"+\"&$G23,\"\")&IF(COUNTA($H23),\"+\"&$H23,\"\")&IF(COUNTA($I23),\"+\"&$I23,\"\")&IF(COUNTA($J23),\"+\"&$J23,\"\")&IF(COUNTA($K23),\"+\"&$K23,\"\")&$P23,\"\")","v":"pp://Notes/Type of opinion on financial statements (Extended Review)[taxonomy=DKGAAP]"},null,null,null,"Type of opinion on financial statements (Extended Review)",null,null,"Type af konklusion (udvidet gennemgang)"]
[{"$f":"\"\"&INDEX(PP_Locale,ROW(),PP_LanguageIndex)","v":"Type of basis for opinion on financial statements (Extended review)"},"Notes/Type of basis for opinion on financial statements (Extended review)[taxonomy=DKGAAP]",null,null,null,null,null,null,null,null,null,"pp://Notes/Type of basis for opinion on financial statements (Extended review)[taxonomy=DKGAAP]","pp://Notes/Type of basis for opinion on financial statements (Extended review)[taxonomy=DKGAAP,valuelanguage=en]","pp://Notes/Type of basis for opinion on financial statements (Extended review)[taxonomy=DKGAAP,period=1_parent]","pp://Notes/Type of basis for opinion on financial statements (Extended review)[taxonomy=DKGAAP]",null,null,null,"Type of basis for opinion on financial statements (Extended review)",null,null,"Type af grundlag for konklusion (udvidet gennemgang)"]
[{"$f":"\"\"&INDEX(PP_Locale,ROW(),PP_LanguageIndex)","v":"Reporting responsibilities according to the Danish executive order on approved auditors' reports especially the criminal code and Fiscal-, tax- and subsidy legislation (Extended review)"},"Notes/Reporting responsibilities according to the Danish executive order on approved auditors' reports especially the criminal code and Fiscal-, tax- and subsidy legislation (Extended review)[taxonomy=DKGAAP]",null,null,null,null,null,null,null,null,null,"pp://Notes/Reporting responsibilities according to the Danish executive order on approved auditors' reports especially the criminal code and Fiscal-, tax- and subsidy legislation (Extended review)[taxonomy=DKGAAP]","pp://Notes/Reporting responsibilities according to the Danish executive order on approved auditors' reports especially the criminal code and Fiscal-, tax- and subsidy legislation (Extended review)[taxonomy=DKGAAP,valuelanguage=en]","pp://Notes/Reporting responsibilities according to the Danish executive order on approved auditors' reports especially the criminal code and Fiscal-, tax- and subsidy legislation (Extended review)[taxonomy=DKGAAP,period=1_parent]","pp://Notes/Reporting responsibilities according to the Danish executive order on approved auditors' reports especially the criminal code and Fiscal-, tax- and subsidy legislation (Extended review)[taxonomy=DKGAAP]",null,null,null,"Reporting responsibilities according to the Danish executive order on approved auditors' reports especially the criminal code and Fiscal-, tax- and subsidy legislation (Extended review)",null,null,"Erklæringsforpligtelser i henhold til erklæringsbekendtgørelsen, herunder særligt straffeloven samt skatte-, afgifts- og tilskudslovgivningen (udvidet gennemgang)"]
[{"$f":"\"\"&INDEX(PP_Locale,ROW(),PP_LanguageIndex)","v":"Reporting responsibilities according to the Danish executive order on approved auditors' reports especially the companies act or equivalent legislation, that the company is subject to (Extended review)"},"Notes/Reporting responsibilities according to the Danish executive order on approved auditors' reports especially the companies act or equivalent legislation, that the company is subject to (Extended review)[taxonomy=DKGAAP]",null,null,null,null,null,null,null,null,null,"pp://Notes/Reporting responsibilities according to the Danish executive order on approved auditors' reports especially the companies act or equivalent legislation, that the company is subject to (Extended review)[taxonomy=DKGAAP]","pp://Notes/Reporting responsibilities according to the Danish executive order on approved auditors' reports especially the companies act or equivalent legislation, that the company is subject to (Extended review)[taxonomy=DKGAAP,valuelanguage=en]","pp://Notes/Reporting responsibilities according to the Danish executive order on approved auditors' reports especially the companies act or equivalent legislation, that the company is subject to (Extended review)[taxonomy=DKGAAP,period=1_parent]","pp://Notes/Reporting responsibilities according to the Danish executive order on approved auditors' reports especially the companies act or equivalent legislation, that the company is subject to (Extended review)[taxonomy=DKGAAP]",null,null,null,"Reporting responsibilities according to the Danish executive order on approved auditors' reports especially the companies act or equivalent legislation, that the company is subject to (Extended review)",null,null,"Erklæringsforpligtelser i henhold til erklæringsbekendtgørelsen, herunder særligt den for virksomheden fastsatte selskabsretlige eller tilsvarende lovgivning (udvidet gennemgang)"]
[{"$f":"\"\"&INDEX(PP_Locale,ROW(),PP_LanguageIndex)","v":"Reporting responsibilities according to the Danish executive order on approved auditors' reports especially legislation on financial reporting, including accounting and storage of accounting records (Extended review)"},"Notes/Reporting responsibilities according to the Danish executive order on approved auditors' reports especially legislation on financial reporting, including accounting and storage of accounting records (Extended review)[taxonomy=DKGAAP]",null,null,null,null,null,null,null,null,null,"pp://Notes/Reporting responsibilities according to the Danish executive order on approved auditors' reports especially legislation on financial reporting, including accounting and storage of accounting records (Extended review)[taxonomy=DKGAAP]","pp://Notes/Reporting responsibilities according to the Danish executive order on approved auditors' reports especially legislation on financial reporting, including accounting and storage of accounting records (Extended review)[taxonomy=DKGAAP,valuelanguage=en]","pp://Notes/Reporting responsibilities according to the Danish executive order on approved auditors' reports especially legislation on financial reporting, including accounting and storage of accounting records (Extended review)[taxonomy=DKGAAP,period=1_parent]","pp://Notes/Reporting responsibilities according to the Danish executive order on approved auditors' reports especially legislation on financial reporting, including accounting and storage of accounting records (Extended review)[taxonomy=DKGAAP]",null,null,null,"Reporting responsibilities according to the Danish executive order on approved auditors' reports especially legislation on financial reporting, including accounting and storage of accounting records (Extended review)",null,null,"Erklæringsforpligtelser i henhold til erklæringsbekendtgørelsen, herunder særligt lovgivningen om regnskabsaflæggelse, herunder om bogføring og bevaring af regnskabsmateriale (udvidet gennemgang)"]
[{"$f":"\"\"&INDEX(PP_Locale,ROW(),PP_LanguageIndex)","v":"Reporting responsibilities according to the Danish executive order on approved auditors' reports especially other matters (Extended review)"},"Notes/Reporting responsibilities according to the Danish executive order on approved auditors' reports especially other matters (Extended review)[taxonomy=DKGAAP]",null,null,null,null,null,null,null,null,null,"pp://Notes/Reporting responsibilities according to the Danish executive order on approved auditors' reports especially other matters (Extended review)[taxonomy=DKGAAP]","pp://Notes/Reporting responsibilities according to the Danish executive order on approved auditors' reports especially other matters (Extended review)[taxonomy=DKGAAP,valuelanguage=en]","pp://Notes/Reporting responsibilities according to the Danish executive order on approved auditors' reports especially other matters (Extended review)[taxonomy=DKGAAP,period=1_parent]","pp://Notes/Reporting responsibilities according to the Danish executive order on approved auditors' reports especially other matters (Extended review)[taxonomy=DKGAAP]",null,null,null,"Reporting responsibilities according to the Danish executive order on approved auditors' reports especially other matters (Extended review)",null,null,"Erklæringsforpligtelser i henhold til erklæringsbekendtgørelsen, herunder særligt andre forhold (udvidet gennemgang)"]
[{"$f":"\"\"&INDEX(PP_Locale,ROW(),PP_LanguageIndex)","v":""}]
[{"$f":"\"\"&INDEX(PP_Locale,ROW(),PP_LanguageIndex)","v":"Type of conclusion on financial statements (review)"},"Notes/Type of conclusion on financial statements (review)[taxonomy=DKGAAP]",null,null,null,null,null,null,null,null,null,{"$f":"IF(COUNTBLANK(L$1),$O30,SUBSTITUTE($O30,\"DKGAAP]\",\"DKGAAP,\"&L$1&\"]\"))","v":"pp://Notes/Type of conclusion on financial statements (review)[taxonomy=DKGAAP]"},"pp://Notes/Type of conclusion on financial statements (review)[taxonomy=DKGAAP,valuelanguage=en]","pp://Notes/Type of conclusion on financial statements (review)[taxonomy=DKGAAP,period=1_parent]",{"$f":"IF(COUNTA($B30),\"pp://\"&$B30&IF(COUNTA($C30),\"+\"&$C30,\"\")&IF(COUNTA($D30),\"+\"&$D30,\"\")&IF(COUNTA($E30),\"+\"&$E30,\"\")&IF(COUNTA($F30),\"+\"&$F30,\"\")&IF(COUNTA($G30),\"+\"&$G30,\"\")&IF(COUNTA($H30),\"+\"&$H30,\"\")&IF(COUNTA($I30),\"+\"&$I30,\"\")&IF(COUNTA($J30),\"+\"&$J30,\"\")&IF(COUNTA($K30),\"+\"&$K30,\"\")&$P30,\"\")","v":"pp://Notes/Type of conclusion on financial statements (review)[taxonomy=DKGAAP]"},null,null,null,"Type of conclusion on financial statements (review)",null,null,"Type af konklusion (review)"]
[{"$f":"\"\"&INDEX(PP_Locale,ROW(),PP_LanguageIndex)","v":"Type of basis for conclusion on financial statements (review)"},"Notes/Type of basis for conclusion on financial statements (review)[taxonomy=DKGAAP]",null,null,null,null,null,null,null,null,null,"pp://Notes/Type of basis for conclusion on financial statements (review)[taxonomy=DKGAAP]","pp://Notes/Type of basis for conclusion on financial statements (review)[taxonomy=DKGAAP,valuelanguage=en]","pp://Notes/Type of basis for conclusion on financial statements (review)[taxonomy=DKGAAP,period=1_parent]",{"$f":"IF(COUNTA($B31),\"pp://\"&$B31&IF(COUNTA($C31),\"+\"&$C31,\"\")&IF(COUNTA($D31),\"+\"&$D31,\"\")&IF(COUNTA($E31),\"+\"&$E31,\"\")&IF(COUNTA($F31),\"+\"&$F31,\"\")&IF(COUNTA($G31),\"+\"&$G31,\"\")&IF(COUNTA($H31),\"+\"&$H31,\"\")&IF(COUNTA($I31),\"+\"&$I31,\"\")&IF(COUNTA($J31),\"+\"&$J31,\"\")&IF(COUNTA($K31),\"+\"&$K31,\"\")&$P31,\"\")","v":"pp://Notes/Type of basis for conclusion on financial statements (review)[taxonomy=DKGAAP]"},null,null,null,"Type of basis for conclusion on financial statements (review)",null,null,"Type af grundlag for konklusion (review)"]
[{"$f":"\"\"&INDEX(PP_Locale,ROW(),PP_LanguageIndex)","v":""}]
[{"$f":"\"\"&INDEX(PP_Locale,ROW(),PP_LanguageIndex)","v":"Class of reporting entity"},"Notes/Class of reporting entity[taxonomy=DKGAAP]",null,null,null,null,null,null,null,null,null,"pp://Notes/Class of reporting entity[taxonomy=DKGAAP]","pp://Notes/Class of reporting entity[taxonomy=DKGAAP,valuelanguage=en]","pp://Notes/Class of reporting entity[taxonomy=DKGAAP,period=1_parent]","pp://Notes/Class of reporting entity[taxonomy=DKGAAP]",null,null,null,"Class of reporting entity",null,null,"Regnskabsaflæggende virksomheds regnskabsklasse"]
[{"$f":"\"\"&INDEX(PP_Locale,ROW(),PP_LanguageIndex)","v":"Selected elements from reporting class C"},"Notes/Selected elements from reporting class C[taxonomy=DKGAAP]",null,null,null,null,null,null,null,null,null,"pp://Notes/Selected elements from reporting class C[taxonomy=DKGAAP]","pp://Notes/Selected elements from reporting class C[taxonomy=DKGAAP,valuelanguage=en]","pp://Notes/Selected elements from reporting class C[taxonomy=DKGAAP,period=1_parent]","pp://Notes/Selected elements from reporting class C[taxonomy=DKGAAP]",null,null,null,"Selected elements from reporting class C",null,null,"Der er tilvalgt elementer fra Regnskabsklasse C"]
[{"$f":"\"\"&INDEX(PP_Locale,ROW(),PP_LanguageIndex)","v":"Selected elements from reporting class D"},"Notes/Selected elements from reporting class D[taxonomy=DKGAAP]",null,null,null,null,null,null,null,null,null,"pp://Notes/Selected elements from reporting class D[taxonomy=DKGAAP]","pp://Notes/Selected elements from reporting class D[taxonomy=DKGAAP,valuelanguage=en]","pp://Notes/Selected elements from reporting class D[taxonomy=DKGAAP,period=1_parent]","pp://Notes/Selected elements from reporting class D[taxonomy=DKGAAP]",null,null,null,"Selected elements from reporting class D",null,null,"Der er tilvalgt elementer fra Regnskabsklasse D"]
[{"$f":"\"\"&INDEX(PP_Locale,ROW(),PP_LanguageIndex)","v":"Accounting policies are UNCHANGED from previous period"},"Notes/Accounting policies are UNCHANGED from previous period[taxonomy=DKGAAP]",null,null,null,null,null,null,null,null,null,{"$f":"IF(COUNTBLANK(L$1),$O36,SUBSTITUTE($O36,\"DKGAAP]\",\"DKGAAP,\"&L$1&\"]\"))","v":"pp://Notes/Accounting policies are UNCHANGED from previous period[taxonomy=DKGAAP]"},"pp://Notes/Accounting policies are UNCHANGED from previous period[taxonomy=DKGAAP,valuelanguage=en]","pp://Notes/Accounting policies are UNCHANGED from previous period[taxonomy=DKGAAP,period=1_parent]",{"$f":"IF(COUNTA($B36),\"pp://\"&$B36&IF(COUNTA($C36),\"+\"&$C36,\"\")&IF(COUNTA($D36),\"+\"&$D36,\"\")&IF(COUNTA($E36),\"+\"&$E36,\"\")&IF(COUNTA($F36),\"+\"&$F36,\"\")&IF(COUNTA($G36),\"+\"&$G36,\"\")&IF(COUNTA($H36),\"+\"&$H36,\"\")&IF(COUNTA($I36),\"+\"&$I36,\"\")&IF(COUNTA($J36),\"+\"&$J36,\"\")&IF(COUNTA($K36),\"+\"&$K36,\"\")&$P36,\"\")","v":"pp://Notes/Accounting policies are UNCHANGED from previous period[taxonomy=DKGAAP]"},null,null,null,"Accounting policies are UNCHANGED from previous period",null,null,"Den anvendte regnskabspraksis er UÆNDRET i forhold til foregående periode"]
[{"$f":"\"\"&INDEX(PP_Locale,ROW(),PP_LanguageIndex)","v":"Accounting policies are CHANGED from previous period"},"Notes/Accounting policies are CHANGED from previous period[taxonomy=DKGAAP]",null,null,null,null,null,null,null,null,null,"pp://Notes/Accounting policies are CHANGED from previous period[taxonomy=DKGAAP]","pp://Notes/Accounting policies are CHANGED from previous period[taxonomy=DKGAAP,valuelanguage=en]","pp://Notes/Accounting policies are CHANGED from previous period[taxonomy=DKGAAP,period=1_parent]",{"$f":"IF(COUNTA($B37),\"pp://\"&$B37&IF(COUNTA($C37),\"+\"&$C37,\"\")&IF(COUNTA($D37),\"+\"&$D37,\"\")&IF(COUNTA($E37),\"+\"&$E37,\"\")&IF(COUNTA($F37),\"+\"&$F37,\"\")&IF(COUNTA($G37),\"+\"&$G37,\"\")&IF(COUNTA($H37),\"+\"&$H37,\"\")&IF(COUNTA($I37),\"+\"&$I37,\"\")&IF(COUNTA($J37),\"+\"&$J37,\"\")&IF(COUNTA($K37),\"+\"&$K37,\"\")&$P37,\"\")","v":"pp://Notes/Accounting policies are CHANGED from previous period[taxonomy=DKGAAP]"},null,null,null,"Accounting policies are CHANGED from previous period",null,null,"Den anvendte regnskabspraksis er ÆNDRET i forhold til foregående periode"]
[{"$f":"\"\"&INDEX(PP_Locale,ROW(),PP_LanguageIndex)","v":"Explanation of not disclosing cash flows statements"},"Notes/Explanation of not disclosing cash flows statements[taxonomy=DKGAAP]",null,null,null,null,null,null,null,null,null,"pp://Notes/Explanation of not disclosing cash flows statements[taxonomy=DKGAAP]","pp://Notes/Explanation of not disclosing cash flows statements[taxonomy=DKGAAP,valuelanguage=en]","pp://Notes/Explanation of not disclosing cash flows statements[taxonomy=DKGAAP,period=1_parent]",{"$f":"IF(COUNTA($B38),\"pp://\"&$B38&IF(COUNTA($C38),\"+\"&$C38,\"\")&IF(COUNTA($D38),\"+\"&$D38,\"\")&IF(COUNTA($E38),\"+\"&$E38,\"\")&IF(COUNTA($F38),\"+\"&$F38,\"\")&IF(COUNTA($G38),\"+\"&$G38,\"\")&IF(COUNTA($H38),\"+\"&$H38,\"\")&IF(COUNTA($I38),\"+\"&$I38,\"\")&IF(COUNTA($J38),\"+\"&$J38,\"\")&IF(COUNTA($K38),\"+\"&$K38,\"\")&$P38,\"\")","v":"pp://Notes/Explanation of not disclosing cash flows statements[taxonomy=DKGAAP]"},null,null,null,"Explanation of not disclosing cash flows statements",null,null,"Forklaring af manglende pengestrømsopgørelse"]
[{"$f":"\"\"&INDEX(PP_Locale,ROW(),PP_LanguageIndex)","v":"Information on omission of consolidated financial statement"},"Notes/Information on omission of consolidated financial statement[taxonomy=DKGAAP]",null,null,null,null,null,null,null,null,null,"pp://Notes/Information on omission of consolidated financial statement[taxonomy=DKGAAP]","pp://Notes/Information on omission of consolidated financial statement[taxonomy=DKGAAP,valuelanguage=en]","pp://Notes/Information on omission of consolidated financial statement[taxonomy=DKGAAP,period=1_parent]",{"$f":"IF(COUNTA($B39),\"pp://\"&$B39&IF(COUNTA($C39),\"+\"&$C39,\"\")&IF(COUNTA($D39),\"+\"&$D39,\"\")&IF(COUNTA($E39),\"+\"&$E39,\"\")&IF(COUNTA($F39),\"+\"&$F39,\"\")&IF(COUNTA($G39),\"+\"&$G39,\"\")&IF(COUNTA($H39),\"+\"&$H39,\"\")&IF(COUNTA($I39),\"+\"&$I39,\"\")&IF(COUNTA($J39),\"+\"&$J39,\"\")&IF(COUNTA($K39),\"+\"&$K39,\"\")&$P39,\"\")","v":"pp://Notes/Information on omission of consolidated financial statement[taxonomy=DKGAAP]"},null,null,null,"Information on omission of consolidated financial statement",null,null,"Information om undladelse af koncernregnskab"]
[{"$f":"\"\"&INDEX(PP_Locale,ROW(),PP_LanguageIndex)","v":""}]
[{"$f":"\"\"&INDEX(PP_Locale,ROW(),PP_LanguageIndex)","v":"Corporate governance report"},"Notes/Corporate governance report[taxonomy=DKGAAP]",null,null,null,null,null,null,null,null,null,"pp://Notes/Corporate governance report[taxonomy=DKGAAP]","pp://Notes/Corporate governance report[taxonomy=DKGAAP,valuelanguage=en]","pp://Notes/Corporate governance report[taxonomy=DKGAAP,period=1_parent]","pp://Notes/Corporate governance report[taxonomy=DKGAAP]",null,null,null,"Corporate governance report",null,null,"Redegørelse for virksomhedsledelse"]
[{"$f":"\"\"&INDEX(PP_Locale,ROW(),PP_LanguageIndex)","v":"Link to corporate governance report"},"Notes/Link to corporate governance report[taxonomy=DKGAAP]",null,null,null,null,null,null,null,null,null,"pp://Notes/Link to corporate governance report[taxonomy=DKGAAP]","pp://Notes/Link to corporate governance report[taxonomy=DKGAAP,valuelanguage=en]","pp://Notes/Link to corporate governance report[taxonomy=DKGAAP,period=1_parent]","pp://Notes/Link to corporate governance report[taxonomy=DKGAAP]",null,null,null,"Link to corporate governance report",null,null,"Link til redegørelse for virksomhedsledelse"]
[{"$f":"\"\"&INDEX(PP_Locale,ROW(),PP_LanguageIndex)","v":"Statement of corporate social responsibility"},"Notes/Statement of corporate social responsibility[taxonomy=DKGAAP]",null,null,null,null,null,null,null,null,null,"pp://Notes/Statement of corporate social responsibility[taxonomy=DKGAAP]","pp://Notes/Statement of corporate social responsibility[taxonomy=DKGAAP,valuelanguage=en]","pp://Notes/Statement of corporate social responsibility[taxonomy=DKGAAP,period=1_parent]","pp://Notes/Statement of corporate social responsibility[taxonomy=DKGAAP]",null,null,null,"Statement of corporate social responsibility",null,null,"Redegørelse for samfundsansvar"]
[{"$f":"\"\"&INDEX(PP_Locale,ROW(),PP_LanguageIndex)","v":"Link to statement of corporate social responsibility"},"Notes/Link to statement of corporate social responsibility[taxonomy=DKGAAP]",null,null,null,null,null,null,null,null,null,"pp://Notes/Link to statement of corporate social responsibility[taxonomy=DKGAAP]","pp://Notes/Link to statement of corporate social responsibility[taxonomy=DKGAAP,valuelanguage=en]","pp://Notes/Link to statement of corporate social responsibility[taxonomy=DKGAAP,period=1_parent]","pp://Notes/Link to statement of corporate social responsibility[taxonomy=DKGAAP]",null,null,null,"Link to statement of corporate social responsibility",null,null,"Link til redegørelse for samfundsansvar"]
[{"$f":"\"\"&INDEX(PP_Locale,ROW(),PP_LanguageIndex)","v":"Statement of target figures and policies for the underrepresented gender"},"Notes/Statement of target figures and policies for the underrepresented gender[taxonomy=DKGAAP]",null,null,null,null,null,null,null,null,null,"pp://Notes/Statement of target figures and policies for the underrepresented gender[taxonomy=DKGAAP]","pp://Notes/Statement of target figures and policies for the underrepresented gender[taxonomy=DKGAAP,valuelanguage=en]","pp://Notes/Statement of target figures and policies for the underrepresented gender[taxonomy=DKGAAP,period=1_parent]","pp://Notes/Statement of target figures and policies for the underrepresented gender[taxonomy=DKGAAP]",null,null,null,"Statement of target figures and policies for the underrepresented gender",null,null,"Redegørelse for måltal og politikker vedrørende det underrepræsenterede køn"]
[{"$f":"\"\"&INDEX(PP_Locale,ROW(),PP_LanguageIndex)","v":"Report on payments to authorities"},"Notes/Report on payments to authorities[taxonomy=DKGAAP]",null,null,null,null,null,null,null,null,null,"pp://Notes/Report on payments to authorities[taxonomy=DKGAAP]","pp://Notes/Report on payments to authorities[taxonomy=DKGAAP,valuelanguage=en]","pp://Notes/Report on payments to authorities[taxonomy=DKGAAP,period=1_parent]","pp://Notes/Report on payments to authorities[taxonomy=DKGAAP]",null,null,null,"Report on payments to authorities",null,null,"Beretning om betalinger til myndigheder"]
[{"$f":"\"\"&INDEX(PP_Locale,ROW(),PP_LanguageIndex)","v":"Link to report on payments to authorities"},"Notes/Link to report on payments to authorities[taxonomy=DKGAAP]",null,null,null,null,null,null,null,null,null,"pp://Notes/Link to report on payments to authorities[taxonomy=DKGAAP]","pp://Notes/Link to report on payments to authorities[taxonomy=DKGAAP,valuelanguage=en]","pp://Notes/Link to report on payments to authorities[taxonomy=DKGAAP,period=1_parent]","pp://Notes/Link to report on payments to authorities[taxonomy=DKGAAP]",null,null,null,"Link to report on payments to authorities",null,null,"Link til beretning om betalinger til myndigheder"]
[{"$f":"\"\"&INDEX(PP_Locale,ROW(),PP_LanguageIndex)","v":"Statement of the diversity policies"},"Notes/Statement of the diversity policies[taxonomy=DKGAAP]",null,null,null,null,null,null,null,null,null,"pp://Notes/Statement of the diversity policies[taxonomy=DKGAAP]","pp://Notes/Statement of the diversity policies[taxonomy=DKGAAP,valuelanguage=en]","pp://Notes/Statement of the diversity policies[taxonomy=DKGAAP,period=1_parent]","pp://Notes/Statement of the diversity policies[taxonomy=DKGAAP]",null,null,null,"Statement of the diversity policies",null,null,"Redegørelse for politikker om mangfoldighed"]
[{"$f":"\"\"&INDEX(PP_Locale,ROW(),PP_LanguageIndex)","v":"Link to statement of diversity policies"},"Notes/Link to statement of diversity policies[taxonomy=DKGAAP]",null,null,null,null,null,null,null,null,null,"pp://Notes/Link to statement of diversity policies[taxonomy=DKGAAP]","pp://Notes/Link to statement of diversity policies[taxonomy=DKGAAP,valuelanguage=en]","pp://Notes/Link to statement of diversity policies[taxonomy=DKGAAP,period=1_parent]","pp://Notes/Link to statement of diversity policies[taxonomy=DKGAAP]",null,null,null,"Link to statement of diversity policies",null,null,"Link til redegørelse for politikker om mangfoldighed"]
[{"$f":"\"\"&INDEX(PP_Locale,ROW(),PP_LanguageIndex)","v":"Statement of policy for data ethics"},"Notes/Statement of policy for data ethics[taxonomy=DKGAAP]",null,null,null,null,null,null,null,null,null,"pp://Notes/Statement of policy for data ethics[taxonomy=DKGAAP]","pp://Notes/Statement of policy for data ethics[taxonomy=DKGAAP,valuelanguage=en]","pp://Notes/Statement of policy for data ethics[taxonomy=DKGAAP,period=1_parent]","pp://Notes/Statement of policy for data ethics[taxonomy=DKGAAP]",null,null,null,"Statement of policy for data ethics",null,null,"Redegørelse for virksomhedens politik for dataetik"]
[{"$f":"\"\"&INDEX(PP_Locale,ROW(),PP_LanguageIndex)","v":"Link to statement of policy for data ethics"},"Notes/Link to statement of policy for data ethics[taxonomy=DKGAAP]",null,null,null,null,null,null,null,null,null,"pp://Notes/Link to statement of policy for data ethics[taxonomy=DKGAAP]","pp://Notes/Link to statement of policy for data ethics[taxonomy=DKGAAP,valuelanguage=en]","pp://Notes/Link to statement of policy for data ethics[taxonomy=DKGAAP,period=1_parent]","pp://Notes/Link to statement of policy for data ethics[taxonomy=DKGAAP]",null,null,null,"Link to statement of policy for data ethics",null,null,"Link til redegørelse for virksomhedens politik for dataetik"]
[{"$f":"\"\"&INDEX(PP_Locale,ROW(),PP_LanguageIndex)","v":"Statement of good management concerning foundation"},"Notes/Statement of good management concerning foundation[taxonomy=DKGAAP]",null,null,null,null,null,null,null,null,null,"pp://Notes/Statement of good management concerning foundation[taxonomy=DKGAAP]","pp://Notes/Statement of good management concerning foundation[taxonomy=DKGAAP,valuelanguage=en]","pp://Notes/Statement of good management concerning foundation[taxonomy=DKGAAP,period=1_parent]","pp://Notes/Statement of good management concerning foundation[taxonomy=DKGAAP]",null,null,null,"Statement of good management concerning foundation",null,null,"Redegørelse for god fondsledelse"]
[{"$f":"\"\"&INDEX(PP_Locale,ROW(),PP_LanguageIndex)","v":"Link to statement of good management concerning foundation"},"Notes/Link to statement of good management concerning foundation[taxonomy=DKGAAP]",null,null,null,null,null,null,null,null,null,"pp://Notes/Link to statement of good management concerning foundation[taxonomy=DKGAAP]","pp://Notes/Link to statement of good management concerning foundation[taxonomy=DKGAAP,valuelanguage=en]","pp://Notes/Link to statement of good management concerning foundation[taxonomy=DKGAAP,period=1_parent]","pp://Notes/Link to statement of good management concerning foundation[taxonomy=DKGAAP]",null,null,null,"Link to statement of good management concerning foundation",null,null,"Link til redegørelse for god fondsledelse"]
[{"$f":"\"\"&INDEX(PP_Locale,ROW(),PP_LanguageIndex)","v":"Statement of the foundation's distribution policy"},"Notes/Statement of the foundation's distribution policy[taxonomy=DKGAAP]",null,null,null,null,null,null,null,null,null,"pp://Notes/Statement of the foundation's distribution policy[taxonomy=DKGAAP]","pp://Notes/Statement of the foundation's distribution policy[taxonomy=DKGAAP,valuelanguage=en]","pp://Notes/Statement of the foundation's distribution policy[taxonomy=DKGAAP,period=1_parent]","pp://Notes/Statement of the foundation's distribution policy[taxonomy=DKGAAP]",null,null,null,"Statement of the foundation's distribution policy",null,null,"Redegørelse for fondens uddelingspolitik"]
[{"$f":"\"\"&INDEX(PP_Locale,ROW(),PP_LanguageIndex)","v":"Link to statement of the foundation's distribution policy"},"Notes/Link to statement of the foundation's distribution policy[taxonomy=DKGAAP]",null,null,null,null,null,null,null,null,null,"pp://Notes/Link to statement of the foundation's distribution policy[taxonomy=DKGAAP]","pp://Notes/Link to statement of the foundation's distribution policy[taxonomy=DKGAAP,valuelanguage=en]","pp://Notes/Link to statement of the foundation's distribution policy[taxonomy=DKGAAP,period=1_parent]","pp://Notes/Link to statement of the foundation's distribution policy[taxonomy=DKGAAP]",null,null,null,"Link to statement of the foundation's distribution policy",null,null,"Link til redegørelse for fondens uddelingspolitik"]
[{"$f":"\"\"&INDEX(PP_Locale,ROW(),PP_LanguageIndex)","v":"Disclosure of uncertainties relating to going concern"},"Notes/Disclosure of uncertainties relating to going concern[taxonomy=DKGAAP]",null,null,null,null,null,null,null,null,null,"pp://Notes/Disclosure of uncertainties relating to going concern[taxonomy=DKGAAP]","pp://Notes/Disclosure of uncertainties relating to going concern[taxonomy=DKGAAP,valuelanguage=en]","pp://Notes/Disclosure of uncertainties relating to going concern[taxonomy=DKGAAP,period=1_parent]","pp://Notes/Disclosure of uncertainties relating to going concern[taxonomy=DKGAAP]",null,null,null,"Disclosure of uncertainties relating to going concern",null,null,"Oplysning om usikkerhed om going concern"]
[{"$f":"\"\"&INDEX(PP_Locale,ROW(),PP_LanguageIndex)","v":""}]
[{"$f":"\"\"&INDEX(PP_Locale,ROW(),PP_LanguageIndex)","v":"Average number of employees"},"Notes/Average number of employees[taxonomy=DKGAAP]",null,null,null,null,null,null,null,null,null,{"$f":"IF(COUNTBLANK(L$1),$O58,SUBSTITUTE($O58,\"DKGAAP]\",\"DKGAAP,\"&L$1&\"]\"))","v":"pp://Notes/Average number of employees[taxonomy=DKGAAP]"},{"$f":"IF(COUNTBLANK(M$1),$O58,SUBSTITUTE($O58,\"DKGAAP]\",\"DKGAAP,\"&M$1&\"]\"))","v":"pp://Notes/Average number of employees[taxonomy=DKGAAP,valuelanguage=en]"},{"$f":"IF(COUNTBLANK(N$1),$O58,SUBSTITUTE($O58,\"DKGAAP]\",\"DKGAAP,\"&N$1&\"]\"))","v":"pp://Notes/Average number of employees[taxonomy=DKGAAP,period=1_parent]"},{"$f":"IF(COUNTA($B58),\"pp://\"&$B58&IF(COUNTA($C58),\"+\"&$C58,\"\")&IF(COUNTA($D58),\"+\"&$D58,\"\")&IF(COUNTA($E58),\"+\"&$E58,\"\")&IF(COUNTA($F58),\"+\"&$F58,\"\")&IF(COUNTA($G58),\"+\"&$G58,\"\")&IF(COUNTA($H58),\"+\"&$H58,\"\")&IF(COUNTA($I58),\"+\"&$I58,\"\")&IF(COUNTA($J58),\"+\"&$J58,\"\")&IF(COUNTA($K58),\"+\"&$K58,\"\")&$P58,\"\")","v":"pp://Notes/Average number of employees[taxonomy=DKGAAP]"},null,null,null,"Average number of employees",null,null,"Gennemsnitligt antal ansatte"]
[{"$f":"\"\"&INDEX(PP_Locale,ROW(),PP_LanguageIndex)","v":""}]
[{"$f":"\"\"&INDEX(PP_Locale,ROW(),PP_LanguageIndex)","v":"General data"},null,null,null,null,null,null,null,null,null,null,null,null,null,null,null,null,null,"General data",null,null,"Stamdata"]
[{"$f":"\"\"&INDEX(PP_Locale,ROW(),PP_LanguageIndex)","v":"Date of general meeting"},"Notes/Date of general meeting[taxonomy=DKGAAP]",null,null,null,null,null,null,null,null,null,{"$f":"IF(COUNTBLANK(L$1),$O61,SUBSTITUTE($O61,\"DKGAAP]\",\"DKGAAP,\"&L$1&\"]\"))","v":"pp://Notes/Date of general meeting[taxonomy=DKGAAP]"},"pp://Notes/Date of general meeting[taxonomy=DKGAAP,valuelanguage=en]","pp://Notes/Date of general meeting[taxonomy=DKGAAP,period=1_parent]",{"$f":"IF(COUNTA($B61),\"pp://\"&$B61&IF(COUNTA($C61),\"+\"&$C61,\"\")&IF(COUNTA($D61),\"+\"&$D61,\"\")&IF(COUNTA($E61),\"+\"&$E61,\"\")&IF(COUNTA($F61),\"+\"&$F61,\"\")&IF(COUNTA($G61),\"+\"&$G61,\"\")&IF(COUNTA($H61),\"+\"&$H61,\"\")&IF(COUNTA($I61),\"+\"&$I61,\"\")&IF(COUNTA($J61),\"+\"&$J61,\"\")&IF(COUNTA($K61),\"+\"&$K61,\"\")&$P61,\"\")","v":"pp://Notes/Date of general meeting[taxonomy=DKGAAP]"},null,null,null,"Date of general meeting",null,null,"Generalforsamlingsdato"]
[{"$f":"\"\"&INDEX(PP_Locale,ROW(),PP_LanguageIndex)","v":"Reporting period, number"},"Notes/Reporting period, number[taxonomy=DKGAAP]",null,null,null,null,null,null,null,null,null,"pp://Notes/Reporting period, number[taxonomy=DKGAAP]","pp://Notes/Reporting period, number[taxonomy=DKGAAP,valuelanguage=en]","pp://Notes/Reporting period, number[taxonomy=DKGAAP,period=1_parent]","pp://Notes/Reporting period, number[taxonomy=DKGAAP]",null,null,null,"Reporting period, number",null,null,"Regnskabsår (nr.)"]
[{"$f":"\"\"&INDEX(PP_Locale,ROW(),PP_LanguageIndex)","v":"Name and surname of chairman of general meeting"},"Notes/Name and surname of chairman of general meeting[taxonomy=DKGAAP]",null,null,null,null,null,null,null,null,null,"pp://Notes/Name and surname of chairman of general meeting[taxonomy=DKGAAP]","pp://Notes/Name and surname of chairman of general meeting[taxonomy=DKGAAP,valuelanguage=en]","pp://Notes/Name and surname of chairman of general meeting[taxonomy=DKGAAP,period=1_parent]","pp://Notes/Name and surname of chairman of general meeting[taxonomy=DKGAAP]",null,null,null,"Name and surname of chairman of general meeting",null,null,"Dirigentens navn"]
[{"$f":"\"\"&INDEX(PP_Locale,ROW(),PP_LanguageIndex)","v":""},null,null,null,null,null,null,null,null,null,null,"","","",""]
[{"$f":"\"\"&INDEX(PP_Locale,ROW(),PP_LanguageIndex)","v":"Information on reporting entity:"},null,null,null,null,null,null,null,null,null,null,{"$f":"IF(COUNTBLANK(L$1),$O65,SUBSTITUTE($O65,\"DKGAAP]\",\"DKGAAP,\"&L$1&\"]\"))","v":""},{"$f":"IF(COUNTBLANK(M$1),$O65,SUBSTITUTE($O65,\"DKGAAP]\",\"DKGAAP,\"&M$1&\"]\"))","v":""},"","",null,null,null,"Information on reporting entity:",null,null,"Information om den regnskabsaflæggende virksomhed:"]
[{"$f":"\"\"&INDEX(PP_Locale,ROW(),PP_LanguageIndex)","v":"Legal Entity Identifier [LEI] of reporting entity"},"Notes/Legal Entity Identifier [LEI] of reporting entity[taxonomy=DKGAAP]",null,null,null,null,null,null,null,null,null,{"$f":"IF(COUNTBLANK(L$1),$O66,SUBSTITUTE($O66,\"DKGAAP]\",\"DKGAAP,\"&L$1&\"]\"))","v":"pp://Notes/Legal Entity Identifier [LEI] of reporting entity[taxonomy=DKGAAP]"},{"$f":"IF(COUNTBLANK(M$1),$O66,SUBSTITUTE($O66,\"DKGAAP]\",\"DKGAAP,\"&M$1&\"]\"))","v":"pp://Notes/Legal Entity Identifier [LEI] of reporting entity[taxonomy=DKGAAP,valuelanguage=en]"},"pp://Notes/Legal Entity Identifier [LEI] of reporting entity[taxonomy=DKGAAP,period=1_parent]","pp://Notes/Legal Entity Identifier [LEI] of reporting entity[taxonomy=DKGAAP]",null,null,null,"Legal Entity Identifier [LEI] of reporting entity",null,null,"Regnskabsaflæggende virksomheds LEI-kode"]
[{"$f":"\"\"&INDEX(PP_Locale,ROW(),PP_LanguageIndex)","v":"Name of reporting entity"},"Notes/Name of reporting entity[taxonomy=DKGAAP]",null,null,null,null,null,null,null,null,null,{"$f":"IF(COUNTBLANK(L$1),$O67,SUBSTITUTE($O67,\"DKGAAP]\",\"DKGAAP,\"&L$1&\"]\"))","v":"pp://Notes/Name of reporting entity[taxonomy=DKGAAP]"},"pp://Notes/Name of reporting entity[taxonomy=DKGAAP,valuelanguage=en]","pp://Notes/Name of reporting entity[taxonomy=DKGAAP,period=1_parent]","pp://Notes/Name of reporting entity[taxonomy=DKGAAP]",null,null,null,"Name of reporting entity",null,null,"Regnskabsaflæggende virksomheds navn"]
[{"$f":"\"\"&INDEX(PP_Locale,ROW(),PP_LanguageIndex)","v":"Identification number [CVR] of reporting entity"},"Notes/Identification number [CVR] of reporting entity[taxonomy=DKGAAP]",null,null,null,null,null,null,null,null,null,{"$f":"IF(COUNTBLANK(L$1),$O68,SUBSTITUTE($O68,\"DKGAAP]\",\"DKGAAP,\"&L$1&\"]\"))","v":"pp://Notes/Identification number [CVR] of reporting entity[taxonomy=DKGAAP]"},"pp://Notes/Identification number [CVR] of reporting entity[taxonomy=DKGAAP,valuelanguage=en]","pp://Notes/Identification number [CVR] of reporting entity[taxonomy=DKGAAP,period=1_parent]","pp://Notes/Identification number [CVR] of reporting entity[taxonomy=DKGAAP]",null,null,null,"Identification number [CVR] of reporting entity",null,null,"Regnskabsaflæggende virksomheds CVR-nr."]
[{"$f":"\"\"&INDEX(PP_Locale,ROW(),PP_LanguageIndex)","v":"Address of reporting entity, street name"},"Notes/Address of reporting entity, street name[taxonomy=DKGAAP]",null,null,null,null,null,null,null,null,null,{"$f":"IF(COUNTBLANK(L$1),$O69,SUBSTITUTE($O69,\"DKGAAP]\",\"DKGAAP,\"&L$1&\"]\"))","v":"pp://Notes/Address of reporting entity, street name[taxonomy=DKGAAP]"},"pp://Notes/Address of reporting entity, street name[taxonomy=DKGAAP,valuelanguage=en]","pp://Notes/Address of reporting entity, street name[taxonomy=DKGAAP,period=1_parent]",{"$f":"IF(COUNTA($B69),\"pp://\"&$B69&IF(COUNTA($C69),\"+\"&$C69,\"\")&IF(COUNTA($D69),\"+\"&$D69,\"\")&IF(COUNTA($E69),\"+\"&$E69,\"\")&IF(COUNTA($F69),\"+\"&$F69,\"\")&IF(COUNTA($G69),\"+\"&$G69,\"\")&IF(COUNTA($H69),\"+\"&$H69,\"\")&IF(COUNTA($I69),\"+\"&$I69,\"\")&IF(COUNTA($J69),\"+\"&$J69,\"\")&IF(COUNTA($K69),\"+\"&$K69,\"\")&$P69,\"\")","v":"pp://Notes/Address of reporting entity, street name[taxonomy=DKGAAP]"},null,null,null,"Address of reporting entity, street name",null,null,"Regnskabsaflæggende virksomheds adresse, vejnavn"]
[{"$f":"\"\"&INDEX(PP_Locale,ROW(),PP_LanguageIndex)","v":"Address of reporting entity, street building identifier"},"Notes/Address of reporting entity, street building identifier[taxonomy=DKGAAP]",null,null,null,null,null,null,null,null,null,"pp://Notes/Address of reporting entity, street building identifier[taxonomy=DKGAAP]","pp://Notes/Address of reporting entity, street building identifier[taxonomy=DKGAAP,valuelanguage=en]","pp://Notes/Address of reporting entity, street building identifier[taxonomy=DKGAAP,period=1_parent]","pp://Notes/Address of reporting entity, street building identifier[taxonomy=DKGAAP]",null,null,null,"Address of reporting entity, street building identifier",null,null,"Regnskabsaflæggende virksomheds adresse, vejnr og etage"]
[{"$f":"\"\"&INDEX(PP_Locale,ROW(),PP_LanguageIndex)","v":"Address of reporting entity, post code identifier"},"Notes/Address of reporting entity, post code identifier[taxonomy=DKGAAP]",null,null,null,null,null,null,null,null,null,"pp://Notes/Address of reporting entity, post code identifier[taxonomy=DKGAAP]","pp://Notes/Address of reporting entity, post code identifier[taxonomy=DKGAAP,valuelanguage=en]","pp://Notes/Address of reporting entity, post code identifier[taxonomy=DKGAAP,period=1_parent]","pp://Notes/Address of reporting entity, post code identifier[taxonomy=DKGAAP]",null,null,null,"Address of reporting entity, post code identifier",null,null,"Regnskabsaflæggende virksomheds adresse, postnummer"]
[{"$f":"\"\"&INDEX(PP_Locale,ROW(),PP_LanguageIndex)","v":"Address of reporting entity, district name"},"Notes/Address of reporting entity, district name[taxonomy=DKGAAP]",null,null,null,null,null,null,null,null,null,"pp://Notes/Address of reporting entity, district name[taxonomy=DKGAAP]","pp://Notes/Address of reporting entity, district name[taxonomy=DKGAAP,valuelanguage=en]","pp://Notes/Address of reporting entity, district name[taxonomy=DKGAAP,period=1_parent]","pp://Notes/Address of reporting entity, district name[taxonomy=DKGAAP]",null,null,null,"Address of reporting entity, district name",null,null,"Regnskabsaflæggende virksomheds adresse, by"]
[{"$f":"\"\"&INDEX(PP_Locale,ROW(),PP_LanguageIndex)","v":"Address of reporting entity, country"},"Notes/Address of reporting entity, country[taxonomy=DKGAAP]",null,null,null,null,null,null,null,null,null,"pp://Notes/Address of reporting entity, country[taxonomy=DKGAAP]","pp://Notes/Address of reporting entity, country[taxonomy=DKGAAP,valuelanguage=en]","pp://Notes/Address of reporting entity, country[taxonomy=DKGAAP,period=1_parent]","pp://Notes/Address of reporting entity, country[taxonomy=DKGAAP]",null,null,null,"Address of reporting entity, country",null,null,"Regnskabsaflæggende virksomheds adresse, land"]
[{"$f":"\"\"&INDEX(PP_Locale,ROW(),PP_LanguageIndex)","v":"Address of reporting entity, country identification code"},"Notes/Address of reporting entity, country identification code[taxonomy=DKGAAP]",null,null,null,null,null,null,null,null,null,"pp://Notes/Address of reporting entity, country identification code[taxonomy=DKGAAP]","pp://Notes/Address of reporting entity, country identification code[taxonomy=DKGAAP,valuelanguage=en]","pp://Notes/Address of reporting entity, country identification code[taxonomy=DKGAAP,period=1_parent]","pp://Notes/Address of reporting entity, country identification code[taxonomy=DKGAAP]",null,null,null,"Address of reporting entity, country identification code",null,null,"Regnskabsaflæggende virksomheds adresse, landekode"]
[{"$f":"\"\"&INDEX(PP_Locale,ROW(),PP_LanguageIndex)","v":"Date of foundation of reporting entity"},"Notes/Date of foundation of reporting entity[taxonomy=DKGAAP]",null,null,null,null,null,null,null,null,null,"pp://Notes/Date of foundation of reporting entity[taxonomy=DKGAAP]","pp://Notes/Date of foundation of reporting entity[taxonomy=DKGAAP,valuelanguage=en]","pp://Notes/Date of foundation of reporting entity[taxonomy=DKGAAP,period=1_parent]","pp://Notes/Date of foundation of reporting entity[taxonomy=DKGAAP]",null,null,null,"Date of foundation of reporting entity",null,null,"Regnskabsaflæggende virksomheds stiftelsesdato"]
[{"$f":"\"\"&INDEX(PP_Locale,ROW(),PP_LanguageIndex)","v":"Registered office of reporting entity"},"Notes/Registered office of reporting entity[taxonomy=DKGAAP]",null,null,null,null,null,null,null,null,null,"pp://Notes/Registered office of reporting entity[taxonomy=DKGAAP]","pp://Notes/Registered office of reporting entity[taxonomy=DKGAAP,valuelanguage=en]","pp://Notes/Registered office of reporting entity[taxonomy=DKGAAP,period=1_parent]","pp://Notes/Registered office of reporting entity[taxonomy=DKGAAP]",null,null,null,"Registered office of reporting entity",null,null,"Regnskabsaflæggende virksomheds hjemsted"]
[{"$f":"\"\"&INDEX(PP_Locale,ROW(),PP_LanguageIndex)","v":"Telephone number of reporting entity"},"Notes/Telephone number of reporting entity[taxonomy=DKGAAP]",null,null,null,null,null,null,null,null,null,"pp://Notes/Telephone number of reporting entity[taxonomy=DKGAAP]","pp://Notes/Telephone number of reporting entity[taxonomy=DKGAAP,valuelanguage=en]","pp://Notes/Telephone number of reporting entity[taxonomy=DKGAAP,period=1_parent]","pp://Notes/Telephone number of reporting entity[taxonomy=DKGAAP]",null,null,null,"Telephone number of reporting entity",null,null,"Regnskabsaflæggende virksomheds telefonnummer"]
[{"$f":"\"\"&INDEX(PP_Locale,ROW(),PP_LanguageIndex)","v":"Fax number of reporting entity"},"Notes/Fax number of reporting entity[taxonomy=DKGAAP]",null,null,null,null,null,null,null,null,null,"pp://Notes/Fax number of reporting entity[taxonomy=DKGAAP]","pp://Notes/Fax number of reporting entity[taxonomy=DKGAAP,valuelanguage=en]","pp://Notes/Fax number of reporting entity[taxonomy=DKGAAP,period=1_parent]","pp://Notes/Fax number of reporting entity[taxonomy=DKGAAP]",null,null,null,"Fax number of reporting entity",null,null,"Regnskabsaflæggende virksomheds faxnummer"]
[{"$f":"\"\"&INDEX(PP_Locale,ROW(),PP_LanguageIndex)","v":"Homepage of reporting entity"},"Notes/Homepage of reporting entity[taxonomy=DKGAAP]",null,null,null,null,null,null,null,null,null,"pp://Notes/Homepage of reporting entity[taxonomy=DKGAAP]","pp://Notes/Homepage of reporting entity[taxonomy=DKGAAP,valuelanguage=en]","pp://Notes/Homepage of reporting entity[taxonomy=DKGAAP,period=1_parent]","pp://Notes/Homepage of reporting entity[taxonomy=DKGAAP]",null,null,null,"Homepage of reporting entity",null,null,"Regnskabsaflæggende virksomheds hjemmeside"]
[{"$f":"\"\"&INDEX(PP_Locale,ROW(),PP_LanguageIndex)","v":"E-mail of reporting entity"},"Notes/E-mail of reporting entity[taxonomy=DKGAAP]",null,null,null,null,null,null,null,null,null,"pp://Notes/E-mail of reporting entity[taxonomy=DKGAAP]","pp://Notes/E-mail of reporting entity[taxonomy=DKGAAP,valuelanguage=en]","pp://Notes/E-mail of reporting entity[taxonomy=DKGAAP,period=1_parent]","pp://Notes/E-mail of reporting entity[taxonomy=DKGAAP]",null,null,null,"E-mail of reporting entity",null,null,"Regnskabsaflæggende virksomheds e-mail"]
[{"$f":"\"\"&INDEX(PP_Locale,ROW(),PP_LanguageIndex)","v":"Secondary name of reporting entity 1"},"Notes/Secondary name of reporting entity 1[taxonomy=DKGAAP]",null,null,null,null,null,null,null,null,null,"pp://Notes/Secondary name of reporting entity 1[taxonomy=DKGAAP]","pp://Notes/Secondary name of reporting entity 1[taxonomy=DKGAAP,valuelanguage=en]","pp://Notes/Secondary name of reporting entity 1[taxonomy=DKGAAP,period=1_parent]","pp://Notes/Secondary name of reporting entity 1[taxonomy=DKGAAP]",null,null,null,"Secondary name of reporting entity 1",null,null,"Regnskabsaflæggende virksomheds binavn 1"]
[{"$f":"\"\"&INDEX(PP_Locale,ROW(),PP_LanguageIndex)","v":"Secondary name of reporting entity 2"},"Notes/Secondary name of reporting entity 2[taxonomy=DKGAAP]",null,null,null,null,null,null,null,null,null,"pp://Notes/Secondary name of reporting entity 2[taxonomy=DKGAAP]","pp://Notes/Secondary name of reporting entity 2[taxonomy=DKGAAP,valuelanguage=en]","pp://Notes/Secondary name of reporting entity 2[taxonomy=DKGAAP,period=1_parent]","pp://Notes/Secondary name of reporting entity 2[taxonomy=DKGAAP]",null,null,null,"Secondary name of reporting entity 2",null,null,"Regnskabsaflæggende virksomheds binavn 2"]
[{"$f":"\"\"&INDEX(PP_Locale,ROW(),PP_LanguageIndex)","v":"Secondary name of reporting entity 3"},"Notes/Secondary name of reporting entity 3[taxonomy=DKGAAP]",null,null,null,null,null,null,null,null,null,"pp://Notes/Secondary name of reporting entity 3[taxonomy=DKGAAP]","pp://Notes/Secondary name of reporting entity 3[taxonomy=DKGAAP,valuelanguage=en]","pp://Notes/Secondary name of reporting entity 3[taxonomy=DKGAAP,period=1_parent]","pp://Notes/Secondary name of reporting entity 3[taxonomy=DKGAAP]",null,null,null,"Secondary name of reporting entity 3",null,null,"Regnskabsaflæggende virksomheds binavn 3"]
[{"$f":"\"\"&INDEX(PP_Locale,ROW(),PP_LanguageIndex)","v":""},null,null,null,null,null,null,null,null,null,null,"","","",""]
[{"$f":"\"\"&INDEX(PP_Locale,ROW(),PP_LanguageIndex)","v":"Place of signature of statement by management"},"Notes/Place of signature of statement by management[taxonomy=DKGAAP]",null,null,null,null,null,null,null,null,null,"pp://Notes/Place of signature of statement by management[taxonomy=DKGAAP]","pp://Notes/Place of signature of statement by management[taxonomy=DKGAAP,valuelanguage=en]","pp://Notes/Place of signature of statement by management[taxonomy=DKGAAP,period=1_parent]","pp://Notes/Place of signature of statement by management[taxonomy=DKGAAP]",null,null,null,"Place of signature of statement by management",null,null,"Ledelsespåtegning, sted"]
[{"$f":"\"\"&INDEX(PP_Locale,ROW(),PP_LanguageIndex)","v":"Date of approval of annual report"},"Notes/Date of approval of annual report[taxonomy=DKGAAP]",null,null,null,null,null,null,null,null,null,"pp://Notes/Date of approval of annual report[taxonomy=DKGAAP]","pp://Notes/Date of approval of annual report[taxonomy=DKGAAP,valuelanguage=en]","pp://Notes/Date of approval of annual report[taxonomy=DKGAAP,period=1_parent]","pp://Notes/Date of approval of annual report[taxonomy=DKGAAP]",null,null,null,"Date of approval of annual report",null,null,"Dato for ledelsens godkendelse af årsrapporten"]
[{"$f":"\"\"&INDEX(PP_Locale,ROW(),PP_LanguageIndex)","v":""},null,null,null,null,null,null,null,null,null,null,"","","",""]
[{"$f":"\"\"&INDEX(PP_Locale,ROW(),PP_LanguageIndex)","v":"Executive board:"},null,null,null,null,null,null,null,null,null,null,"","","","",null,null,null,"Executive board:",null,null,"Direktion:"]
[{"$f":"\"\"&INDEX(PP_Locale,ROW(),PP_LanguageIndex)","v":"Name and surname of member of executive board 1"},"Notes/Name and surname of member of executive board 1[taxonomy=DKGAAP]",null,null,null,null,null,null,null,null,null,"pp://Notes/Name and surname of member of executive board 1[taxonomy=DKGAAP]","pp://Notes/Name and surname of member of executive board 1[taxonomy=DKGAAP,valuelanguage=en]","pp://Notes/Name and surname of member of executive board 1[taxonomy=DKGAAP,period=1_parent]","pp://Notes/Name and surname of member of executive board 1[taxonomy=DKGAAP]",null,null,null,"Name and surname of member of executive board 1",null,null,"Direktionsmedlems navn 1"]
[{"$f":"\"\"&INDEX(PP_Locale,ROW(),PP_LanguageIndex)","v":"Title of member of executive board 1"},"Notes/Title of member of executive board 1[taxonomy=DKGAAP]",null,null,null,null,null,null,null,null,null,"pp://Notes/Title of member of executive board 1[taxonomy=DKGAAP]","pp://Notes/Title of member of executive board 1[taxonomy=DKGAAP,valuelanguage=en]","pp://Notes/Title of member of executive board 1[taxonomy=DKGAAP,period=1_parent]","pp://Notes/Title of member of executive board 1[taxonomy=DKGAAP]",null,null,null,"Title of member of executive board 1",null,null,"Direktionsmedlems titel 1"]
[{"$f":"\"\"&INDEX(PP_Locale,ROW(),PP_LanguageIndex)","v":"Description of member of executive board 1"},"Notes/Description of member of executive board 1[taxonomy=DKGAAP]",null,null,null,null,null,null,null,null,null,"pp://Notes/Description of member of executive board 1[taxonomy=DKGAAP]","pp://Notes/Description of member of executive board 1[taxonomy=DKGAAP,valuelanguage=en]","pp://Notes/Description of member of executive board 1[taxonomy=DKGAAP,period=1_parent]","pp://Notes/Description of member of executive board 1[taxonomy=DKGAAP]",null,null,null,"Description of member of executive board 1",null,null,"Direktionsmedlems beskrivelse 1"]
[{"$f":"\"\"&INDEX(PP_Locale,ROW(),PP_LanguageIndex)","v":"Name and surname of member of executive board 2"},"Notes/Name and surname of member of executive board 2[taxonomy=DKGAAP]",null,null,null,null,null,null,null,null,null,"pp://Notes/Name and surname of member of executive board 2[taxonomy=DKGAAP]","pp://Notes/Name and surname of member of executive board 2[taxonomy=DKGAAP,valuelanguage=en]","pp://Notes/Name and surname of member of executive board 2[taxonomy=DKGAAP,period=1_parent]","pp://Notes/Name and surname of member of executive board 2[taxonomy=DKGAAP]",null,null,null,"Name and surname of member of executive board 2",null,null,"Direktionsmedlems navn 2"]
[{"$f":"\"\"&INDEX(PP_Locale,ROW(),PP_LanguageIndex)","v":"Title of member of executive board 2"},"Notes/Title of member of executive board 2[taxonomy=DKGAAP]",null,null,null,null,null,null,null,null,null,"pp://Notes/Title of member of executive board 2[taxonomy=DKGAAP]","pp://Notes/Title of member of executive board 2[taxonomy=DKGAAP,valuelanguage=en]","pp://Notes/Title of member of executive board 2[taxonomy=DKGAAP,period=1_parent]","pp://Notes/Title of member of executive board 2[taxonomy=DKGAAP]",null,null,null,"Title of member of executive board 2",null,null,"Direktionsmedlems titel 2"]
[{"$f":"\"\"&INDEX(PP_Locale,ROW(),PP_LanguageIndex)","v":"Description of member of executive board 2"},"Notes/Description of member of executive board 2[taxonomy=DKGAAP]",null,null,null,null,null,null,null,null,null,"pp://Notes/Description of member of executive board 2[taxonomy=DKGAAP]","pp://Notes/Description of member of executive board 2[taxonomy=DKGAAP,valuelanguage=en]","pp://Notes/Description of member of executive board 2[taxonomy=DKGAAP,period=1_parent]","pp://Notes/Description of member of executive board 2[taxonomy=DKGAAP]",null,null,null,"Description of member of executive board 2",null,null,"Direktionsmedlems beskrivelse 2"]
[{"$f":"\"\"&INDEX(PP_Locale,ROW(),PP_LanguageIndex)","v":"Name and surname of member of executive board 3"},"Notes/Name and surname of member of executive board 3[taxonomy=DKGAAP]",null,null,null,null,null,null,null,null,null,"pp://Notes/Name and surname of member of executive board 3[taxonomy=DKGAAP]","pp://Notes/Name and surname of member of executive board 3[taxonomy=DKGAAP,valuelanguage=en]","pp://Notes/Name and surname of member of executive board 3[taxonomy=DKGAAP,period=1_parent]","pp://Notes/Name and surname of member of executive board 3[taxonomy=DKGAAP]",null,null,null,"Name and surname of member of executive board 3",null,null,"Direktionsmedlems navn 3"]
[{"$f":"\"\"&INDEX(PP_Locale,ROW(),PP_LanguageIndex)","v":"Title of member of executive board 3"},"Notes/Title of member of executive board 3[taxonomy=DKGAAP]",null,null,null,null,null,null,null,null,null,"pp://Notes/Title of member of executive board 3[taxonomy=DKGAAP]","pp://Notes/Title of member of executive board 3[taxonomy=DKGAAP,valuelanguage=en]","pp://Notes/Title of member of executive board 3[taxonomy=DKGAAP,period=1_parent]","pp://Notes/Title of member of executive board 3[taxonomy=DKGAAP]",null,null,null,"Title of member of executive board 3",null,null,"Direktionsmedlems titel 3"]
[{"$f":"\"\"&INDEX(PP_Locale,ROW(),PP_LanguageIndex)","v":"Description of member of executive board 3"},"Notes/Description of member of executive board 3[taxonomy=DKGAAP]",null,null,null,null,null,null,null,null,null,"pp://Notes/Description of member of executive board 3[taxonomy=DKGAAP]","pp://Notes/Description of member of executive board 3[taxonomy=DKGAAP,valuelanguage=en]","pp://Notes/Description of member of executive board 3[taxonomy=DKGAAP,period=1_parent]","pp://Notes/Description of member of executive board 3[taxonomy=DKGAAP]",null,null,null,"Description of member of executive board 3",null,null,"Direktionsmedlems beskrivelse 3"]
[{"$f":"\"\"&INDEX(PP_Locale,ROW(),PP_LanguageIndex)","v":"Name and surname of member of executive board 4"},"Notes/Name and surname of member of executive board 4[taxonomy=DKGAAP]",null,null,null,null,null,null,null,null,null,"pp://Notes/Name and surname of member of executive board 4[taxonomy=DKGAAP]","pp://Notes/Name and surname of member of executive board 4[taxonomy=DKGAAP,valuelanguage=en]","pp://Notes/Name and surname of member of executive board 4[taxonomy=DKGAAP,period=1_parent]","pp://Notes/Name and surname of member of executive board 4[taxonomy=DKGAAP]",null,null,null,"Name and surname of member of executive board 4",null,null,"Direktionsmedlems navn 4"]
[{"$f":"\"\"&INDEX(PP_Locale,ROW(),PP_LanguageIndex)","v":"Title of member of executive board 4"},"Notes/Title of member of executive board 4[taxonomy=DKGAAP]",null,null,null,null,null,null,null,null,null,"pp://Notes/Title of member of executive board 4[taxonomy=DKGAAP]","pp://Notes/Title of member of executive board 4[taxonomy=DKGAAP,valuelanguage=en]","pp://Notes/Title of member of executive board 4[taxonomy=DKGAAP,period=1_parent]","pp://Notes/Title of member of executive board 4[taxonomy=DKGAAP]",null,null,null,"Title of member of executive board 4",null,null,"Direktionsmedlems titel 4"]
[{"$f":"\"\"&INDEX(PP_Locale,ROW(),PP_LanguageIndex)","v":"Description of member of executive board 4"},"Notes/Description of member of executive board 4[taxonomy=DKGAAP]",null,null,null,null,null,null,null,null,null,"pp://Notes/Description of member of executive board 4[taxonomy=DKGAAP]","pp://Notes/Description of member of executive board 4[taxonomy=DKGAAP,valuelanguage=en]","pp://Notes/Description of member of executive board 4[taxonomy=DKGAAP,period=1_parent]","pp://Notes/Description of member of executive board 4[taxonomy=DKGAAP]",null,null,null,"Description of member of executive board 4",null,null,"Direktionsmedlems beskrivelse 4"]
[{"$f":"\"\"&INDEX(PP_Locale,ROW(),PP_LanguageIndex)","v":"Name and surname of member of executive board 5"},"Notes/Name and surname of member of executive board 5[taxonomy=DKGAAP]",null,null,null,null,null,null,null,null,null,"pp://Notes/Name and surname of member of executive board 5[taxonomy=DKGAAP]","pp://Notes/Name and surname of member of executive board 5[taxonomy=DKGAAP,valuelanguage=en]","pp://Notes/Name and surname of member of executive board 5[taxonomy=DKGAAP,period=1_parent]","pp://Notes/Name and surname of member of executive board 5[taxonomy=DKGAAP]",null,null,null,"Name and surname of member of executive board 5",null,null,"Direktionsmedlems navn 5"]
[{"$f":"\"\"&INDEX(PP_Locale,ROW(),PP_LanguageIndex)","v":"Title of member of executive board 5"},"Notes/Title of member of executive board 5[taxonomy=DKGAAP]",null,null,null,null,null,null,null,null,null,"pp://Notes/Title of member of executive board 5[taxonomy=DKGAAP]","pp://Notes/Title of member of executive board 5[taxonomy=DKGAAP,valuelanguage=en]","pp://Notes/Title of member of executive board 5[taxonomy=DKGAAP,period=1_parent]","pp://Notes/Title of member of executive board 5[taxonomy=DKGAAP]",null,null,null,"Title of member of executive board 5",null,null,"Direktionsmedlems titel 5"]
[{"$f":"\"\"&INDEX(PP_Locale,ROW(),PP_LanguageIndex)","v":"Description of member of executive board 5"},"Notes/Description of member of executive board 5[taxonomy=DKGAAP]",null,null,null,null,null,null,null,null,null,"pp://Notes/Description of member of executive board 5[taxonomy=DKGAAP]","pp://Notes/Description of member of executive board 5[taxonomy=DKGAAP,valuelanguage=en]","pp://Notes/Description of member of executive board 5[taxonomy=DKGAAP,period=1_parent]","pp://Notes/Description of member of executive board 5[taxonomy=DKGAAP]",null,null,null,"Description of member of executive board 5",null,null,"Direktionsmedlems beskrivelse 5"]
[{"$f":"\"\"&INDEX(PP_Locale,ROW(),PP_LanguageIndex)","v":"Name and surname of member of executive board 6"},"Notes/Name and surname of member of executive board 6[taxonomy=DKGAAP]",null,null,null,null,null,null,null,null,null,"pp://Notes/Name and surname of member of executive board 6[taxonomy=DKGAAP]","pp://Notes/Name and surname of member of executive board 6[taxonomy=DKGAAP,valuelanguage=en]","pp://Notes/Name and surname of member of executive board 6[taxonomy=DKGAAP,period=1_parent]","pp://Notes/Name and surname of member of executive board 6[taxonomy=DKGAAP]",null,null,null,"Name and surname of member of executive board 6",null,null,"Direktionsmedlems navn 6"]
[{"$f":"\"\"&INDEX(PP_Locale,ROW(),PP_LanguageIndex)","v":"Title of member of executive board 6"},"Notes/Title of member of executive board 6[taxonomy=DKGAAP]",null,null,null,null,null,null,null,null,null,"pp://Notes/Title of member of executive board 6[taxonomy=DKGAAP]","pp://Notes/Title of member of executive board 6[taxonomy=DKGAAP,valuelanguage=en]","pp://Notes/Title of member of executive board 6[taxonomy=DKGAAP,period=1_parent]","pp://Notes/Title of member of executive board 6[taxonomy=DKGAAP]",null,null,null,"Title of member of executive board 6",null,null,"Direktionsmedlems titel 6"]
[{"$f":"\"\"&INDEX(PP_Locale,ROW(),PP_LanguageIndex)","v":"Description of member of executive board 6"},"Notes/Description of member of executive board 6[taxonomy=DKGAAP]",null,null,null,null,null,null,null,null,null,"pp://Notes/Description of member of executive board 6[taxonomy=DKGAAP]","pp://Notes/Description of member of executive board 6[taxonomy=DKGAAP,valuelanguage=en]","pp://Notes/Description of member of executive board 6[taxonomy=DKGAAP,period=1_parent]","pp://Notes/Description of member of executive board 6[taxonomy=DKGAAP]",null,null,null,"Description of member of executive board 6",null,null,"Direktionsmedlems beskrivelse 6"]
[{"$f":"\"\"&INDEX(PP_Locale,ROW(),PP_LanguageIndex)","v":"Name and surname of member of executive board 7"},"Notes/Name and surname of member of executive board 7[taxonomy=DKGAAP]",null,null,null,null,null,null,null,null,null,"pp://Notes/Name and surname of member of executive board 7[taxonomy=DKGAAP]","pp://Notes/Name and surname of member of executive board 7[taxonomy=DKGAAP,valuelanguage=en]","pp://Notes/Name and surname of member of executive board 7[taxonomy=DKGAAP,period=1_parent]","pp://Notes/Name and surname of member of executive board 7[taxonomy=DKGAAP]",null,null,null,"Name and surname of member of executive board 7",null,null,"Direktionsmedlems navn 7"]
[{"$f":"\"\"&INDEX(PP_Locale,ROW(),PP_LanguageIndex)","v":"Title of member of executive board 7"},"Notes/Title of member of executive board 7[taxonomy=DKGAAP]",null,null,null,null,null,null,null,null,null,"pp://Notes/Title of member of executive board 7[taxonomy=DKGAAP]","pp://Notes/Title of member of executive board 7[taxonomy=DKGAAP,valuelanguage=en]","pp://Notes/Title of member of executive board 7[taxonomy=DKGAAP,period=1_parent]","pp://Notes/Title of member of executive board 7[taxonomy=DKGAAP]",null,null,null,"Title of member of executive board 7",null,null,"Direktionsmedlems titel 7"]
[{"$f":"\"\"&INDEX(PP_Locale,ROW(),PP_LanguageIndex)","v":"Description of member of executive board 7"},"Notes/Description of member of executive board 7[taxonomy=DKGAAP]",null,null,null,null,null,null,null,null,null,"pp://Notes/Description of member of executive board 7[taxonomy=DKGAAP]","pp://Notes/Description of member of executive board 7[taxonomy=DKGAAP,valuelanguage=en]","pp://Notes/Description of member of executive board 7[taxonomy=DKGAAP,period=1_parent]","pp://Notes/Description of member of executive board 7[taxonomy=DKGAAP]",null,null,null,"Description of member of executive board 7",null,null,"Direktionsmedlems beskrivelse 7"]
[{"$f":"\"\"&INDEX(PP_Locale,ROW(),PP_LanguageIndex)","v":"Name and surname of member of executive board 8"},"Notes/Name and surname of member of executive board 8[taxonomy=DKGAAP]",null,null,null,null,null,null,null,null,null,"pp://Notes/Name and surname of member of executive board 8[taxonomy=DKGAAP]","pp://Notes/Name and surname of member of executive board 8[taxonomy=DKGAAP,valuelanguage=en]","pp://Notes/Name and surname of member of executive board 8[taxonomy=DKGAAP,period=1_parent]","pp://Notes/Name and surname of member of executive board 8[taxonomy=DKGAAP]",null,null,null,"Name and surname of member of executive board 8",null,null,"Direktionsmedlems navn 8"]
[{"$f":"\"\"&INDEX(PP_Locale,ROW(),PP_LanguageIndex)","v":"Title of member of executive board 8"},"Notes/Title of member of executive board 8[taxonomy=DKGAAP]",null,null,null,null,null,null,null,null,null,"pp://Notes/Title of member of executive board 8[taxonomy=DKGAAP]","pp://Notes/Title of member of executive board 8[taxonomy=DKGAAP,valuelanguage=en]","pp://Notes/Title of member of executive board 8[taxonomy=DKGAAP,period=1_parent]","pp://Notes/Title of member of executive board 8[taxonomy=DKGAAP]",null,null,null,"Title of member of executive board 8",null,null,"Direktionsmedlems titel 8"]
[{"$f":"\"\"&INDEX(PP_Locale,ROW(),PP_LanguageIndex)","v":"Description of member of executive board 8"},"Notes/Description of member of executive board 8[taxonomy=DKGAAP]",null,null,null,null,null,null,null,null,null,"pp://Notes/Description of member of executive board 8[taxonomy=DKGAAP]","pp://Notes/Description of member of executive board 8[taxonomy=DKGAAP,valuelanguage=en]","pp://Notes/Description of member of executive board 8[taxonomy=DKGAAP,period=1_parent]","pp://Notes/Description of member of executive board 8[taxonomy=DKGAAP]",null,null,null,"Description of member of executive board 8",null,null,"Direktionsmedlems beskrivelse 8"]
[{"$f":"\"\"&INDEX(PP_Locale,ROW(),PP_LanguageIndex)","v":""},null,null,null,null,null,null,null,null,null,null,"","","",""]
[{"$f":"\"\"&INDEX(PP_Locale,ROW(),PP_LanguageIndex)","v":"Supervisory board:"},null,null,null,null,null,null,null,null,null,null,"","","","",null,null,null,"Supervisory board:",null,null,"Bestyrelse:"]
[{"$f":"\"\"&INDEX(PP_Locale,ROW(),PP_LanguageIndex)","v":"Name and surname of member of supervisory board 1"},"Notes/Name and surname of member of supervisory board 1[taxonomy=DKGAAP]",null,null,null,null,null,null,null,null,null,"pp://Notes/Name and surname of member of supervisory board 1[taxonomy=DKGAAP]","pp://Notes/Name and surname of member of supervisory board 1[taxonomy=DKGAAP,valuelanguage=en]","pp://Notes/Name and surname of member of supervisory board 1[taxonomy=DKGAAP,period=1_parent]","pp://Notes/Name and surname of member of supervisory board 1[taxonomy=DKGAAP]",null,null,null,"Name and surname of member of supervisory board 1",null,null,"Bestyrelsesmedlems navn 1"]
[{"$f":"\"\"&INDEX(PP_Locale,ROW(),PP_LanguageIndex)","v":"Title of member of supervisory board 1"},"Notes/Title of member of supervisory board 1[taxonomy=DKGAAP]",null,null,null,null,null,null,null,null,null,"pp://Notes/Title of member of supervisory board 1[taxonomy=DKGAAP]","pp://Notes/Title of member of supervisory board 1[taxonomy=DKGAAP,valuelanguage=en]","pp://Notes/Title of member of supervisory board 1[taxonomy=DKGAAP,period=1_parent]","pp://Notes/Title of member of supervisory board 1[taxonomy=DKGAAP]",null,null,null,"Title of member of supervisory board 1",null,null,"Bestyrelsesmedlems titel 1"]
[{"$f":"\"\"&INDEX(PP_Locale,ROW(),PP_LanguageIndex)","v":"Description of member of supervisory board 1"},"Notes/Description of member of supervisory board 1[taxonomy=DKGAAP]",null,null,null,null,null,null,null,null,null,"pp://Notes/Description of member of supervisory board 1[taxonomy=DKGAAP]","pp://Notes/Description of member of supervisory board 1[taxonomy=DKGAAP,valuelanguage=en]","pp://Notes/Description of member of supervisory board 1[taxonomy=DKGAAP,period=1_parent]","pp://Notes/Description of member of supervisory board 1[taxonomy=DKGAAP]",null,null,null,"Description of member of supervisory board 1",null,null,"Bestyrelsesmedlems beskrivelse 1"]
[{"$f":"\"\"&INDEX(PP_Locale,ROW(),PP_LanguageIndex)","v":"Name and surname of member of supervisory board 2"},"Notes/Name and surname of member of supervisory board 2[taxonomy=DKGAAP]",null,null,null,null,null,null,null,null,null,"pp://Notes/Name and surname of member of supervisory board 2[taxonomy=DKGAAP]","pp://Notes/Name and surname of member of supervisory board 2[taxonomy=DKGAAP,valuelanguage=en]","pp://Notes/Name and surname of member of supervisory board 2[taxonomy=DKGAAP,period=1_parent]","pp://Notes/Name and surname of member of supervisory board 2[taxonomy=DKGAAP]",null,null,null,"Name and surname of member of supervisory board 2",null,null,"Bestyrelsesmedlems navn 2"]
[{"$f":"\"\"&INDEX(PP_Locale,ROW(),PP_LanguageIndex)","v":"Title of member of supervisory board 2"},"Notes/Title of member of supervisory board 2[taxonomy=DKGAAP]",null,null,null,null,null,null,null,null,null,"pp://Notes/Title of member of supervisory board 2[taxonomy=DKGAAP]","pp://Notes/Title of member of supervisory board 2[taxonomy=DKGAAP,valuelanguage=en]","pp://Notes/Title of member of supervisory board 2[taxonomy=DKGAAP,period=1_parent]","pp://Notes/Title of member of supervisory board 2[taxonomy=DKGAAP]",null,null,null,"Title of member of supervisory board 2",null,null,"Bestyrelsesmedlems titel 2"]
[{"$f":"\"\"&INDEX(PP_Locale,ROW(),PP_LanguageIndex)","v":"Description of member of supervisory board 2"},"Notes/Description of member of supervisory board 2[taxonomy=DKGAAP]",null,null,null,null,null,null,null,null,null,"pp://Notes/Description of member of supervisory board 2[taxonomy=DKGAAP]","pp://Notes/Description of member of supervisory board 2[taxonomy=DKGAAP,valuelanguage=en]","pp://Notes/Description of member of supervisory board 2[taxonomy=DKGAAP,period=1_parent]","pp://Notes/Description of member of supervisory board 2[taxonomy=DKGAAP]",null,null,null,"Description of member of supervisory board 2",null,null,"Bestyrelsesmedlems beskrivelse 2"]
[{"$f":"\"\"&INDEX(PP_Locale,ROW(),PP_LanguageIndex)","v":"Name and surname of member of supervisory board 3"},"Notes/Name and surname of member of supervisory board 3[taxonomy=DKGAAP]",null,null,null,null,null,null,null,null,null,"pp://Notes/Name and surname of member of supervisory board 3[taxonomy=DKGAAP]","pp://Notes/Name and surname of member of supervisory board 3[taxonomy=DKGAAP,valuelanguage=en]","pp://Notes/Name and surname of member of supervisory board 3[taxonomy=DKGAAP,period=1_parent]","pp://Notes/Name and surname of member of supervisory board 3[taxonomy=DKGAAP]",null,null,null,"Name and surname of member of supervisory board 3",null,null,"Bestyrelsesmedlems navn 3"]
[{"$f":"\"\"&INDEX(PP_Locale,ROW(),PP_LanguageIndex)","v":"Title of member of supervisory board 3"},"Notes/Title of member of supervisory board 3[taxonomy=DKGAAP]",null,null,null,null,null,null,null,null,null,"pp://Notes/Title of member of supervisory board 3[taxonomy=DKGAAP]","pp://Notes/Title of member of supervisory board 3[taxonomy=DKGAAP,valuelanguage=en]","pp://Notes/Title of member of supervisory board 3[taxonomy=DKGAAP,period=1_parent]","pp://Notes/Title of member of supervisory board 3[taxonomy=DKGAAP]",null,null,null,"Title of member of supervisory board 3",null,null,"Bestyrelsesmedlems titel 3"]
[{"$f":"\"\"&INDEX(PP_Locale,ROW(),PP_LanguageIndex)","v":"Description of member of supervisory board 3"},"Notes/Description of member of supervisory board 3[taxonomy=DKGAAP]",null,null,null,null,null,null,null,null,null,"pp://Notes/Description of member of supervisory board 3[taxonomy=DKGAAP]","pp://Notes/Description of member of supervisory board 3[taxonomy=DKGAAP,valuelanguage=en]","pp://Notes/Description of member of supervisory board 3[taxonomy=DKGAAP,period=1_parent]","pp://Notes/Description of member of supervisory board 3[taxonomy=DKGAAP]",null,null,null,"Description of member of supervisory board 3",null,null,"Bestyrelsesmedlems beskrivelse 3"]
[{"$f":"\"\"&INDEX(PP_Locale,ROW(),PP_LanguageIndex)","v":"Name and surname of member of supervisory board 4"},"Notes/Name and surname of member of supervisory board 4[taxonomy=DKGAAP]",null,null,null,null,null,null,null,null,null,"pp://Notes/Name and surname of member of supervisory board 4[taxonomy=DKGAAP]","pp://Notes/Name and surname of member of supervisory board 4[taxonomy=DKGAAP,valuelanguage=en]","pp://Notes/Name and surname of member of supervisory board 4[taxonomy=DKGAAP,period=1_parent]","pp://Notes/Name and surname of member of supervisory board 4[taxonomy=DKGAAP]",null,null,null,"Name and surname of member of supervisory board 4",null,null,"Bestyrelsesmedlems navn 4"]
[{"$f":"\"\"&INDEX(PP_Locale,ROW(),PP_LanguageIndex)","v":"Title of member of supervisory board 4"},"Notes/Title of member of supervisory board 4[taxonomy=DKGAAP]",null,null,null,null,null,null,null,null,null,"pp://Notes/Title of member of supervisory board 4[taxonomy=DKGAAP]","pp://Notes/Title of member of supervisory board 4[taxonomy=DKGAAP,valuelanguage=en]","pp://Notes/Title of member of supervisory board 4[taxonomy=DKGAAP,period=1_parent]","pp://Notes/Title of member of supervisory board 4[taxonomy=DKGAAP]",null,null,null,"Title of member of supervisory board 4",null,null,"Bestyrelsesmedlems titel 4"]
[{"$f":"\"\"&INDEX(PP_Locale,ROW(),PP_LanguageIndex)","v":"Description of member of supervisory board 4"},"Notes/Description of member of supervisory board 4[taxonomy=DKGAAP]",null,null,null,null,null,null,null,null,null,"pp://Notes/Description of member of supervisory board 4[taxonomy=DKGAAP]","pp://Notes/Description of member of supervisory board 4[taxonomy=DKGAAP,valuelanguage=en]","pp://Notes/Description of member of supervisory board 4[taxonomy=DKGAAP,period=1_parent]","pp://Notes/Description of member of supervisory board 4[taxonomy=DKGAAP]",null,null,null,"Description of member of supervisory board 4",null,null,"Bestyrelsesmedlems beskrivelse 4"]
[{"$f":"\"\"&INDEX(PP_Locale,ROW(),PP_LanguageIndex)","v":"Name and surname of member of supervisory board 5"},"Notes/Name and surname of member of supervisory board 5[taxonomy=DKGAAP]",null,null,null,null,null,null,null,null,null,"pp://Notes/Name and surname of member of supervisory board 5[taxonomy=DKGAAP]","pp://Notes/Name and surname of member of supervisory board 5[taxonomy=DKGAAP,valuelanguage=en]","pp://Notes/Name and surname of member of supervisory board 5[taxonomy=DKGAAP,period=1_parent]","pp://Notes/Name and surname of member of supervisory board 5[taxonomy=DKGAAP]",null,null,null,"Name and surname of member of supervisory board 5",null,null,"Bestyrelsesmedlems navn 5"]
[{"$f":"\"\"&INDEX(PP_Locale,ROW(),PP_LanguageIndex)","v":"Title of member of supervisory board 5"},"Notes/Title of member of supervisory board 5[taxonomy=DKGAAP]",null,null,null,null,null,null,null,null,null,"pp://Notes/Title of member of supervisory board 5[taxonomy=DKGAAP]","pp://Notes/Title of member of supervisory board 5[taxonomy=DKGAAP,valuelanguage=en]","pp://Notes/Title of member of supervisory board 5[taxonomy=DKGAAP,period=1_parent]","pp://Notes/Title of member of supervisory board 5[taxonomy=DKGAAP]",null,null,null,"Title of member of supervisory board 5",null,null,"Bestyrelsesmedlems titel 5"]
[{"$f":"\"\"&INDEX(PP_Locale,ROW(),PP_LanguageIndex)","v":"Description of member of supervisory board 5"},"Notes/Description of member of supervisory board 5[taxonomy=DKGAAP]",null,null,null,null,null,null,null,null,null,"pp://Notes/Description of member of supervisory board 5[taxonomy=DKGAAP]","pp://Notes/Description of member of supervisory board 5[taxonomy=DKGAAP,valuelanguage=en]","pp://Notes/Description of member of supervisory board 5[taxonomy=DKGAAP,period=1_parent]","pp://Notes/Description of member of supervisory board 5[taxonomy=DKGAAP]",null,null,null,"Description of member of supervisory board 5",null,null,"Bestyrelsesmedlems beskrivelse 5"]
[{"$f":"\"\"&INDEX(PP_Locale,ROW(),PP_LanguageIndex)","v":"Name and surname of member of supervisory board 6"},"Notes/Name and surname of member of supervisory board 6[taxonomy=DKGAAP]",null,null,null,null,null,null,null,null,null,"pp://Notes/Name and surname of member of supervisory board 6[taxonomy=DKGAAP]","pp://Notes/Name and surname of member of supervisory board 6[taxonomy=DKGAAP,valuelanguage=en]","pp://Notes/Name and surname of member of supervisory board 6[taxonomy=DKGAAP,period=1_parent]","pp://Notes/Name and surname of member of supervisory board 6[taxonomy=DKGAAP]",null,null,null,"Name and surname of member of supervisory board 6",null,null,"Bestyrelsesmedlems navn 6"]
[{"$f":"\"\"&INDEX(PP_Locale,ROW(),PP_LanguageIndex)","v":"Title of member of supervisory board 6"},"Notes/Title of member of supervisory board 6[taxonomy=DKGAAP]",null,null,null,null,null,null,null,null,null,"pp://Notes/Title of member of supervisory board 6[taxonomy=DKGAAP]","pp://Notes/Title of member of supervisory board 6[taxonomy=DKGAAP,valuelanguage=en]","pp://Notes/Title of member of supervisory board 6[taxonomy=DKGAAP,period=1_parent]","pp://Notes/Title of member of supervisory board 6[taxonomy=DKGAAP]",null,null,null,"Title of member of supervisory board 6",null,null,"Bestyrelsesmedlems titel 6"]
[{"$f":"\"\"&INDEX(PP_Locale,ROW(),PP_LanguageIndex)","v":"Description of member of supervisory board 6"},"Notes/Description of member of supervisory board 6[taxonomy=DKGAAP]",null,null,null,null,null,null,null,null,null,"pp://Notes/Description of member of supervisory board 6[taxonomy=DKGAAP]","pp://Notes/Description of member of supervisory board 6[taxonomy=DKGAAP,valuelanguage=en]","pp://Notes/Description of member of supervisory board 6[taxonomy=DKGAAP,period=1_parent]","pp://Notes/Description of member of supervisory board 6[taxonomy=DKGAAP]",null,null,null,"Description of member of supervisory board 6",null,null,"Bestyrelsesmedlems beskrivelse 6"]
[{"$f":"\"\"&INDEX(PP_Locale,ROW(),PP_LanguageIndex)","v":"Name and surname of member of supervisory board 7"},"Notes/Name and surname of member of supervisory board 7[taxonomy=DKGAAP]",null,null,null,null,null,null,null,null,null,"pp://Notes/Name and surname of member of supervisory board 7[taxonomy=DKGAAP]","pp://Notes/Name and surname of member of supervisory board 7[taxonomy=DKGAAP,valuelanguage=en]","pp://Notes/Name and surname of member of supervisory board 7[taxonomy=DKGAAP,period=1_parent]","pp://Notes/Name and surname of member of supervisory board 7[taxonomy=DKGAAP]",null,null,null,"Name and surname of member of supervisory board 7",null,null,"Bestyrelsesmedlems navn 7"]
[{"$f":"\"\"&INDEX(PP_Locale,ROW(),PP_LanguageIndex)","v":"Title of member of supervisory board 7"},"Notes/Title of member of supervisory board 7[taxonomy=DKGAAP]",null,null,null,null,null,null,null,null,null,"pp://Notes/Title of member of supervisory board 7[taxonomy=DKGAAP]","pp://Notes/Title of member of supervisory board 7[taxonomy=DKGAAP,valuelanguage=en]","pp://Notes/Title of member of supervisory board 7[taxonomy=DKGAAP,period=1_parent]","pp://Notes/Title of member of supervisory board 7[taxonomy=DKGAAP]",null,null,null,"Title of member of supervisory board 7",null,null,"Bestyrelsesmedlems titel 7"]
[{"$f":"\"\"&INDEX(PP_Locale,ROW(),PP_LanguageIndex)","v":"Description of member of supervisory board 7"},"Notes/Description of member of supervisory board 7[taxonomy=DKGAAP]",null,null,null,null,null,null,null,null,null,"pp://Notes/Description of member of supervisory board 7[taxonomy=DKGAAP]","pp://Notes/Description of member of supervisory board 7[taxonomy=DKGAAP,valuelanguage=en]","pp://Notes/Description of member of supervisory board 7[taxonomy=DKGAAP,period=1_parent]","pp://Notes/Description of member of supervisory board 7[taxonomy=DKGAAP]",null,null,null,"Description of member of supervisory board 7",null,null,"Bestyrelsesmedlems beskrivelse 7"]
[{"$f":"\"\"&INDEX(PP_Locale,ROW(),PP_LanguageIndex)","v":"Name and surname of member of supervisory board 8"},"Notes/Name and surname of member of supervisory board 8[taxonomy=DKGAAP]",null,null,null,null,null,null,null,null,null,"pp://Notes/Name and surname of member of supervisory board 8[taxonomy=DKGAAP]","pp://Notes/Name and surname of member of supervisory board 8[taxonomy=DKGAAP,valuelanguage=en]","pp://Notes/Name and surname of member of supervisory board 8[taxonomy=DKGAAP,period=1_parent]","pp://Notes/Name and surname of member of supervisory board 8[taxonomy=DKGAAP]",null,null,null,"Name and surname of member of supervisory board 8",null,null,"Bestyrelsesmedlems navn 8"]
[{"$f":"\"\"&INDEX(PP_Locale,ROW(),PP_LanguageIndex)","v":"Title of member of supervisory board 8"},"Notes/Title of member of supervisory board 8[taxonomy=DKGAAP]",null,null,null,null,null,null,null,null,null,"pp://Notes/Title of member of supervisory board 8[taxonomy=DKGAAP]","pp://Notes/Title of member of supervisory board 8[taxonomy=DKGAAP,valuelanguage=en]","pp://Notes/Title of member of supervisory board 8[taxonomy=DKGAAP,period=1_parent]","pp://Notes/Title of member of supervisory board 8[taxonomy=DKGAAP]",null,null,null,"Title of member of supervisory board 8",null,null,"Bestyrelsesmedlems titel 8"]
[{"$f":"\"\"&INDEX(PP_Locale,ROW(),PP_LanguageIndex)","v":"Description of member of supervisory board 8"},"Notes/Description of member of supervisory board 8[taxonomy=DKGAAP]",null,null,null,null,null,null,null,null,null,"pp://Notes/Description of member of supervisory board 8[taxonomy=DKGAAP]","pp://Notes/Description of member of supervisory board 8[taxonomy=DKGAAP,valuelanguage=en]","pp://Notes/Description of member of supervisory board 8[taxonomy=DKGAAP,period=1_parent]","pp://Notes/Description of member of supervisory board 8[taxonomy=DKGAAP]",null,null,null,"Description of member of supervisory board 8",null,null,"Bestyrelsesmedlems beskrivelse 8"]
[{"$f":"\"\"&INDEX(PP_Locale,ROW(),PP_LanguageIndex)","v":"Name and surname of member of supervisory board 9"},"Notes/Name and surname of member of supervisory board 9[taxonomy=DKGAAP]",null,null,null,null,null,null,null,null,null,"pp://Notes/Name and surname of member of supervisory board 9[taxonomy=DKGAAP]","pp://Notes/Name and surname of member of supervisory board 9[taxonomy=DKGAAP,valuelanguage=en]","pp://Notes/Name and surname of member of supervisory board 9[taxonomy=DKGAAP,period=1_parent]","pp://Notes/Name and surname of member of supervisory board 9[taxonomy=DKGAAP]",null,null,null,"Name and surname of member of supervisory board 9",null,null,"Bestyrelsesmedlems navn 9"]
[{"$f":"\"\"&INDEX(PP_Locale,ROW(),PP_LanguageIndex)","v":"Title of member of supervisory board 9"},"Notes/Title of member of supervisory board 9[taxonomy=DKGAAP]",null,null,null,null,null,null,null,null,null,"pp://Notes/Title of member of supervisory board 9[taxonomy=DKGAAP]","pp://Notes/Title of member of supervisory board 9[taxonomy=DKGAAP,valuelanguage=en]","pp://Notes/Title of member of supervisory board 9[taxonomy=DKGAAP,period=1_parent]","pp://Notes/Title of member of supervisory board 9[taxonomy=DKGAAP]",null,null,null,"Title of member of supervisory board 9",null,null,"Bestyrelsesmedlems titel 9"]
[{"$f":"\"\"&INDEX(PP_Locale,ROW(),PP_LanguageIndex)","v":"Description of member of supervisory board 9"},"Notes/Description of member of supervisory board 9[taxonomy=DKGAAP]",null,null,null,null,null,null,null,null,null,"pp://Notes/Description of member of supervisory board 9[taxonomy=DKGAAP]","pp://Notes/Description of member of supervisory board 9[taxonomy=DKGAAP,valuelanguage=en]","pp://Notes/Description of member of supervisory board 9[taxonomy=DKGAAP,period=1_parent]","pp://Notes/Description of member of supervisory board 9[taxonomy=DKGAAP]",null,null,null,"Description of member of supervisory board 9",null,null,"Bestyrelsesmedlems beskrivelse 9"]
[{"$f":"\"\"&INDEX(PP_Locale,ROW(),PP_LanguageIndex)","v":"Name and surname of member of supervisory board 10"},"Notes/Name and surname of member of supervisory board 10[taxonomy=DKGAAP]",null,null,null,null,null,null,null,null,null,"pp://Notes/Name and surname of member of supervisory board 10[taxonomy=DKGAAP]","pp://Notes/Name and surname of member of supervisory board 10[taxonomy=DKGAAP,valuelanguage=en]","pp://Notes/Name and surname of member of supervisory board 10[taxonomy=DKGAAP,period=1_parent]","pp://Notes/Name and surname of member of supervisory board 10[taxonomy=DKGAAP]",null,null,null,"Name and surname of member of supervisory board 10",null,null,"Bestyrelsesmedlems navn 10"]
[{"$f":"\"\"&INDEX(PP_Locale,ROW(),PP_LanguageIndex)","v":"Title of member of supervisory board 10"},"Notes/Title of member of supervisory board 10[taxonomy=DKGAAP]",null,null,null,null,null,null,null,null,null,"pp://Notes/Title of member of supervisory board 10[taxonomy=DKGAAP]","pp://Notes/Title of member of supervisory board 10[taxonomy=DKGAAP,valuelanguage=en]","pp://Notes/Title of member of supervisory board 10[taxonomy=DKGAAP,period=1_parent]","pp://Notes/Title of member of supervisory board 10[taxonomy=DKGAAP]",null,null,null,"Title of member of supervisory board 10",null,null,"Bestyrelsesmedlems titel 10"]
[{"$f":"\"\"&INDEX(PP_Locale,ROW(),PP_LanguageIndex)","v":"Description of member of supervisory board 10"},"Notes/Description of member of supervisory board 10[taxonomy=DKGAAP]",null,null,null,null,null,null,null,null,null,"pp://Notes/Description of member of supervisory board 10[taxonomy=DKGAAP]","pp://Notes/Description of member of supervisory board 10[taxonomy=DKGAAP,valuelanguage=en]","pp://Notes/Description of member of supervisory board 10[taxonomy=DKGAAP,period=1_parent]","pp://Notes/Description of member of supervisory board 10[taxonomy=DKGAAP]",null,null,null,"Description of member of supervisory board 10",null,null,"Bestyrelsesmedlems beskrivelse 10"]
[{"$f":"\"\"&INDEX(PP_Locale,ROW(),PP_LanguageIndex)","v":"Name and surname of member of supervisory board 11"},"Notes/Name and surname of member of supervisory board 11[taxonomy=DKGAAP]",null,null,null,null,null,null,null,null,null,"pp://Notes/Name and surname of member of supervisory board 11[taxonomy=DKGAAP]","pp://Notes/Name and surname of member of supervisory board 11[taxonomy=DKGAAP,valuelanguage=en]","pp://Notes/Name and surname of member of supervisory board 11[taxonomy=DKGAAP,period=1_parent]","pp://Notes/Name and surname of member of supervisory board 11[taxonomy=DKGAAP]",null,null,null,"Name and surname of member of supervisory board 11",null,null,"Bestyrelsesmedlems navn 11"]
[{"$f":"\"\"&INDEX(PP_Locale,ROW(),PP_LanguageIndex)","v":"Title of member of supervisory board 11"},"Notes/Title of member of supervisory board 11[taxonomy=DKGAAP]",null,null,null,null,null,null,null,null,null,"pp://Notes/Title of member of supervisory board 11[taxonomy=DKGAAP]","pp://Notes/Title of member of supervisory board 11[taxonomy=DKGAAP,valuelanguage=en]","pp://Notes/Title of member of supervisory board 11[taxonomy=DKGAAP,period=1_parent]","pp://Notes/Title of member of supervisory board 11[taxonomy=DKGAAP]",null,null,null,"Title of member of supervisory board 11",null,null,"Bestyrelsesmedlems titel 11"]
[{"$f":"\"\"&INDEX(PP_Locale,ROW(),PP_LanguageIndex)","v":"Description of member of supervisory board 11"},"Notes/Description of member of supervisory board 11[taxonomy=DKGAAP]",null,null,null,null,null,null,null,null,null,"pp://Notes/Description of member of supervisory board 11[taxonomy=DKGAAP]","pp://Notes/Description of member of supervisory board 11[taxonomy=DKGAAP,valuelanguage=en]","pp://Notes/Description of member of supervisory board 11[taxonomy=DKGAAP,period=1_parent]","pp://Notes/Description of member of supervisory board 11[taxonomy=DKGAAP]",null,null,null,"Description of member of supervisory board 11",null,null,"Bestyrelsesmedlems beskrivelse 11"]
[{"$f":"\"\"&INDEX(PP_Locale,ROW(),PP_LanguageIndex)","v":"Name and surname of member of supervisory board 12"},"Notes/Name and surname of member of supervisory board 12[taxonomy=DKGAAP]",null,null,null,null,null,null,null,null,null,"pp://Notes/Name and surname of member of supervisory board 12[taxonomy=DKGAAP]","pp://Notes/Name and surname of member of supervisory board 12[taxonomy=DKGAAP,valuelanguage=en]","pp://Notes/Name and surname of member of supervisory board 12[taxonomy=DKGAAP,period=1_parent]","pp://Notes/Name and surname of member of supervisory board 12[taxonomy=DKGAAP]",null,null,null,"Name and surname of member of supervisory board 12",null,null,"Bestyrelsesmedlems navn 12"]
[{"$f":"\"\"&INDEX(PP_Locale,ROW(),PP_LanguageIndex)","v":"Title of member of supervisory board 12"},"Notes/Title of member of supervisory board 12[taxonomy=DKGAAP]",null,null,null,null,null,null,null,null,null,"pp://Notes/Title of member of supervisory board 12[taxonomy=DKGAAP]","pp://Notes/Title of member of supervisory board 12[taxonomy=DKGAAP,valuelanguage=en]","pp://Notes/Title of member of supervisory board 12[taxonomy=DKGAAP,period=1_parent]","pp://Notes/Title of member of supervisory board 12[taxonomy=DKGAAP]",null,null,null,"Title of member of supervisory board 12",null,null,"Bestyrelsesmedlems titel 12"]
[{"$f":"\"\"&INDEX(PP_Locale,ROW(),PP_LanguageIndex)","v":"Description of member of supervisory board 12"},"Notes/Description of member of supervisory board 12[taxonomy=DKGAAP]",null,null,null,null,null,null,null,null,null,"pp://Notes/Description of member of supervisory board 12[taxonomy=DKGAAP]","pp://Notes/Description of member of supervisory board 12[taxonomy=DKGAAP,valuelanguage=en]","pp://Notes/Description of member of supervisory board 12[taxonomy=DKGAAP,period=1_parent]","pp://Notes/Description of member of supervisory board 12[taxonomy=DKGAAP]",null,null,null,"Description of member of supervisory board 12",null,null,"Bestyrelsesmedlems beskrivelse 12"]
[{"$f":"\"\"&INDEX(PP_Locale,ROW(),PP_LanguageIndex)","v":"Name and surname of member of supervisory board 13"},"Notes/Name and surname of member of supervisory board 13[taxonomy=DKGAAP]",null,null,null,null,null,null,null,null,null,"pp://Notes/Name and surname of member of supervisory board 13[taxonomy=DKGAAP]","pp://Notes/Name and surname of member of supervisory board 13[taxonomy=DKGAAP,valuelanguage=en]","pp://Notes/Name and surname of member of supervisory board 13[taxonomy=DKGAAP,period=1_parent]","pp://Notes/Name and surname of member of supervisory board 13[taxonomy=DKGAAP]",null,null,null,"Name and surname of member of supervisory board 13",null,null,"Bestyrelsesmedlems navn 13"]
[{"$f":"\"\"&INDEX(PP_Locale,ROW(),PP_LanguageIndex)","v":"Title of member of supervisory board 13"},"Notes/Title of member of supervisory board 13[taxonomy=DKGAAP]",null,null,null,null,null,null,null,null,null,"pp://Notes/Title of member of supervisory board 13[taxonomy=DKGAAP]","pp://Notes/Title of member of supervisory board 13[taxonomy=DKGAAP,valuelanguage=en]","pp://Notes/Title of member of supervisory board 13[taxonomy=DKGAAP,period=1_parent]","pp://Notes/Title of member of supervisory board 13[taxonomy=DKGAAP]",null,null,null,"Title of member of supervisory board 13",null,null,"Bestyrelsesmedlems titel 13"]
[{"$f":"\"\"&INDEX(PP_Locale,ROW(),PP_LanguageIndex)","v":"Description of member of supervisory board 13"},"Notes/Description of member of supervisory board 13[taxonomy=DKGAAP]",null,null,null,null,null,null,null,null,null,"pp://Notes/Description of member of supervisory board 13[taxonomy=DKGAAP]","pp://Notes/Description of member of supervisory board 13[taxonomy=DKGAAP,valuelanguage=en]","pp://Notes/Description of member of supervisory board 13[taxonomy=DKGAAP,period=1_parent]","pp://Notes/Description of member of supervisory board 13[taxonomy=DKGAAP]",null,null,null,"Description of member of supervisory board 13",null,null,"Bestyrelsesmedlems beskrivelse 13"]
[{"$f":"\"\"&INDEX(PP_Locale,ROW(),PP_LanguageIndex)","v":"Name and surname of member of supervisory board 14"},"Notes/Name and surname of member of supervisory board 14[taxonomy=DKGAAP]",null,null,null,null,null,null,null,null,null,{"$f":"IF(COUNTBLANK(L$1),$O154,SUBSTITUTE($O154,\"DKGAAP]\",\"DKGAAP,\"&L$1&\"]\"))","v":"pp://Notes/Name and surname of member of supervisory board 14[taxonomy=DKGAAP]"},"pp://Notes/Name and surname of member of supervisory board 14[taxonomy=DKGAAP,valuelanguage=en]","pp://Notes/Name and surname of member of supervisory board 14[taxonomy=DKGAAP,period=1_parent]","pp://Notes/Name and surname of member of supervisory board 14[taxonomy=DKGAAP]",null,null,null,"Name and surname of member of supervisory board 14",null,null,"Bestyrelsesmedlems navn 14"]
[{"$f":"\"\"&INDEX(PP_Locale,ROW(),PP_LanguageIndex)","v":"Title of member of supervisory board 14"},"Notes/Title of member of supervisory board 14[taxonomy=DKGAAP]",null,null,null,null,null,null,null,null,null,"pp://Notes/Title of member of supervisory board 14[taxonomy=DKGAAP]","pp://Notes/Title of member of supervisory board 14[taxonomy=DKGAAP,valuelanguage=en]","pp://Notes/Title of member of supervisory board 14[taxonomy=DKGAAP,period=1_parent]","pp://Notes/Title of member of supervisory board 14[taxonomy=DKGAAP]",null,null,null,"Title of member of supervisory board 14",null,null,"Bestyrelsesmedlems titel 14"]
[{"$f":"\"\"&INDEX(PP_Locale,ROW(),PP_LanguageIndex)","v":"Description of member of supervisory board 14"},"Notes/Description of member of supervisory board 14[taxonomy=DKGAAP]",null,null,null,null,null,null,null,null,null,"pp://Notes/Description of member of supervisory board 14[taxonomy=DKGAAP]","pp://Notes/Description of member of supervisory board 14[taxonomy=DKGAAP,valuelanguage=en]","pp://Notes/Description of member of supervisory board 14[taxonomy=DKGAAP,period=1_parent]","pp://Notes/Description of member of supervisory board 14[taxonomy=DKGAAP]",null,null,null,"Description of member of supervisory board 14",null,null,"Bestyrelsesmedlems beskrivelse 14"]
[{"$f":"\"\"&INDEX(PP_Locale,ROW(),PP_LanguageIndex)","v":"Name and surname of member of supervisory board 15"},"Notes/Name and surname of member of supervisory board 15[taxonomy=DKGAAP]",null,null,null,null,null,null,null,null,null,"pp://Notes/Name and surname of member of supervisory board 15[taxonomy=DKGAAP]","pp://Notes/Name and surname of member of supervisory board 15[taxonomy=DKGAAP,valuelanguage=en]","pp://Notes/Name and surname of member of supervisory board 15[taxonomy=DKGAAP,period=1_parent]","pp://Notes/Name and surname of member of supervisory board 15[taxonomy=DKGAAP]",null,null,null,"Name and surname of member of supervisory board 15",null,null,"Bestyrelsesmedlems navn 15"]
[{"$f":"\"\"&INDEX(PP_Locale,ROW(),PP_LanguageIndex)","v":"Title of member of supervisory board 15"},"Notes/Title of member of supervisory board 15[taxonomy=DKGAAP]",null,null,null,null,null,null,null,null,null,"pp://Notes/Title of member of supervisory board 15[taxonomy=DKGAAP]","pp://Notes/Title of member of supervisory board 15[taxonomy=DKGAAP,valuelanguage=en]","pp://Notes/Title of member of supervisory board 15[taxonomy=DKGAAP,period=1_parent]","pp://Notes/Title of member of supervisory board 15[taxonomy=DKGAAP]",null,null,null,"Title of member of supervisory board 15",null,null,"Bestyrelsesmedlems titel 15"]
[{"$f":"\"\"&INDEX(PP_Locale,ROW(),PP_LanguageIndex)","v":"Description of member of supervisory board 15"},"Notes/Description of member of supervisory board 15[taxonomy=DKGAAP]",null,null,null,null,null,null,null,null,null,"pp://Notes/Description of member of supervisory board 15[taxonomy=DKGAAP]","pp://Notes/Description of member of supervisory board 15[taxonomy=DKGAAP,valuelanguage=en]","pp://Notes/Description of member of supervisory board 15[taxonomy=DKGAAP,period=1_parent]","pp://Notes/Description of member of supervisory board 15[taxonomy=DKGAAP]",null,null,null,"Description of member of supervisory board 15",null,null,"Bestyrelsesmedlems beskrivelse 15"]
[{"$f":"\"\"&INDEX(PP_Locale,ROW(),PP_LanguageIndex)","v":"Name and surname of member of supervisory board 16"},"Notes/Name and surname of member of supervisory board 16[taxonomy=DKGAAP]",null,null,null,null,null,null,null,null,null,"pp://Notes/Name and surname of member of supervisory board 16[taxonomy=DKGAAP]","pp://Notes/Name and surname of member of supervisory board 16[taxonomy=DKGAAP,valuelanguage=en]","pp://Notes/Name and surname of member of supervisory board 16[taxonomy=DKGAAP,period=1_parent]","pp://Notes/Name and surname of member of supervisory board 16[taxonomy=DKGAAP]",null,null,null,"Name and surname of member of supervisory board 16",null,null,"Bestyrelsesmedlems navn 16"]
[{"$f":"\"\"&INDEX(PP_Locale,ROW(),PP_LanguageIndex)","v":"Title of member of supervisory board 16"},"Notes/Title of member of supervisory board 16[taxonomy=DKGAAP]",null,null,null,null,null,null,null,null,null,"pp://Notes/Title of member of supervisory board 16[taxonomy=DKGAAP]","pp://Notes/Title of member of supervisory board 16[taxonomy=DKGAAP,valuelanguage=en]","pp://Notes/Title of member of supervisory board 16[taxonomy=DKGAAP,period=1_parent]","pp://Notes/Title of member of supervisory board 16[taxonomy=DKGAAP]",null,null,null,"Title of member of supervisory board 16",null,null,"Bestyrelsesmedlems titel 16"]
[{"$f":"\"\"&INDEX(PP_Locale,ROW(),PP_LanguageIndex)","v":"Description of member of supervisory board 16"},"Notes/Description of member of supervisory board 16[taxonomy=DKGAAP]",null,null,null,null,null,null,null,null,null,"pp://Notes/Description of member of supervisory board 16[taxonomy=DKGAAP]","pp://Notes/Description of member of supervisory board 16[taxonomy=DKGAAP,valuelanguage=en]","pp://Notes/Description of member of supervisory board 16[taxonomy=DKGAAP,period=1_parent]","pp://Notes/Description of member of supervisory board 16[taxonomy=DKGAAP]",null,null,null,"Description of member of supervisory board 16",null,null,"Bestyrelsesmedlems beskrivelse 16"]
[{"$f":"\"\"&INDEX(PP_Locale,ROW(),PP_LanguageIndex)","v":"Name and surname of member of supervisory board 17"},"Notes/Name and surname of member of supervisory board 17[taxonomy=DKGAAP]",null,null,null,null,null,null,null,null,null,"pp://Notes/Name and surname of member of supervisory board 17[taxonomy=DKGAAP]","pp://Notes/Name and surname of member of supervisory board 17[taxonomy=DKGAAP,valuelanguage=en]","pp://Notes/Name and surname of member of supervisory board 17[taxonomy=DKGAAP,period=1_parent]","pp://Notes/Name and surname of member of supervisory board 17[taxonomy=DKGAAP]",null,null,null,"Name and surname of member of supervisory board 17",null,null,"Bestyrelsesmedlems navn 17"]
[{"$f":"\"\"&INDEX(PP_Locale,ROW(),PP_LanguageIndex)","v":"Title of member of supervisory board 17"},"Notes/Title of member of supervisory board 17[taxonomy=DKGAAP]",null,null,null,null,null,null,null,null,null,"pp://Notes/Title of member of supervisory board 17[taxonomy=DKGAAP]","pp://Notes/Title of member of supervisory board 17[taxonomy=DKGAAP,valuelanguage=en]","pp://Notes/Title of member of supervisory board 17[taxonomy=DKGAAP,period=1_parent]","pp://Notes/Title of member of supervisory board 17[taxonomy=DKGAAP]",null,null,null,"Title of member of supervisory board 17",null,null,"Bestyrelsesmedlems titel 17"]
[{"$f":"\"\"&INDEX(PP_Locale,ROW(),PP_LanguageIndex)","v":"Description of member of supervisory board 17"},"Notes/Description of member of supervisory board 17[taxonomy=DKGAAP]",null,null,null,null,null,null,null,null,null,"pp://Notes/Description of member of supervisory board 17[taxonomy=DKGAAP]","pp://Notes/Description of member of supervisory board 17[taxonomy=DKGAAP,valuelanguage=en]","pp://Notes/Description of member of supervisory board 17[taxonomy=DKGAAP,period=1_parent]","pp://Notes/Description of member of supervisory board 17[taxonomy=DKGAAP]",null,null,null,"Description of member of supervisory board 17",null,null,"Bestyrelsesmedlems beskrivelse 17"]
[{"$f":"\"\"&INDEX(PP_Locale,ROW(),PP_LanguageIndex)","v":"Name and surname of member of supervisory board 18"},"Notes/Name and surname of member of supervisory board 18[taxonomy=DKGAAP]",null,null,null,null,null,null,null,null,null,"pp://Notes/Name and surname of member of supervisory board 18[taxonomy=DKGAAP]","pp://Notes/Name and surname of member of supervisory board 18[taxonomy=DKGAAP,valuelanguage=en]","pp://Notes/Name and surname of member of supervisory board 18[taxonomy=DKGAAP,period=1_parent]","pp://Notes/Name and surname of member of supervisory board 18[taxonomy=DKGAAP]",null,null,null,"Name and surname of member of supervisory board 18",null,null,"Bestyrelsesmedlems navn 18"]
[{"$f":"\"\"&INDEX(PP_Locale,ROW(),PP_LanguageIndex)","v":"Title of member of supervisory board 18"},"Notes/Title of member of supervisory board 18[taxonomy=DKGAAP]",null,null,null,null,null,null,null,null,null,"pp://Notes/Title of member of supervisory board 18[taxonomy=DKGAAP]","pp://Notes/Title of member of supervisory board 18[taxonomy=DKGAAP,valuelanguage=en]","pp://Notes/Title of member of supervisory board 18[taxonomy=DKGAAP,period=1_parent]","pp://Notes/Title of member of supervisory board 18[taxonomy=DKGAAP]",null,null,null,"Title of member of supervisory board 18",null,null,"Bestyrelsesmedlems titel 18"]
[{"$f":"\"\"&INDEX(PP_Locale,ROW(),PP_LanguageIndex)","v":"Description of member of supervisory board 18"},"Notes/Description of member of supervisory board 18[taxonomy=DKGAAP]",null,null,null,null,null,null,null,null,null,"pp://Notes/Description of member of supervisory board 18[taxonomy=DKGAAP]","pp://Notes/Description of member of supervisory board 18[taxonomy=DKGAAP,valuelanguage=en]","pp://Notes/Description of member of supervisory board 18[taxonomy=DKGAAP,period=1_parent]","pp://Notes/Description of member of supervisory board 18[taxonomy=DKGAAP]",null,null,null,"Description of member of supervisory board 18",null,null,"Bestyrelsesmedlems beskrivelse 18"]
[{"$f":"\"\"&INDEX(PP_Locale,ROW(),PP_LanguageIndex)","v":"Name and surname of member of supervisory board 19"},"Notes/Name and surname of member of supervisory board 19[taxonomy=DKGAAP]",null,null,null,null,null,null,null,null,null,"pp://Notes/Name and surname of member of supervisory board 19[taxonomy=DKGAAP]","pp://Notes/Name and surname of member of supervisory board 19[taxonomy=DKGAAP,valuelanguage=en]","pp://Notes/Name and surname of member of supervisory board 19[taxonomy=DKGAAP,period=1_parent]","pp://Notes/Name and surname of member of supervisory board 19[taxonomy=DKGAAP]",null,null,null,"Name and surname of member of supervisory board 19",null,null,"Bestyrelsesmedlems navn 19"]
[{"$f":"\"\"&INDEX(PP_Locale,ROW(),PP_LanguageIndex)","v":"Title of member of supervisory board 19"},"Notes/Title of member of supervisory board 19[taxonomy=DKGAAP]",null,null,null,null,null,null,null,null,null,"pp://Notes/Title of member of supervisory board 19[taxonomy=DKGAAP]","pp://Notes/Title of member of supervisory board 19[taxonomy=DKGAAP,valuelanguage=en]","pp://Notes/Title of member of supervisory board 19[taxonomy=DKGAAP,period=1_parent]","pp://Notes/Title of member of supervisory board 19[taxonomy=DKGAAP]",null,null,null,"Title of member of supervisory board 19",null,null,"Bestyrelsesmedlems titel 19"]
[{"$f":"\"\"&INDEX(PP_Locale,ROW(),PP_LanguageIndex)","v":"Description of member of supervisory board 19"},"Notes/Description of member of supervisory board 19[taxonomy=DKGAAP]",null,null,null,null,null,null,null,null,null,"pp://Notes/Description of member of supervisory board 19[taxonomy=DKGAAP]","pp://Notes/Description of member of supervisory board 19[taxonomy=DKGAAP,valuelanguage=en]","pp://Notes/Description of member of supervisory board 19[taxonomy=DKGAAP,period=1_parent]","pp://Notes/Description of member of supervisory board 19[taxonomy=DKGAAP]",null,null,null,"Description of member of supervisory board 19",null,null,"Bestyrelsesmedlems beskrivelse 19"]
[{"$f":"\"\"&INDEX(PP_Locale,ROW(),PP_LanguageIndex)","v":"Name and surname of member of supervisory board 20"},"Notes/Name and surname of member of supervisory board 20[taxonomy=DKGAAP]",null,null,null,null,null,null,null,null,null,"pp://Notes/Name and surname of member of supervisory board 20[taxonomy=DKGAAP]","pp://Notes/Name and surname of member of supervisory board 20[taxonomy=DKGAAP,valuelanguage=en]","pp://Notes/Name and surname of member of supervisory board 20[taxonomy=DKGAAP,period=1_parent]","pp://Notes/Name and surname of member of supervisory board 20[taxonomy=DKGAAP]",null,null,null,"Name and surname of member of supervisory board 20",null,null,"Bestyrelsesmedlems navn 20"]
[{"$f":"\"\"&INDEX(PP_Locale,ROW(),PP_LanguageIndex)","v":"Title of member of supervisory board 20"},"Notes/Title of member of supervisory board 20[taxonomy=DKGAAP]",null,null,null,null,null,null,null,null,null,"pp://Notes/Title of member of supervisory board 20[taxonomy=DKGAAP]","pp://Notes/Title of member of supervisory board 20[taxonomy=DKGAAP,valuelanguage=en]","pp://Notes/Title of member of supervisory board 20[taxonomy=DKGAAP,period=1_parent]","pp://Notes/Title of member of supervisory board 20[taxonomy=DKGAAP]",null,null,null,"Title of member of supervisory board 20",null,null,"Bestyrelsesmedlems titel 20"]
[{"$f":"\"\"&INDEX(PP_Locale,ROW(),PP_LanguageIndex)","v":"Description of member of supervisory board 20"},"Notes/Description of member of supervisory board 20[taxonomy=DKGAAP]",null,null,null,null,null,null,null,null,null,"pp://Notes/Description of member of supervisory board 20[taxonomy=DKGAAP]","pp://Notes/Description of member of supervisory board 20[taxonomy=DKGAAP,valuelanguage=en]","pp://Notes/Description of member of supervisory board 20[taxonomy=DKGAAP,period=1_parent]","pp://Notes/Description of member of supervisory board 20[taxonomy=DKGAAP]",null,null,null,"Description of member of supervisory board 20",null,null,"Bestyrelsesmedlems beskrivelse 20"]
[{"$f":"\"\"&INDEX(PP_Locale,ROW(),PP_LanguageIndex)","v":""},null,null,null,null,null,null,null,null,null,null,"","","",""]
[{"$f":"\"\"&INDEX(PP_Locale,ROW(),PP_LanguageIndex)","v":"Signature of auditors, place"},"Notes/Signature of auditors, place[taxonomy=DKGAAP]",null,null,null,null,null,null,null,null,null,"pp://Notes/Signature of auditors, place[taxonomy=DKGAAP]","pp://Notes/Signature of auditors, place[taxonomy=DKGAAP,valuelanguage=en]","pp://Notes/Signature of auditors, place[taxonomy=DKGAAP,period=1_parent]","pp://Notes/Signature of auditors, place[taxonomy=DKGAAP]",null,null,null,"Signature of auditors, place",null,null,"Revisors underskrift, sted"]
[{"$f":"\"\"&INDEX(PP_Locale,ROW(),PP_LanguageIndex)","v":"Signature of auditors, date"},"Notes/Signature of auditors, date[taxonomy=DKGAAP]",null,null,null,null,null,null,null,null,null,"pp://Notes/Signature of auditors, date[taxonomy=DKGAAP]","pp://Notes/Signature of auditors, date[taxonomy=DKGAAP,valuelanguage=en]","pp://Notes/Signature of auditors, date[taxonomy=DKGAAP,period=1_parent]","pp://Notes/Signature of auditors, date[taxonomy=DKGAAP]",null,null,null,"Signature of auditors, date",null,null,"Revisors underskrift, dato"]
[{"$f":"\"\"&INDEX(PP_Locale,ROW(),PP_LanguageIndex)","v":""},null,null,null,null,null,null,null,null,null,null,"","","",""]
[{"$f":"\"\"&INDEX(PP_Locale,ROW(),PP_LanguageIndex)","v":"Auditor 1:"},null,null,null,null,null,null,null,null,null,null,"","","","",null,null,null,"Auditor 1:",null,null,"Revisor 1:"]
[{"$f":"\"\"&INDEX(PP_Locale,ROW(),PP_LanguageIndex)","v":"Name and surname of auditor 1"},"Notes/Name and surname of auditor 1[taxonomy=DKGAAP]",null,null,null,null,null,null,null,null,null,"pp://Notes/Name and surname of auditor 1[taxonomy=DKGAAP]","pp://Notes/Name and surname of auditor 1[taxonomy=DKGAAP,valuelanguage=en]","pp://Notes/Name and surname of auditor 1[taxonomy=DKGAAP,period=1_parent]","pp://Notes/Name and surname of auditor 1[taxonomy=DKGAAP]",null,null,null,"Name and surname of auditor 1",null,null,"Revisors navn 1"]
[{"$f":"\"\"&INDEX(PP_Locale,ROW(),PP_LanguageIndex)","v":"Description of auditor 1"},"Notes/Description of auditor 1[taxonomy=DKGAAP]",null,null,null,null,null,null,null,null,null,"pp://Notes/Description of auditor 1[taxonomy=DKGAAP]","pp://Notes/Description of auditor 1[taxonomy=DKGAAP,valuelanguage=en]","pp://Notes/Description of auditor 1[taxonomy=DKGAAP,period=1_parent]","pp://Notes/Description of auditor 1[taxonomy=DKGAAP]",null,null,null,"Description of auditor 1",null,null,"Revisors titel 1"]
[{"$f":"\"\"&INDEX(PP_Locale,ROW(),PP_LanguageIndex)","v":"Identification number of auditor 1"},"Notes/Identification number of auditor 1[taxonomy=DKGAAP]",null,null,null,null,null,null,null,null,null,"pp://Notes/Identification number of auditor 1[taxonomy=DKGAAP]","pp://Notes/Identification number of auditor 1[taxonomy=DKGAAP,valuelanguage=en]","pp://Notes/Identification number of auditor 1[taxonomy=DKGAAP,period=1_parent]","pp://Notes/Identification number of auditor 1[taxonomy=DKGAAP]",null,null,null,"Identification number of auditor 1",null,null,"Revisors MNE-nr. 1"]
[{"$f":"\"\"&INDEX(PP_Locale,ROW(),PP_LanguageIndex)","v":"Legal Entity Identifier [LEI] of audit firm 1"},"Notes/Legal Entity Identifier [LEI] of audit firm 1[taxonomy=DKGAAP]",null,null,null,null,null,null,null,null,null,"pp://Notes/Legal Entity Identifier [LEI] of audit firm 1[taxonomy=DKGAAP]","pp://Notes/Legal Entity Identifier [LEI] of audit firm 1[taxonomy=DKGAAP,valuelanguage=en]","pp://Notes/Legal Entity Identifier [LEI] of audit firm 1[taxonomy=DKGAAP,period=1_parent]","pp://Notes/Legal Entity Identifier [LEI] of audit firm 1[taxonomy=DKGAAP]",null,null,null,"Legal Entity Identifier [LEI] of audit firm 1",null,null,"Revisionsvirksomhedens LEI-kode 1"]
[{"$f":"\"\"&INDEX(PP_Locale,ROW(),PP_LanguageIndex)","v":"Identification number [CVR] of audit firm 1"},"Notes/Identification number [CVR] of audit firm 1[taxonomy=DKGAAP]",null,null,null,null,null,null,null,null,null,"pp://Notes/Identification number [CVR] of audit firm 1[taxonomy=DKGAAP]","pp://Notes/Identification number [CVR] of audit firm 1[taxonomy=DKGAAP,valuelanguage=en]","pp://Notes/Identification number [CVR] of audit firm 1[taxonomy=DKGAAP,period=1_parent]","pp://Notes/Identification number [CVR] of audit firm 1[taxonomy=DKGAAP]",null,null,null,"Identification number [CVR] of audit firm 1",null,null,"Revisionsvirksomhedens CVR-nr. 1"]
[{"$f":"\"\"&INDEX(PP_Locale,ROW(),PP_LanguageIndex)","v":"Identification number [PNR] of audit firm 1"},"Notes/Identification number [PNR] of audit firm 1[taxonomy=DKGAAP]",null,null,null,null,null,null,null,null,null,"pp://Notes/Identification number [PNR] of audit firm 1[taxonomy=DKGAAP]","pp://Notes/Identification number [PNR] of audit firm 1[taxonomy=DKGAAP,valuelanguage=en]","pp://Notes/Identification number [PNR] of audit firm 1[taxonomy=DKGAAP,period=1_parent]","pp://Notes/Identification number [PNR] of audit firm 1[taxonomy=DKGAAP]",null,null,null,"Identification number [PNR] of audit firm 1",null,null,"Revisionsvirksomhedens P-nr. 1"]
[{"$f":"\"\"&INDEX(PP_Locale,ROW(),PP_LanguageIndex)","v":"Name of audit firm 1"},"Notes/Name of audit firm 1[taxonomy=DKGAAP]",null,null,null,null,null,null,null,null,null,"pp://Notes/Name of audit firm 1[taxonomy=DKGAAP]","pp://Notes/Name of audit firm 1[taxonomy=DKGAAP,valuelanguage=en]","pp://Notes/Name of audit firm 1[taxonomy=DKGAAP,period=1_parent]","pp://Notes/Name of audit firm 1[taxonomy=DKGAAP]",null,null,null,"Name of audit firm 1",null,null,"Revisionsvirksomhedens navn 1"]
[{"$f":"\"\"&INDEX(PP_Locale,ROW(),PP_LanguageIndex)","v":"Address of auditor, street name 1"},"Notes/Address of auditor, street name 1[taxonomy=DKGAAP]",null,null,null,null,null,null,null,null,null,"pp://Notes/Address of auditor, street name 1[taxonomy=DKGAAP]","pp://Notes/Address of auditor, street name 1[taxonomy=DKGAAP,valuelanguage=en]","pp://Notes/Address of auditor, street name 1[taxonomy=DKGAAP,period=1_parent]","pp://Notes/Address of auditor, street name 1[taxonomy=DKGAAP]",null,null,null,"Address of auditor, street name 1",null,null,"Revisionsvirksomhedens adresse, vejnavn 1"]
[{"$f":"\"\"&INDEX(PP_Locale,ROW(),PP_LanguageIndex)","v":"Address of auditor, street building identifier 1"},"Notes/Address of auditor, street building identifier 1[taxonomy=DKGAAP]",null,null,null,null,null,null,null,null,null,"pp://Notes/Address of auditor, street building identifier 1[taxonomy=DKGAAP]","pp://Notes/Address of auditor, street building identifier 1[taxonomy=DKGAAP,valuelanguage=en]","pp://Notes/Address of auditor, street building identifier 1[taxonomy=DKGAAP,period=1_parent]","pp://Notes/Address of auditor, street building identifier 1[taxonomy=DKGAAP]",null,null,null,"Address of auditor, street building identifier 1",null,null,"Revisionsvirksomhedens adresse, vejnr og etage 1"]
[{"$f":"\"\"&INDEX(PP_Locale,ROW(),PP_LanguageIndex)","v":"Address of auditor, post code identifier 1"},"Notes/Address of auditor, post code identifier 1[taxonomy=DKGAAP]",null,null,null,null,null,null,null,null,null,"pp://Notes/Address of auditor, post code identifier 1[taxonomy=DKGAAP]","pp://Notes/Address of auditor, post code identifier 1[taxonomy=DKGAAP,valuelanguage=en]","pp://Notes/Address of auditor, post code identifier 1[taxonomy=DKGAAP,period=1_parent]","pp://Notes/Address of auditor, post code identifier 1[taxonomy=DKGAAP]",null,null,null,"Address of auditor, post code identifier 1",null,null,"Revisionsvirksomhedens adresse, postnummer 1"]
[{"$f":"\"\"&INDEX(PP_Locale,ROW(),PP_LanguageIndex)","v":"Address of auditor, district name 1"},"Notes/Address of auditor, district name 1[taxonomy=DKGAAP]",null,null,null,null,null,null,null,null,null,"pp://Notes/Address of auditor, district name 1[taxonomy=DKGAAP]","pp://Notes/Address of auditor, district name 1[taxonomy=DKGAAP,valuelanguage=en]","pp://Notes/Address of auditor, district name 1[taxonomy=DKGAAP,period=1_parent]","pp://Notes/Address of auditor, district name 1[taxonomy=DKGAAP]",null,null,null,"Address of auditor, district name 1",null,null,"Revisionsvirksomhedens adresse, by 1"]
[{"$f":"\"\"&INDEX(PP_Locale,ROW(),PP_LanguageIndex)","v":"Address of auditor, country 1"},"Notes/Address of auditor, country 1[taxonomy=DKGAAP]",null,null,null,null,null,null,null,null,null,"pp://Notes/Address of auditor, country 1[taxonomy=DKGAAP]","pp://Notes/Address of auditor, country 1[taxonomy=DKGAAP,valuelanguage=en]","pp://Notes/Address of auditor, country 1[taxonomy=DKGAAP,period=1_parent]","pp://Notes/Address of auditor, country 1[taxonomy=DKGAAP]",null,null,null,"Address of auditor, country 1",null,null,"Revisionsvirksomhedens adresse, land 1"]
[{"$f":"\"\"&INDEX(PP_Locale,ROW(),PP_LanguageIndex)","v":"Address of auditor, country identification code 1"},"Notes/Address of auditor, country identification code 1[taxonomy=DKGAAP]",null,null,null,null,null,null,null,null,null,"pp://Notes/Address of auditor, country identification code 1[taxonomy=DKGAAP]","pp://Notes/Address of auditor, country identification code 1[taxonomy=DKGAAP,valuelanguage=en]","pp://Notes/Address of auditor, country identification code 1[taxonomy=DKGAAP,period=1_parent]","pp://Notes/Address of auditor, country identification code 1[taxonomy=DKGAAP]",null,null,null,"Address of auditor, country identification code 1",null,null,"Revisionsvirksomhedens adresse, landekode 1"]
[{"$f":"\"\"&INDEX(PP_Locale,ROW(),PP_LanguageIndex)","v":"Telephone number of auditor 1"},"Notes/Telephone number of auditor 1[taxonomy=DKGAAP]",null,null,null,null,null,null,null,null,null,"pp://Notes/Telephone number of auditor 1[taxonomy=DKGAAP]","pp://Notes/Telephone number of auditor 1[taxonomy=DKGAAP,valuelanguage=en]","pp://Notes/Telephone number of auditor 1[taxonomy=DKGAAP,period=1_parent]","pp://Notes/Telephone number of auditor 1[taxonomy=DKGAAP]",null,null,null,"Telephone number of auditor 1",null,null,"Revisionsvirksomhedens telefonnummer 1"]
[{"$f":"\"\"&INDEX(PP_Locale,ROW(),PP_LanguageIndex)","v":"E-mail of auditor 1"},"Notes/E-mail of auditor 1[taxonomy=DKGAAP]",null,null,null,null,null,null,null,null,null,"pp://Notes/E-mail of auditor 1[taxonomy=DKGAAP]","pp://Notes/E-mail of auditor 1[taxonomy=DKGAAP,valuelanguage=en]","pp://Notes/E-mail of auditor 1[taxonomy=DKGAAP,period=1_parent]","pp://Notes/E-mail of auditor 1[taxonomy=DKGAAP]",null,null,null,"E-mail of auditor 1",null,null,"Revisionsvirksomhedens e-mail 1"]
[{"$f":"\"\"&INDEX(PP_Locale,ROW(),PP_LanguageIndex)","v":""},null,null,null,null,null,null,null,null,null,null,"","","",""]
[{"$f":"\"\"&INDEX(PP_Locale,ROW(),PP_LanguageIndex)","v":"Auditor 2:"},null,null,null,null,null,null,null,null,null,null,"","","","",null,null,null,"Auditor 2:",null,null,"Revisor 2:"]
[{"$f":"\"\"&INDEX(PP_Locale,ROW(),PP_LanguageIndex)","v":"Name and surname of auditor 2"},"Notes/Name and surname of auditor 2[taxonomy=DKGAAP]",null,null,null,null,null,null,null,null,null,"pp://Notes/Name and surname of auditor 2[taxonomy=DKGAAP]","pp://Notes/Name and surname of auditor 2[taxonomy=DKGAAP,valuelanguage=en]","pp://Notes/Name and surname of auditor 2[taxonomy=DKGAAP,period=1_parent]","pp://Notes/Name and surname of auditor 2[taxonomy=DKGAAP]",null,null,null,"Name and surname of auditor 2",null,null,"Revisors navn 2"]
[{"$f":"\"\"&INDEX(PP_Locale,ROW(),PP_LanguageIndex)","v":"Description of auditor 2"},"Notes/Description of auditor 2[taxonomy=DKGAAP]",null,null,null,null,null,null,null,null,null,"pp://Notes/Description of auditor 2[taxonomy=DKGAAP]","pp://Notes/Description of auditor 2[taxonomy=DKGAAP,valuelanguage=en]","pp://Notes/Description of auditor 2[taxonomy=DKGAAP,period=1_parent]","pp://Notes/Description of auditor 2[taxonomy=DKGAAP]",null,null,null,"Description of auditor 2",null,null,"Revisors titel 2"]
[{"$f":"\"\"&INDEX(PP_Locale,ROW(),PP_LanguageIndex)","v":"Identification number of auditor 2"},"Notes/Identification number of auditor 2[taxonomy=DKGAAP]",null,null,null,null,null,null,null,null,null,"pp://Notes/Identification number of auditor 2[taxonomy=DKGAAP]","pp://Notes/Identification number of auditor 2[taxonomy=DKGAAP,valuelanguage=en]","pp://Notes/Identification number of auditor 2[taxonomy=DKGAAP,period=1_parent]","pp://Notes/Identification number of auditor 2[taxonomy=DKGAAP]",null,null,null,"Identification number of auditor 2",null,null,"Revisors MNE-nr. 2"]
[{"$f":"\"\"&INDEX(PP_Locale,ROW(),PP_LanguageIndex)","v":"Legal Entity Identifier [LEI] of audit firm 2"},"Notes/Legal Entity Identifier [LEI] of audit firm 2[taxonomy=DKGAAP]",null,null,null,null,null,null,null,null,null,"pp://Notes/Legal Entity Identifier [LEI] of audit firm 2[taxonomy=DKGAAP]","pp://Notes/Legal Entity Identifier [LEI] of audit firm 2[taxonomy=DKGAAP,valuelanguage=en]","pp://Notes/Legal Entity Identifier [LEI] of audit firm 2[taxonomy=DKGAAP,period=1_parent]","pp://Notes/Legal Entity Identifier [LEI] of audit firm 2[taxonomy=DKGAAP]",null,null,null,"Legal Entity Identifier [LEI] of audit firm 2",null,null,"Revisionsvirksomhedens LEI-kode 2"]
[{"$f":"\"\"&INDEX(PP_Locale,ROW(),PP_LanguageIndex)","v":"Identification number [CVR] of audit firm 2"},"Notes/Identification number [CVR] of audit firm 2[taxonomy=DKGAAP]",null,null,null,null,null,null,null,null,null,"pp://Notes/Identification number [CVR] of audit firm 2[taxonomy=DKGAAP]","pp://Notes/Identification number [CVR] of audit firm 2[taxonomy=DKGAAP,valuelanguage=en]","pp://Notes/Identification number [CVR] of audit firm 2[taxonomy=DKGAAP,period=1_parent]","pp://Notes/Identification number [CVR] of audit firm 2[taxonomy=DKGAAP]",null,null,null,"Identification number [CVR] of audit firm 2",null,null,"Revisionsvirksomhedens CVR-nr. 2"]
[{"$f":"\"\"&INDEX(PP_Locale,ROW(),PP_LanguageIndex)","v":"Identification number [PNR] of audit firm 2"},"Notes/Identification number [PNR] of audit firm 2[taxonomy=DKGAAP]",null,null,null,null,null,null,null,null,null,"pp://Notes/Identification number [PNR] of audit firm 2[taxonomy=DKGAAP]","pp://Notes/Identification number [PNR] of audit firm 2[taxonomy=DKGAAP,valuelanguage=en]","pp://Notes/Identification number [PNR] of audit firm 2[taxonomy=DKGAAP,period=1_parent]","pp://Notes/Identification number [PNR] of audit firm 2[taxonomy=DKGAAP]",null,null,null,"Identification number [PNR] of audit firm 2",null,null,"Revisionsvirksomhedens P-nr. 2"]
[{"$f":"\"\"&INDEX(PP_Locale,ROW(),PP_LanguageIndex)","v":"Name of audit firm 2"},"Notes/Name of audit firm 2[taxonomy=DKGAAP]",null,null,null,null,null,null,null,null,null,"pp://Notes/Name of audit firm 2[taxonomy=DKGAAP]","pp://Notes/Name of audit firm 2[taxonomy=DKGAAP,valuelanguage=en]","pp://Notes/Name of audit firm 2[taxonomy=DKGAAP,period=1_parent]","pp://Notes/Name of audit firm 2[taxonomy=DKGAAP]",null,null,null,"Name of audit firm 2",null,null,"Revisionsvirksomhedens navn 2"]
[{"$f":"\"\"&INDEX(PP_Locale,ROW(),PP_LanguageIndex)","v":"Address of auditor, street name 2"},"Notes/Address of auditor, street name 2[taxonomy=DKGAAP]",null,null,null,null,null,null,null,null,null,"pp://Notes/Address of auditor, street name 2[taxonomy=DKGAAP]","pp://Notes/Address of auditor, street name 2[taxonomy=DKGAAP,valuelanguage=en]","pp://Notes/Address of auditor, street name 2[taxonomy=DKGAAP,period=1_parent]","pp://Notes/Address of auditor, street name 2[taxonomy=DKGAAP]",null,null,null,"Address of auditor, street name 2",null,null,"Revisionsvirksomhedens adresse, vejnavn 2"]
[{"$f":"\"\"&INDEX(PP_Locale,ROW(),PP_LanguageIndex)","v":"Address of auditor, street building identifier 2"},"Notes/Address of auditor, street building identifier 2[taxonomy=DKGAAP]",null,null,null,null,null,null,null,null,null,"pp://Notes/Address of auditor, street building identifier 2[taxonomy=DKGAAP]","pp://Notes/Address of auditor, street building identifier 2[taxonomy=DKGAAP,valuelanguage=en]","pp://Notes/Address of auditor, street building identifier 2[taxonomy=DKGAAP,period=1_parent]","pp://Notes/Address of auditor, street building identifier 2[taxonomy=DKGAAP]",null,null,null,"Address of auditor, street building identifier 2",null,null,"Revisionsvirksomhedens adresse, vejnr og etage 2"]
[{"$f":"\"\"&INDEX(PP_Locale,ROW(),PP_LanguageIndex)","v":"Address of auditor, post code identifier 2"},"Notes/Address of auditor, post code identifier 2[taxonomy=DKGAAP]",null,null,null,null,null,null,null,null,null,"pp://Notes/Address of auditor, post code identifier 2[taxonomy=DKGAAP]","pp://Notes/Address of auditor, post code identifier 2[taxonomy=DKGAAP,valuelanguage=en]","pp://Notes/Address of auditor, post code identifier 2[taxonomy=DKGAAP,period=1_parent]","pp://Notes/Address of auditor, post code identifier 2[taxonomy=DKGAAP]",null,null,null,"Address of auditor, post code identifier 2",null,null,"Revisionsvirksomhedens adresse, postnummer 2"]
[{"$f":"\"\"&INDEX(PP_Locale,ROW(),PP_LanguageIndex)","v":"Address of auditor, district name 2"},"Notes/Address of auditor, district name 2[taxonomy=DKGAAP]",null,null,null,null,null,null,null,null,null,"pp://Notes/Address of auditor, district name 2[taxonomy=DKGAAP]","pp://Notes/Address of auditor, district name 2[taxonomy=DKGAAP,valuelanguage=en]","pp://Notes/Address of auditor, district name 2[taxonomy=DKGAAP,period=1_parent]","pp://Notes/Address of auditor, district name 2[taxonomy=DKGAAP]",null,null,null,"Address of auditor, district name 2",null,null,"Revisionsvirksomhedens adresse, by 2"]
[{"$f":"\"\"&INDEX(PP_Locale,ROW(),PP_LanguageIndex)","v":"Address of auditor, country 2"},"Notes/Address of auditor, country 2[taxonomy=DKGAAP]",null,null,null,null,null,null,null,null,null,"pp://Notes/Address of auditor, country 2[taxonomy=DKGAAP]","pp://Notes/Address of auditor, country 2[taxonomy=DKGAAP,valuelanguage=en]","pp://Notes/Address of auditor, country 2[taxonomy=DKGAAP,period=1_parent]","pp://Notes/Address of auditor, country 2[taxonomy=DKGAAP]",null,null,null,"Address of auditor, country 2",null,null,"Revisionsvirksomhedens adresse, land 2"]
[{"$f":"\"\"&INDEX(PP_Locale,ROW(),PP_LanguageIndex)","v":"Address of auditor, country identification code 2"},"Notes/Address of auditor, country identification code 2[taxonomy=DKGAAP]",null,null,null,null,null,null,null,null,null,"pp://Notes/Address of auditor, country identification code 2[taxonomy=DKGAAP]","pp://Notes/Address of auditor, country identification code 2[taxonomy=DKGAAP,valuelanguage=en]","pp://Notes/Address of auditor, country identification code 2[taxonomy=DKGAAP,period=1_parent]","pp://Notes/Address of auditor, country identification code 2[taxonomy=DKGAAP]",null,null,null,"Address of auditor, country identification code 2",null,null,"Revisionsvirksomhedens adresse, landekode 2"]
[{"$f":"\"\"&INDEX(PP_Locale,ROW(),PP_LanguageIndex)","v":"Telephone number of auditor 2"},"Notes/Telephone number of auditor 2[taxonomy=DKGAAP]",null,null,null,null,null,null,null,null,null,"pp://Notes/Telephone number of auditor 2[taxonomy=DKGAAP]","pp://Notes/Telephone number of auditor 2[taxonomy=DKGAAP,valuelanguage=en]","pp://Notes/Telephone number of auditor 2[taxonomy=DKGAAP,period=1_parent]","pp://Notes/Telephone number of auditor 2[taxonomy=DKGAAP]",null,null,null,"Telephone number of auditor 2",null,null,"Revisionsvirksomhedens telefonnummer 2"]
[{"$f":"\"\"&INDEX(PP_Locale,ROW(),PP_LanguageIndex)","v":"E-mail of auditor 2"},"Notes/E-mail of auditor 2[taxonomy=DKGAAP]",null,null,null,null,null,null,null,null,null,"pp://Notes/E-mail of auditor 2[taxonomy=DKGAAP]","pp://Notes/E-mail of auditor 2[taxonomy=DKGAAP,valuelanguage=en]","pp://Notes/E-mail of auditor 2[taxonomy=DKGAAP,period=1_parent]","pp://Notes/E-mail of auditor 2[taxonomy=DKGAAP]",null,null,null,"E-mail of auditor 2",null,null,"Revisionsvirksomhedens e-mail 2"]
[{"$f":"\"\"&INDEX(PP_Locale,ROW(),PP_LanguageIndex)","v":""},null,null,null,null,null,null,null,null,null,null,"","","",""]
[{"$f":"\"\"&INDEX(PP_Locale,ROW(),PP_LanguageIndex)","v":"Internal audit:"},null,null,null,null,null,null,null,null,null,null,"","","","",null,null,null,"Internal audit:",null,null,"Intern revision:"]
[{"$f":"\"\"&INDEX(PP_Locale,ROW(),PP_LanguageIndex)","v":"Signature internal audit, place"},"Notes/Signature internal audit, place[taxonomy=DKGAAP]",null,null,null,null,null,null,null,null,null,"pp://Notes/Signature internal audit, place[taxonomy=DKGAAP]","pp://Notes/Signature internal audit, place[taxonomy=DKGAAP,valuelanguage=en]","pp://Notes/Signature internal audit, place[taxonomy=DKGAAP,period=1_parent]","pp://Notes/Signature internal audit, place[taxonomy=DKGAAP]",null,null,null,"Signature internal audit, place",null,null,"Intern revision, sted"]
[{"$f":"\"\"&INDEX(PP_Locale,ROW(),PP_LanguageIndex)","v":"Signature internal audit, date"},"Notes/Signature internal audit, date[taxonomy=DKGAAP]",null,null,null,null,null,null,null,null,null,"pp://Notes/Signature internal audit, date[taxonomy=DKGAAP]","pp://Notes/Signature internal audit, date[taxonomy=DKGAAP,valuelanguage=en]","pp://Notes/Signature internal audit, date[taxonomy=DKGAAP,period=1_parent]","pp://Notes/Signature internal audit, date[taxonomy=DKGAAP]",null,null,null,"Signature internal audit, date",null,null,"Intern revision, dato"]
[{"$f":"\"\"&INDEX(PP_Locale,ROW(),PP_LanguageIndex)","v":"Name and surname of performer of internal audit 1"},"Notes/Name and surname of performer of internal audit 1[taxonomy=DKGAAP]",null,null,null,null,null,null,null,null,null,"pp://Notes/Name and surname of performer of internal audit 1[taxonomy=DKGAAP]","pp://Notes/Name and surname of performer of internal audit 1[taxonomy=DKGAAP,valuelanguage=en]","pp://Notes/Name and surname of performer of internal audit 1[taxonomy=DKGAAP,period=1_parent]","pp://Notes/Name and surname of performer of internal audit 1[taxonomy=DKGAAP]",null,null,null,"Name and surname of performer of internal audit 1",null,null,"Intern revision navn 1"]
[{"$f":"\"\"&INDEX(PP_Locale,ROW(),PP_LanguageIndex)","v":"Title of performer of internal audit 1"},"Notes/Title of performer of internal audit 1[taxonomy=DKGAAP]",null,null,null,null,null,null,null,null,null,"pp://Notes/Title of performer of internal audit 1[taxonomy=DKGAAP]","pp://Notes/Title of performer of internal audit 1[taxonomy=DKGAAP,valuelanguage=en]","pp://Notes/Title of performer of internal audit 1[taxonomy=DKGAAP,period=1_parent]","pp://Notes/Title of performer of internal audit 1[taxonomy=DKGAAP]",null,null,null,"Title of performer of internal audit 1",null,null,"Intern revision titel 1"]
[{"$f":"\"\"&INDEX(PP_Locale,ROW(),PP_LanguageIndex)","v":"Name and surname of performer of internal audit 2"},"Notes/Name and surname of performer of internal audit 2[taxonomy=DKGAAP]",null,null,null,null,null,null,null,null,null,{"$f":"IF(COUNTBLANK(L$1),$O218,SUBSTITUTE($O218,\"DKGAAP]\",\"DKGAAP,\"&L$1&\"]\"))","v":"pp://Notes/Name and surname of performer of internal audit 2[taxonomy=DKGAAP]"},"pp://Notes/Name and surname of performer of internal audit 2[taxonomy=DKGAAP,valuelanguage=en]","pp://Notes/Name and surname of performer of internal audit 2[taxonomy=DKGAAP,period=1_parent]","pp://Notes/Name and surname of performer of internal audit 2[taxonomy=DKGAAP]",null,null,null,"Name and surname of performer of internal audit 2",null,null,"Intern revision navn 2"]
[{"$f":"\"\"&INDEX(PP_Locale,ROW(),PP_LanguageIndex)","v":"Title of performer of internal audit 2"},"Notes/Title of performer of internal audit 2[taxonomy=DKGAAP]",null,null,null,null,null,null,null,null,null,"pp://Notes/Title of performer of internal audit 2[taxonomy=DKGAAP]","pp://Notes/Title of performer of internal audit 2[taxonomy=DKGAAP,valuelanguage=en]","pp://Notes/Title of performer of internal audit 2[taxonomy=DKGAAP,period=1_parent]","pp://Notes/Title of performer of internal audit 2[taxonomy=DKGAAP]",null,null,null,"Title of performer of internal audit 2",null,null,"Intern revision titel 2"]
[{"$f":"\"\"&INDEX(PP_Locale,ROW(),PP_LanguageIndex)","v":""},null,null,null,null,null,null,null,null,null,null,"","","",""]
[{"$f":"\"\"&INDEX(PP_Locale,ROW(),PP_LanguageIndex)","v":"Other statements:"},null,null,null,null,null,null,null,null,null,null,"","","","",null,null,null,"Other statements:",null,null,"Øvrige erklæringer:"]
[{"$f":"\"\"&INDEX(PP_Locale,ROW(),PP_LanguageIndex)","v":"Signature other statement 1, place"},"Notes/Signature other statement 1, place[taxonomy=DKGAAP]",null,null,null,null,null,null,null,null,null,"pp://Notes/Signature other statement 1, place[taxonomy=DKGAAP]","pp://Notes/Signature other statement 1, place[taxonomy=DKGAAP,valuelanguage=en]","pp://Notes/Signature other statement 1, place[taxonomy=DKGAAP,period=1_parent]","pp://Notes/Signature other statement 1, place[taxonomy=DKGAAP]",null,null,null,"Signature other statement 1, place",null,null,"Øvrig erklæring 1, sted"]
[{"$f":"\"\"&INDEX(PP_Locale,ROW(),PP_LanguageIndex)","v":"Signature other statement 1, date"},"Notes/Signature other statement 1, date[taxonomy=DKGAAP]",null,null,null,null,null,null,null,null,null,"pp://Notes/Signature other statement 1, date[taxonomy=DKGAAP]","pp://Notes/Signature other statement 1, date[taxonomy=DKGAAP,valuelanguage=en]","pp://Notes/Signature other statement 1, date[taxonomy=DKGAAP,period=1_parent]","pp://Notes/Signature other statement 1, date[taxonomy=DKGAAP]",null,null,null,"Signature other statement 1, date",null,null,"Øvrig erklæring 1, dato"]
[{"$f":"\"\"&INDEX(PP_Locale,ROW(),PP_LanguageIndex)","v":"Legal Entity Identifier [LEI] of performer of other statement 1"},"Notes/Legal Entity Identifier [LEI] of performer of other statement 1[taxonomy=DKGAAP]",null,null,null,null,null,null,null,null,null,"pp://Notes/Legal Entity Identifier [LEI] of performer of other statement 1[taxonomy=DKGAAP]","pp://Notes/Legal Entity Identifier [LEI] of performer of other statement 1[taxonomy=DKGAAP,valuelanguage=en]","pp://Notes/Legal Entity Identifier [LEI] of performer of other statement 1[taxonomy=DKGAAP,period=1_parent]","pp://Notes/Legal Entity Identifier [LEI] of performer of other statement 1[taxonomy=DKGAAP]",null,null,null,"Legal Entity Identifier [LEI] of performer of other statement 1",null,null,"Øvrig erklæring 1, LEI-kode"]
[{"$f":"\"\"&INDEX(PP_Locale,ROW(),PP_LanguageIndex)","v":"Identification number [CVR] of performer of other statement 1"},"Notes/Identification number [CVR] of performer of other statement 1[taxonomy=DKGAAP]",null,null,null,null,null,null,null,null,null,"pp://Notes/Identification number [CVR] of performer of other statement 1[taxonomy=DKGAAP]","pp://Notes/Identification number [CVR] of performer of other statement 1[taxonomy=DKGAAP,valuelanguage=en]","pp://Notes/Identification number [CVR] of performer of other statement 1[taxonomy=DKGAAP,period=1_parent]","pp://Notes/Identification number [CVR] of performer of other statement 1[taxonomy=DKGAAP]",null,null,null,"Identification number [CVR] of performer of other statement 1",null,null,"Øvrig erklæring 1, CVR-nr."]
[{"$f":"\"\"&INDEX(PP_Locale,ROW(),PP_LanguageIndex)","v":"Name of firm performing other statement 1"},"Notes/Name of firm performing other statement 1[taxonomy=DKGAAP]",null,null,null,null,null,null,null,null,null,"pp://Notes/Name of firm performing other statement 1[taxonomy=DKGAAP]","pp://Notes/Name of firm performing other statement 1[taxonomy=DKGAAP,valuelanguage=en]","pp://Notes/Name of firm performing other statement 1[taxonomy=DKGAAP,period=1_parent]","pp://Notes/Name of firm performing other statement 1[taxonomy=DKGAAP]",null,null,null,"Name of firm performing other statement 1",null,null,"Øvrig erklæring 1, firmanavn"]
[{"$f":"\"\"&INDEX(PP_Locale,ROW(),PP_LanguageIndex)","v":"Name and surname of performer of other statement 1"},"Notes/Name and surname of performer of other statement 1[taxonomy=DKGAAP]",null,null,null,null,null,null,null,null,null,"pp://Notes/Name and surname of performer of other statement 1[taxonomy=DKGAAP]","pp://Notes/Name and surname of performer of other statement 1[taxonomy=DKGAAP,valuelanguage=en]","pp://Notes/Name and surname of performer of other statement 1[taxonomy=DKGAAP,period=1_parent]","pp://Notes/Name and surname of performer of other statement 1[taxonomy=DKGAAP]",null,null,null,"Name and surname of performer of other statement 1",null,null,"Øvrig erklæring 1, navn"]
[{"$f":"\"\"&INDEX(PP_Locale,ROW(),PP_LanguageIndex)","v":"Title of performer of other statement 1"},"Notes/Title of performer of other statement 1[taxonomy=DKGAAP]",null,null,null,null,null,null,null,null,null,"pp://Notes/Title of performer of other statement 1[taxonomy=DKGAAP]","pp://Notes/Title of performer of other statement 1[taxonomy=DKGAAP,valuelanguage=en]","pp://Notes/Title of performer of other statement 1[taxonomy=DKGAAP,period=1_parent]","pp://Notes/Title of performer of other statement 1[taxonomy=DKGAAP]",null,null,null,"Title of performer of other statement 1",null,null,"Øvrig erklæring 1, titel"]
[{"$f":"\"\"&INDEX(PP_Locale,ROW(),PP_LanguageIndex)","v":""},null,null,null,null,null,null,null,null,null,null,"","","",""]
[{"$f":"\"\"&INDEX(PP_Locale,ROW(),PP_LanguageIndex)","v":"Signature other statement 2, place"},"Notes/Signature other statement 2, place[taxonomy=DKGAAP]",null,null,null,null,null,null,null,null,null,"pp://Notes/Signature other statement 2, place[taxonomy=DKGAAP]","pp://Notes/Signature other statement 2, place[taxonomy=DKGAAP,valuelanguage=en]","pp://Notes/Signature other statement 2, place[taxonomy=DKGAAP,period=1_parent]","pp://Notes/Signature other statement 2, place[taxonomy=DKGAAP]",null,null,null,"Signature other statement 2, place",null,null,"Øvrig erklæring 2, sted"]
[{"$f":"\"\"&INDEX(PP_Locale,ROW(),PP_LanguageIndex)","v":"Signature other statement 2, date"},"Notes/Signature other statement 2, date[taxonomy=DKGAAP]",null,null,null,null,null,null,null,null,null,"pp://Notes/Signature other statement 2, date[taxonomy=DKGAAP]","pp://Notes/Signature other statement 2, date[taxonomy=DKGAAP,valuelanguage=en]","pp://Notes/Signature other statement 2, date[taxonomy=DKGAAP,period=1_parent]","pp://Notes/Signature other statement 2, date[taxonomy=DKGAAP]",null,null,null,"Signature other statement 2, date",null,null,"Øvrig erklæring 2, dato"]
[{"$f":"\"\"&INDEX(PP_Locale,ROW(),PP_LanguageIndex)","v":"Legal Entity Identifier [LEI] of performer of other statement 2"},"Notes/Legal Entity Identifier [LEI] of performer of other statement 2[taxonomy=DKGAAP]",null,null,null,null,null,null,null,null,null,"pp://Notes/Legal Entity Identifier [LEI] of performer of other statement 2[taxonomy=DKGAAP]","pp://Notes/Legal Entity Identifier [LEI] of performer of other statement 2[taxonomy=DKGAAP,valuelanguage=en]","pp://Notes/Legal Entity Identifier [LEI] of performer of other statement 2[taxonomy=DKGAAP,period=1_parent]","pp://Notes/Legal Entity Identifier [LEI] of performer of other statement 2[taxonomy=DKGAAP]",null,null,null,"Legal Entity Identifier [LEI] of performer of other statement 2",null,null,"Øvrig erklæring 2, LEI-kode"]
[{"$f":"\"\"&INDEX(PP_Locale,ROW(),PP_LanguageIndex)","v":"Identification number [CVR] of performer of other statement 2"},"Notes/Identification number [CVR] of performer of other statement 2[taxonomy=DKGAAP]",null,null,null,null,null,null,null,null,null,"pp://Notes/Identification number [CVR] of performer of other statement 2[taxonomy=DKGAAP]","pp://Notes/Identification number [CVR] of performer of other statement 2[taxonomy=DKGAAP,valuelanguage=en]","pp://Notes/Identification number [CVR] of performer of other statement 2[taxonomy=DKGAAP,period=1_parent]","pp://Notes/Identification number [CVR] of performer of other statement 2[taxonomy=DKGAAP]",null,null,null,"Identification number [CVR] of performer of other statement 2",null,null,"Øvrig erklæring 2, CVR-nr."]
[{"$f":"\"\"&INDEX(PP_Locale,ROW(),PP_LanguageIndex)","v":"Name of firm performing other statement 2"},"Notes/Name of firm performing other statement 2[taxonomy=DKGAAP]",null,null,null,null,null,null,null,null,null,"pp://Notes/Name of firm performing other statement 2[taxonomy=DKGAAP]","pp://Notes/Name of firm performing other statement 2[taxonomy=DKGAAP,valuelanguage=en]","pp://Notes/Name of firm performing other statement 2[taxonomy=DKGAAP,period=1_parent]","pp://Notes/Name of firm performing other statement 2[taxonomy=DKGAAP]",null,null,null,"Name of firm performing other statement 2",null,null,"Øvrig erklæring 2, firmanavn"]
[{"$f":"\"\"&INDEX(PP_Locale,ROW(),PP_LanguageIndex)","v":"Name and surname of performer of other statement 2"},"Notes/Name and surname of performer of other statement 2[taxonomy=DKGAAP]",null,null,null,null,null,null,null,null,null,"pp://Notes/Name and surname of performer of other statement 2[taxonomy=DKGAAP]","pp://Notes/Name and surname of performer of other statement 2[taxonomy=DKGAAP,valuelanguage=en]","pp://Notes/Name and surname of performer of other statement 2[taxonomy=DKGAAP,period=1_parent]","pp://Notes/Name and surname of performer of other statement 2[taxonomy=DKGAAP]",null,null,null,"Name and surname of performer of other statement 2",null,null,"Øvrig erklæring 2, navn"]
[{"$f":"\"\"&INDEX(PP_Locale,ROW(),PP_LanguageIndex)","v":"Title of performer of other statement 2"},"Notes/Title of performer of other statement 2[taxonomy=DKGAAP]",null,null,null,null,null,null,null,null,null,"pp://Notes/Title of performer of other statement 2[taxonomy=DKGAAP]","pp://Notes/Title of performer of other statement 2[taxonomy=DKGAAP,valuelanguage=en]","pp://Notes/Title of performer of other statement 2[taxonomy=DKGAAP,period=1_parent]","pp://Notes/Title of performer of other statement 2[taxonomy=DKGAAP]",null,null,null,"Title of performer of other statement 2",null,null,"Øvrig erklæring 2, titel"]
[{"$f":"\"\"&INDEX(PP_Locale,ROW(),PP_LanguageIndex)","v":""},null,null,null,null,null,null,null,null,null,null,"","","",""]
[{"$f":"\"\"&INDEX(PP_Locale,ROW(),PP_LanguageIndex)","v":"Liquidator:"},null,null,null,null,null,null,null,null,null,null,"","","","",null,null,null,"Liquidator:",null,null,"Likvidator:"]
[{"$f":"\"\"&INDEX(PP_Locale,ROW(),PP_LanguageIndex)","v":"Name and surname of liquidator"},"Notes/Name and surname of liquidator[taxonomy=DKGAAP]",null,null,null,null,null,null,null,null,null,"pp://Notes/Name and surname of liquidator[taxonomy=DKGAAP]","pp://Notes/Name and surname of liquidator[taxonomy=DKGAAP,valuelanguage=en]","pp://Notes/Name and surname of liquidator[taxonomy=DKGAAP,period=1_parent]","pp://Notes/Name and surname of liquidator[taxonomy=DKGAAP]",null,null,null,"Name and surname of liquidator",null,null,"Likvidators navn"]
[{"$f":"\"\"&INDEX(PP_Locale,ROW(),PP_LanguageIndex)","v":"Title of liquidator"},"Notes/Title of liquidator[taxonomy=DKGAAP]",null,null,null,null,null,null,null,null,null,"pp://Notes/Title of liquidator[taxonomy=DKGAAP]","pp://Notes/Title of liquidator[taxonomy=DKGAAP,valuelanguage=en]","pp://Notes/Title of liquidator[taxonomy=DKGAAP,period=1_parent]","pp://Notes/Title of liquidator[taxonomy=DKGAAP]",null,null,null,"Title of liquidator",null,null,"Likvidators titel"]
[{"$f":"\"\"&INDEX(PP_Locale,ROW(),PP_LanguageIndex)","v":""},null,null,null,null,null,null,null,null,null,null,"","","",""]
[{"$f":"\"\"&INDEX(PP_Locale,ROW(),PP_LanguageIndex)","v":"Financial institution:"},null,null,null,null,null,null,null,null,null,null,"","","","",null,null,null,"Financial institution:",null,null,"Primær bankforbindelse:"]
[{"$f":"\"\"&INDEX(PP_Locale,ROW(),PP_LanguageIndex)","v":"Legal Entity Identifier [LEI] of financial institution"},"Notes/Legal Entity Identifier [LEI] of financial institution[taxonomy=DKGAAP]",null,null,null,null,null,null,null,null,null,"pp://Notes/Legal Entity Identifier [LEI] of financial institution[taxonomy=DKGAAP]","pp://Notes/Legal Entity Identifier [LEI] of financial institution[taxonomy=DKGAAP,valuelanguage=en]","pp://Notes/Legal Entity Identifier [LEI] of financial institution[taxonomy=DKGAAP,period=1_parent]","pp://Notes/Legal Entity Identifier [LEI] of financial institution[taxonomy=DKGAAP]",null,null,null,"Legal Entity Identifier [LEI] of financial institution",null,null,"Bankens LEI-kode"]
[{"$f":"\"\"&INDEX(PP_Locale,ROW(),PP_LanguageIndex)","v":"Identification number [CVR] of financial institution"},"Notes/Identification number [CVR] of financial institution[taxonomy=DKGAAP]",null,null,null,null,null,null,null,null,null,"pp://Notes/Identification number [CVR] of financial institution[taxonomy=DKGAAP]","pp://Notes/Identification number [CVR] of financial institution[taxonomy=DKGAAP,valuelanguage=en]","pp://Notes/Identification number [CVR] of financial institution[taxonomy=DKGAAP,period=1_parent]","pp://Notes/Identification number [CVR] of financial institution[taxonomy=DKGAAP]",null,null,null,"Identification number [CVR] of financial institution",null,null,"Bankens CVR-nr."]
[{"$f":"\"\"&INDEX(PP_Locale,ROW(),PP_LanguageIndex)","v":"Name of financial institution"},"Notes/Name of financial institution[taxonomy=DKGAAP]",null,null,null,null,null,null,null,null,null,"pp://Notes/Name of financial institution[taxonomy=DKGAAP]","pp://Notes/Name of financial institution[taxonomy=DKGAAP,valuelanguage=en]","pp://Notes/Name of financial institution[taxonomy=DKGAAP,period=1_parent]","pp://Notes/Name of financial institution[taxonomy=DKGAAP]",null,null,null,"Name of financial institution",null,null,"Bankens navn"]
[{"$f":"\"\"&INDEX(PP_Locale,ROW(),PP_LanguageIndex)","v":"Address of financial institution, street name"},"Notes/Address of financial institution, street name[taxonomy=DKGAAP]",null,null,null,null,null,null,null,null,null,"pp://Notes/Address of financial institution, street name[taxonomy=DKGAAP]","pp://Notes/Address of financial institution, street name[taxonomy=DKGAAP,valuelanguage=en]","pp://Notes/Address of financial institution, street name[taxonomy=DKGAAP,period=1_parent]","pp://Notes/Address of financial institution, street name[taxonomy=DKGAAP]",null,null,null,"Address of financial institution, street name",null,null,"Bankens adresse, vejnavn"]
[{"$f":"\"\"&INDEX(PP_Locale,ROW(),PP_LanguageIndex)","v":"Address of financial institution, street building identifier"},"Notes/Address of financial institution, street building identifier[taxonomy=DKGAAP]",null,null,null,null,null,null,null,null,null,"pp://Notes/Address of financial institution, street building identifier[taxonomy=DKGAAP]","pp://Notes/Address of financial institution, street building identifier[taxonomy=DKGAAP,valuelanguage=en]","pp://Notes/Address of financial institution, street building identifier[taxonomy=DKGAAP,period=1_parent]","pp://Notes/Address of financial institution, street building identifier[taxonomy=DKGAAP]",null,null,null,"Address of financial institution, street building identifier",null,null,"Bankens adresse, vejnr og etage"]
[{"$f":"\"\"&INDEX(PP_Locale,ROW(),PP_LanguageIndex)","v":"Address of financial institution, post code identifier"},"Notes/Address of financial institution, post code identifier[taxonomy=DKGAAP]",null,null,null,null,null,null,null,null,null,"pp://Notes/Address of financial institution, post code identifier[taxonomy=DKGAAP]","pp://Notes/Address of financial institution, post code identifier[taxonomy=DKGAAP,valuelanguage=en]","pp://Notes/Address of financial institution, post code identifier[taxonomy=DKGAAP,period=1_parent]","pp://Notes/Address of financial institution, post code identifier[taxonomy=DKGAAP]",null,null,null,"Address of financial institution, post code identifier",null,null,"Bankens adresse, postnummer"]
[{"$f":"\"\"&INDEX(PP_Locale,ROW(),PP_LanguageIndex)","v":"Address of financial institution, district name"},"Notes/Address of financial institution, district name[taxonomy=DKGAAP]",null,null,null,null,null,null,null,null,null,"pp://Notes/Address of financial institution, district name[taxonomy=DKGAAP]","pp://Notes/Address of financial institution, district name[taxonomy=DKGAAP,valuelanguage=en]","pp://Notes/Address of financial institution, district name[taxonomy=DKGAAP,period=1_parent]","pp://Notes/Address of financial institution, district name[taxonomy=DKGAAP]",null,null,null,"Address of financial institution, district name",null,null,"Bankens adresse, by"]
[{"$f":"\"\"&INDEX(PP_Locale,ROW(),PP_LanguageIndex)","v":"Address of financial institution, country"},"Notes/Address of financial institution, country[taxonomy=DKGAAP]",null,null,null,null,null,null,null,null,null,"pp://Notes/Address of financial institution, country[taxonomy=DKGAAP]","pp://Notes/Address of financial institution, country[taxonomy=DKGAAP,valuelanguage=en]","pp://Notes/Address of financial institution, country[taxonomy=DKGAAP,period=1_parent]","pp://Notes/Address of financial institution, country[taxonomy=DKGAAP]",null,null,null,"Address of financial institution, country",null,null,"Bankens adresse, land"]
[{"$f":"\"\"&INDEX(PP_Locale,ROW(),PP_LanguageIndex)","v":"Address of financial institution, country identification code"},"Notes/Address of financial institution, country identification code[taxonomy=DKGAAP]",null,null,null,null,null,null,null,null,null,"pp://Notes/Address of financial institution, country identification code[taxonomy=DKGAAP]","pp://Notes/Address of financial institution, country identification code[taxonomy=DKGAAP,valuelanguage=en]","pp://Notes/Address of financial institution, country identification code[taxonomy=DKGAAP,period=1_parent]","pp://Notes/Address of financial institution, country identification code[taxonomy=DKGAAP]",null,null,null,"Address of financial institution, country identification code",null,null,"Bankens adresse, landekode"]
[{"$f":"\"\"&INDEX(PP_Locale,ROW(),PP_LanguageIndex)","v":""},null,null,null,null,null,null,null,null,null,null,"","","",""]
[{"$f":"\"\"&INDEX(PP_Locale,ROW(),PP_LanguageIndex)","v":"Law firm:"},null,null,null,null,null,null,null,null,null,null,"","","","",null,null,null,"Law firm:",null,null,"Advokat:"]
[{"$f":"\"\"&INDEX(PP_Locale,ROW(),PP_LanguageIndex)","v":"Legal Entity Identifier [LEI] of law firm"},"Notes/Legal Entity Identifier [LEI] of law firm[taxonomy=DKGAAP]",null,null,null,null,null,null,null,null,null,"pp://Notes/Legal Entity Identifier [LEI] of law firm[taxonomy=DKGAAP]","pp://Notes/Legal Entity Identifier [LEI] of law firm[taxonomy=DKGAAP,valuelanguage=en]","pp://Notes/Legal Entity Identifier [LEI] of law firm[taxonomy=DKGAAP,period=1_parent]","pp://Notes/Legal Entity Identifier [LEI] of law firm[taxonomy=DKGAAP]",null,null,null,"Legal Entity Identifier [LEI] of law firm",null,null,"Advokatens LEI-kode"]
[{"$f":"\"\"&INDEX(PP_Locale,ROW(),PP_LanguageIndex)","v":"Identification number [CVR] of law firm"},"Notes/Identification number [CVR] of law firm[taxonomy=DKGAAP]",null,null,null,null,null,null,null,null,null,"pp://Notes/Identification number [CVR] of law firm[taxonomy=DKGAAP]","pp://Notes/Identification number [CVR] of law firm[taxonomy=DKGAAP,valuelanguage=en]","pp://Notes/Identification number [CVR] of law firm[taxonomy=DKGAAP,period=1_parent]","pp://Notes/Identification number [CVR] of law firm[taxonomy=DKGAAP]",null,null,null,"Identification number [CVR] of law firm",null,null,"Advokatens CVR-nr."]
[{"$f":"\"\"&INDEX(PP_Locale,ROW(),PP_LanguageIndex)","v":"Identification number [PNR] of law firm"},"Notes/Identification number [PNR] of law firm[taxonomy=DKGAAP]",null,null,null,null,null,null,null,null,null,"pp://Notes/Identification number [PNR] of law firm[taxonomy=DKGAAP]","pp://Notes/Identification number [PNR] of law firm[taxonomy=DKGAAP,valuelanguage=en]","pp://Notes/Identification number [PNR] of law firm[taxonomy=DKGAAP,period=1_parent]","pp://Notes/Identification number [PNR] of law firm[taxonomy=DKGAAP]",null,null,null,"Identification number [PNR] of law firm",null,null,"Advokatens P-nr."]
[{"$f":"\"\"&INDEX(PP_Locale,ROW(),PP_LanguageIndex)","v":"Name of law firm"},"Notes/Name of law firm[taxonomy=DKGAAP]",null,null,null,null,null,null,null,null,null,"pp://Notes/Name of law firm[taxonomy=DKGAAP]","pp://Notes/Name of law firm[taxonomy=DKGAAP,valuelanguage=en]","pp://Notes/Name of law firm[taxonomy=DKGAAP,period=1_parent]","pp://Notes/Name of law firm[taxonomy=DKGAAP]",null,null,null,"Name of law firm",null,null,"Advokatens navn"]
[{"$f":"\"\"&INDEX(PP_Locale,ROW(),PP_LanguageIndex)","v":"Address of law firm, street name"},"Notes/Address of law firm, street name[taxonomy=DKGAAP]",null,null,null,null,null,null,null,null,null,"pp://Notes/Address of law firm, street name[taxonomy=DKGAAP]","pp://Notes/Address of law firm, street name[taxonomy=DKGAAP,valuelanguage=en]","pp://Notes/Address of law firm, street name[taxonomy=DKGAAP,period=1_parent]","pp://Notes/Address of law firm, street name[taxonomy=DKGAAP]",null,null,null,"Address of law firm, street name",null,null,"Advokatens adresse, vejnavn"]
[{"$f":"\"\"&INDEX(PP_Locale,ROW(),PP_LanguageIndex)","v":"Address of law firm, street building identifier"},"Notes/Address of law firm, street building identifier[taxonomy=DKGAAP]",null,null,null,null,null,null,null,null,null,"pp://Notes/Address of law firm, street building identifier[taxonomy=DKGAAP]","pp://Notes/Address of law firm, street building identifier[taxonomy=DKGAAP,valuelanguage=en]","pp://Notes/Address of law firm, street building identifier[taxonomy=DKGAAP,period=1_parent]","pp://Notes/Address of law firm, street building identifier[taxonomy=DKGAAP]",null,null,null,"Address of law firm, street building identifier",null,null,"Advokatens adresse, vejnr og etage"]
[{"$f":"\"\"&INDEX(PP_Locale,ROW(),PP_LanguageIndex)","v":"Address of law firm, post code identifier"},"Notes/Address of law firm, post code identifier[taxonomy=DKGAAP]",null,null,null,null,null,null,null,null,null,"pp://Notes/Address of law firm, post code identifier[taxonomy=DKGAAP]","pp://Notes/Address of law firm, post code identifier[taxonomy=DKGAAP,valuelanguage=en]","pp://Notes/Address of law firm, post code identifier[taxonomy=DKGAAP,period=1_parent]","pp://Notes/Address of law firm, post code identifier[taxonomy=DKGAAP]",null,null,null,"Address of law firm, post code identifier",null,null,"Advokatens adresse, postnummer"]
[{"$f":"\"\"&INDEX(PP_Locale,ROW(),PP_LanguageIndex)","v":"Address of law firm, district name"},"Notes/Address of law firm, district name[taxonomy=DKGAAP]",null,null,null,null,null,null,null,null,null,"pp://Notes/Address of law firm, district name[taxonomy=DKGAAP]","pp://Notes/Address of law firm, district name[taxonomy=DKGAAP,valuelanguage=en]","pp://Notes/Address of law firm, district name[taxonomy=DKGAAP,period=1_parent]","pp://Notes/Address of law firm, district name[taxonomy=DKGAAP]",null,null,null,"Address of law firm, district name",null,null,"Advokatens adresse, by"]
[{"$f":"\"\"&INDEX(PP_Locale,ROW(),PP_LanguageIndex)","v":"Address of law firm, country"},"Notes/Address of law firm, country[taxonomy=DKGAAP]",null,null,null,null,null,null,null,null,null,"pp://Notes/Address of law firm, country[taxonomy=DKGAAP]","pp://Notes/Address of law firm, country[taxonomy=DKGAAP,valuelanguage=en]","pp://Notes/Address of law firm, country[taxonomy=DKGAAP,period=1_parent]","pp://Notes/Address of law firm, country[taxonomy=DKGAAP]",null,null,null,"Address of law firm, country",null,null,"Advokatens adresse, land"]
[{"$f":"\"\"&INDEX(PP_Locale,ROW(),PP_LanguageIndex)","v":"Address of law firm, country identification code"},"Notes/Address of law firm, country identification code[taxonomy=DKGAAP]",null,null,null,null,null,null,null,null,null,"pp://Notes/Address of law firm, country identification code[taxonomy=DKGAAP]","pp://Notes/Address of law firm, country identification code[taxonomy=DKGAAP,valuelanguage=en]","pp://Notes/Address of law firm, country identification code[taxonomy=DKGAAP,period=1_parent]","pp://Notes/Address of law firm, country identification code[taxonomy=DKGAAP]",null,null,null,"Address of law firm, country identification code",null,null,"Advokatens adresse, landekode"]
[{"$f":"\"\"&INDEX(PP_Locale,ROW(),PP_LanguageIndex)","v":""}]
[{"$f":"\"\"&INDEX(PP_Locale,ROW(),PP_LanguageIndex)","v":"Statement by management etc."},null,null,null,null,null,null,null,null,null,null,null,null,null,null,null,null,null,"Statement by management etc.",null,null,"Ledelsespåtegning mv."]
[{"$f":"\"\"&INDEX(PP_Locale,ROW(),PP_LanguageIndex)","v":"Statement by management"},"Other statements/Statement by management[taxonomy=DKGAAP]",null,null,null,null,null,null,null,null,null,{"$f":"IF(COUNTBLANK(L$1),$O266,SUBSTITUTE($O266,\"DKGAAP]\",\"DKGAAP,\"&L$1&\"]\"))","v":"pp://Other statements/Statement by management[taxonomy=DKGAAP]"},{"$f":"IF(COUNTBLANK(M$1),$O266,SUBSTITUTE($O266,\"DKGAAP]\",\"DKGAAP,\"&M$1&\"]\"))","v":"pp://Other statements/Statement by management[taxonomy=DKGAAP,valuelanguage=en]"},"pp://Other statements/Statement by management[taxonomy=DKGAAP,period=1_parent]",{"$f":"IF(COUNTA($B266),\"pp://\"&$B266&IF(COUNTA($C266),\"+\"&$C266,\"\")&IF(COUNTA($D266),\"+\"&$D266,\"\")&IF(COUNTA($E266),\"+\"&$E266,\"\")&IF(COUNTA($F266),\"+\"&$F266,\"\")&IF(COUNTA($G266),\"+\"&$G266,\"\")&IF(COUNTA($H266),\"+\"&$H266,\"\")&IF(COUNTA($I266),\"+\"&$I266,\"\")&IF(COUNTA($J266),\"+\"&$J266,\"\")&IF(COUNTA($K266),\"+\"&$K266,\"\")&$P266,\"\")","v":"pp://Other statements/Statement by management[taxonomy=DKGAAP]"},null,null,null,"Statement by management",null,null,"Ledelsespåtegning"]
[{"$f":"\"\"&INDEX(PP_Locale,ROW(),PP_LanguageIndex)","v":"Confirmation that financial statements are exempted from auditing"},"Other statements/Confirmation that financial statements are exempted from auditing[taxonomy=DKGAAP]",null,null,null,null,null,null,null,null,null,{"$f":"IF(COUNTBLANK(L$1),$O267,SUBSTITUTE($O267,\"DKGAAP]\",\"DKGAAP,\"&L$1&\"]\"))","v":"pp://Other statements/Confirmation that financial statements are exempted from auditing[taxonomy=DKGAAP]"},"pp://Other statements/Confirmation that financial statements are exempted from auditing[taxonomy=DKGAAP,valuelanguage=en]","pp://Other statements/Confirmation that financial statements are exempted from auditing[taxonomy=DKGAAP,period=1_parent]",{"$f":"IF(COUNTA($B267),\"pp://\"&$B267&IF(COUNTA($C267),\"+\"&$C267,\"\")&IF(COUNTA($D267),\"+\"&$D267,\"\")&IF(COUNTA($E267),\"+\"&$E267,\"\")&IF(COUNTA($F267),\"+\"&$F267,\"\")&IF(COUNTA($G267),\"+\"&$G267,\"\")&IF(COUNTA($H267),\"+\"&$H267,\"\")&IF(COUNTA($I267),\"+\"&$I267,\"\")&IF(COUNTA($J267),\"+\"&$J267,\"\")&IF(COUNTA($K267),\"+\"&$K267,\"\")&$P267,\"\")","v":"pp://Other statements/Confirmation that financial statements are exempted from auditing[taxonomy=DKGAAP]"},null,null,null,"Confirmation that financial statements are exempted from auditing",null,null,"Bekræftelse på at betingelserne for fravalg af revision er opfyldt"]
[{"$f":"\"\"&INDEX(PP_Locale,ROW(),PP_LanguageIndex)","v":"Statement on opting out of auditing financial statements in next reporting period due to exemption"},"Other statements/Statement on opting out of auditing financial statements in next reporting period due to exemption[taxonomy=DKGAAP]",null,null,null,null,null,null,null,null,null,"pp://Other statements/Statement on opting out of auditing financial statements in next reporting period due to exemption[taxonomy=DKGAAP]","pp://Other statements/Statement on opting out of auditing financial statements in next reporting period due to exemption[taxonomy=DKGAAP,valuelanguage=en]","pp://Other statements/Statement on opting out of auditing financial statements in next reporting period due to exemption[taxonomy=DKGAAP,period=1_parent]","pp://Other statements/Statement on opting out of auditing financial statements in next reporting period due to exemption[taxonomy=DKGAAP]",null,null,null,"Statement on opting out of auditing financial statements in next reporting period due to exemption",null,null,"Fravalg af revision for det kommende regnskabsår"]
[{"$f":"\"\"&INDEX(PP_Locale,ROW(),PP_LanguageIndex)","v":""}]
[{"$f":"\"\"&INDEX(PP_Locale,ROW(),PP_LanguageIndex)","v":"Auditor's reports"},null,null,null,null,null,null,null,null,null,null,null,null,null,null,null,null,null,"Auditor's reports",null,null,"Revisors erklæringer"]
[{"$f":"\"\"&INDEX(PP_Locale,ROW(),PP_LanguageIndex)","v":"Auditor's report on audited financial statements"},"Auditors report/Auditor's report on audited financial statements[taxonomy=DKGAAP]",null,null,null,null,null,null,null,null,null,{"$f":"IF(COUNTBLANK(L$1),$O271,SUBSTITUTE($O271,\"DKGAAP]\",\"DKGAAP,\"&L$1&\"]\"))","v":"pp://Auditors report/Auditor's report on audited financial statements[taxonomy=DKGAAP]"},"pp://Auditors report/Auditor's report on audited financial statements[taxonomy=DKGAAP,valuelanguage=en]","pp://Auditors report/Auditor's report on audited financial statements[taxonomy=DKGAAP,period=1_parent]",{"$f":"IF(COUNTA($B271),\"pp://\"&$B271&IF(COUNTA($C271),\"+\"&$C271,\"\")&IF(COUNTA($D271),\"+\"&$D271,\"\")&IF(COUNTA($E271),\"+\"&$E271,\"\")&IF(COUNTA($F271),\"+\"&$F271,\"\")&IF(COUNTA($G271),\"+\"&$G271,\"\")&IF(COUNTA($H271),\"+\"&$H271,\"\")&IF(COUNTA($I271),\"+\"&$I271,\"\")&IF(COUNTA($J271),\"+\"&$J271,\"\")&IF(COUNTA($K271),\"+\"&$K271,\"\")&$P271,\"\")","v":"pp://Auditors report/Auditor's report on audited financial statements[taxonomy=DKGAAP]"},null,null,null,"Auditor's report on audited financial statements",null,null,"Revisionspåtegning"]
[{"$f":"\"\"&INDEX(PP_Locale,ROW(),PP_LanguageIndex)","v":"Addressee"},"Auditors report/Addressee[taxonomy=DKGAAP]",null,null,null,null,null,null,null,null,null,"pp://Auditors report/Addressee[taxonomy=DKGAAP]","pp://Auditors report/Addressee[taxonomy=DKGAAP,valuelanguage=en]","pp://Auditors report/Addressee[taxonomy=DKGAAP,period=1_parent]","pp://Auditors report/Addressee[taxonomy=DKGAAP]",null,null,null,"Addressee",null,null,"Adressat"]
[{"$f":"\"\"&INDEX(PP_Locale,ROW(),PP_LanguageIndex)","v":"Opinion"},"Auditors report/Opinion[taxonomy=DKGAAP]",null,null,null,null,null,null,null,null,null,"pp://Auditors report/Opinion[taxonomy=DKGAAP]","pp://Auditors report/Opinion[taxonomy=DKGAAP,valuelanguage=en]","pp://Auditors report/Opinion[taxonomy=DKGAAP,period=1_parent]","pp://Auditors report/Opinion[taxonomy=DKGAAP]",null,null,null,"Opinion",null,null,"Konklusion"]
[{"$f":"\"\"&INDEX(PP_Locale,ROW(),PP_LanguageIndex)","v":"Statement whether qualifications of audited financial statements are of such decisive importance that annual general meeting should not approve financial statements"},"Auditors report/Statement whether qualifications of audited financial statements are of such decisive importance that annual general meeting should not approve financial statements[taxonomy=DKGAAP]",null,null,null,null,null,null,null,null,null,"pp://Auditors report/Statement whether qualifications of audited financial statements are of such decisive importance that annual general meeting should not approve financial statements[taxonomy=DKGAAP]","pp://Auditors report/Statement whether qualifications of audited financial statements are of such decisive importance that annual general meeting should not approve financial statements[taxonomy=DKGAAP,valuelanguage=en]","pp://Auditors report/Statement whether qualifications of audited financial statements are of such decisive importance that annual general meeting should not approve financial statements[taxonomy=DKGAAP,period=1_parent]","pp://Auditors report/Statement whether qualifications of audited financial statements are of such decisive importance that annual general meeting should not approve financial statements[taxonomy=DKGAAP]",null,null,null,"Statement whether qualifications of audited financial statements are of such decisive importance that annual general meeting should not approve financial statements",null,null,"Oplysning om hvis et forbehold er af så afgørende betydning, at det fører til, at generalforsamlingen ikke bør godkende regnskabet"]
[{"$f":"\"\"&INDEX(PP_Locale,ROW(),PP_LanguageIndex)","v":"Basis for opinion"},"Auditors report/Basis for opinion[taxonomy=DKGAAP]",null,null,null,null,null,null,null,null,null,"pp://Auditors report/Basis for opinion[taxonomy=DKGAAP]","pp://Auditors report/Basis for opinion[taxonomy=DKGAAP,valuelanguage=en]","pp://Auditors report/Basis for opinion[taxonomy=DKGAAP,period=1_parent]","pp://Auditors report/Basis for opinion[taxonomy=DKGAAP]",null,null,null,"Basis for opinion",null,null,"Grundlag for konklusion"]
[{"$f":"\"\"&INDEX(PP_Locale,ROW(),PP_LanguageIndex)","v":"Material uncertainty concerning going concern"},"Auditors report/Material uncertainty concerning going concern[taxonomy=DKGAAP]",null,null,null,null,null,null,null,null,null,"pp://Auditors report/Material uncertainty concerning going concern[taxonomy=DKGAAP]","pp://Auditors report/Material uncertainty concerning going concern[taxonomy=DKGAAP,valuelanguage=en]","pp://Auditors report/Material uncertainty concerning going concern[taxonomy=DKGAAP,period=1_parent]","pp://Auditors report/Material uncertainty concerning going concern[taxonomy=DKGAAP]",null,null,null,"Material uncertainty concerning going concern",null,null,"Væsentlig usikkerhed vedr. fortsat drift"]
[{"$f":"\"\"&INDEX(PP_Locale,ROW(),PP_LanguageIndex)","v":"Emphasis of matter"},"Auditors report/Emphasis of matter[taxonomy=DKGAAP]",null,null,null,null,null,null,null,null,null,"pp://Auditors report/Emphasis of matter[taxonomy=DKGAAP]","pp://Auditors report/Emphasis of matter[taxonomy=DKGAAP,valuelanguage=en]","pp://Auditors report/Emphasis of matter[taxonomy=DKGAAP,period=1_parent]","pp://Auditors report/Emphasis of matter[taxonomy=DKGAAP]",null,null,null,"Emphasis of matter",null,null,"Fremhævelse af forhold i regnskabet"]
[{"$f":"\"\"&INDEX(PP_Locale,ROW(),PP_LanguageIndex)","v":"Key audit matters"},"Auditors report/Key audit matters[taxonomy=DKGAAP]",null,null,null,null,null,null,null,null,null,"pp://Auditors report/Key audit matters[taxonomy=DKGAAP]","pp://Auditors report/Key audit matters[taxonomy=DKGAAP,valuelanguage=en]","pp://Auditors report/Key audit matters[taxonomy=DKGAAP,period=1_parent]","pp://Auditors report/Key audit matters[taxonomy=DKGAAP]",null,null,null,"Key audit matters",null,null,"Centrale forhold ved revisionen"]
[{"$f":"\"\"&INDEX(PP_Locale,ROW(),PP_LanguageIndex)","v":"Other matter"},"Auditors report/Other matter[taxonomy=DKGAAP]",null,null,null,null,null,null,null,null,null,"pp://Auditors report/Other matter[taxonomy=DKGAAP]","pp://Auditors report/Other matter[taxonomy=DKGAAP,valuelanguage=en]","pp://Auditors report/Other matter[taxonomy=DKGAAP,period=1_parent]","pp://Auditors report/Other matter[taxonomy=DKGAAP]",null,null,null,"Other matter",null,null,"Fremhævelse af forhold vedrørende revisionen"]
[{"$f":"\"\"&INDEX(PP_Locale,ROW(),PP_LanguageIndex)","v":"Statement on other information"},"Auditors report/Statement on other information[taxonomy=DKGAAP]",null,null,null,null,null,null,null,null,null,"pp://Auditors report/Statement on other information[taxonomy=DKGAAP]","pp://Auditors report/Statement on other information[taxonomy=DKGAAP,valuelanguage=en]","pp://Auditors report/Statement on other information[taxonomy=DKGAAP,period=1_parent]","pp://Auditors report/Statement on other information[taxonomy=DKGAAP]",null,null,null,"Statement on other information",null,null,"Udtalelse om andre oplysninger"]
[{"$f":"\"\"&INDEX(PP_Locale,ROW(),PP_LanguageIndex)","v":"Statement of executive and supervisory board's responsibility"},"Auditors report/Statement of executive and supervisory board's responsibility[taxonomy=DKGAAP]",null,null,null,null,null,null,null,null,null,"pp://Auditors report/Statement of executive and supervisory board's responsibility[taxonomy=DKGAAP]","pp://Auditors report/Statement of executive and supervisory board's responsibility[taxonomy=DKGAAP,valuelanguage=en]","pp://Auditors report/Statement of executive and supervisory board's responsibility[taxonomy=DKGAAP,period=1_parent]","pp://Auditors report/Statement of executive and supervisory board's responsibility[taxonomy=DKGAAP]",null,null,null,"Statement of executive and supervisory board's responsibility",null,null,"Ledelsens ansvar for regnskabet"]
[{"$f":"\"\"&INDEX(PP_Locale,ROW(),PP_LanguageIndex)","v":"Statement of auditor's responsibility"},"Auditors report/Statement of auditor's responsibility[taxonomy=DKGAAP]",null,null,null,null,null,null,null,null,null,"pp://Auditors report/Statement of auditor's responsibility[taxonomy=DKGAAP]","pp://Auditors report/Statement of auditor's responsibility[taxonomy=DKGAAP,valuelanguage=en]","pp://Auditors report/Statement of auditor's responsibility[taxonomy=DKGAAP,period=1_parent]","pp://Auditors report/Statement of auditor's responsibility[taxonomy=DKGAAP]",null,null,null,"Statement of auditor's responsibility",null,null,"Revisors ansvar for revisionen af regnskabet"]
[{"$f":"\"\"&INDEX(PP_Locale,ROW(),PP_LanguageIndex)","v":"Statement on management's review"},"Auditors report/Statement on management's review[taxonomy=DKGAAP]",null,null,null,null,null,null,null,null,null,"pp://Auditors report/Statement on management's review[taxonomy=DKGAAP]","pp://Auditors report/Statement on management's review[taxonomy=DKGAAP,valuelanguage=en]","pp://Auditors report/Statement on management's review[taxonomy=DKGAAP,period=1_parent]","pp://Auditors report/Statement on management's review[taxonomy=DKGAAP]",null,null,null,"Statement on management's review",null,null,"Udtalelse om ledelsesberetningen"]
[{"$f":"\"\"&INDEX(PP_Locale,ROW(),PP_LanguageIndex)","v":"Auditors report on XBRL-tagging"},"Auditors report/Auditors report on XBRL-tagging[taxonomy=DKGAAP]",null,null,null,null,null,null,null,null,null,"pp://Auditors report/Auditors report on XBRL-tagging[taxonomy=DKGAAP]","pp://Auditors report/Auditors report on XBRL-tagging[taxonomy=DKGAAP,valuelanguage=en]","pp://Auditors report/Auditors report on XBRL-tagging[taxonomy=DKGAAP,period=1_parent]","pp://Auditors report/Auditors report on XBRL-tagging[taxonomy=DKGAAP]",null,null,null,"Auditors report on XBRL-tagging",null,null,"Erklæring om XBRL-opmærkning"]
[{"$f":"\"\"&INDEX(PP_Locale,ROW(),PP_LanguageIndex)","v":"Reports on other legal and regulatory requirements"},"Auditors report/Reports on other legal and regulatory requirements[taxonomy=DKGAAP]",null,null,null,null,null,null,null,null,null,"pp://Auditors report/Reports on other legal and regulatory requirements[taxonomy=DKGAAP]","pp://Auditors report/Reports on other legal and regulatory requirements[taxonomy=DKGAAP,valuelanguage=en]","pp://Auditors report/Reports on other legal and regulatory requirements[taxonomy=DKGAAP,period=1_parent]","pp://Auditors report/Reports on other legal and regulatory requirements[taxonomy=DKGAAP]",null,null,null,"Reports on other legal and regulatory requirements",null,null,"Erklæringer i henhold til anden lovgivning og øvrig regulering"]
[{"$f":"\"\"&INDEX(PP_Locale,ROW(),PP_LanguageIndex)","v":"Auditor's report on extended review"},"Auditors report/Auditor's report on extended review[taxonomy=DKGAAP]",null,null,null,null,null,null,null,null,null,"pp://Auditors report/Auditor's report on extended review[taxonomy=DKGAAP]","pp://Auditors report/Auditor's report on extended review[taxonomy=DKGAAP,valuelanguage=en]","pp://Auditors report/Auditor's report on extended review[taxonomy=DKGAAP,period=1_parent]","pp://Auditors report/Auditor's report on extended review[taxonomy=DKGAAP]",null,null,null,"Auditor's report on extended review",null,null,"Erklæring om udvidet gennemgang"]
[{"$f":"\"\"&INDEX(PP_Locale,ROW(),PP_LanguageIndex)","v":"Addressee of auditor's report on extended review of financial statements"},"Auditors report/Addressee of auditor's report on extended review of financial statements[taxonomy=DKGAAP]",null,null,null,null,null,null,null,null,null,"pp://Auditors report/Addressee of auditor's report on extended review of financial statements[taxonomy=DKGAAP]","pp://Auditors report/Addressee of auditor's report on extended review of financial statements[taxonomy=DKGAAP,valuelanguage=en]","pp://Auditors report/Addressee of auditor's report on extended review of financial statements[taxonomy=DKGAAP,period=1_parent]","pp://Auditors report/Addressee of auditor's report on extended review of financial statements[taxonomy=DKGAAP]",null,null,null,"Addressee of auditor's report on extended review of financial statements",null,null,"Adressat (udvidet gennemgang)"]
[{"$f":"\"\"&INDEX(PP_Locale,ROW(),PP_LanguageIndex)","v":"Opinion on financial statements (extended review)"},"Auditors report/Opinion on financial statements (extended review)[taxonomy=DKGAAP]",null,null,null,null,null,null,null,null,null,"pp://Auditors report/Opinion on financial statements (extended review)[taxonomy=DKGAAP]","pp://Auditors report/Opinion on financial statements (extended review)[taxonomy=DKGAAP,valuelanguage=en]","pp://Auditors report/Opinion on financial statements (extended review)[taxonomy=DKGAAP,period=1_parent]","pp://Auditors report/Opinion on financial statements (extended review)[taxonomy=DKGAAP]",null,null,null,"Opinion on financial statements (extended review)",null,null,"Konklusion (udvidet gennemgang)"]
[{"$f":"\"\"&INDEX(PP_Locale,ROW(),PP_LanguageIndex)","v":"Basis for conclusion (extended review)"},"Auditors report/Basis for conclusion (extended review)[taxonomy=DKGAAP]",null,null,null,null,null,null,null,null,null,"pp://Auditors report/Basis for conclusion (extended review)[taxonomy=DKGAAP]","pp://Auditors report/Basis for conclusion (extended review)[taxonomy=DKGAAP,valuelanguage=en]","pp://Auditors report/Basis for conclusion (extended review)[taxonomy=DKGAAP,period=1_parent]","pp://Auditors report/Basis for conclusion (extended review)[taxonomy=DKGAAP]",null,null,null,"Basis for conclusion (extended review)",null,null,"Grundlag for konklusion (udvidet gennemgang)"]
[{"$f":"\"\"&INDEX(PP_Locale,ROW(),PP_LanguageIndex)","v":"Material uncertainty concerning going concern (extended review)"},"Auditors report/Material uncertainty concerning going concern (extended review)[taxonomy=DKGAAP]",null,null,null,null,null,null,null,null,null,"pp://Auditors report/Material uncertainty concerning going concern (extended review)[taxonomy=DKGAAP]","pp://Auditors report/Material uncertainty concerning going concern (extended review)[taxonomy=DKGAAP,valuelanguage=en]","pp://Auditors report/Material uncertainty concerning going concern (extended review)[taxonomy=DKGAAP,period=1_parent]","pp://Auditors report/Material uncertainty concerning going concern (extended review)[taxonomy=DKGAAP]",null,null,null,"Material uncertainty concerning going concern (extended review)",null,null,"Væsentlig usikkerhed vedr. fortsat drift (udvidet gennemgang)"]
[{"$f":"\"\"&INDEX(PP_Locale,ROW(),PP_LanguageIndex)","v":"Emphasis of matter (extended review)"},"Auditors report/Emphasis of matter (extended review)[taxonomy=DKGAAP]",null,null,null,null,null,null,null,null,null,"pp://Auditors report/Emphasis of matter (extended review)[taxonomy=DKGAAP]","pp://Auditors report/Emphasis of matter (extended review)[taxonomy=DKGAAP,valuelanguage=en]","pp://Auditors report/Emphasis of matter (extended review)[taxonomy=DKGAAP,period=1_parent]","pp://Auditors report/Emphasis of matter (extended review)[taxonomy=DKGAAP]",null,null,null,"Emphasis of matter (extended review)",null,null,"Fremhævelse af forhold i regnskabet (udvidet gennemgang)"]
[{"$f":"\"\"&INDEX(PP_Locale,ROW(),PP_LanguageIndex)","v":"Other matter (extended review)"},"Auditors report/Other matter (extended review)[taxonomy=DKGAAP]",null,null,null,null,null,null,null,null,null,"pp://Auditors report/Other matter (extended review)[taxonomy=DKGAAP]","pp://Auditors report/Other matter (extended review)[taxonomy=DKGAAP,valuelanguage=en]","pp://Auditors report/Other matter (extended review)[taxonomy=DKGAAP,period=1_parent]","pp://Auditors report/Other matter (extended review)[taxonomy=DKGAAP]",null,null,null,"Other matter (extended review)",null,null,"Fremhævelse af forhold vedrørende den udvidede gennemgang"]
[{"$f":"\"\"&INDEX(PP_Locale,ROW(),PP_LanguageIndex)","v":"Statement of executive and supervisory board's responsibility for financial statements (extended review)"},"Auditors report/Statement of executive and supervisory board's responsibility for financial statements (extended review)[taxonomy=DKGAAP]",null,null,null,null,null,null,null,null,null,"pp://Auditors report/Statement of executive and supervisory board's responsibility for financial statements (extended review)[taxonomy=DKGAAP]","pp://Auditors report/Statement of executive and supervisory board's responsibility for financial statements (extended review)[taxonomy=DKGAAP,valuelanguage=en]","pp://Auditors report/Statement of executive and supervisory board's responsibility for financial statements (extended review)[taxonomy=DKGAAP,period=1_parent]","pp://Auditors report/Statement of executive and supervisory board's responsibility for financial statements (extended review)[taxonomy=DKGAAP]",null,null,null,"Statement of executive and supervisory board's responsibility for financial statements (extended review)",null,null,"Ledelsens ansvar for årsregnskabet (udvidet gennemgang)"]
[{"$f":"\"\"&INDEX(PP_Locale,ROW(),PP_LanguageIndex)","v":"Statement of auditor's responsibility (extended review)"},"Auditors report/Statement of auditor's responsibility (extended review)[taxonomy=DKGAAP]",null,null,null,null,null,null,null,null,null,"pp://Auditors report/Statement of auditor's responsibility (extended review)[taxonomy=DKGAAP]","pp://Auditors report/Statement of auditor's responsibility (extended review)[taxonomy=DKGAAP,valuelanguage=en]","pp://Auditors report/Statement of auditor's responsibility (extended review)[taxonomy=DKGAAP,period=1_parent]","pp://Auditors report/Statement of auditor's responsibility (extended review)[taxonomy=DKGAAP]",null,null,null,"Statement of auditor's responsibility (extended review)",null,null,"Revisors ansvar (udvidet gennemgang)"]
[{"$f":"\"\"&INDEX(PP_Locale,ROW(),PP_LanguageIndex)","v":"Statement on management's review (extended review)"},"Auditors report/Statement on management's review (extended review)[taxonomy=DKGAAP]",null,null,null,null,null,null,null,null,null,"pp://Auditors report/Statement on management's review (extended review)[taxonomy=DKGAAP]","pp://Auditors report/Statement on management's review (extended review)[taxonomy=DKGAAP,valuelanguage=en]","pp://Auditors report/Statement on management's review (extended review)[taxonomy=DKGAAP,period=1_parent]","pp://Auditors report/Statement on management's review (extended review)[taxonomy=DKGAAP]",null,null,null,"Statement on management's review (extended review)",null,null,"Udtalelse om ledelsesberetningen (udvidet gennemgang)"]
[{"$f":"\"\"&INDEX(PP_Locale,ROW(),PP_LanguageIndex)","v":"Report on other legal and regulatory requirements (extended review)"},"Auditors report/Report on other legal and regulatory requirements (extended review)[taxonomy=DKGAAP]",null,null,null,null,null,null,null,null,null,"pp://Auditors report/Report on other legal and regulatory requirements (extended review)[taxonomy=DKGAAP]","pp://Auditors report/Report on other legal and regulatory requirements (extended review)[taxonomy=DKGAAP,valuelanguage=en]","pp://Auditors report/Report on other legal and regulatory requirements (extended review)[taxonomy=DKGAAP,period=1_parent]","pp://Auditors report/Report on other legal and regulatory requirements (extended review)[taxonomy=DKGAAP]",null,null,null,"Report on other legal and regulatory requirements (extended review)",null,null,"Erklæringer i henhold til anden lovgivning og øvrig regulering (udvidet gennemgang)"]
[{"$f":"\"\"&INDEX(PP_Locale,ROW(),PP_LanguageIndex)","v":"Statement on other information (extended review)"},"Auditors report/Statement on other information (extended review)[taxonomy=DKGAAP]",null,null,null,null,null,null,null,null,null,"pp://Auditors report/Statement on other information (extended review)[taxonomy=DKGAAP]","pp://Auditors report/Statement on other information (extended review)[taxonomy=DKGAAP,valuelanguage=en]","pp://Auditors report/Statement on other information (extended review)[taxonomy=DKGAAP,period=1_parent]","pp://Auditors report/Statement on other information (extended review)[taxonomy=DKGAAP]",null,null,null,"Statement on other information (extended review)",null,null,"Udtalelse om andre oplysninger (udvidet gennemgang)"]
[{"$f":"\"\"&INDEX(PP_Locale,ROW(),PP_LanguageIndex)","v":"Other reports (extended review)"},"Auditors report/Other reports (extended review)[taxonomy=DKGAAP]",null,null,null,null,null,null,null,null,null,"pp://Auditors report/Other reports (extended review)[taxonomy=DKGAAP]","pp://Auditors report/Other reports (extended review)[taxonomy=DKGAAP,valuelanguage=en]","pp://Auditors report/Other reports (extended review)[taxonomy=DKGAAP,period=1_parent]","pp://Auditors report/Other reports (extended review)[taxonomy=DKGAAP]",null,null,null,"Other reports (extended review)",null,null,"Andre erklæringer (udvidet gennemgang)"]
[{"$f":"\"\"&INDEX(PP_Locale,ROW(),PP_LanguageIndex)","v":"Auditor's report on review of financial statements"},"Auditors report/Auditor's report on review of financial statements[taxonomy=DKGAAP]",null,null,null,null,null,null,null,null,null,"pp://Auditors report/Auditor's report on review of financial statements[taxonomy=DKGAAP]","pp://Auditors report/Auditor's report on review of financial statements[taxonomy=DKGAAP,valuelanguage=en]","pp://Auditors report/Auditor's report on review of financial statements[taxonomy=DKGAAP,period=1_parent]","pp://Auditors report/Auditor's report on review of financial statements[taxonomy=DKGAAP]",null,null,null,"Auditor's report on review of financial statements",null,null,"Revisors erklæring om gennemgang (review)"]
[{"$f":"\"\"&INDEX(PP_Locale,ROW(),PP_LanguageIndex)","v":"Addressee of auditor's report on review of financial statements"},"Auditors report/Addressee of auditor's report on review of financial statements[taxonomy=DKGAAP]",null,null,null,null,null,null,null,null,null,"pp://Auditors report/Addressee of auditor's report on review of financial statements[taxonomy=DKGAAP]","pp://Auditors report/Addressee of auditor's report on review of financial statements[taxonomy=DKGAAP,valuelanguage=en]","pp://Auditors report/Addressee of auditor's report on review of financial statements[taxonomy=DKGAAP,period=1_parent]","pp://Auditors report/Addressee of auditor's report on review of financial statements[taxonomy=DKGAAP]",null,null,null,"Addressee of auditor's report on review of financial statements",null,null,"Adressat (review)"]
[{"$f":"\"\"&INDEX(PP_Locale,ROW(),PP_LanguageIndex)","v":"Identification of reviewed financial statement"},"Auditors report/Identification of reviewed financial statement[taxonomy=DKGAAP]",null,null,null,null,null,null,null,null,null,"pp://Auditors report/Identification of reviewed financial statement[taxonomy=DKGAAP]","pp://Auditors report/Identification of reviewed financial statement[taxonomy=DKGAAP,valuelanguage=en]","pp://Auditors report/Identification of reviewed financial statement[taxonomy=DKGAAP,period=1_parent]","pp://Auditors report/Identification of reviewed financial statement[taxonomy=DKGAAP]",null,null,null,"Identification of reviewed financial statement",null,null,"Identifikation af det gennemgåede regnskab (review)"]
[{"$f":"\"\"&INDEX(PP_Locale,ROW(),PP_LanguageIndex)","v":"Statement on management's responsibility (review)"},"Auditors report/Statement on management's responsibility (review)[taxonomy=DKGAAP]",null,null,null,null,null,null,null,null,null,"pp://Auditors report/Statement on management's responsibility (review)[taxonomy=DKGAAP]","pp://Auditors report/Statement on management's responsibility (review)[taxonomy=DKGAAP,valuelanguage=en]","pp://Auditors report/Statement on management's responsibility (review)[taxonomy=DKGAAP,period=1_parent]","pp://Auditors report/Statement on management's responsibility (review)[taxonomy=DKGAAP]",null,null,null,"Statement on management's responsibility (review)",null,null,"Omtale af ledelsens ansvar (review)"]
[{"$f":"\"\"&INDEX(PP_Locale,ROW(),PP_LanguageIndex)","v":"Statement of auditor's responsibility for review"},"Auditors report/Statement of auditor's responsibility for review[taxonomy=DKGAAP]",null,null,null,null,null,null,null,null,null,"pp://Auditors report/Statement of auditor's responsibility for review[taxonomy=DKGAAP]","pp://Auditors report/Statement of auditor's responsibility for review[taxonomy=DKGAAP,valuelanguage=en]","pp://Auditors report/Statement of auditor's responsibility for review[taxonomy=DKGAAP,period=1_parent]","pp://Auditors report/Statement of auditor's responsibility for review[taxonomy=DKGAAP]",null,null,null,"Statement of auditor's responsibility for review",null,null,"Omtale af revisors ansvar (review)"]
[{"$f":"\"\"&INDEX(PP_Locale,ROW(),PP_LanguageIndex)","v":"Statement on review performed"},"Auditors report/Statement on review performed[taxonomy=DKGAAP]",null,null,null,null,null,null,null,null,null,"pp://Auditors report/Statement on review performed[taxonomy=DKGAAP]","pp://Auditors report/Statement on review performed[taxonomy=DKGAAP,valuelanguage=en]","pp://Auditors report/Statement on review performed[taxonomy=DKGAAP,period=1_parent]","pp://Auditors report/Statement on review performed[taxonomy=DKGAAP]",null,null,null,"Statement on review performed",null,null,"Omtale af indholdet af den udførte gennemgang (review)"]
[{"$f":"\"\"&INDEX(PP_Locale,ROW(),PP_LanguageIndex)","v":"Descriptions of qualifications of reviewed financial statements"},"Auditors report/Descriptions of qualifications of reviewed financial statements[taxonomy=DKGAAP]",null,null,null,null,null,null,null,null,null,"pp://Auditors report/Descriptions of qualifications of reviewed financial statements[taxonomy=DKGAAP]","pp://Auditors report/Descriptions of qualifications of reviewed financial statements[taxonomy=DKGAAP,valuelanguage=en]","pp://Auditors report/Descriptions of qualifications of reviewed financial statements[taxonomy=DKGAAP,period=1_parent]","pp://Auditors report/Descriptions of qualifications of reviewed financial statements[taxonomy=DKGAAP]",null,null,null,"Descriptions of qualifications of reviewed financial statements",null,null,"Forbehold (review)"]
[{"$f":"\"\"&INDEX(PP_Locale,ROW(),PP_LanguageIndex)","v":"Conclusion on reviewed financial statements"},"Auditors report/Conclusion on reviewed financial statements[taxonomy=DKGAAP]",null,null,null,null,null,null,null,null,null,"pp://Auditors report/Conclusion on reviewed financial statements[taxonomy=DKGAAP]","pp://Auditors report/Conclusion on reviewed financial statements[taxonomy=DKGAAP,valuelanguage=en]","pp://Auditors report/Conclusion on reviewed financial statements[taxonomy=DKGAAP,period=1_parent]","pp://Auditors report/Conclusion on reviewed financial statements[taxonomy=DKGAAP]",null,null,null,"Conclusion on reviewed financial statements",null,null,"Konklusion (review)"]
[{"$f":"\"\"&INDEX(PP_Locale,ROW(),PP_LanguageIndex)","v":"Emphasis of matter (review)"},"Auditors report/Emphasis of matter (review)[taxonomy=DKGAAP]",null,null,null,null,null,null,null,null,null,"pp://Auditors report/Emphasis of matter (review)[taxonomy=DKGAAP]","pp://Auditors report/Emphasis of matter (review)[taxonomy=DKGAAP,valuelanguage=en]","pp://Auditors report/Emphasis of matter (review)[taxonomy=DKGAAP,period=1_parent]","pp://Auditors report/Emphasis of matter (review)[taxonomy=DKGAAP]",null,null,null,"Emphasis of matter (review)",null,null,"Fremhævelse af forhold i regnskabet (review)"]
[{"$f":"\"\"&INDEX(PP_Locale,ROW(),PP_LanguageIndex)","v":"Other matter (review)"},"Auditors report/Other matter (review)[taxonomy=DKGAAP]",null,null,null,null,null,null,null,null,null,"pp://Auditors report/Other matter (review)[taxonomy=DKGAAP]","pp://Auditors report/Other matter (review)[taxonomy=DKGAAP,valuelanguage=en]","pp://Auditors report/Other matter (review)[taxonomy=DKGAAP,period=1_parent]","pp://Auditors report/Other matter (review)[taxonomy=DKGAAP]",null,null,null,"Other matter (review)",null,null,"Fremhævelse af forhold vedrørende reviewet"]
[{"$f":"\"\"&INDEX(PP_Locale,ROW(),PP_LanguageIndex)","v":"Statement on management's review (review)"},"Auditors report/Statement on management's review (review)[taxonomy=DKGAAP]",null,null,null,null,null,null,null,null,null,"pp://Auditors report/Statement on management's review (review)[taxonomy=DKGAAP]","pp://Auditors report/Statement on management's review (review)[taxonomy=DKGAAP,valuelanguage=en]","pp://Auditors report/Statement on management's review (review)[taxonomy=DKGAAP,period=1_parent]","pp://Auditors report/Statement on management's review (review)[taxonomy=DKGAAP]",null,null,null,"Statement on management's review (review)",null,null,"Udtalelse om ledelsesberetningen (review)"]
[{"$f":"\"\"&INDEX(PP_Locale,ROW(),PP_LanguageIndex)","v":"Other reports (review)"},"Auditors report/Other reports (review)[taxonomy=DKGAAP]",null,null,null,null,null,null,null,null,null,"pp://Auditors report/Other reports (review)[taxonomy=DKGAAP]","pp://Auditors report/Other reports (review)[taxonomy=DKGAAP,valuelanguage=en]","pp://Auditors report/Other reports (review)[taxonomy=DKGAAP,period=1_parent]","pp://Auditors report/Other reports (review)[taxonomy=DKGAAP]",null,null,null,"Other reports (review)",null,null,"Andre erklæringer (review)"]
[{"$f":"\"\"&INDEX(PP_Locale,ROW(),PP_LanguageIndex)","v":"Reports on other legal and regulatory requirements (review)"},"Auditors report/Reports on other legal and regulatory requirements (review)[taxonomy=DKGAAP]",null,null,null,null,null,null,null,null,null,"pp://Auditors report/Reports on other legal and regulatory requirements (review)[taxonomy=DKGAAP]","pp://Auditors report/Reports on other legal and regulatory requirements (review)[taxonomy=DKGAAP,valuelanguage=en]","pp://Auditors report/Reports on other legal and regulatory requirements (review)[taxonomy=DKGAAP,period=1_parent]","pp://Auditors report/Reports on other legal and regulatory requirements (review)[taxonomy=DKGAAP]",null,null,null,"Reports on other legal and regulatory requirements (review)",null,null,"Erklæringer i henhold til anden lovgivning og øvrig regulering (review)"]
[{"$f":"\"\"&INDEX(PP_Locale,ROW(),PP_LanguageIndex)","v":"Other non-assurance reports"},"Auditors report/Other non-assurance reports[taxonomy=DKGAAP]",null,null,null,null,null,null,null,null,null,"pp://Auditors report/Other non-assurance reports[taxonomy=DKGAAP]","pp://Auditors report/Other non-assurance reports[taxonomy=DKGAAP,valuelanguage=en]","pp://Auditors report/Other non-assurance reports[taxonomy=DKGAAP,period=1_parent]","pp://Auditors report/Other non-assurance reports[taxonomy=DKGAAP]",null,null,null,"Other non-assurance reports",null,null,"Andre erklæringer uden sikkerhed"]
[{"$f":"\"\"&INDEX(PP_Locale,ROW(),PP_LanguageIndex)","v":"Addressee of auditor's report (other non-assurance reports)"},"Auditors report/Addressee of auditor's report (other non-assurance reports)[taxonomy=DKGAAP]",null,null,null,null,null,null,null,null,null,"pp://Auditors report/Addressee of auditor's report (other non-assurance reports)[taxonomy=DKGAAP]","pp://Auditors report/Addressee of auditor's report (other non-assurance reports)[taxonomy=DKGAAP,valuelanguage=en]","pp://Auditors report/Addressee of auditor's report (other non-assurance reports)[taxonomy=DKGAAP,period=1_parent]","pp://Auditors report/Addressee of auditor's report (other non-assurance reports)[taxonomy=DKGAAP]",null,null,null,"Addressee of auditor's report (other non-assurance reports)",null,null,"Adressat (andre erklæringer uden sikkerhed)"]
[{"$f":"\"\"&INDEX(PP_Locale,ROW(),PP_LanguageIndex)","v":"Description of other non-assurance engagement"},"Auditors report/Description of other non-assurance engagement[taxonomy=DKGAAP]",null,null,null,null,null,null,null,null,null,"pp://Auditors report/Description of other non-assurance engagement[taxonomy=DKGAAP]","pp://Auditors report/Description of other non-assurance engagement[taxonomy=DKGAAP,valuelanguage=en]","pp://Auditors report/Description of other non-assurance engagement[taxonomy=DKGAAP,period=1_parent]","pp://Auditors report/Description of other non-assurance engagement[taxonomy=DKGAAP]",null,null,null,"Description of other non-assurance engagement",null,null,"Omtale af arbejdets og erklæringens omfang (andre erklæringer uden sikkerhed)"]
[{"$f":"\"\"&INDEX(PP_Locale,ROW(),PP_LanguageIndex)","v":""}]
[{"$f":"\"\"&INDEX(PP_Locale,ROW(),PP_LanguageIndex)","v":"Managements review etc."},null,null,null,null,null,null,null,null,null,null,null,null,null,null,null,null,null,"Managements review etc.",null,null,"Ledelsesberetningen mv."]
[{"$f":"\"\"&INDEX(PP_Locale,ROW(),PP_LanguageIndex)","v":"Management’s review"},"Managements review/Management’s review[taxonomy=DKGAAP]",null,null,null,null,null,null,null,null,null,{"$f":"IF(COUNTBLANK(L$1),$O317,SUBSTITUTE($O317,\"DKGAAP]\",\"DKGAAP,\"&L$1&\"]\"))","v":"pp://Managements review/Management’s review[taxonomy=DKGAAP]"},"pp://Managements review/Management’s review[taxonomy=DKGAAP,valuelanguage=en]","pp://Managements review/Management’s review[taxonomy=DKGAAP,period=1_parent]",{"$f":"IF(COUNTA($B317),\"pp://\"&$B317&IF(COUNTA($C317),\"+\"&$C317,\"\")&IF(COUNTA($D317),\"+\"&$D317,\"\")&IF(COUNTA($E317),\"+\"&$E317,\"\")&IF(COUNTA($F317),\"+\"&$F317,\"\")&IF(COUNTA($G317),\"+\"&$G317,\"\")&IF(COUNTA($H317),\"+\"&$H317,\"\")&IF(COUNTA($I317),\"+\"&$I317,\"\")&IF(COUNTA($J317),\"+\"&$J317,\"\")&IF(COUNTA($K317),\"+\"&$K317,\"\")&$P317,\"\")","v":"pp://Managements review/Management’s review[taxonomy=DKGAAP]"},null,null,null,"Management’s review",null,null,"Ledelsesberetning"]
[{"$f":"\"\"&INDEX(PP_Locale,ROW(),PP_LanguageIndex)","v":"Description of significant activities of entity"},"Managements review/Description of significant activities of entity[taxonomy=DKGAAP]",null,null,null,null,null,null,null,null,null,"pp://Managements review/Description of significant activities of entity[taxonomy=DKGAAP]","pp://Managements review/Description of significant activities of entity[taxonomy=DKGAAP,valuelanguage=en]","pp://Managements review/Description of significant activities of entity[taxonomy=DKGAAP,period=1_parent]","pp://Managements review/Description of significant activities of entity[taxonomy=DKGAAP]",null,null,null,"Description of significant activities of entity",null,null,"Beskrivelse af virksomhedens væsentligste aktiviteter"]
[{"$f":"\"\"&INDEX(PP_Locale,ROW(),PP_LanguageIndex)","v":"Corporate governance report"},"Managements review/Corporate governance report[taxonomy=DKGAAP]",null,null,null,null,null,null,null,null,null,"pp://Managements review/Corporate governance report[taxonomy=DKGAAP]","pp://Managements review/Corporate governance report[taxonomy=DKGAAP,valuelanguage=en]","pp://Managements review/Corporate governance report[taxonomy=DKGAAP,period=1_parent]","pp://Managements review/Corporate governance report[taxonomy=DKGAAP]",null,null,null,"Corporate governance report",null,null,"Redegørelse for virksomhedsledelse"]
[{"$f":"\"\"&INDEX(PP_Locale,ROW(),PP_LanguageIndex)","v":"Statement of corporate social responsibility"},"Managements review/Statement of corporate social responsibility[taxonomy=DKGAAP]",null,null,null,null,null,null,null,null,null,"pp://Managements review/Statement of corporate social responsibility[taxonomy=DKGAAP]","pp://Managements review/Statement of corporate social responsibility[taxonomy=DKGAAP,valuelanguage=en]","pp://Managements review/Statement of corporate social responsibility[taxonomy=DKGAAP,period=1_parent]","pp://Managements review/Statement of corporate social responsibility[taxonomy=DKGAAP]",null,null,null,"Statement of corporate social responsibility",null,null,"Redegørelse for samfundsansvar"]
[{"$f":"\"\"&INDEX(PP_Locale,ROW(),PP_LanguageIndex)","v":"Statement of target figures and policies for the underrepresented gender"},"Managements review/Statement of target figures and policies for the underrepresented gender[taxonomy=DKGAAP]",null,null,null,null,null,null,null,null,null,"pp://Managements review/Statement of target figures and policies for the underrepresented gender[taxonomy=DKGAAP]","pp://Managements review/Statement of target figures and policies for the underrepresented gender[taxonomy=DKGAAP,valuelanguage=en]","pp://Managements review/Statement of target figures and policies for the underrepresented gender[taxonomy=DKGAAP,period=1_parent]","pp://Managements review/Statement of target figures and policies for the underrepresented gender[taxonomy=DKGAAP]",null,null,null,"Statement of target figures and policies for the underrepresented gender",null,null,"Redegørelse for måltal og politikker vedrørende det underrepræsenterede køn"]
[]
["Board of Directors"]
[{"$f":"\"\"&INDEX(PP_Locale,ROW(),PP_LanguageIndex)","v":"Total number of members of board of Directors, excluding employee-elected members"},null,null,null,null,null,null,null,null,null,null,"","","","",null,null,null,"Total number of members of board of Directors, excluding employee-elected members",null,null,"Det samlede antal medlemmer i øverste ledelsesorgan, ekskl. medarbejdervalgte medlemmer"]
[{"$f":"\"\"&INDEX(PP_Locale,ROW(),PP_LanguageIndex)","v":"Percentage of underrepresented gender [Board of Directors]"},null,null,null,null,null,null,null,null,null,null,"","","","",null,null,null,"Percentage of underrepresented gender [Board of Directors]",null,null,"Underrepræsenteret køn i pct. [øverste ledelsesorgan]"]
[{"$f":"\"\"&INDEX(PP_Locale,ROW(),PP_LanguageIndex)","v":"Target figure in percentage of underrepresented gender [Board of Directors]"},null,null,null,null,null,null,null,null,null,null,"","","","",null,null,null,"Target figure in percentage of underrepresented gender [Board of Directors]",null,null,"Måltal i pct. for andelen af det underrepræsenterede køn [øverste ledelsesorgan]"]
[{"$f":"\"\"&INDEX(PP_Locale,ROW(),PP_LanguageIndex)","v":"Year of fulfillment of target figure of underrepresented gender [Board of Directors]"},null,null,null,null,null,null,null,null,null,null,"","","","",null,null,null,"Year of fulfillment of target figure of underrepresented gender [Board of Directors]",null,null,"Årstal for opfyldelse af måltallet for det underrepræsenterede køn [øverste ledelsesorgan]"]
[{"$f":"\"\"&INDEX(PP_Locale,ROW(),PP_LanguageIndex)","v":"Information on equal distribution of women and men [Board of Directors]"},"Managements review/Information on equal distribution of women and men [Board of Directors][taxonomy=DKGAAP]",null,null,null,null,null,null,null,null,null,"pp://Managements review/Information on equal distribution of women and men [Board of Directors][taxonomy=DKGAAP]","pp://Managements review/Information on equal distribution of women and men [Board of Directors][taxonomy=DKGAAP,valuelanguage=en]","pp://Managements review/Information on equal distribution of women and men [Board of Directors][taxonomy=DKGAAP,period=1_parent]","pp://Managements review/Information on equal distribution of women and men [Board of Directors][taxonomy=DKGAAP]",null,null,null,"Information on equal distribution of women and men [Board of Directors]",null,null,"Information om at virksomheden har en ligelig fordelling af mænd og kvinder i det øverste ledelsesorgan"]
[{"$f":"\"\"&INDEX(PP_Locale,ROW(),PP_LanguageIndex)","v":"Status of achievement of target figure of underrepresented gender [Board of Directors]"},"Managements review/Status of achievement of target figure of underrepresented gender [Board of Directors][taxonomy=DKGAAP]",null,null,null,null,null,null,null,null,null,"pp://Managements review/Status of achievement of target figure of underrepresented gender [Board of Directors][taxonomy=DKGAAP]","pp://Managements review/Status of achievement of target figure of underrepresented gender [Board of Directors][taxonomy=DKGAAP,valuelanguage=en]","pp://Managements review/Status of achievement of target figure of underrepresented gender [Board of Directors][taxonomy=DKGAAP,period=1_parent]","pp://Managements review/Status of achievement of target figure of underrepresented gender [Board of Directors][taxonomy=DKGAAP]",null,null,null,"Status of achievement of target figure of underrepresented gender [Board of Directors]",null,null,"Status for opfyldelsen af måltallet for det underrepræsenterede køn [øverste ledelsesorgan]"]
[{"$f":"\"\"&INDEX(PP_Locale,ROW(),PP_LanguageIndex)","v":"Primary actions for fulfillment of target figure of underrepresented gender [Board of Directors]"},"Managements review/Primary actions for fulfillment of target figure of underrepresented gender [Board of Directors][taxonomy=DKGAAP]",null,null,null,null,null,null,null,null,null,"pp://Managements review/Primary actions for fulfillment of target figure of underrepresented gender [Board of Directors][taxonomy=DKGAAP]","pp://Managements review/Primary actions for fulfillment of target figure of underrepresented gender [Board of Directors][taxonomy=DKGAAP,valuelanguage=en]","pp://Managements review/Primary actions for fulfillment of target figure of underrepresented gender [Board of Directors][taxonomy=DKGAAP,period=1_parent]","pp://Managements review/Primary actions for fulfillment of target figure of underrepresented gender [Board of Directors][taxonomy=DKGAAP]",null,null,null,"Primary actions for fulfillment of target figure of underrepresented gender [Board of Directors]",null,null,"Væsentligste handlinger for at opfylde måltallet for det underrepræsenterede køn [øverste ledelsesorgan]"]
[{"$f":"\"\"&INDEX(PP_Locale,ROW(),PP_LanguageIndex)","v":"Reason for not fulfilling the target figure of underrepresented gender [Board of Directors]"},"Managements review/Reason for not fulfilling the target figure of underrepresented gender [Board of Directors][taxonomy=DKGAAP]",null,null,null,null,null,null,null,null,null,"pp://Managements review/Reason for not fulfilling the target figure of underrepresented gender [Board of Directors][taxonomy=DKGAAP]","pp://Managements review/Reason for not fulfilling the target figure of underrepresented gender [Board of Directors][taxonomy=DKGAAP,valuelanguage=en]","pp://Managements review/Reason for not fulfilling the target figure of underrepresented gender [Board of Directors][taxonomy=DKGAAP,period=1_parent]","pp://Managements review/Reason for not fulfilling the target figure of underrepresented gender [Board of Directors][taxonomy=DKGAAP]",null,null,null,"Reason for not fulfilling the target figure of underrepresented gender [Board of Directors]",null,null,"Årsag til, at måltallet det underrepræsenterede køn ikke er opfyldt [øverste ledelsesorgan]"]
[]
["Other management levels"]
[{"$f":"\"\"&INDEX(PP_Locale,ROW(),PP_LanguageIndex)","v":"Total number of other management levels"},null,null,null,null,null,null,null,null,null,null,"","","","",null,null,null,"Total number of other management levels",null,null,"Det samlede antal medlemmer i øvrige ledelsesniveauer"]
[{"$f":"\"\"&INDEX(PP_Locale,ROW(),PP_LanguageIndex)","v":"Percentage of underrepresented gender [Other management levels]"},null,null,null,null,null,null,null,null,null,null,"","","","",null,null,null,"Percentage of underrepresented gender [Other management levels]",null,null,"Underrepræsenteret køn i pct. [øvrige ledelsesniveauer]"]
[{"$f":"\"\"&INDEX(PP_Locale,ROW(),PP_LanguageIndex)","v":"Target figure in percentage of underrepresented gender [Other management levels]"},null,null,null,null,null,null,null,null,null,null,null,null,null,null,null,null,null,"Target figure in percentage of underrepresented gender [Other management levels]",null,null,"Måltal i pct. for andelen af det underrepræsenterede køn [øvrige ledelsesniveauer]"]
[{"$f":"\"\"&INDEX(PP_Locale,ROW(),PP_LanguageIndex)","v":"Year of fulfillment of target figure of underrepresented gender [Other management levels]"},null,null,null,null,null,null,null,null,null,null,null,null,null,null,null,null,null,"Year of fulfillment of target figure of underrepresented gender [Other management levels]",null,null,"Årstal for opfyldelse af måltal for det underrepræsenteret køn [øvrige ledelsesniveauer]"]
[{"$f":"\"\"&INDEX(PP_Locale,ROW(),PP_LanguageIndex)","v":"Information on equal distribution of women and men [Other management levels]"},"Managements review/Information on equal distribution of women and men [Other management levels][taxonomy=DKGAAP]",null,null,null,null,null,null,null,null,null,"pp://Managements review/Information on equal distribution of women and men [Other management levels][taxonomy=DKGAAP]","pp://Managements review/Information on equal distribution of women and men [Other management levels][taxonomy=DKGAAP,valuelanguage=en]","pp://Managements review/Information on equal distribution of women and men [Other management levels][taxonomy=DKGAAP,period=1_parent]","pp://Managements review/Information on equal distribution of women and men [Other management levels][taxonomy=DKGAAP]",null,null,null,"Information on equal distribution of women and men [Other management levels]",null,null,"Information om at virksomheden har en ligelig fordelling af mænd og kvinder i de øvrige ledelsesniveauer"]
[{"$f":"\"\"&INDEX(PP_Locale,ROW(),PP_LanguageIndex)","v":"Information on exempt from providing information on target figures of underrepresented gender for other management levels due to the number of employees"},"Managements review/Information on exempt from providing information on target figures of underrepresented gender for other management levels due to the number of employees[taxonomy=DKGAAP]",null,null,null,null,null,null,null,null,null,"pp://Managements review/Information on exempt from providing information on target figures of underrepresented gender for other management levels due to the number of employees[taxonomy=DKGAAP]","pp://Managements review/Information on exempt from providing information on target figures of underrepresented gender for other management levels due to the number of employees[taxonomy=DKGAAP,valuelanguage=en]","pp://Managements review/Information on exempt from providing information on target figures of underrepresented gender for other management levels due to the number of employees[taxonomy=DKGAAP,period=1_parent]","pp://Managements review/Information on exempt from providing information on target figures of underrepresented gender for other management levels due to the number of employees[taxonomy=DKGAAP]",null,null,null,"Information on exempt from providing information on target figures of underrepresented gender for other management levels due to the number of employees",null,null,"Information om at virksomheden er undtaget fra at give oplysning om måltal og politik for det underrepræsenteret køn for øvrige ledelsesniveauer pga. antal ansatte"]
[{"$f":"\"\"&INDEX(PP_Locale,ROW(),PP_LanguageIndex)","v":"Statement of the policy to increase the percentage of underrepresented gender [Other management levels]"},"Managements review/Statement of the policy to increase the percentage of underrepresented gender [Other management levels][taxonomy=DKGAAP]",null,null,null,null,null,null,null,null,null,"pp://Managements review/Statement of the policy to increase the percentage of underrepresented gender [Other management levels][taxonomy=DKGAAP]","pp://Managements review/Statement of the policy to increase the percentage of underrepresented gender [Other management levels][taxonomy=DKGAAP,valuelanguage=en]","pp://Managements review/Statement of the policy to increase the percentage of underrepresented gender [Other management levels][taxonomy=DKGAAP,period=1_parent]","pp://Managements review/Statement of the policy to increase the percentage of underrepresented gender [Other management levels][taxonomy=DKGAAP]",null,null,null,"Statement of the policy to increase the percentage of underrepresented gender [Other management levels]",null,null,"Redegørelse for virksomhedens politik for at øge andelen af det underrepræsenterede køn på de øvrige ledelsesniveauer"]
[{"$f":"\"\"&INDEX(PP_Locale,ROW(),PP_LanguageIndex)","v":"The main content of the policy of the underrepresented gender [Other management levels]"},"Managements review/The main content of the policy of the underrepresented gender [Other management levels][taxonomy=DKGAAP]",null,null,null,null,null,null,null,null,null,"pp://Managements review/The main content of the policy of the underrepresented gender [Other management levels][taxonomy=DKGAAP]","pp://Managements review/The main content of the policy of the underrepresented gender [Other management levels][taxonomy=DKGAAP,valuelanguage=en]","pp://Managements review/The main content of the policy of the underrepresented gender [Other management levels][taxonomy=DKGAAP,period=1_parent]","pp://Managements review/The main content of the policy of the underrepresented gender [Other management levels][taxonomy=DKGAAP]",null,null,null,"The main content of the policy of the underrepresented gender [Other management levels]",null,null,"Det væsentligste indhold af politikken for det underrepræsenterede køn[øvrige ledelsesniveauer]"]
[{"$f":"\"\"&INDEX(PP_Locale,ROW(),PP_LanguageIndex)","v":"Primary actions for fulfillment of target figure [Other management levels]"},"Managements review/Primary actions for fulfillment of target figure [Other management levels][taxonomy=DKGAAP]",null,null,null,null,null,null,null,null,null,"pp://Managements review/Primary actions for fulfillment of target figure [Other management levels][taxonomy=DKGAAP]","pp://Managements review/Primary actions for fulfillment of target figure [Other management levels][taxonomy=DKGAAP,valuelanguage=en]","pp://Managements review/Primary actions for fulfillment of target figure [Other management levels][taxonomy=DKGAAP,period=1_parent]","pp://Managements review/Primary actions for fulfillment of target figure [Other management levels][taxonomy=DKGAAP]",null,null,null,"Primary actions for fulfillment of target figure [Other management levels]",null,null,"De væsentligste handlinger for at nå måltallet og omsætte politikken til handling [øvrige ledelsesniveauer]"]
[{"$f":"\"\"&INDEX(PP_Locale,ROW(),PP_LanguageIndex)","v":"Status of achievement of target figure [Other management levels]"},"Managements review/Status of achievement of target figure [Other management levels][taxonomy=DKGAAP]",null,null,null,null,null,null,null,null,null,"pp://Managements review/Status of achievement of target figure [Other management levels][taxonomy=DKGAAP]","pp://Managements review/Status of achievement of target figure [Other management levels][taxonomy=DKGAAP,valuelanguage=en]","pp://Managements review/Status of achievement of target figure [Other management levels][taxonomy=DKGAAP,period=1_parent]","pp://Managements review/Status of achievement of target figure [Other management levels][taxonomy=DKGAAP]",null,null,null,"Status of achievement of target figure [Other management levels]",null,null,"Status for opfyldelsen af måltallet [øvrige ledelsesniveauer]"]
[{"$f":"\"\"&INDEX(PP_Locale,ROW(),PP_LanguageIndex)","v":"Reason for not fulfilling the target figure [Other management levels]"},"Managements review/Reason for not fulfilling the target figure [Other management levels][taxonomy=DKGAAP]",null,null,null,null,null,null,null,null,null,"pp://Managements review/Reason for not fulfilling the target figure [Other management levels][taxonomy=DKGAAP]","pp://Managements review/Reason for not fulfilling the target figure [Other management levels][taxonomy=DKGAAP,valuelanguage=en]","pp://Managements review/Reason for not fulfilling the target figure [Other management levels][taxonomy=DKGAAP,period=1_parent]","pp://Managements review/Reason for not fulfilling the target figure [Other management levels][taxonomy=DKGAAP]",null,null,null,"Reason for not fulfilling the target figure [Other management levels]",null,null,"Årsag til, at måltallet ikke er opfyldt [øvrige ledelsesniveauer]"]
[]
[{"$f":"\"\"&INDEX(PP_Locale,ROW(),PP_LanguageIndex)","v":"Report on payments to authorities"},"Managements review/Report on payments to authorities[taxonomy=DKGAAP]",null,null,null,null,null,null,null,null,null,"pp://Managements review/Report on payments to authorities[taxonomy=DKGAAP]","pp://Managements review/Report on payments to authorities[taxonomy=DKGAAP,valuelanguage=en]","pp://Managements review/Report on payments to authorities[taxonomy=DKGAAP,period=1_parent]","pp://Managements review/Report on payments to authorities[taxonomy=DKGAAP]",null,null,null,"Report on payments to authorities",null,null,"Beretning om betalinger til myndigheder"]
[{"$f":"\"\"&INDEX(PP_Locale,ROW(),PP_LanguageIndex)","v":"Statement of the diversity policies"},"Managements review/Statement of the diversity policies[taxonomy=DKGAAP]",null,null,null,null,null,null,null,null,null,"pp://Managements review/Statement of the diversity policies[taxonomy=DKGAAP]","pp://Managements review/Statement of the diversity policies[taxonomy=DKGAAP,valuelanguage=en]","pp://Managements review/Statement of the diversity policies[taxonomy=DKGAAP,period=1_parent]","pp://Managements review/Statement of the diversity policies[taxonomy=DKGAAP]",null,null,null,"Statement of the diversity policies",null,null,"Redegørelse for politikker om mangfoldighed"]
[{"$f":"\"\"&INDEX(PP_Locale,ROW(),PP_LanguageIndex)","v":"Statement of policy for data ethics"},"Managements review/Statement of policy for data ethics[taxonomy=DKGAAP]",null,null,null,null,null,null,null,null,null,"pp://Managements review/Statement of policy for data ethics[taxonomy=DKGAAP]","pp://Managements review/Statement of policy for data ethics[taxonomy=DKGAAP,valuelanguage=en]","pp://Managements review/Statement of policy for data ethics[taxonomy=DKGAAP,period=1_parent]","pp://Managements review/Statement of policy for data ethics[taxonomy=DKGAAP]",null,null,null,"Statement of policy for data ethics",null,null,"Redegørelse for virksomhedens politik for dataetik"]
[{"$f":"\"\"&INDEX(PP_Locale,ROW(),PP_LanguageIndex)","v":"Statement of good management concerning foundation"},"Managements review/Statement of good management concerning foundation[taxonomy=DKGAAP]",null,null,null,null,null,null,null,null,null,"pp://Managements review/Statement of good management concerning foundation[taxonomy=DKGAAP]","pp://Managements review/Statement of good management concerning foundation[taxonomy=DKGAAP,valuelanguage=en]","pp://Managements review/Statement of good management concerning foundation[taxonomy=DKGAAP,period=1_parent]","pp://Managements review/Statement of good management concerning foundation[taxonomy=DKGAAP]",null,null,null,"Statement of good management concerning foundation",null,null,"Redegørelse for god fondsledelse"]
[{"$f":"\"\"&INDEX(PP_Locale,ROW(),PP_LanguageIndex)","v":"Statement of the foundation's distribution policy"},"Managements review/Statement of the foundation's distribution policy[taxonomy=DKGAAP]",null,null,null,null,null,null,null,null,null,"pp://Managements review/Statement of the foundation's distribution policy[taxonomy=DKGAAP]","pp://Managements review/Statement of the foundation's distribution policy[taxonomy=DKGAAP,valuelanguage=en]","pp://Managements review/Statement of the foundation's distribution policy[taxonomy=DKGAAP,period=1_parent]","pp://Managements review/Statement of the foundation's distribution policy[taxonomy=DKGAAP]",null,null,null,"Statement of the foundation's distribution policy",null,null,"Redegørelse for fondens uddelingspolitik"]
[]
[{"$f":"\"\"&INDEX(PP_Locale,ROW(),PP_LanguageIndex)","v":"Key figures and financial ratios"},null,null,null,null,null,null,null,null,null,null,null,null,null,null,null,null,null,"Key figures and financial ratios",null,null,"Hoved- og nøgletal"]
[{"$f":"\"\"&INDEX(PP_Locale,ROW(),PP_LanguageIndex)","v":"Revenue by employee"},null,null,null,null,null,null,null,null,null,null,null,null,null,null,null,null,null,"Revenue by employee",null,null,"Nettoomsætning pr. medarbejder"]
[{"$f":"\"\"&INDEX(PP_Locale,ROW(),PP_LanguageIndex)","v":"Revenue"},null,null,null,null,null,null,null,null,null,null,null,null,null,null,null,null,null,"Revenue",null,null,"Nettoomsætning"]
[{"$f":"\"\"&INDEX(PP_Locale,ROW(),PP_LanguageIndex)","v":"Gross proft or loss"},null,null,null,null,null,null,null,null,null,null,null,null,null,null,null,null,null,"Gross proft or loss",null,null,"Bruttoresultat"]
[{"$f":"\"\"&INDEX(PP_Locale,ROW(),PP_LanguageIndex)","v":"Gross profit (loss)"},null,null,null,null,null,null,null,null,null,null,null,null,null,null,null,null,null,"Gross profit (loss)",null,null,"Bruttofortjeneste/Bruttotab"]
[{"$f":"\"\"&INDEX(PP_Locale,ROW(),PP_LanguageIndex)","v":"Profit (loss) from ordinary operating activities"},null,null,null,null,null,null,null,null,null,null,null,null,null,null,null,null,null,"Profit (loss) from ordinary operating activities",null,null,"Resultat af ordinær drift"]
[{"$f":"\"\"&INDEX(PP_Locale,ROW(),PP_LanguageIndex)","v":"Net financials"},null,null,null,null,null,null,null,null,null,null,null,null,null,null,null,null,null,"Net financials",null,null,"Resultat af finansielle poster"]
[{"$f":"\"\"&INDEX(PP_Locale,ROW(),PP_LanguageIndex)","v":"Profit (loss) from ordinary activities before tax"},null,null,null,null,null,null,null,null,null,null,null,null,null,null,null,null,null,"Profit (loss) from ordinary activities before tax",null,null,"Ordinært resultat før skat"]
[{"$f":"\"\"&INDEX(PP_Locale,ROW(),PP_LanguageIndex)","v":"Profit (loss)"},null,null,null,null,null,null,null,null,null,null,null,null,null,null,null,null,null,"Profit (loss)",null,null,"Årets resultat"]
[{"$f":"\"\"&INDEX(PP_Locale,ROW(),PP_LanguageIndex)","v":"Assets"},null,null,null,null,null,null,null,null,null,null,null,null,null,null,null,null,null,"Assets",null,null,"Aktiver"]
[{"$f":"\"\"&INDEX(PP_Locale,ROW(),PP_LanguageIndex)","v":"Non-current assets"},null,null,null,null,null,null,null,null,null,null,null,null,null,null,null,null,null,"Non-current assets",null,null,"Anlægsaktiver"]
[{"$f":"\"\"&INDEX(PP_Locale,ROW(),PP_LanguageIndex)","v":"Current assets"},null,null,null,null,null,null,null,null,null,null,null,null,null,null,null,null,null,"Current assets",null,null,"Omsætningsaktiver"]
[{"$f":"\"\"&INDEX(PP_Locale,ROW(),PP_LanguageIndex)","v":"Investment in property, plant and equipment"},null,null,null,null,null,null,null,null,null,null,null,null,null,null,null,null,null,"Investment in property, plant and equipment",null,null,"Investeringer i materielle anlægsaktiver"]
[{"$f":"\"\"&INDEX(PP_Locale,ROW(),PP_LanguageIndex)","v":"Equity"},null,null,null,null,null,null,null,null,null,null,null,null,null,null,null,null,null,"Equity",null,null,"Egenkapital"]
[{"$f":"\"\"&INDEX(PP_Locale,ROW(),PP_LanguageIndex)","v":"Contributed capital"},null,null,null,null,null,null,null,null,null,null,null,null,null,null,null,null,null,"Contributed capital",null,null,"Registreret kapital mv."]
[{"$f":"\"\"&INDEX(PP_Locale,ROW(),PP_LanguageIndex)","v":"Provisions"},null,null,null,null,null,null,null,null,null,null,null,null,null,null,null,null,null,"Provisions",null,null,"Hensatte forpligtelser"]
[{"$f":"\"\"&INDEX(PP_Locale,ROW(),PP_LanguageIndex)","v":"Short-term liabilities other than provisions"},null,null,null,null,null,null,null,null,null,null,null,null,null,null,null,null,null,"Short-term liabilities other than provisions",null,null,"Kortfristede gældsforpligtelser"]
[{"$f":"\"\"&INDEX(PP_Locale,ROW(),PP_LanguageIndex)","v":"Long-term liabilities other than provisions"},null,null,null,null,null,null,null,null,null,null,null,null,null,null,null,null,null,"Long-term liabilities other than provisions",null,null,"Langfristede gældsforpligtelser"]
[{"$f":"\"\"&INDEX(PP_Locale,ROW(),PP_LanguageIndex)","v":"Cash flows from (used in) operating activities"},null,null,null,null,null,null,null,null,null,null,null,null,null,null,null,null,null,"Cash flows from (used in) operating activities",null,null,"Pengestrømme fra (brugt i) driftsaktivitet"]
[{"$f":"\"\"&INDEX(PP_Locale,ROW(),PP_LanguageIndex)","v":"Cash flows from (used in) investing activities"},null,null,null,null,null,null,null,null,null,null,null,null,null,null,null,null,null,"Cash flows from (used in) investing activities",null,null,"Pengestrømme fra (brugt i) investeringsaktivitet"]
[{"$f":"\"\"&INDEX(PP_Locale,ROW(),PP_LanguageIndex)","v":"Cash flows from (used in) financing activities"},null,null,null,null,null,null,null,null,null,null,null,null,null,null,null,null,null,"Cash flows from (used in) financing activities",null,null,"Pengestrømme fra (brugt i) finansieringsaktivitet"]
[{"$f":"\"\"&INDEX(PP_Locale,ROW(),PP_LanguageIndex)","v":"Net increase (decrease) in cash and cash equivalents"},null,null,null,null,null,null,null,null,null,null,null,null,null,null,null,null,null,"Net increase (decrease) in cash and cash equivalents",null,null,"Ændring i likvider"]
[{"$f":"\"\"&INDEX(PP_Locale,ROW(),PP_LanguageIndex)","v":"Average number of employees"},null,null,null,null,null,null,null,null,null,null,null,null,null,null,null,null,null,"Average number of employees",null,null,"Gennemsnitligt antal ansatte"]
[{"$f":"\"\"&INDEX(PP_Locale,ROW(),PP_LanguageIndex)","v":"Gross margin"},null,null,null,null,null,null,null,null,null,null,null,null,null,null,null,null,null,"Gross margin",null,null,"Bruttomargin"]
[{"$f":"\"\"&INDEX(PP_Locale,ROW(),PP_LanguageIndex)","v":"Gross margin (%)"},null,null,null,null,null,null,null,null,null,null,null,null,null,null,null,null,null,"Gross margin (%)",null,null,"Bruttomargin (%)"]
[{"$f":"\"\"&INDEX(PP_Locale,ROW(),PP_LanguageIndex)","v":"Operating margin"},null,null,null,null,null,null,null,null,null,null,null,null,null,null,null,null,null,"Operating margin",null,null,"Overskudsgrad"]
[{"$f":"\"\"&INDEX(PP_Locale,ROW(),PP_LanguageIndex)","v":"Operating margin (%)"},null,null,null,null,null,null,null,null,null,null,null,null,null,null,null,null,null,"Operating margin (%)",null,null,"Overskudsgrad (%)"]
[{"$f":"\"\"&INDEX(PP_Locale,ROW(),PP_LanguageIndex)","v":"Return on capital employed"},null,null,null,null,null,null,null,null,null,null,null,null,null,null,null,null,null,"Return on capital employed",null,null,"Afkastningsgrad"]
[{"$f":"\"\"&INDEX(PP_Locale,ROW(),PP_LanguageIndex)","v":"Return on capital employed (%)"},null,null,null,null,null,null,null,null,null,null,null,null,null,null,null,null,null,"Return on capital employed (%)",null,null,"Afkastningsgrad (%)"]
[{"$f":"\"\"&INDEX(PP_Locale,ROW(),PP_LanguageIndex)","v":"Equity ratio"},null,null,null,null,null,null,null,null,null,null,null,null,null,null,null,null,null,"Equity ratio",null,null,"Soliditetsgrad"]
[{"$f":"\"\"&INDEX(PP_Locale,ROW(),PP_LanguageIndex)","v":"Equity ratio (%)"},null,null,null,null,null,null,null,null,null,null,null,null,null,null,null,null,null,"Equity ratio (%)",null,null,"Soliditetsgrad (%)"]
[{"$f":"\"\"&INDEX(PP_Locale,ROW(),PP_LanguageIndex)","v":"Solvency ratio"},null,null,null,null,null,null,null,null,null,null,null,null,null,null,null,null,null,"Solvency ratio",null,null,"Solvensgrad"]
[{"$f":"\"\"&INDEX(PP_Locale,ROW(),PP_LanguageIndex)","v":"Solvency ratio (%)"},null,null,null,null,null,null,null,null,null,null,null,null,null,null,null,null,null,"Solvency ratio (%)",null,null,"Solvensgrad (%)"]
[{"$f":"\"\"&INDEX(PP_Locale,ROW(),PP_LanguageIndex)","v":"Liquidity ratio"},null,null,null,null,null,null,null,null,null,null,null,null,null,null,null,null,null,"Liquidity ratio",null,null,"Likviditetsgrad"]
[{"$f":"\"\"&INDEX(PP_Locale,ROW(),PP_LanguageIndex)","v":"Liquidity ratio (%)"},null,null,null,null,null,null,null,null,null,null,null,null,null,null,null,null,null,"Liquidity ratio (%)",null,null,"Likviditetsgrad (%)"]
[{"$f":"\"\"&INDEX(PP_Locale,ROW(),PP_LanguageIndex)","v":"Return on equity"},null,null,null,null,null,null,null,null,null,null,null,null,null,null,null,null,null,"Return on equity",null,null,"Forrentning af egenkapitalen"]
[{"$f":"\"\"&INDEX(PP_Locale,ROW(),PP_LanguageIndex)","v":"Return on equity (%)"},null,null,null,null,null,null,null,null,null,null,null,null,null,null,null,null,null,"Return on equity (%)",null,null,"Forrentning af egenkapitalen (%)"]
[{"$f":"\"\"&INDEX(PP_Locale,ROW(),PP_LanguageIndex)","v":"Return on invested capital"},null,null,null,null,null,null,null,null,null,null,null,null,null,null,null,null,null,"Return on invested capital",null,null,"Afkast af investeret kapital"]
[{"$f":"\"\"&INDEX(PP_Locale,ROW(),PP_LanguageIndex)","v":"Return on invested capital (%)"},null,null,null,null,null,null,null,null,null,null,null,null,null,null,null,null,null,"Return on invested capital (%)",null,null,"Afkast af investeret kapital (%)"]
[{"$f":"\"\"&INDEX(PP_Locale,ROW(),PP_LanguageIndex)","v":"Financial gearing"},null,null,null,null,null,null,null,null,null,null,null,null,null,null,null,null,null,"Financial gearing",null,null,"Finansiel gearing"]
[{"$f":"\"\"&INDEX(PP_Locale,ROW(),PP_LanguageIndex)","v":"Financial gearing (%)"},null,null,null,null,null,null,null,null,null,null,null,null,null,null,null,null,null,"Financial gearing (%)",null,null,"Finansiel gearing (%)"]
[{"$f":"\"\"&INDEX(PP_Locale,ROW(),PP_LanguageIndex)","v":"Name of key figure 1"},"Financial highlights/Name of key figure 1[taxonomy=DKGAAP,period=1]","Financial highlights/Name of key figure 1[taxonomy=DKGAAP,period=2]","Financial highlights/Name of key figure 1[taxonomy=DKGAAP,period=3]","Financial highlights/Name of key figure 1[taxonomy=DKGAAP,period=4]","Financial highlights/Name of key figure 1[taxonomy=DKGAAP,period=5]",null,null,null,null,null,{"$f":"IF(COUNTBLANK(L$1),$O393,SUBSTITUTE($O393,\"DKGAAP]\",\"DKGAAP,\"&L$1&\"]\"))","v":"pp://Financial highlights/Name of key figure 1[taxonomy=DKGAAP,period=1]+Financial highlights/Name of key figure 1[taxonomy=DKGAAP,period=2]+Financial highlights/Name of key figure 1[taxonomy=DKGAAP,period=3]+Financial highlights/Name of key figure 1[taxonomy=DKGAAP,period=4]+Financial highlights/Name of key figure 1[taxonomy=DKGAAP,period=5]"},"pp://Financial highlights/Name of key figure 1[taxonomy=DKGAAP,period=1]+Financial highlights/Name of key figure 1[taxonomy=DKGAAP,period=2]+Financial highlights/Name of key figure 1[taxonomy=DKGAAP,period=3]+Financial highlights/Name of key figure 1[taxonomy=DKGAAP,period=4]+Financial highlights/Name of key figure 1[taxonomy=DKGAAP,period=5]","pp://Financial highlights/Name of key figure 1[taxonomy=DKGAAP,period=1]+Financial highlights/Name of key figure 1[taxonomy=DKGAAP,period=2]+Financial highlights/Name of key figure 1[taxonomy=DKGAAP,period=3]+Financial highlights/Name of key figure 1[taxonomy=DKGAAP,period=4]+Financial highlights/Name of key figure 1[taxonomy=DKGAAP,period=5]",{"$f":"IF(COUNTA($B393),\"pp://\"&$B393&IF(COUNTA($C393),\"+\"&$C393,\"\")&IF(COUNTA($D393),\"+\"&$D393,\"\")&IF(COUNTA($E393),\"+\"&$E393,\"\")&IF(COUNTA($F393),\"+\"&$F393,\"\")&IF(COUNTA($G393),\"+\"&$G393,\"\")&IF(COUNTA($H393),\"+\"&$H393,\"\")&IF(COUNTA($I393),\"+\"&$I393,\"\")&IF(COUNTA($J393),\"+\"&$J393,\"\")&IF(COUNTA($K393),\"+\"&$K393,\"\")&$P393,\"\")","v":"pp://Financial highlights/Name of key figure 1[taxonomy=DKGAAP,period=1]+Financial highlights/Name of key figure 1[taxonomy=DKGAAP,period=2]+Financial highlights/Name of key figure 1[taxonomy=DKGAAP,period=3]+Financial highlights/Name of key figure 1[taxonomy=DKGAAP,period=4]+Financial highlights/Name of key figure 1[taxonomy=DKGAAP,period=5]"},null,null,null,"Name of key figure 1",null,null,"Navn på hovedtal 1"]
[{"$f":"\"\"&INDEX(PP_Locale,ROW(),PP_LanguageIndex)","v":"Name of key figure 2"},"Financial highlights/Name of key figure 2[taxonomy=DKGAAP,period=1]","Financial highlights/Name of key figure 2[taxonomy=DKGAAP,period=2]","Financial highlights/Name of key figure 2[taxonomy=DKGAAP,period=3]","Financial highlights/Name of key figure 2[taxonomy=DKGAAP,period=4]","Financial highlights/Name of key figure 2[taxonomy=DKGAAP,period=5]",null,null,null,null,null,"pp://Financial highlights/Name of key figure 2[taxonomy=DKGAAP,period=1]+Financial highlights/Name of key figure 2[taxonomy=DKGAAP,period=2]+Financial highlights/Name of key figure 2[taxonomy=DKGAAP,period=3]+Financial highlights/Name of key figure 2[taxonomy=DKGAAP,period=4]+Financial highlights/Name of key figure 2[taxonomy=DKGAAP,period=5]","pp://Financial highlights/Name of key figure 2[taxonomy=DKGAAP,period=1]+Financial highlights/Name of key figure 2[taxonomy=DKGAAP,period=2]+Financial highlights/Name of key figure 2[taxonomy=DKGAAP,period=3]+Financial highlights/Name of key figure 2[taxonomy=DKGAAP,period=4]+Financial highlights/Name of key figure 2[taxonomy=DKGAAP,period=5]","pp://Financial highlights/Name of key figure 2[taxonomy=DKGAAP,period=1]+Financial highlights/Name of key figure 2[taxonomy=DKGAAP,period=2]+Financial highlights/Name of key figure 2[taxonomy=DKGAAP,period=3]+Financial highlights/Name of key figure 2[taxonomy=DKGAAP,period=4]+Financial highlights/Name of key figure 2[taxonomy=DKGAAP,period=5]","pp://Financial highlights/Name of key figure 2[taxonomy=DKGAAP,period=1]+Financial highlights/Name of key figure 2[taxonomy=DKGAAP,period=2]+Financial highlights/Name of key figure 2[taxonomy=DKGAAP,period=3]+Financial highlights/Name of key figure 2[taxonomy=DKGAAP,period=4]+Financial highlights/Name of key figure 2[taxonomy=DKGAAP,period=5]",null,null,null,"Name of key figure 2",null,null,"Navn på hovedtal 2"]
[{"$f":"\"\"&INDEX(PP_Locale,ROW(),PP_LanguageIndex)","v":"Name of key figure 3"},"Financial highlights/Name of key figure 3[taxonomy=DKGAAP,period=1]","Financial highlights/Name of key figure 3[taxonomy=DKGAAP,period=2]","Financial highlights/Name of key figure 3[taxonomy=DKGAAP,period=3]","Financial highlights/Name of key figure 3[taxonomy=DKGAAP,period=4]","Financial highlights/Name of key figure 3[taxonomy=DKGAAP,period=5]",null,null,null,null,null,"pp://Financial highlights/Name of key figure 3[taxonomy=DKGAAP,period=1]+Financial highlights/Name of key figure 3[taxonomy=DKGAAP,period=2]+Financial highlights/Name of key figure 3[taxonomy=DKGAAP,period=3]+Financial highlights/Name of key figure 3[taxonomy=DKGAAP,period=4]+Financial highlights/Name of key figure 3[taxonomy=DKGAAP,period=5]","pp://Financial highlights/Name of key figure 3[taxonomy=DKGAAP,period=1]+Financial highlights/Name of key figure 3[taxonomy=DKGAAP,period=2]+Financial highlights/Name of key figure 3[taxonomy=DKGAAP,period=3]+Financial highlights/Name of key figure 3[taxonomy=DKGAAP,period=4]+Financial highlights/Name of key figure 3[taxonomy=DKGAAP,period=5]","pp://Financial highlights/Name of key figure 3[taxonomy=DKGAAP,period=1]+Financial highlights/Name of key figure 3[taxonomy=DKGAAP,period=2]+Financial highlights/Name of key figure 3[taxonomy=DKGAAP,period=3]+Financial highlights/Name of key figure 3[taxonomy=DKGAAP,period=4]+Financial highlights/Name of key figure 3[taxonomy=DKGAAP,period=5]","pp://Financial highlights/Name of key figure 3[taxonomy=DKGAAP,period=1]+Financial highlights/Name of key figure 3[taxonomy=DKGAAP,period=2]+Financial highlights/Name of key figure 3[taxonomy=DKGAAP,period=3]+Financial highlights/Name of key figure 3[taxonomy=DKGAAP,period=4]+Financial highlights/Name of key figure 3[taxonomy=DKGAAP,period=5]",null,null,null,"Name of key figure 3",null,null,"Navn på hovedtal 3"]
[{"$f":"\"\"&INDEX(PP_Locale,ROW(),PP_LanguageIndex)","v":"Name of key figure 4"},"Financial highlights/Name of key figure 4[taxonomy=DKGAAP,period=1]","Financial highlights/Name of key figure 4[taxonomy=DKGAAP,period=2]","Financial highlights/Name of key figure 4[taxonomy=DKGAAP,period=3]","Financial highlights/Name of key figure 4[taxonomy=DKGAAP,period=4]","Financial highlights/Name of key figure 4[taxonomy=DKGAAP,period=5]",null,null,null,null,null,"pp://Financial highlights/Name of key figure 4[taxonomy=DKGAAP,period=1]+Financial highlights/Name of key figure 4[taxonomy=DKGAAP,period=2]+Financial highlights/Name of key figure 4[taxonomy=DKGAAP,period=3]+Financial highlights/Name of key figure 4[taxonomy=DKGAAP,period=4]+Financial highlights/Name of key figure 4[taxonomy=DKGAAP,period=5]","pp://Financial highlights/Name of key figure 4[taxonomy=DKGAAP,period=1]+Financial highlights/Name of key figure 4[taxonomy=DKGAAP,period=2]+Financial highlights/Name of key figure 4[taxonomy=DKGAAP,period=3]+Financial highlights/Name of key figure 4[taxonomy=DKGAAP,period=4]+Financial highlights/Name of key figure 4[taxonomy=DKGAAP,period=5]","pp://Financial highlights/Name of key figure 4[taxonomy=DKGAAP,period=1]+Financial highlights/Name of key figure 4[taxonomy=DKGAAP,period=2]+Financial highlights/Name of key figure 4[taxonomy=DKGAAP,period=3]+Financial highlights/Name of key figure 4[taxonomy=DKGAAP,period=4]+Financial highlights/Name of key figure 4[taxonomy=DKGAAP,period=5]","pp://Financial highlights/Name of key figure 4[taxonomy=DKGAAP,period=1]+Financial highlights/Name of key figure 4[taxonomy=DKGAAP,period=2]+Financial highlights/Name of key figure 4[taxonomy=DKGAAP,period=3]+Financial highlights/Name of key figure 4[taxonomy=DKGAAP,period=4]+Financial highlights/Name of key figure 4[taxonomy=DKGAAP,period=5]",null,null,null,"Name of key figure 4",null,null,"Navn på hovedtal 4"]
[{"$f":"\"\"&INDEX(PP_Locale,ROW(),PP_LanguageIndex)","v":"Name of key figure 5"},"Financial highlights/Name of key figure 5[taxonomy=DKGAAP,period=1]","Financial highlights/Name of key figure 5[taxonomy=DKGAAP,period=2]","Financial highlights/Name of key figure 5[taxonomy=DKGAAP,period=3]","Financial highlights/Name of key figure 5[taxonomy=DKGAAP,period=4]","Financial highlights/Name of key figure 5[taxonomy=DKGAAP,period=5]",null,null,null,null,null,"pp://Financial highlights/Name of key figure 5[taxonomy=DKGAAP,period=1]+Financial highlights/Name of key figure 5[taxonomy=DKGAAP,period=2]+Financial highlights/Name of key figure 5[taxonomy=DKGAAP,period=3]+Financial highlights/Name of key figure 5[taxonomy=DKGAAP,period=4]+Financial highlights/Name of key figure 5[taxonomy=DKGAAP,period=5]","pp://Financial highlights/Name of key figure 5[taxonomy=DKGAAP,period=1]+Financial highlights/Name of key figure 5[taxonomy=DKGAAP,period=2]+Financial highlights/Name of key figure 5[taxonomy=DKGAAP,period=3]+Financial highlights/Name of key figure 5[taxonomy=DKGAAP,period=4]+Financial highlights/Name of key figure 5[taxonomy=DKGAAP,period=5]","pp://Financial highlights/Name of key figure 5[taxonomy=DKGAAP,period=1]+Financial highlights/Name of key figure 5[taxonomy=DKGAAP,period=2]+Financial highlights/Name of key figure 5[taxonomy=DKGAAP,period=3]+Financial highlights/Name of key figure 5[taxonomy=DKGAAP,period=4]+Financial highlights/Name of key figure 5[taxonomy=DKGAAP,period=5]","pp://Financial highlights/Name of key figure 5[taxonomy=DKGAAP,period=1]+Financial highlights/Name of key figure 5[taxonomy=DKGAAP,period=2]+Financial highlights/Name of key figure 5[taxonomy=DKGAAP,period=3]+Financial highlights/Name of key figure 5[taxonomy=DKGAAP,period=4]+Financial highlights/Name of key figure 5[taxonomy=DKGAAP,period=5]",null,null,null,"Name of key figure 5",null,null,"Navn på hovedtal 5"]
[{"$f":"\"\"&INDEX(PP_Locale,ROW(),PP_LanguageIndex)","v":"Name of key figure 6"},"Financial highlights/Name of key figure 6[taxonomy=DKGAAP,period=1]","Financial highlights/Name of key figure 6[taxonomy=DKGAAP,period=2]","Financial highlights/Name of key figure 6[taxonomy=DKGAAP,period=3]","Financial highlights/Name of key figure 6[taxonomy=DKGAAP,period=4]","Financial highlights/Name of key figure 6[taxonomy=DKGAAP,period=5]",null,null,null,null,null,"pp://Financial highlights/Name of key figure 6[taxonomy=DKGAAP,period=1]+Financial highlights/Name of key figure 6[taxonomy=DKGAAP,period=2]+Financial highlights/Name of key figure 6[taxonomy=DKGAAP,period=3]+Financial highlights/Name of key figure 6[taxonomy=DKGAAP,period=4]+Financial highlights/Name of key figure 6[taxonomy=DKGAAP,period=5]","pp://Financial highlights/Name of key figure 6[taxonomy=DKGAAP,period=1]+Financial highlights/Name of key figure 6[taxonomy=DKGAAP,period=2]+Financial highlights/Name of key figure 6[taxonomy=DKGAAP,period=3]+Financial highlights/Name of key figure 6[taxonomy=DKGAAP,period=4]+Financial highlights/Name of key figure 6[taxonomy=DKGAAP,period=5]","pp://Financial highlights/Name of key figure 6[taxonomy=DKGAAP,period=1]+Financial highlights/Name of key figure 6[taxonomy=DKGAAP,period=2]+Financial highlights/Name of key figure 6[taxonomy=DKGAAP,period=3]+Financial highlights/Name of key figure 6[taxonomy=DKGAAP,period=4]+Financial highlights/Name of key figure 6[taxonomy=DKGAAP,period=5]","pp://Financial highlights/Name of key figure 6[taxonomy=DKGAAP,period=1]+Financial highlights/Name of key figure 6[taxonomy=DKGAAP,period=2]+Financial highlights/Name of key figure 6[taxonomy=DKGAAP,period=3]+Financial highlights/Name of key figure 6[taxonomy=DKGAAP,period=4]+Financial highlights/Name of key figure 6[taxonomy=DKGAAP,period=5]",null,null,null,"Name of key figure 6",null,null,"Navn på hovedtal 6"]
[{"$f":"\"\"&INDEX(PP_Locale,ROW(),PP_LanguageIndex)","v":"Name of key figure 7"},"Financial highlights/Name of key figure 7[taxonomy=DKGAAP,period=1]","Financial highlights/Name of key figure 7[taxonomy=DKGAAP,period=2]","Financial highlights/Name of key figure 7[taxonomy=DKGAAP,period=3]","Financial highlights/Name of key figure 7[taxonomy=DKGAAP,period=4]","Financial highlights/Name of key figure 7[taxonomy=DKGAAP,period=5]",null,null,null,null,null,"pp://Financial highlights/Name of key figure 7[taxonomy=DKGAAP,period=1]+Financial highlights/Name of key figure 7[taxonomy=DKGAAP,period=2]+Financial highlights/Name of key figure 7[taxonomy=DKGAAP,period=3]+Financial highlights/Name of key figure 7[taxonomy=DKGAAP,period=4]+Financial highlights/Name of key figure 7[taxonomy=DKGAAP,period=5]","pp://Financial highlights/Name of key figure 7[taxonomy=DKGAAP,period=1]+Financial highlights/Name of key figure 7[taxonomy=DKGAAP,period=2]+Financial highlights/Name of key figure 7[taxonomy=DKGAAP,period=3]+Financial highlights/Name of key figure 7[taxonomy=DKGAAP,period=4]+Financial highlights/Name of key figure 7[taxonomy=DKGAAP,period=5]","pp://Financial highlights/Name of key figure 7[taxonomy=DKGAAP,period=1]+Financial highlights/Name of key figure 7[taxonomy=DKGAAP,period=2]+Financial highlights/Name of key figure 7[taxonomy=DKGAAP,period=3]+Financial highlights/Name of key figure 7[taxonomy=DKGAAP,period=4]+Financial highlights/Name of key figure 7[taxonomy=DKGAAP,period=5]","pp://Financial highlights/Name of key figure 7[taxonomy=DKGAAP,period=1]+Financial highlights/Name of key figure 7[taxonomy=DKGAAP,period=2]+Financial highlights/Name of key figure 7[taxonomy=DKGAAP,period=3]+Financial highlights/Name of key figure 7[taxonomy=DKGAAP,period=4]+Financial highlights/Name of key figure 7[taxonomy=DKGAAP,period=5]",null,null,null,"Name of key figure 7",null,null,"Navn på hovedtal 7"]
[{"$f":"\"\"&INDEX(PP_Locale,ROW(),PP_LanguageIndex)","v":"Name of key figure 8"},"Financial highlights/Name of key figure 8[taxonomy=DKGAAP,period=1]","Financial highlights/Name of key figure 8[taxonomy=DKGAAP,period=2]","Financial highlights/Name of key figure 8[taxonomy=DKGAAP,period=3]","Financial highlights/Name of key figure 8[taxonomy=DKGAAP,period=4]","Financial highlights/Name of key figure 8[taxonomy=DKGAAP,period=5]",null,null,null,null,null,"pp://Financial highlights/Name of key figure 8[taxonomy=DKGAAP,period=1]+Financial highlights/Name of key figure 8[taxonomy=DKGAAP,period=2]+Financial highlights/Name of key figure 8[taxonomy=DKGAAP,period=3]+Financial highlights/Name of key figure 8[taxonomy=DKGAAP,period=4]+Financial highlights/Name of key figure 8[taxonomy=DKGAAP,period=5]","pp://Financial highlights/Name of key figure 8[taxonomy=DKGAAP,period=1]+Financial highlights/Name of key figure 8[taxonomy=DKGAAP,period=2]+Financial highlights/Name of key figure 8[taxonomy=DKGAAP,period=3]+Financial highlights/Name of key figure 8[taxonomy=DKGAAP,period=4]+Financial highlights/Name of key figure 8[taxonomy=DKGAAP,period=5]","pp://Financial highlights/Name of key figure 8[taxonomy=DKGAAP,period=1]+Financial highlights/Name of key figure 8[taxonomy=DKGAAP,period=2]+Financial highlights/Name of key figure 8[taxonomy=DKGAAP,period=3]+Financial highlights/Name of key figure 8[taxonomy=DKGAAP,period=4]+Financial highlights/Name of key figure 8[taxonomy=DKGAAP,period=5]","pp://Financial highlights/Name of key figure 8[taxonomy=DKGAAP,period=1]+Financial highlights/Name of key figure 8[taxonomy=DKGAAP,period=2]+Financial highlights/Name of key figure 8[taxonomy=DKGAAP,period=3]+Financial highlights/Name of key figure 8[taxonomy=DKGAAP,period=4]+Financial highlights/Name of key figure 8[taxonomy=DKGAAP,period=5]",null,null,null,"Name of key figure 8",null,null,"Navn på hovedtal 8"]
[{"$f":"\"\"&INDEX(PP_Locale,ROW(),PP_LanguageIndex)","v":"Name of key figure 9"},"Financial highlights/Name of key figure 9[taxonomy=DKGAAP,period=1]","Financial highlights/Name of key figure 9[taxonomy=DKGAAP,period=2]","Financial highlights/Name of key figure 9[taxonomy=DKGAAP,period=3]","Financial highlights/Name of key figure 9[taxonomy=DKGAAP,period=4]","Financial highlights/Name of key figure 9[taxonomy=DKGAAP,period=5]",null,null,null,null,null,"pp://Financial highlights/Name of key figure 9[taxonomy=DKGAAP,period=1]+Financial highlights/Name of key figure 9[taxonomy=DKGAAP,period=2]+Financial highlights/Name of key figure 9[taxonomy=DKGAAP,period=3]+Financial highlights/Name of key figure 9[taxonomy=DKGAAP,period=4]+Financial highlights/Name of key figure 9[taxonomy=DKGAAP,period=5]","pp://Financial highlights/Name of key figure 9[taxonomy=DKGAAP,period=1]+Financial highlights/Name of key figure 9[taxonomy=DKGAAP,period=2]+Financial highlights/Name of key figure 9[taxonomy=DKGAAP,period=3]+Financial highlights/Name of key figure 9[taxonomy=DKGAAP,period=4]+Financial highlights/Name of key figure 9[taxonomy=DKGAAP,period=5]","pp://Financial highlights/Name of key figure 9[taxonomy=DKGAAP,period=1]+Financial highlights/Name of key figure 9[taxonomy=DKGAAP,period=2]+Financial highlights/Name of key figure 9[taxonomy=DKGAAP,period=3]+Financial highlights/Name of key figure 9[taxonomy=DKGAAP,period=4]+Financial highlights/Name of key figure 9[taxonomy=DKGAAP,period=5]","pp://Financial highlights/Name of key figure 9[taxonomy=DKGAAP,period=1]+Financial highlights/Name of key figure 9[taxonomy=DKGAAP,period=2]+Financial highlights/Name of key figure 9[taxonomy=DKGAAP,period=3]+Financial highlights/Name of key figure 9[taxonomy=DKGAAP,period=4]+Financial highlights/Name of key figure 9[taxonomy=DKGAAP,period=5]",null,null,null,"Name of key figure 9",null,null,"Navn på hovedtal 9"]
[{"$f":"\"\"&INDEX(PP_Locale,ROW(),PP_LanguageIndex)","v":"Name of key figure 10"},"Financial highlights/Name of key figure 10[taxonomy=DKGAAP,period=1]","Financial highlights/Name of key figure 10[taxonomy=DKGAAP,period=2]","Financial highlights/Name of key figure 10[taxonomy=DKGAAP,period=3]","Financial highlights/Name of key figure 10[taxonomy=DKGAAP,period=4]","Financial highlights/Name of key figure 10[taxonomy=DKGAAP,period=5]",null,null,null,null,null,"pp://Financial highlights/Name of key figure 10[taxonomy=DKGAAP,period=1]+Financial highlights/Name of key figure 10[taxonomy=DKGAAP,period=2]+Financial highlights/Name of key figure 10[taxonomy=DKGAAP,period=3]+Financial highlights/Name of key figure 10[taxonomy=DKGAAP,period=4]+Financial highlights/Name of key figure 10[taxonomy=DKGAAP,period=5]","pp://Financial highlights/Name of key figure 10[taxonomy=DKGAAP,period=1]+Financial highlights/Name of key figure 10[taxonomy=DKGAAP,period=2]+Financial highlights/Name of key figure 10[taxonomy=DKGAAP,period=3]+Financial highlights/Name of key figure 10[taxonomy=DKGAAP,period=4]+Financial highlights/Name of key figure 10[taxonomy=DKGAAP,period=5]","pp://Financial highlights/Name of key figure 10[taxonomy=DKGAAP,period=1]+Financial highlights/Name of key figure 10[taxonomy=DKGAAP,period=2]+Financial highlights/Name of key figure 10[taxonomy=DKGAAP,period=3]+Financial highlights/Name of key figure 10[taxonomy=DKGAAP,period=4]+Financial highlights/Name of key figure 10[taxonomy=DKGAAP,period=5]","pp://Financial highlights/Name of key figure 10[taxonomy=DKGAAP,period=1]+Financial highlights/Name of key figure 10[taxonomy=DKGAAP,period=2]+Financial highlights/Name of key figure 10[taxonomy=DKGAAP,period=3]+Financial highlights/Name of key figure 10[taxonomy=DKGAAP,period=4]+Financial highlights/Name of key figure 10[taxonomy=DKGAAP,period=5]",null,null,null,"Name of key figure 10",null,null,"Navn på hovedtal 10"]
[{"$f":"\"\"&INDEX(PP_Locale,ROW(),PP_LanguageIndex)","v":"Name of financial ratio 1"},"Financial highlights/Name of financial ratio 1[taxonomy=DKGAAP,period=1]","Financial highlights/Name of financial ratio 1[taxonomy=DKGAAP,period=2]","Financial highlights/Name of financial ratio 1[taxonomy=DKGAAP,period=3]","Financial highlights/Name of financial ratio 1[taxonomy=DKGAAP,period=4]","Financial highlights/Name of financial ratio 1[taxonomy=DKGAAP,period=5]",null,null,null,null,null,"pp://Financial highlights/Name of financial ratio 1[taxonomy=DKGAAP,period=1]+Financial highlights/Name of financial ratio 1[taxonomy=DKGAAP,period=2]+Financial highlights/Name of financial ratio 1[taxonomy=DKGAAP,period=3]+Financial highlights/Name of financial ratio 1[taxonomy=DKGAAP,period=4]+Financial highlights/Name of financial ratio 1[taxonomy=DKGAAP,period=5]","pp://Financial highlights/Name of financial ratio 1[taxonomy=DKGAAP,period=1]+Financial highlights/Name of financial ratio 1[taxonomy=DKGAAP,period=2]+Financial highlights/Name of financial ratio 1[taxonomy=DKGAAP,period=3]+Financial highlights/Name of financial ratio 1[taxonomy=DKGAAP,period=4]+Financial highlights/Name of financial ratio 1[taxonomy=DKGAAP,period=5]","pp://Financial highlights/Name of financial ratio 1[taxonomy=DKGAAP,period=1]+Financial highlights/Name of financial ratio 1[taxonomy=DKGAAP,period=2]+Financial highlights/Name of financial ratio 1[taxonomy=DKGAAP,period=3]+Financial highlights/Name of financial ratio 1[taxonomy=DKGAAP,period=4]+Financial highlights/Name of financial ratio 1[taxonomy=DKGAAP,period=5]","pp://Financial highlights/Name of financial ratio 1[taxonomy=DKGAAP,period=1]+Financial highlights/Name of financial ratio 1[taxonomy=DKGAAP,period=2]+Financial highlights/Name of financial ratio 1[taxonomy=DKGAAP,period=3]+Financial highlights/Name of financial ratio 1[taxonomy=DKGAAP,period=4]+Financial highlights/Name of financial ratio 1[taxonomy=DKGAAP,period=5]",null,null,null,"Name of financial ratio 1",null,null,"Navn på nøgletal 1"]
[{"$f":"\"\"&INDEX(PP_Locale,ROW(),PP_LanguageIndex)","v":"Name of financial ratio 2"},"Financial highlights/Name of financial ratio 2[taxonomy=DKGAAP,period=1]","Financial highlights/Name of financial ratio 2[taxonomy=DKGAAP,period=2]","Financial highlights/Name of financial ratio 2[taxonomy=DKGAAP,period=3]","Financial highlights/Name of financial ratio 2[taxonomy=DKGAAP,period=4]","Financial highlights/Name of financial ratio 2[taxonomy=DKGAAP,period=5]",null,null,null,null,null,"pp://Financial highlights/Name of financial ratio 2[taxonomy=DKGAAP,period=1]+Financial highlights/Name of financial ratio 2[taxonomy=DKGAAP,period=2]+Financial highlights/Name of financial ratio 2[taxonomy=DKGAAP,period=3]+Financial highlights/Name of financial ratio 2[taxonomy=DKGAAP,period=4]+Financial highlights/Name of financial ratio 2[taxonomy=DKGAAP,period=5]","pp://Financial highlights/Name of financial ratio 2[taxonomy=DKGAAP,period=1]+Financial highlights/Name of financial ratio 2[taxonomy=DKGAAP,period=2]+Financial highlights/Name of financial ratio 2[taxonomy=DKGAAP,period=3]+Financial highlights/Name of financial ratio 2[taxonomy=DKGAAP,period=4]+Financial highlights/Name of financial ratio 2[taxonomy=DKGAAP,period=5]","pp://Financial highlights/Name of financial ratio 2[taxonomy=DKGAAP,period=1]+Financial highlights/Name of financial ratio 2[taxonomy=DKGAAP,period=2]+Financial highlights/Name of financial ratio 2[taxonomy=DKGAAP,period=3]+Financial highlights/Name of financial ratio 2[taxonomy=DKGAAP,period=4]+Financial highlights/Name of financial ratio 2[taxonomy=DKGAAP,period=5]","pp://Financial highlights/Name of financial ratio 2[taxonomy=DKGAAP,period=1]+Financial highlights/Name of financial ratio 2[taxonomy=DKGAAP,period=2]+Financial highlights/Name of financial ratio 2[taxonomy=DKGAAP,period=3]+Financial highlights/Name of financial ratio 2[taxonomy=DKGAAP,period=4]+Financial highlights/Name of financial ratio 2[taxonomy=DKGAAP,period=5]",null,null,null,"Name of financial ratio 2",null,null,"Navn på nøgletal 2"]
[{"$f":"\"\"&INDEX(PP_Locale,ROW(),PP_LanguageIndex)","v":"Name of financial ratio 3"},"Financial highlights/Name of financial ratio 3[taxonomy=DKGAAP,period=1]","Financial highlights/Name of financial ratio 3[taxonomy=DKGAAP,period=2]","Financial highlights/Name of financial ratio 3[taxonomy=DKGAAP,period=3]","Financial highlights/Name of financial ratio 3[taxonomy=DKGAAP,period=4]","Financial highlights/Name of financial ratio 3[taxonomy=DKGAAP,period=5]",null,null,null,null,null,"pp://Financial highlights/Name of financial ratio 3[taxonomy=DKGAAP,period=1]+Financial highlights/Name of financial ratio 3[taxonomy=DKGAAP,period=2]+Financial highlights/Name of financial ratio 3[taxonomy=DKGAAP,period=3]+Financial highlights/Name of financial ratio 3[taxonomy=DKGAAP,period=4]+Financial highlights/Name of financial ratio 3[taxonomy=DKGAAP,period=5]","pp://Financial highlights/Name of financial ratio 3[taxonomy=DKGAAP,period=1]+Financial highlights/Name of financial ratio 3[taxonomy=DKGAAP,period=2]+Financial highlights/Name of financial ratio 3[taxonomy=DKGAAP,period=3]+Financial highlights/Name of financial ratio 3[taxonomy=DKGAAP,period=4]+Financial highlights/Name of financial ratio 3[taxonomy=DKGAAP,period=5]","pp://Financial highlights/Name of financial ratio 3[taxonomy=DKGAAP,period=1]+Financial highlights/Name of financial ratio 3[taxonomy=DKGAAP,period=2]+Financial highlights/Name of financial ratio 3[taxonomy=DKGAAP,period=3]+Financial highlights/Name of financial ratio 3[taxonomy=DKGAAP,period=4]+Financial highlights/Name of financial ratio 3[taxonomy=DKGAAP,period=5]","pp://Financial highlights/Name of financial ratio 3[taxonomy=DKGAAP,period=1]+Financial highlights/Name of financial ratio 3[taxonomy=DKGAAP,period=2]+Financial highlights/Name of financial ratio 3[taxonomy=DKGAAP,period=3]+Financial highlights/Name of financial ratio 3[taxonomy=DKGAAP,period=4]+Financial highlights/Name of financial ratio 3[taxonomy=DKGAAP,period=5]",null,null,null,"Name of financial ratio 3",null,null,"Navn på nøgletal 3"]
[{"$f":"\"\"&INDEX(PP_Locale,ROW(),PP_LanguageIndex)","v":"Name of financial ratio 4"},"Financial highlights/Name of financial ratio 4[taxonomy=DKGAAP,period=1]","Financial highlights/Name of financial ratio 4[taxonomy=DKGAAP,period=2]","Financial highlights/Name of financial ratio 4[taxonomy=DKGAAP,period=3]","Financial highlights/Name of financial ratio 4[taxonomy=DKGAAP,period=4]","Financial highlights/Name of financial ratio 4[taxonomy=DKGAAP,period=5]",null,null,null,null,null,"pp://Financial highlights/Name of financial ratio 4[taxonomy=DKGAAP,period=1]+Financial highlights/Name of financial ratio 4[taxonomy=DKGAAP,period=2]+Financial highlights/Name of financial ratio 4[taxonomy=DKGAAP,period=3]+Financial highlights/Name of financial ratio 4[taxonomy=DKGAAP,period=4]+Financial highlights/Name of financial ratio 4[taxonomy=DKGAAP,period=5]","pp://Financial highlights/Name of financial ratio 4[taxonomy=DKGAAP,period=1]+Financial highlights/Name of financial ratio 4[taxonomy=DKGAAP,period=2]+Financial highlights/Name of financial ratio 4[taxonomy=DKGAAP,period=3]+Financial highlights/Name of financial ratio 4[taxonomy=DKGAAP,period=4]+Financial highlights/Name of financial ratio 4[taxonomy=DKGAAP,period=5]","pp://Financial highlights/Name of financial ratio 4[taxonomy=DKGAAP,period=1]+Financial highlights/Name of financial ratio 4[taxonomy=DKGAAP,period=2]+Financial highlights/Name of financial ratio 4[taxonomy=DKGAAP,period=3]+Financial highlights/Name of financial ratio 4[taxonomy=DKGAAP,period=4]+Financial highlights/Name of financial ratio 4[taxonomy=DKGAAP,period=5]","pp://Financial highlights/Name of financial ratio 4[taxonomy=DKGAAP,period=1]+Financial highlights/Name of financial ratio 4[taxonomy=DKGAAP,period=2]+Financial highlights/Name of financial ratio 4[taxonomy=DKGAAP,period=3]+Financial highlights/Name of financial ratio 4[taxonomy=DKGAAP,period=4]+Financial highlights/Name of financial ratio 4[taxonomy=DKGAAP,period=5]",null,null,null,"Name of financial ratio 4",null,null,"Navn på nøgletal 4"]
[{"$f":"\"\"&INDEX(PP_Locale,ROW(),PP_LanguageIndex)","v":"Name of financial ratio 5"},"Financial highlights/Name of financial ratio 5[taxonomy=DKGAAP,period=1]","Financial highlights/Name of financial ratio 5[taxonomy=DKGAAP,period=2]","Financial highlights/Name of financial ratio 5[taxonomy=DKGAAP,period=3]","Financial highlights/Name of financial ratio 5[taxonomy=DKGAAP,period=4]","Financial highlights/Name of financial ratio 5[taxonomy=DKGAAP,period=5]",null,null,null,null,null,"pp://Financial highlights/Name of financial ratio 5[taxonomy=DKGAAP,period=1]+Financial highlights/Name of financial ratio 5[taxonomy=DKGAAP,period=2]+Financial highlights/Name of financial ratio 5[taxonomy=DKGAAP,period=3]+Financial highlights/Name of financial ratio 5[taxonomy=DKGAAP,period=4]+Financial highlights/Name of financial ratio 5[taxonomy=DKGAAP,period=5]","pp://Financial highlights/Name of financial ratio 5[taxonomy=DKGAAP,period=1]+Financial highlights/Name of financial ratio 5[taxonomy=DKGAAP,period=2]+Financial highlights/Name of financial ratio 5[taxonomy=DKGAAP,period=3]+Financial highlights/Name of financial ratio 5[taxonomy=DKGAAP,period=4]+Financial highlights/Name of financial ratio 5[taxonomy=DKGAAP,period=5]","pp://Financial highlights/Name of financial ratio 5[taxonomy=DKGAAP,period=1]+Financial highlights/Name of financial ratio 5[taxonomy=DKGAAP,period=2]+Financial highlights/Name of financial ratio 5[taxonomy=DKGAAP,period=3]+Financial highlights/Name of financial ratio 5[taxonomy=DKGAAP,period=4]+Financial highlights/Name of financial ratio 5[taxonomy=DKGAAP,period=5]","pp://Financial highlights/Name of financial ratio 5[taxonomy=DKGAAP,period=1]+Financial highlights/Name of financial ratio 5[taxonomy=DKGAAP,period=2]+Financial highlights/Name of financial ratio 5[taxonomy=DKGAAP,period=3]+Financial highlights/Name of financial ratio 5[taxonomy=DKGAAP,period=4]+Financial highlights/Name of financial ratio 5[taxonomy=DKGAAP,period=5]",null,null,null,"Name of financial ratio 5",null,null,"Navn på nøgletal 5"]
[{"$f":"\"\"&INDEX(PP_Locale,ROW(),PP_LanguageIndex)","v":"Name of financial ratio 6"},"Financial highlights/Name of financial ratio 6[taxonomy=DKGAAP,period=1]","Financial highlights/Name of financial ratio 6[taxonomy=DKGAAP,period=2]","Financial highlights/Name of financial ratio 6[taxonomy=DKGAAP,period=3]","Financial highlights/Name of financial ratio 6[taxonomy=DKGAAP,period=4]","Financial highlights/Name of financial ratio 6[taxonomy=DKGAAP,period=5]",null,null,null,null,null,"pp://Financial highlights/Name of financial ratio 6[taxonomy=DKGAAP,period=1]+Financial highlights/Name of financial ratio 6[taxonomy=DKGAAP,period=2]+Financial highlights/Name of financial ratio 6[taxonomy=DKGAAP,period=3]+Financial highlights/Name of financial ratio 6[taxonomy=DKGAAP,period=4]+Financial highlights/Name of financial ratio 6[taxonomy=DKGAAP,period=5]","pp://Financial highlights/Name of financial ratio 6[taxonomy=DKGAAP,period=1]+Financial highlights/Name of financial ratio 6[taxonomy=DKGAAP,period=2]+Financial highlights/Name of financial ratio 6[taxonomy=DKGAAP,period=3]+Financial highlights/Name of financial ratio 6[taxonomy=DKGAAP,period=4]+Financial highlights/Name of financial ratio 6[taxonomy=DKGAAP,period=5]","pp://Financial highlights/Name of financial ratio 6[taxonomy=DKGAAP,period=1]+Financial highlights/Name of financial ratio 6[taxonomy=DKGAAP,period=2]+Financial highlights/Name of financial ratio 6[taxonomy=DKGAAP,period=3]+Financial highlights/Name of financial ratio 6[taxonomy=DKGAAP,period=4]+Financial highlights/Name of financial ratio 6[taxonomy=DKGAAP,period=5]","pp://Financial highlights/Name of financial ratio 6[taxonomy=DKGAAP,period=1]+Financial highlights/Name of financial ratio 6[taxonomy=DKGAAP,period=2]+Financial highlights/Name of financial ratio 6[taxonomy=DKGAAP,period=3]+Financial highlights/Name of financial ratio 6[taxonomy=DKGAAP,period=4]+Financial highlights/Name of financial ratio 6[taxonomy=DKGAAP,period=5]",null,null,null,"Name of financial ratio 6",null,null,"Navn på nøgletal 6"]
[{"$f":"\"\"&INDEX(PP_Locale,ROW(),PP_LanguageIndex)","v":"Name of financial ratio 7"},"Financial highlights/Name of financial ratio 7[taxonomy=DKGAAP,period=1]","Financial highlights/Name of financial ratio 7[taxonomy=DKGAAP,period=2]","Financial highlights/Name of financial ratio 7[taxonomy=DKGAAP,period=3]","Financial highlights/Name of financial ratio 7[taxonomy=DKGAAP,period=4]","Financial highlights/Name of financial ratio 7[taxonomy=DKGAAP,period=5]",null,null,null,null,null,"pp://Financial highlights/Name of financial ratio 7[taxonomy=DKGAAP,period=1]+Financial highlights/Name of financial ratio 7[taxonomy=DKGAAP,period=2]+Financial highlights/Name of financial ratio 7[taxonomy=DKGAAP,period=3]+Financial highlights/Name of financial ratio 7[taxonomy=DKGAAP,period=4]+Financial highlights/Name of financial ratio 7[taxonomy=DKGAAP,period=5]","pp://Financial highlights/Name of financial ratio 7[taxonomy=DKGAAP,period=1]+Financial highlights/Name of financial ratio 7[taxonomy=DKGAAP,period=2]+Financial highlights/Name of financial ratio 7[taxonomy=DKGAAP,period=3]+Financial highlights/Name of financial ratio 7[taxonomy=DKGAAP,period=4]+Financial highlights/Name of financial ratio 7[taxonomy=DKGAAP,period=5]","pp://Financial highlights/Name of financial ratio 7[taxonomy=DKGAAP,period=1]+Financial highlights/Name of financial ratio 7[taxonomy=DKGAAP,period=2]+Financial highlights/Name of financial ratio 7[taxonomy=DKGAAP,period=3]+Financial highlights/Name of financial ratio 7[taxonomy=DKGAAP,period=4]+Financial highlights/Name of financial ratio 7[taxonomy=DKGAAP,period=5]","pp://Financial highlights/Name of financial ratio 7[taxonomy=DKGAAP,period=1]+Financial highlights/Name of financial ratio 7[taxonomy=DKGAAP,period=2]+Financial highlights/Name of financial ratio 7[taxonomy=DKGAAP,period=3]+Financial highlights/Name of financial ratio 7[taxonomy=DKGAAP,period=4]+Financial highlights/Name of financial ratio 7[taxonomy=DKGAAP,period=5]",null,null,null,"Name of financial ratio 7",null,null,"Navn på nøgletal 7"]
[{"$f":"\"\"&INDEX(PP_Locale,ROW(),PP_LanguageIndex)","v":"Name of financial ratio 8"},"Financial highlights/Name of financial ratio 8[taxonomy=DKGAAP,period=1]","Financial highlights/Name of financial ratio 8[taxonomy=DKGAAP,period=2]","Financial highlights/Name of financial ratio 8[taxonomy=DKGAAP,period=3]","Financial highlights/Name of financial ratio 8[taxonomy=DKGAAP,period=4]","Financial highlights/Name of financial ratio 8[taxonomy=DKGAAP,period=5]",null,null,null,null,null,"pp://Financial highlights/Name of financial ratio 8[taxonomy=DKGAAP,period=1]+Financial highlights/Name of financial ratio 8[taxonomy=DKGAAP,period=2]+Financial highlights/Name of financial ratio 8[taxonomy=DKGAAP,period=3]+Financial highlights/Name of financial ratio 8[taxonomy=DKGAAP,period=4]+Financial highlights/Name of financial ratio 8[taxonomy=DKGAAP,period=5]","pp://Financial highlights/Name of financial ratio 8[taxonomy=DKGAAP,period=1]+Financial highlights/Name of financial ratio 8[taxonomy=DKGAAP,period=2]+Financial highlights/Name of financial ratio 8[taxonomy=DKGAAP,period=3]+Financial highlights/Name of financial ratio 8[taxonomy=DKGAAP,period=4]+Financial highlights/Name of financial ratio 8[taxonomy=DKGAAP,period=5]","pp://Financial highlights/Name of financial ratio 8[taxonomy=DKGAAP,period=1]+Financial highlights/Name of financial ratio 8[taxonomy=DKGAAP,period=2]+Financial highlights/Name of financial ratio 8[taxonomy=DKGAAP,period=3]+Financial highlights/Name of financial ratio 8[taxonomy=DKGAAP,period=4]+Financial highlights/Name of financial ratio 8[taxonomy=DKGAAP,period=5]","pp://Financial highlights/Name of financial ratio 8[taxonomy=DKGAAP,period=1]+Financial highlights/Name of financial ratio 8[taxonomy=DKGAAP,period=2]+Financial highlights/Name of financial ratio 8[taxonomy=DKGAAP,period=3]+Financial highlights/Name of financial ratio 8[taxonomy=DKGAAP,period=4]+Financial highlights/Name of financial ratio 8[taxonomy=DKGAAP,period=5]",null,null,null,"Name of financial ratio 8",null,null,"Navn på nøgletal 8"]
[{"$f":"\"\"&INDEX(PP_Locale,ROW(),PP_LanguageIndex)","v":"Name of financial ratio 9"},"Financial highlights/Name of financial ratio 9[taxonomy=DKGAAP,period=1]","Financial highlights/Name of financial ratio 9[taxonomy=DKGAAP,period=2]","Financial highlights/Name of financial ratio 9[taxonomy=DKGAAP,period=3]","Financial highlights/Name of financial ratio 9[taxonomy=DKGAAP,period=4]","Financial highlights/Name of financial ratio 9[taxonomy=DKGAAP,period=5]",null,null,null,null,null,"pp://Financial highlights/Name of financial ratio 9[taxonomy=DKGAAP,period=1]+Financial highlights/Name of financial ratio 9[taxonomy=DKGAAP,period=2]+Financial highlights/Name of financial ratio 9[taxonomy=DKGAAP,period=3]+Financial highlights/Name of financial ratio 9[taxonomy=DKGAAP,period=4]+Financial highlights/Name of financial ratio 9[taxonomy=DKGAAP,period=5]","pp://Financial highlights/Name of financial ratio 9[taxonomy=DKGAAP,period=1]+Financial highlights/Name of financial ratio 9[taxonomy=DKGAAP,period=2]+Financial highlights/Name of financial ratio 9[taxonomy=DKGAAP,period=3]+Financial highlights/Name of financial ratio 9[taxonomy=DKGAAP,period=4]+Financial highlights/Name of financial ratio 9[taxonomy=DKGAAP,period=5]","pp://Financial highlights/Name of financial ratio 9[taxonomy=DKGAAP,period=1]+Financial highlights/Name of financial ratio 9[taxonomy=DKGAAP,period=2]+Financial highlights/Name of financial ratio 9[taxonomy=DKGAAP,period=3]+Financial highlights/Name of financial ratio 9[taxonomy=DKGAAP,period=4]+Financial highlights/Name of financial ratio 9[taxonomy=DKGAAP,period=5]","pp://Financial highlights/Name of financial ratio 9[taxonomy=DKGAAP,period=1]+Financial highlights/Name of financial ratio 9[taxonomy=DKGAAP,period=2]+Financial highlights/Name of financial ratio 9[taxonomy=DKGAAP,period=3]+Financial highlights/Name of financial ratio 9[taxonomy=DKGAAP,period=4]+Financial highlights/Name of financial ratio 9[taxonomy=DKGAAP,period=5]",null,null,null,"Name of financial ratio 9",null,null,"Navn på nøgletal 9"]
[{"$f":"\"\"&INDEX(PP_Locale,ROW(),PP_LanguageIndex)","v":"Name of financial ratio 10"},"Financial highlights/Name of financial ratio 10[taxonomy=DKGAAP,period=1]","Financial highlights/Name of financial ratio 10[taxonomy=DKGAAP,period=2]","Financial highlights/Name of financial ratio 10[taxonomy=DKGAAP,period=3]","Financial highlights/Name of financial ratio 10[taxonomy=DKGAAP,period=4]","Financial highlights/Name of financial ratio 10[taxonomy=DKGAAP,period=5]",null,null,null,null,null,"pp://Financial highlights/Name of financial ratio 10[taxonomy=DKGAAP,period=1]+Financial highlights/Name of financial ratio 10[taxonomy=DKGAAP,period=2]+Financial highlights/Name of financial ratio 10[taxonomy=DKGAAP,period=3]+Financial highlights/Name of financial ratio 10[taxonomy=DKGAAP,period=4]+Financial highlights/Name of financial ratio 10[taxonomy=DKGAAP,period=5]","pp://Financial highlights/Name of financial ratio 10[taxonomy=DKGAAP,period=1]+Financial highlights/Name of financial ratio 10[taxonomy=DKGAAP,period=2]+Financial highlights/Name of financial ratio 10[taxonomy=DKGAAP,period=3]+Financial highlights/Name of financial ratio 10[taxonomy=DKGAAP,period=4]+Financial highlights/Name of financial ratio 10[taxonomy=DKGAAP,period=5]","pp://Financial highlights/Name of financial ratio 10[taxonomy=DKGAAP,period=1]+Financial highlights/Name of financial ratio 10[taxonomy=DKGAAP,period=2]+Financial highlights/Name of financial ratio 10[taxonomy=DKGAAP,period=3]+Financial highlights/Name of financial ratio 10[taxonomy=DKGAAP,period=4]+Financial highlights/Name of financial ratio 10[taxonomy=DKGAAP,period=5]","pp://Financial highlights/Name of financial ratio 10[taxonomy=DKGAAP,period=1]+Financial highlights/Name of financial ratio 10[taxonomy=DKGAAP,period=2]+Financial highlights/Name of financial ratio 10[taxonomy=DKGAAP,period=3]+Financial highlights/Name of financial ratio 10[taxonomy=DKGAAP,period=4]+Financial highlights/Name of financial ratio 10[taxonomy=DKGAAP,period=5]",null,null,null,"Name of financial ratio 10",null,null,"Navn på nøgletal 10"]
[{"$f":"\"\"&INDEX(PP_Locale,ROW(),PP_LanguageIndex)","v":"Information on calculation of key figures and financial ratios"},"Financial highlights/Information on calculation of key figures and financial ratios[taxonomy=DKGAAP]",null,null,null,null,null,null,null,null,null,"pp://Financial highlights/Information on calculation of key figures and financial ratios[taxonomy=DKGAAP]","pp://Financial highlights/Information on calculation of key figures and financial ratios[taxonomy=DKGAAP,valuelanguage=en]","pp://Financial highlights/Information on calculation of key figures and financial ratios[taxonomy=DKGAAP,period=1_parent]","pp://Financial highlights/Information on calculation of key figures and financial ratios[taxonomy=DKGAAP]",null,null,null,"Information on calculation of key figures and financial ratios",null,null,"Information om hoved- og nøgletal"]
[{"$f":"\"\"&INDEX(PP_Locale,ROW(),PP_LanguageIndex)","v":""}]
[{"$f":"\"\"&INDEX(PP_Locale,ROW(),PP_LanguageIndex)","v":"Income statement"},null,null,null,null,null,null,null,null,null,null,null,null,null,null,null,null,null,"Income statement",null,null,"Resultatopgørelse"]
[{"$f":"\"\"&INDEX(PP_Locale,ROW(),PP_LanguageIndex)","v":"Income statement (by nature)"},null,null,null,null,null,null,null,null,null,null,null,null,null,null,null,null,null,"Income statement (by nature)",null,null,"Resultatopgørelse (artsopdelt)"]
[{"$f":"\"\"&INDEX(PP_Locale,ROW(),PP_LanguageIndex)","v":"Revenue"},null,null,null,null,null,null,null,null,null,null,null,null,null,null,null,null,null,"Revenue",null,null,"Nettoomsætning"]
[{"$f":"\"\"&INDEX(PP_Locale,ROW(),PP_LanguageIndex)","v":"Cost of sales"},null,null,null,null,null,null,null,null,null,null,null,null,null,null,null,null,null,"Cost of sales",null,null,"Vareforbrug"]
[{"$f":"\"\"&INDEX(PP_Locale,ROW(),PP_LanguageIndex)","v":"Change in inventories of finished goods, work in progress and goods for resale"},null,null,null,null,null,null,null,null,null,null,null,null,null,null,null,null,null,"Change in inventories of finished goods, work in progress and goods for resale",null,null,"Ændring i lagre af færdigvarer og varer under fremstilling"]
[{"$f":"\"\"&INDEX(PP_Locale,ROW(),PP_LanguageIndex)","v":"Own work capitalised"},null,null,null,null,null,null,null,null,null,null,null,null,null,null,null,null,null,"Own work capitalised",null,null,"Arbejde udført for egen regning og opført under aktiver"]
[{"$f":"\"\"&INDEX(PP_Locale,ROW(),PP_LanguageIndex)","v":"Other operating income"},null,null,null,null,null,null,null,null,null,null,null,null,null,null,null,null,null,"Other operating income",null,null,"Andre driftsindtægter"]
[{"$f":"\"\"&INDEX(PP_Locale,ROW(),PP_LanguageIndex)","v":"Property costs"},null,null,null,null,null,null,null,null,null,null,null,null,null,null,null,null,null,"Property costs",null,null,"Ejendomsomkostninger"]
[{"$f":"\"\"&INDEX(PP_Locale,ROW(),PP_LanguageIndex)","v":"Administrative expenses"},null,null,null,null,null,null,null,null,null,null,null,null,null,null,null,null,null,"Administrative expenses",null,null,"Administrationsomkostninger"]
[{"$f":"\"\"&INDEX(PP_Locale,ROW(),PP_LanguageIndex)","v":"Raw materials and consumables used"},null,null,null,null,null,null,null,null,null,null,null,null,null,null,null,null,null,"Raw materials and consumables used",null,null,"Omkostninger til råvarer og hjælpematerialer"]
[{"$f":"\"\"&INDEX(PP_Locale,ROW(),PP_LanguageIndex)","v":"Other external expenses"},null,null,null,null,null,null,null,null,null,null,null,null,null,null,null,null,null,"Other external expenses",null,null,"Andre eksterne omkostninger"]
[{"$f":"\"\"&INDEX(PP_Locale,ROW(),PP_LanguageIndex)","v":"External expenses"},null,null,null,null,null,null,null,null,null,null,null,null,null,null,null,null,null,"External expenses",null,null,"Eksterne omkostninger"]
[{"$f":"\"\"&INDEX(PP_Locale,ROW(),PP_LanguageIndex)","v":"Gross proft or loss"},null,null,null,null,null,null,null,null,null,null,null,null,null,null,null,null,null,"Gross proft or loss",null,null,"Bruttoresultat"]
[{"$f":"\"\"&INDEX(PP_Locale,ROW(),PP_LanguageIndex)","v":"Gross profit (loss)"},null,null,null,null,null,null,null,null,null,null,null,null,null,null,null,null,null,"Gross profit (loss)",null,null,"Bruttofortjeneste/Bruttotab"]
[{"$f":"\"\"&INDEX(PP_Locale,ROW(),PP_LanguageIndex)","v":"Wages and salaries"},null,null,null,null,null,null,null,null,null,null,null,null,null,null,null,null,null,"Wages and salaries",null,null,"Lønninger"]
[{"$f":"\"\"&INDEX(PP_Locale,ROW(),PP_LanguageIndex)","v":"Post-employment benefit expense"},null,null,null,null,null,null,null,null,null,null,null,null,null,null,null,null,null,"Post-employment benefit expense",null,null,"Pensioner"]
[{"$f":"\"\"&INDEX(PP_Locale,ROW(),PP_LanguageIndex)","v":"Other social security contributions"},null,null,null,null,null,null,null,null,null,null,null,null,null,null,null,null,null,"Other social security contributions",null,null,"Andre omkostninger til social sikring"]
[{"$f":"\"\"&INDEX(PP_Locale,ROW(),PP_LanguageIndex)","v":"Employee expenses transferred to assets"},null,null,null,null,null,null,null,null,null,null,null,null,null,null,null,null,null,"Employee expenses transferred to assets",null,null,"Personaleomkostninger overført til aktiver"]
[{"$f":"\"\"&INDEX(PP_Locale,ROW(),PP_LanguageIndex)","v":"Other employee expense"},null,null,null,null,null,null,null,null,null,null,null,null,null,null,null,null,null,"Other employee expense",null,null,"Andre personaleomkostninger"]
[{"$f":"\"\"&INDEX(PP_Locale,ROW(),PP_LanguageIndex)","v":"Employee expense"},null,null,null,null,null,null,null,null,null,null,null,null,null,null,null,null,null,"Employee expense",null,null,"Personaleomkostninger"]
[{"$f":"\"\"&INDEX(PP_Locale,ROW(),PP_LanguageIndex)","v":"Other operating expenses"},null,null,null,null,null,null,null,null,null,null,null,null,null,null,null,null,null,"Other operating expenses",null,null,"Andre driftsomkostninger"]
[{"$f":"\"\"&INDEX(PP_Locale,ROW(),PP_LanguageIndex)","v":"Depreciation, amortisation expense and impairment losses of property, plant and equipment and intangible assets recognised in profit or loss"},null,null,null,null,null,null,null,null,null,null,null,null,null,null,null,null,null,"Depreciation, amortisation expense and impairment losses of property, plant and equipment and intangible assets recognised in profit or loss",null,null,"Af- og nedskrivninger af materielle og immaterielle anlægsaktiver"]
[{"$f":"\"\"&INDEX(PP_Locale,ROW(),PP_LanguageIndex)","v":"Writedowns of current assets other than current financial assets"},null,null,null,null,null,null,null,null,null,null,null,null,null,null,null,null,null,"Writedowns of current assets other than current financial assets",null,null,"Nedskrivning af omsætningsaktiver, bortset fra finansielle omsætningsaktiver"]
[{"$f":"\"\"&INDEX(PP_Locale,ROW(),PP_LanguageIndex)","v":"Writedowns of current assets, that exceed normal writedowns"},null,null,null,null,null,null,null,null,null,null,null,null,null,null,null,null,null,"Writedowns of current assets, that exceed normal writedowns",null,null,"Nedskrivning af omsætningsaktiver, som overstiger normale nedskrivninger"]
[{"$f":"\"\"&INDEX(PP_Locale,ROW(),PP_LanguageIndex)","v":"Income from negative goodwill"},null,null,null,null,null,null,null,null,null,null,null,null,null,null,null,null,null,"Income from negative goodwill",null,null,"Indtægter af negativ goodwill"]
[{"$f":"\"\"&INDEX(PP_Locale,ROW(),PP_LanguageIndex)","v":"Profit (loss) from ordinary operating activities before Gains (losses) from fair value adjustments"},null,null,null,null,null,null,null,null,null,null,null,null,null,null,null,null,null,"Profit (loss) from ordinary operating activities before Gains (losses) from fair value adjustments",null,null,"Resultat af ordinær drift før dagsværdireguleringer"]
[{"$f":"\"\"&INDEX(PP_Locale,ROW(),PP_LanguageIndex)","v":"Gains (losses) from fair value adjustments of investment property"},null,null,null,null,null,null,null,null,null,null,null,null,null,null,null,null,null,"Gains (losses) from fair value adjustments of investment property",null,null,"Dagsværdiregulering af investeringsejendomme"]
[{"$f":"\"\"&INDEX(PP_Locale,ROW(),PP_LanguageIndex)","v":"Gains (losses) from fair value adjustments of other investment assets"},null,null,null,null,null,null,null,null,null,null,null,null,null,null,null,null,null,"Gains (losses) from fair value adjustments of other investment assets",null,null,"Dagsværdiregulering af andre investeringsaktiver"]
[{"$f":"\"\"&INDEX(PP_Locale,ROW(),PP_LanguageIndex)","v":"Gains (losses) from fair value adjustments of investment assets"},null,null,null,null,null,null,null,null,null,null,null,null,null,null,null,null,null,"Gains (losses) from fair value adjustments of investment assets",null,null,"Dagsværdiregulering af investeringsaktiver"]
[{"$f":"\"\"&INDEX(PP_Locale,ROW(),PP_LanguageIndex)","v":"Gains (losses) from fair value adjustments of biological assets"},null,null,null,null,null,null,null,null,null,null,null,null,null,null,null,null,null,"Gains (losses) from fair value adjustments of biological assets",null,null,"Dagsværdiregulering af biologiske aktiver"]
[{"$f":"\"\"&INDEX(PP_Locale,ROW(),PP_LanguageIndex)","v":"Gains (losses) from fair value adjustments of debt"},null,null,null,null,null,null,null,null,null,null,null,null,null,null,null,null,null,"Gains (losses) from fair value adjustments of debt",null,null,"Dagsværdiregulering af gæld"]
[{"$f":"\"\"&INDEX(PP_Locale,ROW(),PP_LanguageIndex)","v":"Research expenditure"},null,null,null,null,null,null,null,null,null,null,null,null,null,null,null,null,null,"Research expenditure",null,null,"Forskningsomkostninger"]
[{"$f":"\"\"&INDEX(PP_Locale,ROW(),PP_LanguageIndex)","v":"Development expenditure"},null,null,null,null,null,null,null,null,null,null,null,null,null,null,null,null,null,"Development expenditure",null,null,"Udviklingsomkostninger"]
[{"$f":"\"\"&INDEX(PP_Locale,ROW(),PP_LanguageIndex)","v":"Research and development expenditure"},null,null,null,null,null,null,null,null,null,null,null,null,null,null,null,null,null,"Research and development expenditure",null,null,"Forsknings- og udviklingsomkostninger"]
[{"$f":"\"\"&INDEX(PP_Locale,ROW(),PP_LanguageIndex)","v":"Profit (loss) from ordinary operating activities"},null,null,null,null,null,null,null,null,null,null,null,null,null,null,null,null,null,"Profit (loss) from ordinary operating activities",null,null,"Resultat af ordinær drift"]
[{"$f":"\"\"&INDEX(PP_Locale,ROW(),PP_LanguageIndex)","v":"Income from investments in group enterprises"},null,null,null,null,null,null,null,null,null,null,null,null,null,null,null,null,null,"Income from investments in group enterprises",null,null,"Indtægter af kapitalandele i tilknyttede virksomheder"]
[{"$f":"\"\"&INDEX(PP_Locale,ROW(),PP_LanguageIndex)","v":"Income from investments in associates"},null,null,null,null,null,null,null,null,null,null,null,null,null,null,null,null,null,"Income from investments in associates",null,null,"Indtægter af kapitalandele i associerede virksomheder"]
[{"$f":"\"\"&INDEX(PP_Locale,ROW(),PP_LanguageIndex)","v":"Income from investments in participating interests"},null,null,null,null,null,null,null,null,null,null,null,null,null,null,null,null,null,"Income from investments in participating interests",null,null,"Indtægter af kapitalinteresser"]
[{"$f":"\"\"&INDEX(PP_Locale,ROW(),PP_LanguageIndex)","v":"Income from investments in group enterprises, associates and participating interests"},null,null,null,null,null,null,null,null,null,null,null,null,null,null,null,null,null,"Income from investments in group enterprises, associates and participating interests",null,null,"Indtægter af kapitalandele i tilknyttede virksomheder, associerede virksomheder og kapitalinteresser"]
[{"$f":"\"\"&INDEX(PP_Locale,ROW(),PP_LanguageIndex)","v":"Income from investments in joint ventures"},null,null,null,null,null,null,null,null,null,null,null,null,null,null,null,null,null,"Income from investments in joint ventures",null,null,"Indtægter af kapitalandele i joint ventures"]
[{"$f":"\"\"&INDEX(PP_Locale,ROW(),PP_LanguageIndex)","v":"Income from other investments and receivables that are fixed assets"},null,null,null,null,null,null,null,null,null,null,null,null,null,null,null,null,null,"Income from other investments and receivables that are fixed assets",null,null,"Indtægter af andre kapitalandele, værdipapirer og tilgodehavender, der er anlægsaktiver"]
[{"$f":"\"\"&INDEX(PP_Locale,ROW(),PP_LanguageIndex)","v":"Other finance income from group enterprises"},null,null,null,null,null,null,null,null,null,null,null,null,null,null,null,null,null,"Other finance income from group enterprises",null,null,"Andre finansielle indtægter fra tilknyttede virksomheder"]
[{"$f":"\"\"&INDEX(PP_Locale,ROW(),PP_LanguageIndex)","v":"Other finance income"},null,null,null,null,null,null,null,null,null,null,null,null,null,null,null,null,null,"Other finance income",null,null,"Andre finansielle indtægter"]
[{"$f":"\"\"&INDEX(PP_Locale,ROW(),PP_LanguageIndex)","v":"Impairment of financial assets"},null,null,null,null,null,null,null,null,null,null,null,null,null,null,null,null,null,"Impairment of financial assets",null,null,"Nedskrivning af finansielle aktiver"]
[{"$f":"\"\"&INDEX(PP_Locale,ROW(),PP_LanguageIndex)","v":"Finance expenses arising from group enterprises"},null,null,null,null,null,null,null,null,null,null,null,null,null,null,null,null,null,"Finance expenses arising from group enterprises",null,null,"Finansielle omkostninger, der hidrører fra tilknyttede virksomheder"]
[{"$f":"\"\"&INDEX(PP_Locale,ROW(),PP_LanguageIndex)","v":"Sundry finance expenses"},null,null,null,null,null,null,null,null,null,null,null,null,null,null,null,null,null,"Sundry finance expenses",null,null,"Andre finansielle omkostninger"]
[{"$f":"\"\"&INDEX(PP_Locale,ROW(),PP_LanguageIndex)","v":"Other finance expenses"},null,null,null,null,null,null,null,null,null,null,null,null,null,null,null,null,null,"Other finance expenses",null,null,"Øvrige finansielle omkostninger"]
[{"$f":"\"\"&INDEX(PP_Locale,ROW(),PP_LanguageIndex)","v":"Profit (loss) from ordinary activities before tax"},null,null,null,null,null,null,null,null,null,null,null,null,null,null,null,null,null,"Profit (loss) from ordinary activities before tax",null,null,"Ordinært resultat før skat"]
[{"$f":"\"\"&INDEX(PP_Locale,ROW(),PP_LanguageIndex)","v":"Tax expense"},null,null,null,null,null,null,null,null,null,null,null,null,null,null,null,null,null,"Tax expense",null,null,"Skat af årets resultat"]
[{"$f":"\"\"&INDEX(PP_Locale,ROW(),PP_LanguageIndex)","v":"Other tax expenses"},null,null,null,null,null,null,null,null,null,null,null,null,null,null,null,null,null,"Other tax expenses",null,null,"Andre skatter"]
[{"$f":"\"\"&INDEX(PP_Locale,ROW(),PP_LanguageIndex)","v":"Profit (loss) from continuing operations"},null,null,null,null,null,null,null,null,null,null,null,null,null,null,null,null,null,"Profit (loss) from continuing operations",null,null,"Resultat af fortsættende aktiviteter"]
[{"$f":"\"\"&INDEX(PP_Locale,ROW(),PP_LanguageIndex)","v":"Profit (loss) from discontinued operations"},null,null,null,null,null,null,null,null,null,null,null,null,null,null,null,null,null,"Profit (loss) from discontinued operations",null,null,"Årets resultat vedrørende ophørende aktiviteter"]
[{"$f":"\"\"&INDEX(PP_Locale,ROW(),PP_LanguageIndex)","v":"Profit (loss)"},null,null,null,null,null,null,null,null,null,null,null,null,null,null,null,null,null,"Profit (loss)",null,null,"Årets resultat"]
[{"$f":"\"\"&INDEX(PP_Locale,ROW(),PP_LanguageIndex)","v":"Minority interest's proportinate share of subsidiary profit (loss)"},null,null,null,null,null,null,null,null,null,null,null,null,null,null,null,null,null,"Minority interest's proportinate share of subsidiary profit (loss)",null,null,"Minoritetsinteressernes forholdsmæssige andel af dattervirksomhedernes resultat"]
[{"$f":"\"\"&INDEX(PP_Locale,ROW(),PP_LanguageIndex)","v":"Profit (loss) after minority interest's proportionate share"},null,null,null,null,null,null,null,null,null,null,null,null,null,null,null,null,null,"Profit (loss) after minority interest's proportionate share",null,null,"Årets resultat efter Minoritetsinteressernes forholdsmæssige andel"]
[{"$f":"\"\"&INDEX(PP_Locale,ROW(),PP_LanguageIndex)","v":""}]
[{"$f":"\"\"&INDEX(PP_Locale,ROW(),PP_LanguageIndex)","v":"Income statement (by function)"},null,null,null,null,null,null,null,null,null,null,null,null,null,null,null,null,null,"Income statement (by function)",null,null,"Resultatopgørelse (funktionsopdelt)"]
[{"$f":"\"\"&INDEX(PP_Locale,ROW(),PP_LanguageIndex)","v":"Revenue"},null,null,null,null,null,null,null,null,null,null,null,null,null,null,null,null,null,"Revenue",null,null,"Nettoomsætning"]
[{"$f":"\"\"&INDEX(PP_Locale,ROW(),PP_LanguageIndex)","v":"Cost of sales"},null,null,null,null,null,null,null,null,null,null,null,null,null,null,null,null,null,"Cost of sales",null,null,"Vareforbrug"]
[{"$f":"\"\"&INDEX(PP_Locale,ROW(),PP_LanguageIndex)","v":"Cost of production"},null,null,null,null,null,null,null,null,null,null,null,null,null,null,null,null,null,"Cost of production",null,null,"Produktionsomkostninger"]
[{"$f":"\"\"&INDEX(PP_Locale,ROW(),PP_LanguageIndex)","v":"Other operating income"},null,null,null,null,null,null,null,null,null,null,null,null,null,null,null,null,null,"Other operating income",null,null,"Andre driftsindtægter"]
[{"$f":"\"\"&INDEX(PP_Locale,ROW(),PP_LanguageIndex)","v":"Property costs"},null,null,null,null,null,null,null,null,null,null,null,null,null,null,null,null,null,"Property costs",null,null,"Ejendomsomkostninger"]
[{"$f":"\"\"&INDEX(PP_Locale,ROW(),PP_LanguageIndex)","v":"Gross proft or loss"},null,null,null,null,null,null,null,null,null,null,null,null,null,null,null,null,null,"Gross proft or loss",null,null,"Bruttoresultat"]
[{"$f":"\"\"&INDEX(PP_Locale,ROW(),PP_LanguageIndex)","v":"Gross profit (loss)"},null,null,null,null,null,null,null,null,null,null,null,null,null,null,null,null,null,"Gross profit (loss)",null,null,"Bruttofortjeneste/Bruttotab"]
[{"$f":"\"\"&INDEX(PP_Locale,ROW(),PP_LanguageIndex)","v":"Distribution costs"},null,null,null,null,null,null,null,null,null,null,null,null,null,null,null,null,null,"Distribution costs",null,null,"Distributionsomkostninger"]
[{"$f":"\"\"&INDEX(PP_Locale,ROW(),PP_LanguageIndex)","v":"Administrative expenses"},null,null,null,null,null,null,null,null,null,null,null,null,null,null,null,null,null,"Administrative expenses",null,null,"Administrationsomkostninger"]
[{"$f":"\"\"&INDEX(PP_Locale,ROW(),PP_LanguageIndex)","v":"Other operating expenses"},null,null,null,null,null,null,null,null,null,null,null,null,null,null,null,null,null,"Other operating expenses",null,null,"Andre driftsomkostninger"]
[{"$f":"\"\"&INDEX(PP_Locale,ROW(),PP_LanguageIndex)","v":"Income from negative goodwill"},null,null,null,null,null,null,null,null,null,null,null,null,null,null,null,null,null,"Income from negative goodwill",null,null,"Indtægter af negativ goodwill"]
[{"$f":"\"\"&INDEX(PP_Locale,ROW(),PP_LanguageIndex)","v":"Profit (loss) from ordinary operating activities before Gains (losses) from fair value adjustments"},null,null,null,null,null,null,null,null,null,null,null,null,null,null,null,null,null,"Profit (loss) from ordinary operating activities before Gains (losses) from fair value adjustments",null,null,"Resultat af ordinær drift før dagsværdireguleringer"]
[{"$f":"\"\"&INDEX(PP_Locale,ROW(),PP_LanguageIndex)","v":"Gains (losses) from fair value adjustments of investment property"},null,null,null,null,null,null,null,null,null,null,null,null,null,null,null,null,null,"Gains (losses) from fair value adjustments of investment property",null,null,"Dagsværdiregulering af investeringsejendomme"]
[{"$f":"\"\"&INDEX(PP_Locale,ROW(),PP_LanguageIndex)","v":"Gains (losses) from fair value adjustments of other investment assets"},null,null,null,null,null,null,null,null,null,null,null,null,null,null,null,null,null,"Gains (losses) from fair value adjustments of other investment assets",null,null,"Dagsværdiregulering af andre investeringsaktiver"]
[{"$f":"\"\"&INDEX(PP_Locale,ROW(),PP_LanguageIndex)","v":"Gains (losses) from fair value adjustments of investment assets"},null,null,null,null,null,null,null,null,null,null,null,null,null,null,null,null,null,"Gains (losses) from fair value adjustments of investment assets",null,null,"Dagsværdiregulering af investeringsaktiver"]
[{"$f":"\"\"&INDEX(PP_Locale,ROW(),PP_LanguageIndex)","v":"Gains (losses) from fair value adjustments of biological assets"},null,null,null,null,null,null,null,null,null,null,null,null,null,null,null,null,null,"Gains (losses) from fair value adjustments of biological assets",null,null,"Dagsværdiregulering af biologiske aktiver"]
[{"$f":"\"\"&INDEX(PP_Locale,ROW(),PP_LanguageIndex)","v":"Gains (losses) from fair value adjustments of debt"},null,null,null,null,null,null,null,null,null,null,null,null,null,null,null,null,null,"Gains (losses) from fair value adjustments of debt",null,null,"Dagsværdiregulering af gæld"]
[{"$f":"\"\"&INDEX(PP_Locale,ROW(),PP_LanguageIndex)","v":"Research expenditure"},null,null,null,null,null,null,null,null,null,null,null,null,null,null,null,null,null,"Research expenditure",null,null,"Forskningsomkostninger"]
[{"$f":"\"\"&INDEX(PP_Locale,ROW(),PP_LanguageIndex)","v":"Development expenditure"},null,null,null,null,null,null,null,null,null,null,null,null,null,null,null,null,null,"Development expenditure",null,null,"Udviklingsomkostninger"]
[{"$f":"\"\"&INDEX(PP_Locale,ROW(),PP_LanguageIndex)","v":"Research and development expenditure"},null,null,null,null,null,null,null,null,null,null,null,null,null,null,null,null,null,"Research and development expenditure",null,null,"Forsknings- og udviklingsomkostninger"]
[{"$f":"\"\"&INDEX(PP_Locale,ROW(),PP_LanguageIndex)","v":"Profit (loss) from ordinary operating activities"},null,null,null,null,null,null,null,null,null,null,null,null,null,null,null,null,null,"Profit (loss) from ordinary operating activities",null,null,"Resultat af ordinær drift"]
[{"$f":"\"\"&INDEX(PP_Locale,ROW(),PP_LanguageIndex)","v":"Income from investments in group enterprises"},null,null,null,null,null,null,null,null,null,null,null,null,null,null,null,null,null,"Income from investments in group enterprises",null,null,"Indtægter af kapitalandele i tilknyttede virksomheder"]
[{"$f":"\"\"&INDEX(PP_Locale,ROW(),PP_LanguageIndex)","v":"Income from investments in associates"},null,null,null,null,null,null,null,null,null,null,null,null,null,null,null,null,null,"Income from investments in associates",null,null,"Indtægter af kapitalandele i associerede virksomheder"]
[{"$f":"\"\"&INDEX(PP_Locale,ROW(),PP_LanguageIndex)","v":"Income from investments in participating interests"},null,null,null,null,null,null,null,null,null,null,null,null,null,null,null,null,null,"Income from investments in participating interests",null,null,"Indtægter af kapitalinteresser"]
[{"$f":"\"\"&INDEX(PP_Locale,ROW(),PP_LanguageIndex)","v":"Income from investments in group enterprises, associates and participating interests"},null,null,null,null,null,null,null,null,null,null,null,null,null,null,null,null,null,"Income from investments in group enterprises, associates and participating interests",null,null,"Indtægter af kapitalandele i tilknyttede virksomheder, associerede virksomheder og kapitalinteresser"]
[{"$f":"\"\"&INDEX(PP_Locale,ROW(),PP_LanguageIndex)","v":"Income from investments in joint ventures"},null,null,null,null,null,null,null,null,null,null,null,null,null,null,null,null,null,"Income from investments in joint ventures",null,null,"Indtægter af kapitalandele i joint ventures"]
[{"$f":"\"\"&INDEX(PP_Locale,ROW(),PP_LanguageIndex)","v":"Income from other investments and receivables that are fixed assets"},null,null,null,null,null,null,null,null,null,null,null,null,null,null,null,null,null,"Income from other investments and receivables that are fixed assets",null,null,"Indtægter af andre kapitalandele, værdipapirer og tilgodehavender, der er anlægsaktiver"]
[{"$f":"\"\"&INDEX(PP_Locale,ROW(),PP_LanguageIndex)","v":"Other finance income from group enterprises"},null,null,null,null,null,null,null,null,null,null,null,null,null,null,null,null,null,"Other finance income from group enterprises",null,null,"Andre finansielle indtægter fra tilknyttede virksomheder"]
[{"$f":"\"\"&INDEX(PP_Locale,ROW(),PP_LanguageIndex)","v":"Other finance income"},null,null,null,null,null,null,null,null,null,null,null,null,null,null,null,null,null,"Other finance income",null,null,"Andre finansielle indtægter"]
[{"$f":"\"\"&INDEX(PP_Locale,ROW(),PP_LanguageIndex)","v":"Impairment of financial assets"},null,null,null,null,null,null,null,null,null,null,null,null,null,null,null,null,null,"Impairment of financial assets",null,null,"Nedskrivning af finansielle aktiver"]
[{"$f":"\"\"&INDEX(PP_Locale,ROW(),PP_LanguageIndex)","v":"Finance expenses arising from group enterprises"},null,null,null,null,null,null,null,null,null,null,null,null,null,null,null,null,null,"Finance expenses arising from group enterprises",null,null,"Finansielle omkostninger, der hidrører fra tilknyttede virksomheder"]
[{"$f":"\"\"&INDEX(PP_Locale,ROW(),PP_LanguageIndex)","v":"Sundry finance expenses"},null,null,null,null,null,null,null,null,null,null,null,null,null,null,null,null,null,"Sundry finance expenses",null,null,"Andre finansielle omkostninger"]
[{"$f":"\"\"&INDEX(PP_Locale,ROW(),PP_LanguageIndex)","v":"Other finance expenses"},null,null,null,null,null,null,null,null,null,null,null,null,null,null,null,null,null,"Other finance expenses",null,null,"Øvrige finansielle omkostninger"]
[{"$f":"\"\"&INDEX(PP_Locale,ROW(),PP_LanguageIndex)","v":"Profit (loss) from ordinary activities before tax"},null,null,null,null,null,null,null,null,null,null,null,null,null,null,null,null,null,"Profit (loss) from ordinary activities before tax",null,null,"Ordinært resultat før skat"]
[{"$f":"\"\"&INDEX(PP_Locale,ROW(),PP_LanguageIndex)","v":"Tax expense"},null,null,null,null,null,null,null,null,null,null,null,null,null,null,null,null,null,"Tax expense",null,null,"Skat af årets resultat"]
[{"$f":"\"\"&INDEX(PP_Locale,ROW(),PP_LanguageIndex)","v":"Other tax expenses"},null,null,null,null,null,null,null,null,null,null,null,null,null,null,null,null,null,"Other tax expenses",null,null,"Andre skatter"]
[{"$f":"\"\"&INDEX(PP_Locale,ROW(),PP_LanguageIndex)","v":"Profit (loss) from discontinued operations"},null,null,null,null,null,null,null,null,null,null,null,null,null,null,null,null,null,"Profit (loss) from discontinued operations",null,null,"Årets resultat vedrørende ophørende aktiviteter"]
[{"$f":"\"\"&INDEX(PP_Locale,ROW(),PP_LanguageIndex)","v":"Profit (loss) from continuing operations"},null,null,null,null,null,null,null,null,null,null,null,null,null,null,null,null,null,"Profit (loss) from continuing operations",null,null,"Resultat af fortsættende aktiviteter"]
[{"$f":"\"\"&INDEX(PP_Locale,ROW(),PP_LanguageIndex)","v":"Profit (loss)"},null,null,null,null,null,null,null,null,null,null,null,null,null,null,null,null,null,"Profit (loss)",null,null,"Årets resultat"]
[{"$f":"\"\"&INDEX(PP_Locale,ROW(),PP_LanguageIndex)","v":"Minority interest's proportinate share of subsidiary profit (loss)"},null,null,null,null,null,null,null,null,null,null,null,null,null,null,null,null,null,"Minority interest's proportinate share of subsidiary profit (loss)",null,null,"Minoritetsinteressernes forholdsmæssige andel af dattervirksomhedernes resultat"]
[{"$f":"\"\"&INDEX(PP_Locale,ROW(),PP_LanguageIndex)","v":"Profit (loss) after minority interest's proportionate share"},null,null,null,null,null,null,null,null,null,null,null,null,null,null,null,null,null,"Profit (loss) after minority interest's proportionate share",null,null,"Årets resultat efter Minoritetsinteressernes forholdsmæssige andel"]
[{"$f":"\"\"&INDEX(PP_Locale,ROW(),PP_LanguageIndex)","v":""}]
[{"$f":"\"\"&INDEX(PP_Locale,ROW(),PP_LanguageIndex)","v":"Proposed distribution of results"},null,null,null,null,null,null,null,null,null,null,null,null,null,null,null,null,null,"Proposed distribution of results",null,null,"Forslag til resultatdisponering"]
[{"$f":"\"\"&INDEX(PP_Locale,ROW(),PP_LanguageIndex)","v":"Proposed dividend recognised in equity"},null,null,null,null,null,null,null,null,null,null,null,null,null,null,null,null,null,"Proposed dividend recognised in equity",null,null,"Foreslået udbytte indregnet under egenkapitalen"]
[{"$f":"\"\"&INDEX(PP_Locale,ROW(),PP_LanguageIndex)","v":"Extraordinary dividend recognised in equity"},null,null,null,null,null,null,null,null,null,null,null,null,null,null,null,null,null,"Extraordinary dividend recognised in equity",null,null,"Ekstraordinært udbytte indregnet under egenkapitalen"]
[{"$f":"\"\"&INDEX(PP_Locale,ROW(),PP_LanguageIndex)","v":"Extraordinary dividend recognised in liabilities"},null,null,null,null,null,null,null,null,null,null,null,null,null,null,null,null,null,"Extraordinary dividend recognised in liabilities",null,null,"Ekstraordinært udbytte indregnet under gældsforpligtelser"]
[{"$f":"\"\"&INDEX(PP_Locale,ROW(),PP_LanguageIndex)","v":"Transferred to (from) reserve for net revaluation according to equity method"},null,null,null,null,null,null,null,null,null,null,null,null,null,null,null,null,null,"Transferred to (from) reserve for net revaluation according to equity method",null,null,"Overført til (fra) reserve for nettoopskrivning efter indre værdis metode"]
[{"$f":"\"\"&INDEX(PP_Locale,ROW(),PP_LanguageIndex)","v":"Transferred to (from) reserve for net revaluation of investment assets"},null,null,null,null,null,null,null,null,null,null,null,null,null,null,null,null,null,"Transferred to (from) reserve for net revaluation of investment assets",null,null,"Overført til (fra) reserve for nettoopskrivning af investeringsaktiver"]
[{"$f":"\"\"&INDEX(PP_Locale,ROW(),PP_LanguageIndex)","v":"Transferred to (from) other statutory reserves"},null,null,null,null,null,null,null,null,null,null,null,null,null,null,null,null,null,"Transferred to (from) other statutory reserves",null,null,"Overført til (fra) øvrige lovpligtige reserver"]
[{"$f":"\"\"&INDEX(PP_Locale,ROW(),PP_LanguageIndex)","v":"Transferred to (from) reserve according to articles of association"},null,null,null,null,null,null,null,null,null,null,null,null,null,null,null,null,null,"Transferred to (from) reserve according to articles of association",null,null,"Overført til (fra) vedtægtsmæssige reserver"]
[{"$f":"\"\"&INDEX(PP_Locale,ROW(),PP_LanguageIndex)","v":"Transferred to (from) sundry reserves"},null,null,null,null,null,null,null,null,null,null,null,null,null,null,null,null,null,"Transferred to (from) sundry reserves",null,null,"Overført til (fra) øvrige reserver"]
[{"$f":"\"\"&INDEX(PP_Locale,ROW(),PP_LanguageIndex)","v":"Distributions"},null,null,null,null,null,null,null,null,null,null,null,null,null,null,null,null,null,"Distributions",null,null,"Uddelinger"]
[{"$f":"\"\"&INDEX(PP_Locale,ROW(),PP_LanguageIndex)","v":"Extraordinary distributions"},null,null,null,null,null,null,null,null,null,null,null,null,null,null,null,null,null,"Extraordinary distributions",null,null,"Ekstraordinære uddelinger"]
[{"$f":"\"\"&INDEX(PP_Locale,ROW(),PP_LanguageIndex)","v":"Transferred from (to) hedge fund"},null,null,null,null,null,null,null,null,null,null,null,null,null,null,null,null,null,"Transferred from (to) hedge fund",null,null,"Overført fra (til) sikringsfond"]
[{"$f":"\"\"&INDEX(PP_Locale,ROW(),PP_LanguageIndex)","v":"Transferred from (to) reserve fund"},null,null,null,null,null,null,null,null,null,null,null,null,null,null,null,null,null,"Transferred from (to) reserve fund",null,null,"Overført fra (til) reservefond"]
[{"$f":"\"\"&INDEX(PP_Locale,ROW(),PP_LanguageIndex)","v":"Transferred from (to) voluntary reserve"},null,null,null,null,null,null,null,null,null,null,null,null,null,null,null,null,null,"Transferred from (to) voluntary reserve",null,null,"Overført fra (til) dispositionsfond"]
[{"$f":"\"\"&INDEX(PP_Locale,ROW(),PP_LanguageIndex)","v":"Transferred to reserve for entrepreneurial company"},null,null,null,null,null,null,null,null,null,null,null,null,null,null,null,null,null,"Transferred to reserve for entrepreneurial company",null,null,"Overført til reserve for iværksætterselskab"]
[{"$f":"\"\"&INDEX(PP_Locale,ROW(),PP_LanguageIndex)","v":"Transferred to reserve for development expenditure"},null,null,null,null,null,null,null,null,null,null,null,null,null,null,null,null,null,"Transferred to reserve for development expenditure",null,null,"Overført til reserve for udviklingsomkostninger"]
[{"$f":"\"\"&INDEX(PP_Locale,ROW(),PP_LanguageIndex)","v":"Transferred to reserve for current value adjustments of currency gains"},null,null,null,null,null,null,null,null,null,null,null,null,null,null,null,null,null,"Transferred to reserve for current value adjustments of currency gains",null,null,"Overført til reserve for dagsværdiregulering af valutakursgevinster"]
[{"$f":"\"\"&INDEX(PP_Locale,ROW(),PP_LanguageIndex)","v":"Transferred to reserve for current value of hedging"},null,null,null,null,null,null,null,null,null,null,null,null,null,null,null,null,null,"Transferred to reserve for current value of hedging",null,null,"Overført til reserve for dagsværdi af sikring"]
[{"$f":"\"\"&INDEX(PP_Locale,ROW(),PP_LanguageIndex)","v":"Transferred to (from) equity attributable to parent"},null,null,null,null,null,null,null,null,null,null,null,null,null,null,null,null,null,"Transferred to (from) equity attributable to parent",null,null,"Overført til (fra) egenkapital, som kan henføres til modervirksomheden"]
[{"$f":"\"\"&INDEX(PP_Locale,ROW(),PP_LanguageIndex)","v":"Transferred to (from) minority interests"},null,null,null,null,null,null,null,null,null,null,null,null,null,null,null,null,null,"Transferred to (from) minority interests",null,null,"Overført til (fra) minoritetsinteresser"]
[{"$f":"\"\"&INDEX(PP_Locale,ROW(),PP_LanguageIndex)","v":"Transferred to (from) retained earnings"},null,null,null,null,null,null,null,null,null,null,null,null,null,null,null,null,null,"Transferred to (from) retained earnings",null,null,"Overført til (fra) overført resultat"]
[{"$f":"\"\"&INDEX(PP_Locale,ROW(),PP_LanguageIndex)","v":"Profit (loss)"},null,null,null,null,null,null,null,null,null,null,null,null,null,null,null,null,null,"Profit (loss)",null,null,"Årets resultat"]
[{"$f":"\"\"&INDEX(PP_Locale,ROW(),PP_LanguageIndex)","v":""}]
[{"$f":"\"\"&INDEX(PP_Locale,ROW(),PP_LanguageIndex)","v":"Balance sheet"},null,null,null,null,null,null,null,null,null,null,null,null,null,null,null,null,null,"Balance sheet",null,null,"Balance"]
[{"$f":"\"\"&INDEX(PP_Locale,ROW(),PP_LanguageIndex)","v":"Assets"},null,null,null,null,null,null,null,null,null,null,null,null,null,null,null,null,null,"Assets",null,null,"Aktiver"]
[{"$f":"\"\"&INDEX(PP_Locale,ROW(),PP_LanguageIndex)","v":"Non-current assets"},null,null,null,null,null,null,null,null,null,null,null,null,null,null,null,null,null,"Non-current assets",null,null,"Anlægsaktiver"]
[{"$f":"\"\"&INDEX(PP_Locale,ROW(),PP_LanguageIndex)","v":"Concessions originating from development projects"},null,null,null,null,null,null,null,null,null,null,null,null,null,null,null,null,null,"Concessions originating from development projects",null,null,"Koncessioner, der stammer fra udviklingsprojekter"]
[{"$f":"\"\"&INDEX(PP_Locale,ROW(),PP_LanguageIndex)","v":"Patents originating from development projects"},null,null,null,null,null,null,null,null,null,null,null,null,null,null,null,null,null,"Patents originating from development projects",null,null,"Patenter, der stammer fra udviklingsprojekter"]
[{"$f":"\"\"&INDEX(PP_Locale,ROW(),PP_LanguageIndex)","v":"Trademarks originating from development projects"},null,null,null,null,null,null,null,null,null,null,null,null,null,null,null,null,null,"Trademarks originating from development projects",null,null,"Varemærker, der stammer fra udviklingsprojekter"]
[{"$f":"\"\"&INDEX(PP_Locale,ROW(),PP_LanguageIndex)","v":"Other similar rights originating from development projects"},null,null,null,null,null,null,null,null,null,null,null,null,null,null,null,null,null,"Other similar rights originating from development projects",null,null,"Lignende rettigheder, der stammer fra udviklingsprojekter"]
[{"$f":"\"\"&INDEX(PP_Locale,ROW(),PP_LanguageIndex)","v":"Completed development projects"},null,null,null,null,null,null,null,null,null,null,null,null,null,null,null,null,null,"Completed development projects",null,null,"Færdiggjorte udviklingsprojekter"]
[{"$f":"\"\"&INDEX(PP_Locale,ROW(),PP_LanguageIndex)","v":"Acquired concessions"},null,null,null,null,null,null,null,null,null,null,null,null,null,null,null,null,null,"Acquired concessions",null,null,"Erhvervede koncessioner"]
[{"$f":"\"\"&INDEX(PP_Locale,ROW(),PP_LanguageIndex)","v":"Acquired patents"},null,null,null,null,null,null,null,null,null,null,null,null,null,null,null,null,null,"Acquired patents",null,null,"Erhvervede patenter"]
[{"$f":"\"\"&INDEX(PP_Locale,ROW(),PP_LanguageIndex)","v":"Acquired licences"},null,null,null,null,null,null,null,null,null,null,null,null,null,null,null,null,null,"Acquired licences",null,null,"Erhvervede licenser"]
[{"$f":"\"\"&INDEX(PP_Locale,ROW(),PP_LanguageIndex)","v":"Acquired trademarks"},null,null,null,null,null,null,null,null,null,null,null,null,null,null,null,null,null,"Acquired trademarks",null,null,"Erhvervede varemærker"]
[{"$f":"\"\"&INDEX(PP_Locale,ROW(),PP_LanguageIndex)","v":"Acquired other similar rights"},null,null,null,null,null,null,null,null,null,null,null,null,null,null,null,null,null,"Acquired other similar rights",null,null,"Erhvervede lignende rettigheder"]
[{"$f":"\"\"&INDEX(PP_Locale,ROW(),PP_LanguageIndex)","v":"Acquired intangible assets"},null,null,null,null,null,null,null,null,null,null,null,null,null,null,null,null,null,"Acquired intangible assets",null,null,"Erhvervede immaterielle anlægsaktiver"]
[{"$f":"\"\"&INDEX(PP_Locale,ROW(),PP_LanguageIndex)","v":"Goodwill"},null,null,null,null,null,null,null,null,null,null,null,null,null,null,null,null,null,"Goodwill",null,null,"Goodwill"]
[{"$f":"\"\"&INDEX(PP_Locale,ROW(),PP_LanguageIndex)","v":"Development projects in progress"},null,null,null,null,null,null,null,null,null,null,null,null,null,null,null,null,null,"Development projects in progress",null,null,"Udviklingsprojekter under udførelse"]
[{"$f":"\"\"&INDEX(PP_Locale,ROW(),PP_LanguageIndex)","v":"Prepayments for intangible assets"},null,null,null,null,null,null,null,null,null,null,null,null,null,null,null,null,null,"Prepayments for intangible assets",null,null,"Forudbetalinger for immaterielle anlægsaktiver"]
[{"$f":"\"\"&INDEX(PP_Locale,ROW(),PP_LanguageIndex)","v":"Development projects in progress and prepayments for intangible assets"},null,null,null,null,null,null,null,null,null,null,null,null,null,null,null,null,null,"Development projects in progress and prepayments for intangible assets",null,null,"Udviklingsprojekter under udførelse og forudbetalinger for immaterielle anlægsaktiver"]
[{"$f":"\"\"&INDEX(PP_Locale,ROW(),PP_LanguageIndex)","v":"Intangible assets"},null,null,null,null,null,null,null,null,null,null,null,null,null,null,null,null,null,"Intangible assets",null,null,"Immaterielle anlægsaktiver"]
[{"$f":"\"\"&INDEX(PP_Locale,ROW(),PP_LanguageIndex)","v":"Land"},null,null,null,null,null,null,null,null,null,null,null,null,null,null,null,null,null,"Land",null,null,"Grunde"]
[{"$f":"\"\"&INDEX(PP_Locale,ROW(),PP_LanguageIndex)","v":"Buildings"},null,null,null,null,null,null,null,null,null,null,null,null,null,null,null,null,null,"Buildings",null,null,"Bygninger"]
[{"$f":"\"\"&INDEX(PP_Locale,ROW(),PP_LanguageIndex)","v":"Land and buildings"},null,null,null,null,null,null,null,null,null,null,null,null,null,null,null,null,null,"Land and buildings",null,null,"Grunde og bygninger"]
[{"$f":"\"\"&INDEX(PP_Locale,ROW(),PP_LanguageIndex)","v":"Investment property"},null,null,null,null,null,null,null,null,null,null,null,null,null,null,null,null,null,"Investment property",null,null,"Investeringsejendomme"]
[{"$f":"\"\"&INDEX(PP_Locale,ROW(),PP_LanguageIndex)","v":"Other investment assets"},null,null,null,null,null,null,null,null,null,null,null,null,null,null,null,null,null,"Other investment assets",null,null,"Andre investeringsaktiver"]
[{"$f":"\"\"&INDEX(PP_Locale,ROW(),PP_LanguageIndex)","v":"Plant and machinery"},null,null,null,null,null,null,null,null,null,null,null,null,null,null,null,null,null,"Plant and machinery",null,null,"Produktionsanlæg og maskiner"]
[{"$f":"\"\"&INDEX(PP_Locale,ROW(),PP_LanguageIndex)","v":"Fixtures, fittings, tools and equipment"},null,null,null,null,null,null,null,null,null,null,null,null,null,null,null,null,null,"Fixtures, fittings, tools and equipment",null,null,"Andre anlæg, driftsmateriel og inventar"]
[{"$f":"\"\"&INDEX(PP_Locale,ROW(),PP_LanguageIndex)","v":"Biological assets"},null,null,null,null,null,null,null,null,null,null,null,null,null,null,null,null,null,"Biological assets",null,null,"Biologiske aktiver"]
[{"$f":"\"\"&INDEX(PP_Locale,ROW(),PP_LanguageIndex)","v":"Leasehold improvements"},null,null,null,null,null,null,null,null,null,null,null,null,null,null,null,null,null,"Leasehold improvements",null,null,"Indretning af lejede lokaler"]
[{"$f":"\"\"&INDEX(PP_Locale,ROW(),PP_LanguageIndex)","v":"Ships"},null,null,null,null,null,null,null,null,null,null,null,null,null,null,null,null,null,"Ships",null,null,"Skibe"]
[{"$f":"\"\"&INDEX(PP_Locale,ROW(),PP_LanguageIndex)","v":"Planes"},null,null,null,null,null,null,null,null,null,null,null,null,null,null,null,null,null,"Planes",null,null,"Fly"]
[{"$f":"\"\"&INDEX(PP_Locale,ROW(),PP_LanguageIndex)","v":"Right-of-use assets"},null,null,null,null,null,null,null,null,null,null,null,null,null,null,null,null,null,"Right-of-use assets",null,null,"Brugsretsaktiver"]
[{"$f":"\"\"&INDEX(PP_Locale,ROW(),PP_LanguageIndex)","v":"Property, plant and equipment in progress"},null,null,null,null,null,null,null,null,null,null,null,null,null,null,null,null,null,"Property, plant and equipment in progress",null,null,"Materielle aktiver under udførelse"]
[{"$f":"\"\"&INDEX(PP_Locale,ROW(),PP_LanguageIndex)","v":"Prepayments for property, plant and equipment"},null,null,null,null,null,null,null,null,null,null,null,null,null,null,null,null,null,"Prepayments for property, plant and equipment",null,null,"Forudbetalinger for materielle anlægsaktiver"]
[{"$f":"\"\"&INDEX(PP_Locale,ROW(),PP_LanguageIndex)","v":"Property, plant and equipment in progress and prepayments for property, plant and equipment"},null,null,null,null,null,null,null,null,null,null,null,null,null,null,null,null,null,"Property, plant and equipment in progress and prepayments for property, plant and equipment",null,null,"Materielle aktiver under udførelse og forudbetalinger for materielle anlægsaktiver"]
[{"$f":"\"\"&INDEX(PP_Locale,ROW(),PP_LanguageIndex)","v":"Property, plant and equipment"},null,null,null,null,null,null,null,null,null,null,null,null,null,null,null,null,null,"Property, plant and equipment",null,null,"Materielle anlægsaktiver"]
[{"$f":"\"\"&INDEX(PP_Locale,ROW(),PP_LanguageIndex)","v":"Long-term investments in group enterprises"},null,null,null,null,null,null,null,null,null,null,null,null,null,null,null,null,null,"Long-term investments in group enterprises",null,null,"Kapitalandele i tilknyttede virksomheder (langfristede)"]
[{"$f":"\"\"&INDEX(PP_Locale,ROW(),PP_LanguageIndex)","v":"Long-term investments in associates"},null,null,null,null,null,null,null,null,null,null,null,null,null,null,null,null,null,"Long-term investments in associates",null,null,"Kapitalandele i associerede virksomheder (langfristede)"]
[{"$f":"\"\"&INDEX(PP_Locale,ROW(),PP_LanguageIndex)","v":"Long-term participating interests"},null,null,null,null,null,null,null,null,null,null,null,null,null,null,null,null,null,"Long-term participating interests",null,null,"Kapitalinteresser (langfristede)"]
[{"$f":"\"\"&INDEX(PP_Locale,ROW(),PP_LanguageIndex)","v":"Long-term Investments in joint ventures"},null,null,null,null,null,null,null,null,null,null,null,null,null,null,null,null,null,"Long-term Investments in joint ventures",null,null,"Kapitalandele i joint ventures (langfristet)"]
[{"$f":"\"\"&INDEX(PP_Locale,ROW(),PP_LanguageIndex)","v":"Long-term receivables from group enterprises"},null,null,null,null,null,null,null,null,null,null,null,null,null,null,null,null,null,"Long-term receivables from group enterprises",null,null,"Langfristede tilgodehavender hos tilknyttede virksomheder"]
[{"$f":"\"\"&INDEX(PP_Locale,ROW(),PP_LanguageIndex)","v":"Long-term receivables from associates"},null,null,null,null,null,null,null,null,null,null,null,null,null,null,null,null,null,"Long-term receivables from associates",null,null,"Langfristede tilgodehavender hos associerede virksomheder"]
[{"$f":"\"\"&INDEX(PP_Locale,ROW(),PP_LanguageIndex)","v":"Long-term receivables from participating interests"},null,null,null,null,null,null,null,null,null,null,null,null,null,null,null,null,null,"Long-term receivables from participating interests",null,null,"Langfristede tilgodehavender hos kapitalinteresser"]
[{"$f":"\"\"&INDEX(PP_Locale,ROW(),PP_LanguageIndex)","v":"Long-term receivables from joint ventures"},null,null,null,null,null,null,null,null,null,null,null,null,null,null,null,null,null,"Long-term receivables from joint ventures",null,null,"Langfristede tilgodehavender hos joint ventures"]
[{"$f":"\"\"&INDEX(PP_Locale,ROW(),PP_LanguageIndex)","v":"Other long-term investments"},null,null,null,null,null,null,null,null,null,null,null,null,null,null,null,null,null,"Other long-term investments",null,null,"Andre værdipapirer og kapitalandele [langfristet]"]
[{"$f":"\"\"&INDEX(PP_Locale,ROW(),PP_LanguageIndex)","v":"Other long-term receivables"},null,null,null,null,null,null,null,null,null,null,null,null,null,null,null,null,null,"Other long-term receivables",null,null,"Andre (langfristede) tilgodehavender"]
[{"$f":"\"\"&INDEX(PP_Locale,ROW(),PP_LanguageIndex)","v":"Long-term receivables from owners and management"},null,null,null,null,null,null,null,null,null,null,null,null,null,null,null,null,null,"Long-term receivables from owners and management",null,null,"Langfristede tilgodehavender hos virksomhedsdeltagere og ledelse"]
[{"$f":"\"\"&INDEX(PP_Locale,ROW(),PP_LanguageIndex)","v":"Non-current deferred tax assets"},null,null,null,null,null,null,null,null,null,null,null,null,null,null,null,null,null,"Non-current deferred tax assets",null,null,"Udskudte skatteaktiver (anlægsaktiver)"]
[{"$f":"\"\"&INDEX(PP_Locale,ROW(),PP_LanguageIndex)","v":"Deposits, investments"},null,null,null,null,null,null,null,null,null,null,null,null,null,null,null,null,null,"Deposits, investments",null,null,"Deposita [Finansielle anlægsaktiver]"]
[{"$f":"\"\"&INDEX(PP_Locale,ROW(),PP_LanguageIndex)","v":"Underfunding for reporting period, long-term receivables"},null,null,null,null,null,null,null,null,null,null,null,null,null,null,null,null,null,"Underfunding for reporting period, long-term receivables",null,null,"Underdækning, langfristede tilgodehavender"]
[{"$f":"\"\"&INDEX(PP_Locale,ROW(),PP_LanguageIndex)","v":"Contributed capital in arrears (long-term)"},null,null,null,null,null,null,null,null,null,null,null,null,null,null,null,null,null,"Contributed capital in arrears (long-term)",null,null,"Krav på indbetaling af registreret kapital mv.(langfristet)"]
[{"$f":"\"\"&INDEX(PP_Locale,ROW(),PP_LanguageIndex)","v":"Non-current contract assets"},null,null,null,null,null,null,null,null,null,null,null,null,null,null,null,null,null,"Non-current contract assets",null,null,"Langfristede kontraktlige aktiver"]
[{"$f":"\"\"&INDEX(PP_Locale,ROW(),PP_LanguageIndex)","v":"Investments"},null,null,null,null,null,null,null,null,null,null,null,null,null,null,null,null,null,"Investments",null,null,"Finansielle anlægsaktiver"]
[{"$f":"\"\"&INDEX(PP_Locale,ROW(),PP_LanguageIndex)","v":"Non-current assets"},null,null,null,null,null,null,null,null,null,null,null,null,null,null,null,null,null,"Non-current assets",null,null,"Anlægsaktiver"]
[{"$f":"\"\"&INDEX(PP_Locale,ROW(),PP_LanguageIndex)","v":""}]
[{"$f":"\"\"&INDEX(PP_Locale,ROW(),PP_LanguageIndex)","v":"Current assets"},null,null,null,null,null,null,null,null,null,null,null,null,null,null,null,null,null,"Current assets",null,null,"Omsætningsaktiver"]
[{"$f":"\"\"&INDEX(PP_Locale,ROW(),PP_LanguageIndex)","v":"Raw materials and consumables"},null,null,null,null,null,null,null,null,null,null,null,null,null,null,null,null,null,"Raw materials and consumables",null,null,"Råvarer og hjælpematerialer"]
[{"$f":"\"\"&INDEX(PP_Locale,ROW(),PP_LanguageIndex)","v":"Work in progress"},null,null,null,null,null,null,null,null,null,null,null,null,null,null,null,null,null,"Work in progress",null,null,"Varer under fremstilling"]
[{"$f":"\"\"&INDEX(PP_Locale,ROW(),PP_LanguageIndex)","v":"Manufactured goods and goods for resale"},null,null,null,null,null,null,null,null,null,null,null,null,null,null,null,null,null,"Manufactured goods and goods for resale",null,null,"Fremstillede varer og handelsvarer"]
[{"$f":"\"\"&INDEX(PP_Locale,ROW(),PP_LanguageIndex)","v":"Prepayments for goods"},null,null,null,null,null,null,null,null,null,null,null,null,null,null,null,null,null,"Prepayments for goods",null,null,"Forudbetalinger for varer"]
[{"$f":"\"\"&INDEX(PP_Locale,ROW(),PP_LanguageIndex)","v":"Livestock"},null,null,null,null,null,null,null,null,null,null,null,null,null,null,null,null,null,"Livestock",null,null,"Stambesætning"]
[{"$f":"\"\"&INDEX(PP_Locale,ROW(),PP_LanguageIndex)","v":"Property held for sale in the ordinary course of business"},null,null,null,null,null,null,null,null,null,null,null,null,null,null,null,null,null,"Property held for sale in the ordinary course of business",null,null,"Ejendomme som besiddes med henblik på videresalg i det normale forretningsforløb (Handelsejendomme)"]
[{"$f":"\"\"&INDEX(PP_Locale,ROW(),PP_LanguageIndex)","v":"Assets held for sale, inventories"},null,null,null,null,null,null,null,null,null,null,null,null,null,null,null,null,null,"Assets held for sale, inventories",null,null,"Aktiver bestemt for salg, varebeholdning"]
[{"$f":"\"\"&INDEX(PP_Locale,ROW(),PP_LanguageIndex)","v":"Inventories"},null,null,null,null,null,null,null,null,null,null,null,null,null,null,null,null,null,"Inventories",null,null,"Varebeholdninger"]
[{"$f":"\"\"&INDEX(PP_Locale,ROW(),PP_LanguageIndex)","v":"Short-term trade receivables"},null,null,null,null,null,null,null,null,null,null,null,null,null,null,null,null,null,"Short-term trade receivables",null,null,"Tilgodehavender fra salg og tjenesteydelser"]
[{"$f":"\"\"&INDEX(PP_Locale,ROW(),PP_LanguageIndex)","v":"Contract work in progress"},null,null,null,null,null,null,null,null,null,null,null,null,null,null,null,null,null,"Contract work in progress",null,null,"Igangværende arbejder for fremmed regning"]
[{"$f":"\"\"&INDEX(PP_Locale,ROW(),PP_LanguageIndex)","v":"Short-term receivables from group enterprises"},null,null,null,null,null,null,null,null,null,null,null,null,null,null,null,null,null,"Short-term receivables from group enterprises",null,null,"Kortfristede tilgodehavender hos tilknyttede virksomheder"]
[{"$f":"\"\"&INDEX(PP_Locale,ROW(),PP_LanguageIndex)","v":"Short-term receivables from associates"},null,null,null,null,null,null,null,null,null,null,null,null,null,null,null,null,null,"Short-term receivables from associates",null,null,"Kortfristede tilgodehavender hos associerede virksomheder"]
[{"$f":"\"\"&INDEX(PP_Locale,ROW(),PP_LanguageIndex)","v":"Short-term receivables from joint ventures"},null,null,null,null,null,null,null,null,null,null,null,null,null,null,null,null,null,"Short-term receivables from joint ventures",null,null,"Kortfristede tilgodehavender hos joint ventures"]
[{"$f":"\"\"&INDEX(PP_Locale,ROW(),PP_LanguageIndex)","v":"Short-term receivables from participating interests"},null,null,null,null,null,null,null,null,null,null,null,null,null,null,null,null,null,"Short-term receivables from participating interests",null,null,"Kortfristede tilgodehavender hos kapitalinteresser"]
[{"$f":"\"\"&INDEX(PP_Locale,ROW(),PP_LanguageIndex)","v":"Short-term receivables, dividends from group enterprises"},null,null,null,null,null,null,null,null,null,null,null,null,null,null,null,null,null,"Short-term receivables, dividends from group enterprises",null,null,"Kortfristede tilgodehavender udbytte hos tilknyttet virksomhed"]
[{"$f":"\"\"&INDEX(PP_Locale,ROW(),PP_LanguageIndex)","v":"Short-term receivables dividends from associates"},null,null,null,null,null,null,null,null,null,null,null,null,null,null,null,null,null,"Short-term receivables dividends from associates",null,null,"Kortfristede tilgodehavender udbytte hos associerede virksomhed"]
[{"$f":"\"\"&INDEX(PP_Locale,ROW(),PP_LanguageIndex)","v":"Short-term receivables, dividends from joint ventures"},null,null,null,null,null,null,null,null,null,null,null,null,null,null,null,null,null,"Short-term receivables, dividends from joint ventures",null,null,"Kortfristede tilgodehavender udbytte hos joint ventures"]
[{"$f":"\"\"&INDEX(PP_Locale,ROW(),PP_LanguageIndex)","v":"Short-term receivables dividends from participating interests"},null,null,null,null,null,null,null,null,null,null,null,null,null,null,null,null,null,"Short-term receivables dividends from participating interests",null,null,"Kortfristede tilgodehavender udbytte hos kapitalinteresser"]
[{"$f":"\"\"&INDEX(PP_Locale,ROW(),PP_LanguageIndex)","v":"Current deferred tax assets"},null,null,null,null,null,null,null,null,null,null,null,null,null,null,null,null,null,"Current deferred tax assets",null,null,"Udskudte skatteaktiver"]
[{"$f":"\"\"&INDEX(PP_Locale,ROW(),PP_LanguageIndex)","v":"Short-term tax receivables"},null,null,null,null,null,null,null,null,null,null,null,null,null,null,null,null,null,"Short-term tax receivables",null,null,"Kortfristet tilgodehavende skat"]
[{"$f":"\"\"&INDEX(PP_Locale,ROW(),PP_LanguageIndex)","v":"Short-term tax receivables from group enterprises"},null,null,null,null,null,null,null,null,null,null,null,null,null,null,null,null,null,"Short-term tax receivables from group enterprises",null,null,"Kortfristet tilgodehavende skat hos tilknyttede virksomheder"]
[{"$f":"\"\"&INDEX(PP_Locale,ROW(),PP_LanguageIndex)","v":"VAT and duties receivables"},null,null,null,null,null,null,null,null,null,null,null,null,null,null,null,null,null,"VAT and duties receivables",null,null,"Tilgodehavender moms og afgifter"]
[{"$f":"\"\"&INDEX(PP_Locale,ROW(),PP_LanguageIndex)","v":"Other short-term receivables"},null,null,null,null,null,null,null,null,null,null,null,null,null,null,null,null,null,"Other short-term receivables",null,null,"Andre tilgodehavender [kortfristede]"]
[{"$f":"\"\"&INDEX(PP_Locale,ROW(),PP_LanguageIndex)","v":"Contributed capital in arrears (short-term)"},null,null,null,null,null,null,null,null,null,null,null,null,null,null,null,null,null,"Contributed capital in arrears (short-term)",null,null,"Krav på indbetaling af registreret kapital mv. (kortfristet)"]
[{"$f":"\"\"&INDEX(PP_Locale,ROW(),PP_LanguageIndex)","v":"Short-term receivables from owners and management"},null,null,null,null,null,null,null,null,null,null,null,null,null,null,null,null,null,"Short-term receivables from owners and management",null,null,"Kortfristede tilgodehavender hos virksomhedsdeltagere og ledelse"]
[{"$f":"\"\"&INDEX(PP_Locale,ROW(),PP_LanguageIndex)","v":"Deferred income assets"},null,null,null,null,null,null,null,null,null,null,null,null,null,null,null,null,null,"Deferred income assets",null,null,"Periodeafgrænsningsposter [aktiver]"]
[{"$f":"\"\"&INDEX(PP_Locale,ROW(),PP_LanguageIndex)","v":"Underfunding for reporting period, short-term receivables [Regulatory assets]"},null,null,null,null,null,null,null,null,null,null,null,null,null,null,null,null,null,"Underfunding for reporting period, short-term receivables [Regulatory assets]",null,null,"Underdækning, kortfristede tilgodehavender"]
[{"$f":"\"\"&INDEX(PP_Locale,ROW(),PP_LanguageIndex)","v":"Timing differences, short-term receivables (especially utilities)"},null,null,null,null,null,null,null,null,null,null,null,null,null,null,null,null,null,"Timing differences, short-term receivables (especially utilities)",null,null,"Tidsmæssige forskelle, tilgodehavender (særligt for forsyningsvirksomheder)"]
[{"$f":"\"\"&INDEX(PP_Locale,ROW(),PP_LanguageIndex)","v":"Current contract assets"},null,null,null,null,null,null,null,null,null,null,null,null,null,null,null,null,null,"Current contract assets",null,null,"Kortfristede kontraktlige aktiver"]
[{"$f":"\"\"&INDEX(PP_Locale,ROW(),PP_LanguageIndex)","v":"Derivative financial instruments"},null,null,null,null,null,null,null,null,null,null,null,null,null,null,null,null,null,"Derivative financial instruments",null,null,"Afledte finansielle instrumenter"]
[{"$f":"\"\"&INDEX(PP_Locale,ROW(),PP_LanguageIndex)","v":"Receivables"},null,null,null,null,null,null,null,null,null,null,null,null,null,null,null,null,null,"Receivables",null,null,"Tilgodehavender"]
[{"$f":"\"\"&INDEX(PP_Locale,ROW(),PP_LanguageIndex)","v":"Short-term investments in group enterprises"},null,null,null,null,null,null,null,null,null,null,null,null,null,null,null,null,null,"Short-term investments in group enterprises",null,null,"Kapitalandele i tilknyttede virksomheder"]
[{"$f":"\"\"&INDEX(PP_Locale,ROW(),PP_LanguageIndex)","v":"Other short-term investments"},null,null,null,null,null,null,null,null,null,null,null,null,null,null,null,null,null,"Other short-term investments",null,null,"Andre værdipapirer og kapitalandele [kortfristet]"]
[{"$f":"\"\"&INDEX(PP_Locale,ROW(),PP_LanguageIndex)","v":"Short-term investments"},null,null,null,null,null,null,null,null,null,null,null,null,null,null,null,null,null,"Short-term investments",null,null,"Værdipapirer og kapitalandele"]
[{"$f":"\"\"&INDEX(PP_Locale,ROW(),PP_LanguageIndex)","v":"Cash and cash equivalents"},null,null,null,null,null,null,null,null,null,null,null,null,null,null,null,null,null,"Cash and cash equivalents",null,null,"Likvide beholdninger"]
[{"$f":"\"\"&INDEX(PP_Locale,ROW(),PP_LanguageIndex)","v":"Current assets"},null,null,null,null,null,null,null,null,null,null,null,null,null,null,null,null,null,"Current assets",null,null,"Omsætningsaktiver"]
[{"$f":"\"\"&INDEX(PP_Locale,ROW(),PP_LanguageIndex)","v":"Assets held for sale"},null,null,null,null,null,null,null,null,null,null,null,null,null,null,null,null,null,"Assets held for sale",null,null,"Aktiver bestemt for salg"]
[{"$f":"\"\"&INDEX(PP_Locale,ROW(),PP_LanguageIndex)","v":""}]
[{"$f":"\"\"&INDEX(PP_Locale,ROW(),PP_LanguageIndex)","v":"Assets"},null,null,null,null,null,null,null,null,null,null,null,null,null,null,null,null,null,"Assets",null,null,"Aktiver"]
[{"$f":"\"\"&INDEX(PP_Locale,ROW(),PP_LanguageIndex)","v":"Assets"},null,null,null,null,null,null,null,null,null,null,null,null,null,null,null,null,null,"Assets",null,null,"Aktiver"]
[{"$f":"\"\"&INDEX(PP_Locale,ROW(),PP_LanguageIndex)","v":""}]
[{"$f":"\"\"&INDEX(PP_Locale,ROW(),PP_LanguageIndex)","v":"Liabilities and equity"},null,null,null,null,null,null,null,null,null,null,null,null,null,null,null,null,null,"Liabilities and equity",null,null,"Passiver"]
[{"$f":"\"\"&INDEX(PP_Locale,ROW(),PP_LanguageIndex)","v":"Equity"},null,null,null,null,null,null,null,null,null,null,null,null,null,null,null,null,null,"Equity",null,null,"Egenkapital"]
[{"$f":"\"\"&INDEX(PP_Locale,ROW(),PP_LanguageIndex)","v":"Contributed capital"},null,null,null,null,null,null,null,null,null,null,null,null,null,null,null,null,null,"Contributed capital",null,null,"Registreret kapital mv."]
[{"$f":"\"\"&INDEX(PP_Locale,ROW(),PP_LanguageIndex)","v":"Paid contributed capital"},null,null,null,null,null,null,null,null,null,null,null,null,null,null,null,null,null,"Paid contributed capital",null,null,"Indbetalt registreret kapital mv."]
[{"$f":"\"\"&INDEX(PP_Locale,ROW(),PP_LanguageIndex)","v":"Share premium"},null,null,null,null,null,null,null,null,null,null,null,null,null,null,null,null,null,"Share premium",null,null,"Overkurs ved emission"]
[{"$f":"\"\"&INDEX(PP_Locale,ROW(),PP_LanguageIndex)","v":"Revaluation reserve"},null,null,null,null,null,null,null,null,null,null,null,null,null,null,null,null,null,"Revaluation reserve",null,null,"Reserve for opskrivninger"]
[{"$f":"\"\"&INDEX(PP_Locale,ROW(),PP_LanguageIndex)","v":"Reserve for net revaluation according to equity method"},null,null,null,null,null,null,null,null,null,null,null,null,null,null,null,null,null,"Reserve for net revaluation according to equity method",null,null,"Reserve for nettoopskrivning efter indre værdis metode"]
[{"$f":"\"\"&INDEX(PP_Locale,ROW(),PP_LanguageIndex)","v":"Reserve for loans and collaterals"},null,null,null,null,null,null,null,null,null,null,null,null,null,null,null,null,null,"Reserve for loans and collaterals",null,null,"Reserve for udlån og sikkerhedsstillelse"]
[{"$f":"\"\"&INDEX(PP_Locale,ROW(),PP_LanguageIndex)","v":"Reserve for unpaid contributed capital and premium"},null,null,null,null,null,null,null,null,null,null,null,null,null,null,null,null,null,"Reserve for unpaid contributed capital and premium",null,null,"Reserve for ikke indbetalt registreret kapital og overkurs"]
[{"$f":"\"\"&INDEX(PP_Locale,ROW(),PP_LanguageIndex)","v":"Reserve for entrepreneurial company"},null,null,null,null,null,null,null,null,null,null,null,null,null,null,null,null,null,"Reserve for entrepreneurial company",null,null,"Reserve for iværksætterselskab"]
[{"$f":"\"\"&INDEX(PP_Locale,ROW(),PP_LanguageIndex)","v":"Reserve for development expenditure"},null,null,null,null,null,null,null,null,null,null,null,null,null,null,null,null,null,"Reserve for development expenditure",null,null,"Reserve for udviklingsomkostninger"]
[{"$f":"\"\"&INDEX(PP_Locale,ROW(),PP_LanguageIndex)","v":"Reserve for net revaluation of investment assets"},null,null,null,null,null,null,null,null,null,null,null,null,null,null,null,null,null,"Reserve for net revaluation of investment assets",null,null,"Reserve for nettoopskrivning af investeringsaktiver"]
[{"$f":"\"\"&INDEX(PP_Locale,ROW(),PP_LanguageIndex)","v":"Reserve for current value adjustments of currency gains"},null,null,null,null,null,null,null,null,null,null,null,null,null,null,null,null,null,"Reserve for current value adjustments of currency gains",null,null,"Reserve for dagsværdiregulering af valutakursgevinster (Tab)"]
[{"$f":"\"\"&INDEX(PP_Locale,ROW(),PP_LanguageIndex)","v":"Reserve for current value of hedging"},null,null,null,null,null,null,null,null,null,null,null,null,null,null,null,null,null,"Reserve for current value of hedging",null,null,"Reserve for dagsværdi af sikring"]
[{"$f":"\"\"&INDEX(PP_Locale,ROW(),PP_LanguageIndex)","v":"Other statutory reserves"},null,null,null,null,null,null,null,null,null,null,null,null,null,null,null,null,null,"Other statutory reserves",null,null,"Øvrige lovpligtige reserver"]
[{"$f":"\"\"&INDEX(PP_Locale,ROW(),PP_LanguageIndex)","v":"Reserve according to articles of association"},null,null,null,null,null,null,null,null,null,null,null,null,null,null,null,null,null,"Reserve according to articles of association",null,null,"Vedtægtsmæssige reserver"]
[{"$f":"\"\"&INDEX(PP_Locale,ROW(),PP_LanguageIndex)","v":"Reserve for biological assets"},null,null,null,null,null,null,null,null,null,null,null,null,null,null,null,null,null,"Reserve for biological assets",null,null,"Reserve for biologiske aktiver"]
[{"$f":"\"\"&INDEX(PP_Locale,ROW(),PP_LanguageIndex)","v":"Sundry reserves"},null,null,null,null,null,null,null,null,null,null,null,null,null,null,null,null,null,"Sundry reserves",null,null,"Øvrige reserver"]
[{"$f":"\"\"&INDEX(PP_Locale,ROW(),PP_LanguageIndex)","v":"Other reserves"},null,null,null,null,null,null,null,null,null,null,null,null,null,null,null,null,null,"Other reserves",null,null,"Andre reserver"]
[{"$f":"\"\"&INDEX(PP_Locale,ROW(),PP_LanguageIndex)","v":"Retained earnings"},null,null,null,null,null,null,null,null,null,null,null,null,null,null,null,null,null,"Retained earnings",null,null,"Overført resultat"]
[{"$f":"\"\"&INDEX(PP_Locale,ROW(),PP_LanguageIndex)","v":"Provision for distributions"},null,null,null,null,null,null,null,null,null,null,null,null,null,null,null,null,null,"Provision for distributions",null,null,"Henlagt til uddelinger"]
[{"$f":"\"\"&INDEX(PP_Locale,ROW(),PP_LanguageIndex)","v":"Proposed dividend recognised in equity"},null,null,null,null,null,null,null,null,null,null,null,null,null,null,null,null,null,"Proposed dividend recognised in equity",null,null,"Foreslået udbytte indregnet under egenkapitalen"]
[{"$f":"\"\"&INDEX(PP_Locale,ROW(),PP_LanguageIndex)","v":"Extraordinary dividend recognised in equity"},null,null,null,null,null,null,null,null,null,null,null,null,null,null,null,null,null,"Extraordinary dividend recognised in equity",null,null,"Ekstraordinært udbytte indregnet under egenkapitalen"]
[{"$f":"\"\"&INDEX(PP_Locale,ROW(),PP_LanguageIndex)","v":"Unpaid contributed capital"},null,null,null,null,null,null,null,null,null,null,null,null,null,null,null,null,null,"Unpaid contributed capital",null,null,"Ikke indbetalt registreret kapital mv."]
[{"$f":"\"\"&INDEX(PP_Locale,ROW(),PP_LanguageIndex)","v":"Hedge fund"},null,null,null,null,null,null,null,null,null,null,null,null,null,null,null,null,null,"Hedge fund",null,null,"Sikringsfond"]
[{"$f":"\"\"&INDEX(PP_Locale,ROW(),PP_LanguageIndex)","v":"Reserve fund"},null,null,null,null,null,null,null,null,null,null,null,null,null,null,null,null,null,"Reserve fund",null,null,"Reservefond"]
[{"$f":"\"\"&INDEX(PP_Locale,ROW(),PP_LanguageIndex)","v":"Reserves distributable"},null,null,null,null,null,null,null,null,null,null,null,null,null,null,null,null,null,"Reserves distributable",null,null,"Disponible reserver"]
[{"$f":"\"\"&INDEX(PP_Locale,ROW(),PP_LanguageIndex)","v":"Liquidation account"},null,null,null,null,null,null,null,null,null,null,null,null,null,null,null,null,null,"Liquidation account",null,null,"Likvidationskonto"]
[{"$f":"\"\"&INDEX(PP_Locale,ROW(),PP_LanguageIndex)","v":"Actuarial profit (loss), which is a part of the calculation of contingent pensions"},null,null,null,null,null,null,null,null,null,null,null,null,null,null,null,null,null,"Actuarial profit (loss), which is a part of the calculation of contingent pensions",null,null,"Aktuarmæssige gevinster (tab), som indgår i opgørelsen af pensionsforpligtelsen"]
[{"$f":"\"\"&INDEX(PP_Locale,ROW(),PP_LanguageIndex)","v":"Equity attributable to parent"},null,null,null,null,null,null,null,null,null,null,null,null,null,null,null,null,null,"Equity attributable to parent",null,null,"Egenkapital, som kan henføres til modervirksomheden"]
[{"$f":"\"\"&INDEX(PP_Locale,ROW(),PP_LanguageIndex)","v":"Minority interests"},null,null,null,null,null,null,null,null,null,null,null,null,null,null,null,null,null,"Minority interests",null,null,"Minoritetsinteresser"]
[{"$f":"\"\"&INDEX(PP_Locale,ROW(),PP_LanguageIndex)","v":"Equity"},null,null,null,null,null,null,null,null,null,null,null,null,null,null,null,null,null,"Equity",null,null,"Egenkapital"]
[{"$f":"\"\"&INDEX(PP_Locale,ROW(),PP_LanguageIndex)","v":""}]
[{"$f":"\"\"&INDEX(PP_Locale,ROW(),PP_LanguageIndex)","v":"Provisions"},null,null,null,null,null,null,null,null,null,null,null,null,null,null,null,null,null,"Provisions",null,null,"Hensatte forpligtelser"]
[{"$f":"\"\"&INDEX(PP_Locale,ROW(),PP_LanguageIndex)","v":"Provisions for pensions and similar liabilities"},null,null,null,null,null,null,null,null,null,null,null,null,null,null,null,null,null,"Provisions for pensions and similar liabilities",null,null,"Hensættelser til pensioner og lignende forpligtelser"]
[{"$f":"\"\"&INDEX(PP_Locale,ROW(),PP_LanguageIndex)","v":"Provisions for deferred tax"},null,null,null,null,null,null,null,null,null,null,null,null,null,null,null,null,null,"Provisions for deferred tax",null,null,"Hensættelser til udskudt skat"]
[{"$f":"\"\"&INDEX(PP_Locale,ROW(),PP_LanguageIndex)","v":"Other provisions"},null,null,null,null,null,null,null,null,null,null,null,null,null,null,null,null,null,"Other provisions",null,null,"Andre hensatte forpligtelser"]
[{"$f":"\"\"&INDEX(PP_Locale,ROW(),PP_LanguageIndex)","v":"Provisions for investments in group enterprises"},null,null,null,null,null,null,null,null,null,null,null,null,null,null,null,null,null,"Provisions for investments in group enterprises",null,null,"Hensættelser vedrørende kapitalandele i tilknyttede virksomheder"]
[{"$f":"\"\"&INDEX(PP_Locale,ROW(),PP_LanguageIndex)","v":"Provisions for investments in group associates"},null,null,null,null,null,null,null,null,null,null,null,null,null,null,null,null,null,"Provisions for investments in group associates",null,null,"Hensættelser vedrørende kapitalandele i associerede virksomheder"]
[{"$f":"\"\"&INDEX(PP_Locale,ROW(),PP_LanguageIndex)","v":"Provisions for investments in participating interests"},null,null,null,null,null,null,null,null,null,null,null,null,null,null,null,null,null,"Provisions for investments in participating interests",null,null,"Hensættelser vedrørende kapitalinteresser"]
[{"$f":"\"\"&INDEX(PP_Locale,ROW(),PP_LanguageIndex)","v":"Provisions for investments in joint ventures"},null,null,null,null,null,null,null,null,null,null,null,null,null,null,null,null,null,"Provisions for investments in joint ventures",null,null,"Hensættelser vedrørende kapitalandele i joint ventures"]
[{"$f":"\"\"&INDEX(PP_Locale,ROW(),PP_LanguageIndex)","v":"Provisions for overfunding for reporting period"},null,null,null,null,null,null,null,null,null,null,null,null,null,null,null,null,null,"Provisions for overfunding for reporting period",null,null,"Hensættelser til overdækning"]
[{"$f":"\"\"&INDEX(PP_Locale,ROW(),PP_LanguageIndex)","v":"Timing differences, provisions (especially utilities)"},null,null,null,null,null,null,null,null,null,null,null,null,null,null,null,null,null,"Timing differences, provisions (especially utilities)",null,null,"Tidsmæssige forskelle, hensatte forpligtelser (særligt for forsyningsvirksomheder)"]
[{"$f":"\"\"&INDEX(PP_Locale,ROW(),PP_LanguageIndex)","v":"Provisions"},null,null,null,null,null,null,null,null,null,null,null,null,null,null,null,null,null,"Provisions",null,null,"Hensatte forpligtelser"]
[{"$f":"\"\"&INDEX(PP_Locale,ROW(),PP_LanguageIndex)","v":""}]
[{"$f":"\"\"&INDEX(PP_Locale,ROW(),PP_LanguageIndex)","v":"Non-current liabilities"},null,null,null,null,null,null,null,null,null,null,null,null,null,null,null,null,null,"Non-current liabilities",null,null,"Langfristede gældsforpligtelser"]
[{"$f":"\"\"&INDEX(PP_Locale,ROW(),PP_LanguageIndex)","v":"Long-term debt to credit institutions"},null,null,null,null,null,null,null,null,null,null,null,null,null,null,null,null,null,"Long-term debt to credit institutions",null,null,"Langfristet gæld til kreditinstituter"]
[{"$f":"\"\"&INDEX(PP_Locale,ROW(),PP_LanguageIndex)","v":"Long-term mortgage debt"},null,null,null,null,null,null,null,null,null,null,null,null,null,null,null,null,null,"Long-term mortgage debt",null,null,"Langfristet gæld til realkreditinstitutter"]
[{"$f":"\"\"&INDEX(PP_Locale,ROW(),PP_LanguageIndex)","v":"Long-term debt to banks"},null,null,null,null,null,null,null,null,null,null,null,null,null,null,null,null,null,"Long-term debt to banks",null,null,"Langfristet gæld til banker"]
[{"$f":"\"\"&INDEX(PP_Locale,ROW(),PP_LanguageIndex)","v":"Other long-term debt incurred by issuance of bonds"},null,null,null,null,null,null,null,null,null,null,null,null,null,null,null,null,null,"Other long-term debt incurred by issuance of bonds",null,null,"Anden langfristet gæld, der er optaget ved udstedelse af obligationer"]
[{"$f":"\"\"&INDEX(PP_Locale,ROW(),PP_LanguageIndex)","v":"Long-term debt to other credit institutions"},null,null,null,null,null,null,null,null,null,null,null,null,null,null,null,null,null,"Long-term debt to other credit institutions",null,null,"Langfristet gæld til kreditinstitutter i øvrigt"]
[{"$f":"\"\"&INDEX(PP_Locale,ROW(),PP_LanguageIndex)","v":"Convertible, profit yielding or dividend yielding long-term debt instruments"},null,null,null,null,null,null,null,null,null,null,null,null,null,null,null,null,null,"Convertible, profit yielding or dividend yielding long-term debt instruments",null,null,"Konvertible og udbyttegivende langfristede gældsbreve"]
[{"$f":"\"\"&INDEX(PP_Locale,ROW(),PP_LanguageIndex)","v":"Long-term prepayments received from customers"},null,null,null,null,null,null,null,null,null,null,null,null,null,null,null,null,null,"Long-term prepayments received from customers",null,null,"Modtagne forudbetalinger fra kunder (langfristede)"]
[{"$f":"\"\"&INDEX(PP_Locale,ROW(),PP_LanguageIndex)","v":"Long-term trade payables"},null,null,null,null,null,null,null,null,null,null,null,null,null,null,null,null,null,"Long-term trade payables",null,null,"Leverandører af varer og tjenesteydelser [langfristede]"]
[{"$f":"\"\"&INDEX(PP_Locale,ROW(),PP_LanguageIndex)","v":"Long-term bills of exchange payable"},null,null,null,null,null,null,null,null,null,null,null,null,null,null,null,null,null,"Long-term bills of exchange payable",null,null,"Langfristet vekselgæld"]
[{"$f":"\"\"&INDEX(PP_Locale,ROW(),PP_LanguageIndex)","v":"Long-term payables to group enterprises"},null,null,null,null,null,null,null,null,null,null,null,null,null,null,null,null,null,"Long-term payables to group enterprises",null,null,"Gæld til tilknyttede virksomheder (langfristede)"]
[{"$f":"\"\"&INDEX(PP_Locale,ROW(),PP_LanguageIndex)","v":"Long-term payables to associates"},null,null,null,null,null,null,null,null,null,null,null,null,null,null,null,null,null,"Long-term payables to associates",null,null,"Gæld til associerede virksomheder (langfristede)"]
[{"$f":"\"\"&INDEX(PP_Locale,ROW(),PP_LanguageIndex)","v":"Long-term payables to participating interests"},null,null,null,null,null,null,null,null,null,null,null,null,null,null,null,null,null,"Long-term payables to participating interests",null,null,"Gæld til kapitalinteresser (langfristede)"]
[{"$f":"\"\"&INDEX(PP_Locale,ROW(),PP_LanguageIndex)","v":"Long-term payables to joint ventures"},null,null,null,null,null,null,null,null,null,null,null,null,null,null,null,null,null,"Long-term payables to joint ventures",null,null,"Gæld til joint ventures (langfristet)"]
[{"$f":"\"\"&INDEX(PP_Locale,ROW(),PP_LanguageIndex)","v":"Long-term tax payables"},null,null,null,null,null,null,null,null,null,null,null,null,null,null,null,null,null,"Long-term tax payables",null,null,"Skyldig skat (langfristet)"]
[{"$f":"\"\"&INDEX(PP_Locale,ROW(),PP_LanguageIndex)","v":"Long-term tax payables to group enterprises"},null,null,null,null,null,null,null,null,null,null,null,null,null,null,null,null,null,"Long-term tax payables to group enterprises",null,null,"Selskabsskat (skyldig) til tilknyttede virksomheder (langfristet)"]
[{"$f":"\"\"&INDEX(PP_Locale,ROW(),PP_LanguageIndex)","v":"VAT and duties payables"},null,null,null,null,null,null,null,null,null,null,null,null,null,null,null,null,null,"VAT and duties payables",null,null,"Skyldig moms og afgifter"]
[{"$f":"\"\"&INDEX(PP_Locale,ROW(),PP_LanguageIndex)","v":"Other payables including tax payables, liabilities other than provisions (long-term)"},null,null,null,null,null,null,null,null,null,null,null,null,null,null,null,null,null,"Other payables including tax payables, liabilities other than provisions (long-term)",null,null,"Anden gæld, herunder skyldige skatter mv., gældsforpligtelser (langfristet)"]
[{"$f":"\"\"&INDEX(PP_Locale,ROW(),PP_LanguageIndex)","v":"Holiday allowance liabilities, long-term"},null,null,null,null,null,null,null,null,null,null,null,null,null,null,null,null,null,"Holiday allowance liabilities, long-term",null,null,"Feriepengeforpligtelser, langfristede"]
[{"$f":"\"\"&INDEX(PP_Locale,ROW(),PP_LanguageIndex)","v":"Long-term deferred income"},null,null,null,null,null,null,null,null,null,null,null,null,null,null,null,null,null,"Long-term deferred income",null,null,"Periodeafgrænsningsposter (langfristede)"]
[{"$f":"\"\"&INDEX(PP_Locale,ROW(),PP_LanguageIndex)","v":"Long-term negative goodwill"},null,null,null,null,null,null,null,null,null,null,null,null,null,null,null,null,null,"Long-term negative goodwill",null,null,"Negativ goodwill (langfristet)"]
[{"$f":"\"\"&INDEX(PP_Locale,ROW(),PP_LanguageIndex)","v":"Long-term lease commitments"},null,null,null,null,null,null,null,null,null,null,null,null,null,null,null,null,null,"Long-term lease commitments",null,null,"Leasingforpligtelser (langfristede)"]
[{"$f":"\"\"&INDEX(PP_Locale,ROW(),PP_LanguageIndex)","v":"Proposed dividend"},null,null,null,null,null,null,null,null,null,null,null,null,null,null,null,null,null,"Proposed dividend",null,null,"Forslag til udbytte for regnskabsåret"]
[{"$f":"\"\"&INDEX(PP_Locale,ROW(),PP_LanguageIndex)","v":"Long-term subordinate loan capital"},null,null,null,null,null,null,null,null,null,null,null,null,null,null,null,null,null,"Long-term subordinate loan capital",null,null,"Langfristet ansvarlig lånekapital"]
[{"$f":"\"\"&INDEX(PP_Locale,ROW(),PP_LanguageIndex)","v":"Long-term payables to shareholders and management"},null,null,null,null,null,null,null,null,null,null,null,null,null,null,null,null,null,"Long-term payables to shareholders and management",null,null,"Langfristet gæld til selskabsdeltagere og ledelse"]
[{"$f":"\"\"&INDEX(PP_Locale,ROW(),PP_LanguageIndex)","v":"Long-term prepayments received for work in progress"},null,null,null,null,null,null,null,null,null,null,null,null,null,null,null,null,null,"Long-term prepayments received for work in progress",null,null,"Langfristede modtagne forudbetalinger vedrørende igangværende arbejder"]
[{"$f":"\"\"&INDEX(PP_Locale,ROW(),PP_LanguageIndex)","v":"Long-term Contract work in progress, liabilities"},null,null,null,null,null,null,null,null,null,null,null,null,null,null,null,null,null,"Long-term Contract work in progress, liabilities",null,null,"Langfristede igangværende arbejder for fremmed regning, forpligtelser"]
[{"$f":"\"\"&INDEX(PP_Locale,ROW(),PP_LanguageIndex)","v":"Long-term derivative financial instruments, liabilities"},null,null,null,null,null,null,null,null,null,null,null,null,null,null,null,null,null,"Long-term derivative financial instruments, liabilities",null,null,"Langfristede afledte finansielle instrumenter, forpligtelser"]
[{"$f":"\"\"&INDEX(PP_Locale,ROW(),PP_LanguageIndex)","v":"Deposits, long-term liabilities other than provisions"},null,null,null,null,null,null,null,null,null,null,null,null,null,null,null,null,null,"Deposits, long-term liabilities other than provisions",null,null,"Deposita, langfristede gældsforpligtelser"]
[{"$f":"\"\"&INDEX(PP_Locale,ROW(),PP_LanguageIndex)","v":"Overfunding for reporting period (long-term) [Regulatory liabillities]"},null,null,null,null,null,null,null,null,null,null,null,null,null,null,null,null,null,"Overfunding for reporting period (long-term) [Regulatory liabillities]",null,null,"Overdækning (langfristet)"]
[{"$f":"\"\"&INDEX(PP_Locale,ROW(),PP_LanguageIndex)","v":"Non-current contract liabilities"},null,null,null,null,null,null,null,null,null,null,null,null,null,null,null,null,null,"Non-current contract liabilities",null,null,"Langfristede kontraktlige forpligtelser"]
[{"$f":"\"\"&INDEX(PP_Locale,ROW(),PP_LanguageIndex)","v":"Long-term liabilities other than provisions"},null,null,null,null,null,null,null,null,null,null,null,null,null,null,null,null,null,"Long-term liabilities other than provisions",null,null,"Langfristede gældsforpligtelser"]
[{"$f":"\"\"&INDEX(PP_Locale,ROW(),PP_LanguageIndex)","v":""}]
[{"$f":"\"\"&INDEX(PP_Locale,ROW(),PP_LanguageIndex)","v":"Current liabilities"},null,null,null,null,null,null,null,null,null,null,null,null,null,null,null,null,null,"Current liabilities",null,null,"Kortfristede gældsforpligtelser"]
[{"$f":"\"\"&INDEX(PP_Locale,ROW(),PP_LanguageIndex)","v":"Short-term part of long-term liabilities other than provisions"},null,null,null,null,null,null,null,null,null,null,null,null,null,null,null,null,null,"Short-term part of long-term liabilities other than provisions",null,null,"Kortfristet del af langfristet gæld"]
[{"$f":"\"\"&INDEX(PP_Locale,ROW(),PP_LanguageIndex)","v":"Short-term debt to credit institutions"},null,null,null,null,null,null,null,null,null,null,null,null,null,null,null,null,null,"Short-term debt to credit institutions",null,null,"Kortfristet gæld til kreditinstituter"]
[{"$f":"\"\"&INDEX(PP_Locale,ROW(),PP_LanguageIndex)","v":"Short-term mortgage debt"},null,null,null,null,null,null,null,null,null,null,null,null,null,null,null,null,null,"Short-term mortgage debt",null,null,"Kortfristet gæld til realkreditinstitutter"]
[{"$f":"\"\"&INDEX(PP_Locale,ROW(),PP_LanguageIndex)","v":"Short-term debt to banks"},null,null,null,null,null,null,null,null,null,null,null,null,null,null,null,null,null,"Short-term debt to banks",null,null,"Kortfristet gæld til banker"]
[{"$f":"\"\"&INDEX(PP_Locale,ROW(),PP_LanguageIndex)","v":"Other short-term debt incurred by issuance of bonds"},null,null,null,null,null,null,null,null,null,null,null,null,null,null,null,null,null,"Other short-term debt incurred by issuance of bonds",null,null,"Anden kortfristet gæld, der er optaget ved udstedelse af obligationer"]
[{"$f":"\"\"&INDEX(PP_Locale,ROW(),PP_LanguageIndex)","v":"Short-term debt to other credit institutions"},null,null,null,null,null,null,null,null,null,null,null,null,null,null,null,null,null,"Short-term debt to other credit institutions",null,null,"Kortfristet gæld til kreditinstitutter i øvrigt"]
[{"$f":"\"\"&INDEX(PP_Locale,ROW(),PP_LanguageIndex)","v":"Convertible, profit yielding or dividend yielding short-term debt instruments"},null,null,null,null,null,null,null,null,null,null,null,null,null,null,null,null,null,"Convertible, profit yielding or dividend yielding short-term debt instruments",null,null,"Konvertible og udbyttegivende kortfristede gældsbreve"]
[{"$f":"\"\"&INDEX(PP_Locale,ROW(),PP_LanguageIndex)","v":"Short-term prepayments received from customers"},null,null,null,null,null,null,null,null,null,null,null,null,null,null,null,null,null,"Short-term prepayments received from customers",null,null,"Kortfristede forudbetalinger fra kunder"]
[{"$f":"\"\"&INDEX(PP_Locale,ROW(),PP_LanguageIndex)","v":"Short-term trade payables"},null,null,null,null,null,null,null,null,null,null,null,null,null,null,null,null,null,"Short-term trade payables",null,null,"Leverandører af varer og tjenesteydelser [kortfristede]"]
[{"$f":"\"\"&INDEX(PP_Locale,ROW(),PP_LanguageIndex)","v":"Short-term bills of exchange payable"},null,null,null,null,null,null,null,null,null,null,null,null,null,null,null,null,null,"Short-term bills of exchange payable",null,null,"Kortfristet vekselgæld"]
[{"$f":"\"\"&INDEX(PP_Locale,ROW(),PP_LanguageIndex)","v":"Short-term payables to group enterprises"},null,null,null,null,null,null,null,null,null,null,null,null,null,null,null,null,null,"Short-term payables to group enterprises",null,null,"Kortfristede gældsforpligtelser til tilknyttede virksomheder"]
[{"$f":"\"\"&INDEX(PP_Locale,ROW(),PP_LanguageIndex)","v":"Short-term payables to associates"},null,null,null,null,null,null,null,null,null,null,null,null,null,null,null,null,null,"Short-term payables to associates",null,null,"Kortfristede gældsforpligtelser til associerede virksomheder"]
[{"$f":"\"\"&INDEX(PP_Locale,ROW(),PP_LanguageIndex)","v":"Short-term payables to participating interest"},null,null,null,null,null,null,null,null,null,null,null,null,null,null,null,null,null,"Short-term payables to participating interest",null,null,"Kortfristede gældsforpligtelser til kapitalinteresser"]
[{"$f":"\"\"&INDEX(PP_Locale,ROW(),PP_LanguageIndex)","v":"Short-term payables to joint ventures"},null,null,null,null,null,null,null,null,null,null,null,null,null,null,null,null,null,"Short-term payables to joint ventures",null,null,"Kortfristede gældsforpligtelser til joint ventures"]
[{"$f":"\"\"&INDEX(PP_Locale,ROW(),PP_LanguageIndex)","v":"Short-term tax payables"},null,null,null,null,null,null,null,null,null,null,null,null,null,null,null,null,null,"Short-term tax payables",null,null,"Kortfristet skyldig skat"]
[{"$f":"\"\"&INDEX(PP_Locale,ROW(),PP_LanguageIndex)","v":"Short-term tax payables to group enterprises"},null,null,null,null,null,null,null,null,null,null,null,null,null,null,null,null,null,"Short-term tax payables to group enterprises",null,null,"kortfristet selskabsskat (skyldig) til tilknyttede virksomheder"]
[{"$f":"\"\"&INDEX(PP_Locale,ROW(),PP_LanguageIndex)","v":"VAT and duties payables"},null,null,null,null,null,null,null,null,null,null,null,null,null,null,null,null,null,"VAT and duties payables",null,null,"Skyldig moms og afgifter"]
[{"$f":"\"\"&INDEX(PP_Locale,ROW(),PP_LanguageIndex)","v":"Other payables including tax payables, liabilities other than provisions (short-term)"},null,null,null,null,null,null,null,null,null,null,null,null,null,null,null,null,null,"Other payables including tax payables, liabilities other than provisions (short-term)",null,null,"Anden gæld, herunder skyldige skatter mv., gældsforpligtelser (kortfristet)"]
[{"$f":"\"\"&INDEX(PP_Locale,ROW(),PP_LanguageIndex)","v":"Holiday allowance liabilities, short-term"},null,null,null,null,null,null,null,null,null,null,null,null,null,null,null,null,null,"Holiday allowance liabilities, short-term",null,null,"Feriepengeforpligtelser, kortfristede"]
[{"$f":"\"\"&INDEX(PP_Locale,ROW(),PP_LanguageIndex)","v":"Short-term deferred income"},null,null,null,null,null,null,null,null,null,null,null,null,null,null,null,null,null,"Short-term deferred income",null,null,"Kortfristet del af periodeafgrænsningsposter"]
[{"$f":"\"\"&INDEX(PP_Locale,ROW(),PP_LanguageIndex)","v":"Short-term negative goodwill"},null,null,null,null,null,null,null,null,null,null,null,null,null,null,null,null,null,"Short-term negative goodwill",null,null,"Kortfristet del af negativ goodwill"]
[{"$f":"\"\"&INDEX(PP_Locale,ROW(),PP_LanguageIndex)","v":"Short-term lease commitments"},null,null,null,null,null,null,null,null,null,null,null,null,null,null,null,null,null,"Short-term lease commitments",null,null,"Leasingforpligtelser (kortfristede)"]
[{"$f":"\"\"&INDEX(PP_Locale,ROW(),PP_LanguageIndex)","v":"Proposed dividend"},null,null,null,null,null,null,null,null,null,null,null,null,null,null,null,null,null,"Proposed dividend",null,null,"Forslag til udbytte for regnskabsåret"]
[{"$f":"\"\"&INDEX(PP_Locale,ROW(),PP_LanguageIndex)","v":"Short-term subordinate loan capital"},null,null,null,null,null,null,null,null,null,null,null,null,null,null,null,null,null,"Short-term subordinate loan capital",null,null,"Kortfristet ansvarlig lånekapital"]
[{"$f":"\"\"&INDEX(PP_Locale,ROW(),PP_LanguageIndex)","v":"Short-term payables to shareholders and management"},null,null,null,null,null,null,null,null,null,null,null,null,null,null,null,null,null,"Short-term payables to shareholders and management",null,null,"Kortfristet gæld til selskabsdeltagere og ledelse"]
[{"$f":"\"\"&INDEX(PP_Locale,ROW(),PP_LanguageIndex)","v":"Short-term prepayments received for work in progress"},null,null,null,null,null,null,null,null,null,null,null,null,null,null,null,null,null,"Short-term prepayments received for work in progress",null,null,"Kortfristede modtagne forudbetalinger vedrørende igangværende arbejder"]
[{"$f":"\"\"&INDEX(PP_Locale,ROW(),PP_LanguageIndex)","v":"Short-term Contract work in progress, liabilities"},null,null,null,null,null,null,null,null,null,null,null,null,null,null,null,null,null,"Short-term Contract work in progress, liabilities",null,null,"Kortfristede igangværende arbejder for fremmed regning, forpligtelser"]
[{"$f":"\"\"&INDEX(PP_Locale,ROW(),PP_LanguageIndex)","v":"Short-term derivative financial instruments, liabilities"},null,null,null,null,null,null,null,null,null,null,null,null,null,null,null,null,null,"Short-term derivative financial instruments, liabilities",null,null,"Kortfristede afledte finansielle instrumenter, forpligtelser"]
[{"$f":"\"\"&INDEX(PP_Locale,ROW(),PP_LanguageIndex)","v":"Deposits, short-term liabilities other than provisions"},null,null,null,null,null,null,null,null,null,null,null,null,null,null,null,null,null,"Deposits, short-term liabilities other than provisions",null,null,"Deposita, kortfristede gældsforpligtelser"]
[{"$f":"\"\"&INDEX(PP_Locale,ROW(),PP_LanguageIndex)","v":"Overfunding for reporting period (short-term) [Regulatory assets]"},null,null,null,null,null,null,null,null,null,null,null,null,null,null,null,null,null,"Overfunding for reporting period (short-term) [Regulatory assets]",null,null,"Overdækning (kortfristet)"]
[{"$f":"\"\"&INDEX(PP_Locale,ROW(),PP_LanguageIndex)","v":"Current contract liabilities"},null,null,null,null,null,null,null,null,null,null,null,null,null,null,null,null,null,"Current contract liabilities",null,null,"Kortfristede kontraktlige forpligtelser"]
[{"$f":"\"\"&INDEX(PP_Locale,ROW(),PP_LanguageIndex)","v":"Short-term liabilities other than provisions"},null,null,null,null,null,null,null,null,null,null,null,null,null,null,null,null,null,"Short-term liabilities other than provisions",null,null,"Kortfristede gældsforpligtelser"]
[{"$f":"\"\"&INDEX(PP_Locale,ROW(),PP_LanguageIndex)","v":""}]
[{"$f":"\"\"&INDEX(PP_Locale,ROW(),PP_LanguageIndex)","v":"Liabilities"},null,null,null,null,null,null,null,null,null,null,null,null,null,null,null,null,null,"Liabilities",null,null,"Gældsforpligtelser"]
[{"$f":"\"\"&INDEX(PP_Locale,ROW(),PP_LanguageIndex)","v":"Debt to credit institutions"},null,null,null,null,null,null,null,null,null,null,null,null,null,null,null,null,null,"Debt to credit institutions",null,null,"Gæld til kreditinstituter"]
[{"$f":"\"\"&INDEX(PP_Locale,ROW(),PP_LanguageIndex)","v":"Mortgage debt"},null,null,null,null,null,null,null,null,null,null,null,null,null,null,null,null,null,"Mortgage debt",null,null,"Gæld til realkreditinstitutter"]
[{"$f":"\"\"&INDEX(PP_Locale,ROW(),PP_LanguageIndex)","v":"Debt to banks"},null,null,null,null,null,null,null,null,null,null,null,null,null,null,null,null,null,"Debt to banks",null,null,"Gæld til banker"]
[{"$f":"\"\"&INDEX(PP_Locale,ROW(),PP_LanguageIndex)","v":"Other debt incurred by issuance of bonds"},null,null,null,null,null,null,null,null,null,null,null,null,null,null,null,null,null,"Other debt incurred by issuance of bonds",null,null,"Anden gæld, der er optaget ved udstedelse af obligationer"]
[{"$f":"\"\"&INDEX(PP_Locale,ROW(),PP_LanguageIndex)","v":"Debt to other credit institutions"},null,null,null,null,null,null,null,null,null,null,null,null,null,null,null,null,null,"Debt to other credit institutions",null,null,"Gæld til kreditinstitutter i øvrigt"]
[{"$f":"\"\"&INDEX(PP_Locale,ROW(),PP_LanguageIndex)","v":"Convertible, profit yielding or dividend yielding debt instruments"},null,null,null,null,null,null,null,null,null,null,null,null,null,null,null,null,null,"Convertible, profit yielding or dividend yielding debt instruments",null,null,"Konvertible og udbyttegivende gældsbreve"]
[{"$f":"\"\"&INDEX(PP_Locale,ROW(),PP_LanguageIndex)","v":"Prepayments received from customers"},null,null,null,null,null,null,null,null,null,null,null,null,null,null,null,null,null,"Prepayments received from customers",null,null,"Modtagne forudbetalinger fra kunder [gældsforpligtelser]"]
[{"$f":"\"\"&INDEX(PP_Locale,ROW(),PP_LanguageIndex)","v":"Trade payables"},null,null,null,null,null,null,null,null,null,null,null,null,null,null,null,null,null,"Trade payables",null,null,"Leverandører af varer og tjenesteydelser"]
[{"$f":"\"\"&INDEX(PP_Locale,ROW(),PP_LanguageIndex)","v":"Bills of exchange payable"},null,null,null,null,null,null,null,null,null,null,null,null,null,null,null,null,null,"Bills of exchange payable",null,null,"Vekselgæld"]
[{"$f":"\"\"&INDEX(PP_Locale,ROW(),PP_LanguageIndex)","v":"Payables to group enterprises"},null,null,null,null,null,null,null,null,null,null,null,null,null,null,null,null,null,"Payables to group enterprises",null,null,"Gæld til tilknyttede virksomheder"]
[{"$f":"\"\"&INDEX(PP_Locale,ROW(),PP_LanguageIndex)","v":"Payables to associates"},null,null,null,null,null,null,null,null,null,null,null,null,null,null,null,null,null,"Payables to associates",null,null,"Gæld til associerede virksomheder"]
[{"$f":"\"\"&INDEX(PP_Locale,ROW(),PP_LanguageIndex)","v":"Payables to participating interests"},null,null,null,null,null,null,null,null,null,null,null,null,null,null,null,null,null,"Payables to participating interests",null,null,"Gæld til kapitalinteresser"]
[{"$f":"\"\"&INDEX(PP_Locale,ROW(),PP_LanguageIndex)","v":"Payables to joint ventures"},null,null,null,null,null,null,null,null,null,null,null,null,null,null,null,null,null,"Payables to joint ventures",null,null,"Gæld til joint ventures"]
[{"$f":"\"\"&INDEX(PP_Locale,ROW(),PP_LanguageIndex)","v":"Tax payables"},null,null,null,null,null,null,null,null,null,null,null,null,null,null,null,null,null,"Tax payables",null,null,"Selskabsskat (skyldig)"]
[{"$f":"\"\"&INDEX(PP_Locale,ROW(),PP_LanguageIndex)","v":"Tax payables to group enterprises"},null,null,null,null,null,null,null,null,null,null,null,null,null,null,null,null,null,"Tax payables to group enterprises",null,null,"Selskabsskat (skyldig) til tilknyttede virksomheder"]
[{"$f":"\"\"&INDEX(PP_Locale,ROW(),PP_LanguageIndex)","v":"VAT and duties payables"},null,null,null,null,null,null,null,null,null,null,null,null,null,null,null,null,null,"VAT and duties payables",null,null,"Skyldig moms og afgifter"]
[{"$f":"\"\"&INDEX(PP_Locale,ROW(),PP_LanguageIndex)","v":"Other payables including tax payables"},null,null,null,null,null,null,null,null,null,null,null,null,null,null,null,null,null,"Other payables including tax payables",null,null,"Anden gæld, herunder skyldige skatter mv."]
[{"$f":"\"\"&INDEX(PP_Locale,ROW(),PP_LanguageIndex)","v":"Holiday allowance liabilities"},null,null,null,null,null,null,null,null,null,null,null,null,null,null,null,null,null,"Holiday allowance liabilities",null,null,"Feriepengeforpligtelser"]
[{"$f":"\"\"&INDEX(PP_Locale,ROW(),PP_LanguageIndex)","v":"Deferred income, liabilities"},null,null,null,null,null,null,null,null,null,null,null,null,null,null,null,null,null,"Deferred income, liabilities",null,null,"Periodeafgrænsningsposter [forpligtelser]"]
[{"$f":"\"\"&INDEX(PP_Locale,ROW(),PP_LanguageIndex)","v":"Negative goodwill"},null,null,null,null,null,null,null,null,null,null,null,null,null,null,null,null,null,"Negative goodwill",null,null,"Negativ goodwill"]
[{"$f":"\"\"&INDEX(PP_Locale,ROW(),PP_LanguageIndex)","v":"Lease commitments"},null,null,null,null,null,null,null,null,null,null,null,null,null,null,null,null,null,"Lease commitments",null,null,"Leasingforpligtelser"]
[{"$f":"\"\"&INDEX(PP_Locale,ROW(),PP_LanguageIndex)","v":"Proposed dividend"},null,null,null,null,null,null,null,null,null,null,null,null,null,null,null,null,null,"Proposed dividend",null,null,"Forslag til udbytte for regnskabsåret"]
[{"$f":"\"\"&INDEX(PP_Locale,ROW(),PP_LanguageIndex)","v":"subordinate loan capital"},null,null,null,null,null,null,null,null,null,null,null,null,null,null,null,null,null,"subordinate loan capital",null,null,"Ansvarlig lånekapital"]
[{"$f":"\"\"&INDEX(PP_Locale,ROW(),PP_LanguageIndex)","v":"Payables to shareholders and management"},null,null,null,null,null,null,null,null,null,null,null,null,null,null,null,null,null,"Payables to shareholders and management",null,null,"Gæld til selskabsdeltagere og ledelse"]
[{"$f":"\"\"&INDEX(PP_Locale,ROW(),PP_LanguageIndex)","v":"Prepayments received for work in progress"},null,null,null,null,null,null,null,null,null,null,null,null,null,null,null,null,null,"Prepayments received for work in progress",null,null,"Modtagne forudbetalinger vedrørende igangværende arbejder"]
[{"$f":"\"\"&INDEX(PP_Locale,ROW(),PP_LanguageIndex)","v":"Contract work in progress, liabilities"},null,null,null,null,null,null,null,null,null,null,null,null,null,null,null,null,null,"Contract work in progress, liabilities",null,null,"Igangværende arbejder for fremmed regning, forpligtelser"]
[{"$f":"\"\"&INDEX(PP_Locale,ROW(),PP_LanguageIndex)","v":"Derivative financial instruments, liabilities"},null,null,null,null,null,null,null,null,null,null,null,null,null,null,null,null,null,"Derivative financial instruments, liabilities",null,null,"Afledte finansielle instrumenter, forpligtelser"]
[{"$f":"\"\"&INDEX(PP_Locale,ROW(),PP_LanguageIndex)","v":"Deposits, liabilities other than provisions"},null,null,null,null,null,null,null,null,null,null,null,null,null,null,null,null,null,"Deposits, liabilities other than provisions",null,null,"Deposita, gældsforpligtelser"]
[{"$f":"\"\"&INDEX(PP_Locale,ROW(),PP_LanguageIndex)","v":"Overfunding for reporting period [Regulatory liabillities]"},null,null,null,null,null,null,null,null,null,null,null,null,null,null,null,null,null,"Overfunding for reporting period [Regulatory liabillities]",null,null,"Overdækning"]
[{"$f":"\"\"&INDEX(PP_Locale,ROW(),PP_LanguageIndex)","v":"Contract liabilities"},null,null,null,null,null,null,null,null,null,null,null,null,null,null,null,null,null,"Contract liabilities",null,null,"Kontraktlige forpligtelser"]
[{"$f":"\"\"&INDEX(PP_Locale,ROW(),PP_LanguageIndex)","v":"Liabilities other than provisions"},null,null,null,null,null,null,null,null,null,null,null,null,null,null,null,null,null,"Liabilities other than provisions",null,null,"Gældsforpligtelser"]
[{"$f":"\"\"&INDEX(PP_Locale,ROW(),PP_LanguageIndex)","v":"Liabilities related to assets meant for sale"},null,null,null,null,null,null,null,null,null,null,null,null,null,null,null,null,null,"Liabilities related to assets meant for sale",null,null,"Forpligtelser forbundet med aktiver bestemt for salg"]
[{"$f":"\"\"&INDEX(PP_Locale,ROW(),PP_LanguageIndex)","v":""}]
[{"$f":"\"\"&INDEX(PP_Locale,ROW(),PP_LanguageIndex)","v":"Liabilities and equity"},null,null,null,null,null,null,null,null,null,null,null,null,null,null,null,null,null,"Liabilities and equity",null,null,"Passiver"]
[{"$f":"\"\"&INDEX(PP_Locale,ROW(),PP_LanguageIndex)","v":"Liabilities and equity"},null,null,null,null,null,null,null,null,null,null,null,null,null,null,null,null,null,"Liabilities and equity",null,null,"Passiver"]
[{"$f":"\"\"&INDEX(PP_Locale,ROW(),PP_LanguageIndex)","v":""}]
[{"$f":"\"\"&INDEX(PP_Locale,ROW(),PP_LanguageIndex)","v":"Statement of changes in equity"},null,null,null,null,null,null,null,null,null,null,null,null,null,null,null,null,null,"Statement of changes in equity",null,null,"Egenkapitalopgørelse"]
[{"$f":"\"\"&INDEX(PP_Locale,ROW(),PP_LanguageIndex)","v":"Classes of equity"},null,null,null,null,null,null,null,null,null,null,null,null,null,null,null,null,null,"Classes of equity",null,null,"Klasser af egenkapital"]
[{"$f":"\"\"&INDEX(PP_Locale,ROW(),PP_LanguageIndex)","v":"Contributed capital"},null,null,null,null,null,null,null,null,null,null,null,null,null,null,null,null,null,"Contributed capital",null,null,"Registreret kapital mv."]
[{"$f":"\"\"&INDEX(PP_Locale,ROW(),PP_LanguageIndex)","v":"Unpaid contributed capital"},null,null,null,null,null,null,null,null,null,null,null,null,null,null,null,null,null,"Unpaid contributed capital",null,null,"Ikke indbetalt virksomhedskapital"]
[{"$f":"\"\"&INDEX(PP_Locale,ROW(),PP_LanguageIndex)","v":"Share premium"},null,null,null,null,null,null,null,null,null,null,null,null,null,null,null,null,null,"Share premium",null,null,"Overkurs ved emission"]
[{"$f":"\"\"&INDEX(PP_Locale,ROW(),PP_LanguageIndex)","v":"Revaluation reserve"},null,null,null,null,null,null,null,null,null,null,null,null,null,null,null,null,null,"Revaluation reserve",null,null,"Reserve for opskrivninger"]
[{"$f":"\"\"&INDEX(PP_Locale,ROW(),PP_LanguageIndex)","v":"Reserve for net revaluation according to equity method"},null,null,null,null,null,null,null,null,null,null,null,null,null,null,null,null,null,"Reserve for net revaluation according to equity method",null,null,"Reserve for nettoopskrivning efter indre værdis metode"]
[{"$f":"\"\"&INDEX(PP_Locale,ROW(),PP_LanguageIndex)","v":"Reserve for treasury shares"},null,null,null,null,null,null,null,null,null,null,null,null,null,null,null,null,null,"Reserve for treasury shares",null,null,"Reserve for egne kapitalandele"]
[{"$f":"\"\"&INDEX(PP_Locale,ROW(),PP_LanguageIndex)","v":"Reserve for loans and collaterals"},null,null,null,null,null,null,null,null,null,null,null,null,null,null,null,null,null,"Reserve for loans and collaterals",null,null,"Reserve for udlån og sikkerhedsstillelse"]
[{"$f":"\"\"&INDEX(PP_Locale,ROW(),PP_LanguageIndex)","v":"Reserve for unpaid contributed capital"},null,null,null,null,null,null,null,null,null,null,null,null,null,null,null,null,null,"Reserve for unpaid contributed capital",null,null,"Reserve for ikke indbetalt registreret kapital mv."]
[{"$f":"\"\"&INDEX(PP_Locale,ROW(),PP_LanguageIndex)","v":"Reserve for entreprenurial company"},null,null,null,null,null,null,null,null,null,null,null,null,null,null,null,null,null,"Reserve for entreprenurial company",null,null,"Reserve for iværksætterselskab"]
[{"$f":"\"\"&INDEX(PP_Locale,ROW(),PP_LanguageIndex)","v":"Reserve for development expenditure"},null,null,null,null,null,null,null,null,null,null,null,null,null,null,null,null,null,"Reserve for development expenditure",null,null,"Reserve for udviklingsomkostninger"]
[{"$f":"\"\"&INDEX(PP_Locale,ROW(),PP_LanguageIndex)","v":"Reserve for current value adjustments of currency gains"},null,null,null,null,null,null,null,null,null,null,null,null,null,null,null,null,null,"Reserve for current value adjustments of currency gains",null,null,"Reserve for dagsværdiregulering af valutakursgevinster (Tab)"]
[{"$f":"\"\"&INDEX(PP_Locale,ROW(),PP_LanguageIndex)","v":"Reserve for current value of hedging"},null,null,null,null,null,null,null,null,null,null,null,null,null,null,null,null,null,"Reserve for current value of hedging",null,null,"Reserve for dagsværdi af sikring"]
[{"$f":"\"\"&INDEX(PP_Locale,ROW(),PP_LanguageIndex)","v":"Other statutory reserves"},null,null,null,null,null,null,null,null,null,null,null,null,null,null,null,null,null,"Other statutory reserves",null,null,"Øvrige lovpligtige reserver"]
[{"$f":"\"\"&INDEX(PP_Locale,ROW(),PP_LanguageIndex)","v":"Reserve according to articles of association"},null,null,null,null,null,null,null,null,null,null,null,null,null,null,null,null,null,"Reserve according to articles of association",null,null,"Vedtægtsmæssige reserver"]
[{"$f":"\"\"&INDEX(PP_Locale,ROW(),PP_LanguageIndex)","v":"Reserve for biological assets"},null,null,null,null,null,null,null,null,null,null,null,null,null,null,null,null,null,"Reserve for biological assets",null,null,"Reserve for biologiske aktiver"]
[{"$f":"\"\"&INDEX(PP_Locale,ROW(),PP_LanguageIndex)","v":"Sundry reserves"},null,null,null,null,null,null,null,null,null,null,null,null,null,null,null,null,null,"Sundry reserves",null,null,"Øvrige reserver"]
[{"$f":"\"\"&INDEX(PP_Locale,ROW(),PP_LanguageIndex)","v":"Reserve for net revaluation of investment assets"},null,null,null,null,null,null,null,null,null,null,null,null,null,null,null,null,null,"Reserve for net revaluation of investment assets",null,null,"Reserve for nettoopskrivning af investeringsaktiver"]
[{"$f":"\"\"&INDEX(PP_Locale,ROW(),PP_LanguageIndex)","v":"Other reserves"},null,null,null,null,null,null,null,null,null,null,null,null,null,null,null,null,null,"Other reserves",null,null,"Andre reserver"]
[{"$f":"\"\"&INDEX(PP_Locale,ROW(),PP_LanguageIndex)","v":"Retained earnings"},null,null,null,null,null,null,null,null,null,null,null,null,null,null,null,null,null,"Retained earnings",null,null,"Overført resultat"]
[{"$f":"\"\"&INDEX(PP_Locale,ROW(),PP_LanguageIndex)","v":"Distributions"},null,null,null,null,null,null,null,null,null,null,null,null,null,null,null,null,null,"Distributions",null,null,"Uddelinger"]
[{"$f":"\"\"&INDEX(PP_Locale,ROW(),PP_LanguageIndex)","v":"Extraordinary distributions"},null,null,null,null,null,null,null,null,null,null,null,null,null,null,null,null,null,"Extraordinary distributions",null,null,"Ekstraordinære uddelinger"]
[{"$f":"\"\"&INDEX(PP_Locale,ROW(),PP_LanguageIndex)","v":"Provision for distributions"},null,null,null,null,null,null,null,null,null,null,null,null,null,null,null,null,null,"Provision for distributions",null,null,"Henlagt til uddelinger"]
[{"$f":"\"\"&INDEX(PP_Locale,ROW(),PP_LanguageIndex)","v":"Proposed dividend recognised in equity"},null,null,null,null,null,null,null,null,null,null,null,null,null,null,null,null,null,"Proposed dividend recognised in equity",null,null,"Foreslået udbytte indregnet under egenkapitalen"]
[{"$f":"\"\"&INDEX(PP_Locale,ROW(),PP_LanguageIndex)","v":"Extraordinary dividend recognised in equity"},null,null,null,null,null,null,null,null,null,null,null,null,null,null,null,null,null,"Extraordinary dividend recognised in equity",null,null,"Ekstraordinært udbytte indregnet under egenkapitalen"]
[{"$f":"\"\"&INDEX(PP_Locale,ROW(),PP_LanguageIndex)","v":"Paid contributed capital"},null,null,null,null,null,null,null,null,null,null,null,null,null,null,null,null,null,"Paid contributed capital",null,null,"Indbetalt registreret kapital mv."]
[{"$f":"\"\"&INDEX(PP_Locale,ROW(),PP_LanguageIndex)","v":"Hedge fund"},null,null,null,null,null,null,null,null,null,null,null,null,null,null,null,null,null,"Hedge fund",null,null,"Sikringsfond"]
[{"$f":"\"\"&INDEX(PP_Locale,ROW(),PP_LanguageIndex)","v":"Reserve fund"},null,null,null,null,null,null,null,null,null,null,null,null,null,null,null,null,null,"Reserve fund",null,null,"Reservefond"]
[{"$f":"\"\"&INDEX(PP_Locale,ROW(),PP_LanguageIndex)","v":"Reserves distributable"},null,null,null,null,null,null,null,null,null,null,null,null,null,null,null,null,null,"Reserves distributable",null,null,"Disponible reserver"]
[{"$f":"\"\"&INDEX(PP_Locale,ROW(),PP_LanguageIndex)","v":"Liquidation account"},null,null,null,null,null,null,null,null,null,null,null,null,null,null,null,null,null,"Liquidation account",null,null,"Likvidationskonto"]
[{"$f":"\"\"&INDEX(PP_Locale,ROW(),PP_LanguageIndex)","v":"Actuarial profit (loss), which is a part of the calculation on contingent pensions"},null,null,null,null,null,null,null,null,null,null,null,null,null,null,null,null,null,"Actuarial profit (loss), which is a part of the calculation on contingent pensions",null,null,"Aktuarmæssige gevinster (tab), som indgår i opgørelsen af pensionsforpligtelsen"]
[{"$f":"\"\"&INDEX(PP_Locale,ROW(),PP_LanguageIndex)","v":"Equity attributable to parent"},null,null,null,null,null,null,null,null,null,null,null,null,null,null,null,null,null,"Equity attributable to parent",null,null,"Egenkapital, som kan henføres til modervirksomheden"]
[{"$f":"\"\"&INDEX(PP_Locale,ROW(),PP_LanguageIndex)","v":"Minority interests"},null,null,null,null,null,null,null,null,null,null,null,null,null,null,null,null,null,"Minority interests",null,null,"Minoritetsinteresser"]
[{"$f":"\"\"&INDEX(PP_Locale,ROW(),PP_LanguageIndex)","v":"All classes of equity"},null,null,null,null,null,null,null,null,null,null,null,null,null,null,null,null,null,"All classes of equity",null,null,"Alle klasser af egenkapital"]
[]
[{"$f":"\"\"&INDEX(PP_Locale,ROW(),PP_LanguageIndex)","v":"Statement of changes in equity, horizontal"},null,null,null,null,null,null,null,null,null,null,null,null,null,null,null,null,null,"Statement of changes in equity, horizontal",null,null,"Egenkapitalopgørelse, horisontal"]
[{"$f":"\"\"&INDEX(PP_Locale,ROW(),PP_LanguageIndex)","v":"Equity, beginning balance"},null,null,null,null,null,null,null,null,null,null,null,null,null,null,null,null,null,"Equity, beginning balance",null,null,"Egenkapital, primo"]
[{"$f":"\"\"&INDEX(PP_Locale,ROW(),PP_LanguageIndex)","v":"Increase (decrease) of equity through corrections of errors"},null,null,null,null,null,null,null,null,null,null,null,null,null,null,null,null,null,"Increase (decrease) of equity through corrections of errors",null,null,"Forhøjelse (nedsættelse) af egenkapital som korrektion af fejl"]
[{"$f":"\"\"&INDEX(PP_Locale,ROW(),PP_LanguageIndex)","v":"Increase (decrease) of equity through changes in accounting policies"},null,null,null,null,null,null,null,null,null,null,null,null,null,null,null,null,null,"Increase (decrease) of equity through changes in accounting policies",null,null,"Forhøjelse (nedsættelse) af egenkapital som følge af praksisændringer"]
[{"$f":"\"\"&INDEX(PP_Locale,ROW(),PP_LanguageIndex)","v":"Additions to (disposals of) equity through mergers and business combinations"},null,null,null,null,null,null,null,null,null,null,null,null,null,null,null,null,null,"Additions to (disposals of) equity through mergers and business combinations",null,null,"Tilgang (afgang) af egenkapital ved fusion og køb af virksomhed mv."]
[{"$f":"\"\"&INDEX(PP_Locale,ROW(),PP_LanguageIndex)","v":"Increase (decrease) of equity on demerger and sale of enterprise"},null,null,null,null,null,null,null,null,null,null,null,null,null,null,null,null,null,"Increase (decrease) of equity on demerger and sale of enterprise",null,null,"Tilgang (afgang) af egenkapital ved spaltning og salg af virksomhed mv"]
[{"$f":"\"\"&INDEX(PP_Locale,ROW(),PP_LanguageIndex)","v":"Increase of capital by conversion of debt"},null,null,null,null,null,null,null,null,null,null,null,null,null,null,null,null,null,"Increase of capital by conversion of debt",null,null,"Kapitalforhøjelse ved gældskonvertering"]
[{"$f":"\"\"&INDEX(PP_Locale,ROW(),PP_LanguageIndex)","v":"Increase of capital"},null,null,null,null,null,null,null,null,null,null,null,null,null,null,null,null,null,"Increase of capital",null,null,"Kapitalforhøjelse"]
[{"$f":"\"\"&INDEX(PP_Locale,ROW(),PP_LanguageIndex)","v":"Decrease of capital due to deficit coverage"},null,null,null,null,null,null,null,null,null,null,null,null,null,null,null,null,null,"Decrease of capital due to deficit coverage",null,null,"Kapitalnedsættelse til dækning af underskud"]
[{"$f":"\"\"&INDEX(PP_Locale,ROW(),PP_LanguageIndex)","v":"Decrease of capital"},null,null,null,null,null,null,null,null,null,null,null,null,null,null,null,null,null,"Decrease of capital",null,null,"Kapitalnedsættelse"]
[{"$f":"\"\"&INDEX(PP_Locale,ROW(),PP_LanguageIndex)","v":"Bonus shares"},null,null,null,null,null,null,null,null,null,null,null,null,null,null,null,null,null,"Bonus shares",null,null,"Fondsaktier"]
[{"$f":"\"\"&INDEX(PP_Locale,ROW(),PP_LanguageIndex)","v":"Cost related to increase of capital"},null,null,null,null,null,null,null,null,null,null,null,null,null,null,null,null,null,"Cost related to increase of capital",null,null,"Omkostninger ved kapitalforhøjelse"]
[{"$f":"\"\"&INDEX(PP_Locale,ROW(),PP_LanguageIndex)","v":"Purchase of treasury shares"},null,null,null,null,null,null,null,null,null,null,null,null,null,null,null,null,null,"Purchase of treasury shares",null,null,"Køb af egne kapitalandele"]
[{"$f":"\"\"&INDEX(PP_Locale,ROW(),PP_LanguageIndex)","v":"Sale of treasury shares"},null,null,null,null,null,null,null,null,null,null,null,null,null,null,null,null,null,"Sale of treasury shares",null,null,"Salg af egne kapitalandele"]
[{"$f":"\"\"&INDEX(PP_Locale,ROW(),PP_LanguageIndex)","v":"Purchase of minority shares"},null,null,null,null,null,null,null,null,null,null,null,null,null,null,null,null,null,"Purchase of minority shares",null,null,"Køb af minoritetsandele"]
[{"$f":"\"\"&INDEX(PP_Locale,ROW(),PP_LanguageIndex)","v":"Sale of minority shares"},null,null,null,null,null,null,null,null,null,null,null,null,null,null,null,null,null,"Sale of minority shares",null,null,"Salg af minoritetsandele"]
[{"$f":"\"\"&INDEX(PP_Locale,ROW(),PP_LanguageIndex)","v":"Dividend"},null,null,null,null,null,null,null,null,null,null,null,null,null,null,null,null,null,"Dividend",null,null,"Udbytte"]
[{"$f":"\"\"&INDEX(PP_Locale,ROW(),PP_LanguageIndex)","v":"Dividend paid"},null,null,null,null,null,null,null,null,null,null,null,null,null,null,null,null,null,"Dividend paid",null,null,"Betalt udbytte"]
[{"$f":"\"\"&INDEX(PP_Locale,ROW(),PP_LanguageIndex)","v":"Distributions [Statement of changes in equity]"},null,null,null,null,null,null,null,null,null,null,null,null,null,null,null,null,null,"Distributions [Statement of changes in equity]",null,null,"Uddelinger [egenkapitalopgørelsen]"]
[{"$f":"\"\"&INDEX(PP_Locale,ROW(),PP_LanguageIndex)","v":"Extraordinary distributions [Statement of changes in equity]"},null,null,null,null,null,null,null,null,null,null,null,null,null,null,null,null,null,"Extraordinary distributions [Statement of changes in equity]",null,null,"Ekstraordinære uddelinger [egenkapitalopgørelsen]"]
[{"$f":"\"\"&INDEX(PP_Locale,ROW(),PP_LanguageIndex)","v":"Increase (decrease) of investments through net exchange differences [Equity]"},null,null,null,null,null,null,null,null,null,null,null,null,null,null,null,null,null,"Increase (decrease) of investments through net exchange differences [Equity]",null,null,"Forhøjelse (nedsættelse) af finansielle anlægsaktiver som følge af valutakursreguleringer [Egenkapital]"]
[{"$f":"\"\"&INDEX(PP_Locale,ROW(),PP_LanguageIndex)","v":"Value adjustments of equity"},null,null,null,null,null,null,null,null,null,null,null,null,null,null,null,null,null,"Value adjustments of equity",null,null,"Værdireguleringer af egenkapitalen"]
[{"$f":"\"\"&INDEX(PP_Locale,ROW(),PP_LanguageIndex)","v":"Net adjustments of hedging instruments"},null,null,null,null,null,null,null,null,null,null,null,null,null,null,null,null,null,"Net adjustments of hedging instruments",null,null,"Nettoregulering af sikringsinstrumenter"]
[{"$f":"\"\"&INDEX(PP_Locale,ROW(),PP_LanguageIndex)","v":"Other adjustments of equity"},null,null,null,null,null,null,null,null,null,null,null,null,null,null,null,null,null,"Other adjustments of equity",null,null,"Andre værdireguleringer af egenkapitalen"]
[{"$f":"\"\"&INDEX(PP_Locale,ROW(),PP_LanguageIndex)","v":"Equity transfers to reserves"},null,null,null,null,null,null,null,null,null,null,null,null,null,null,null,null,null,"Equity transfers to reserves",null,null,"Egenkapital overført til reserver"]
[{"$f":"\"\"&INDEX(PP_Locale,ROW(),PP_LanguageIndex)","v":"Profit (loss)"},null,null,null,null,null,null,null,null,null,null,null,null,null,null,null,null,null,"Profit (loss)",null,null,"Årets resultat"]
[{"$f":"\"\"&INDEX(PP_Locale,ROW(),PP_LanguageIndex)","v":"Tax on changes in equity [cash flow]"},null,null,null,null,null,null,null,null,null,null,null,null,null,null,null,null,null,"Tax on changes in equity [cash flow]",null,null,"Skat af egenkapitalbevægelser (pengestrømsopgørelse)"]
[{"$f":"\"\"&INDEX(PP_Locale,ROW(),PP_LanguageIndex)","v":"Extraordinary dividend paid"},null,null,null,null,null,null,null,null,null,null,null,null,null,null,null,null,null,"Extraordinary dividend paid",null,null,"Betalt ekstraordinært udbytte"]
[{"$f":"\"\"&INDEX(PP_Locale,ROW(),PP_LanguageIndex)","v":"Dividends from treasury shares"},null,null,null,null,null,null,null,null,null,null,null,null,null,null,null,null,null,"Dividends from treasury shares",null,null,"Udbytte af egne aktier"]
[{"$f":"\"\"&INDEX(PP_Locale,ROW(),PP_LanguageIndex)","v":"Share capital receivable, paid"},null,null,null,null,null,null,null,null,null,null,null,null,null,null,null,null,null,"Share capital receivable, paid",null,null,"Indbetaling tilgodehavender selskabskapital"]
[{"$f":"\"\"&INDEX(PP_Locale,ROW(),PP_LanguageIndex)","v":"Revaluations"},null,null,null,null,null,null,null,null,null,null,null,null,null,null,null,null,null,"Revaluations",null,null,"Årets opskrivning"]
[{"$f":"\"\"&INDEX(PP_Locale,ROW(),PP_LanguageIndex)","v":"Depreciation of equity"},null,null,null,null,null,null,null,null,null,null,null,null,null,null,null,null,null,"Depreciation of equity",null,null,"Afskrivninger i løbet af regnskabsåret (egenkapital)"]
[{"$f":"\"\"&INDEX(PP_Locale,ROW(),PP_LanguageIndex)","v":"Revaluations of actuarial profit (loss) for reporting period"},null,null,null,null,null,null,null,null,null,null,null,null,null,null,null,null,null,"Revaluations of actuarial profit (loss) for reporting period",null,null,"Årets opskrivninger af aktuarmæssige gevinster (tab)"]
[{"$f":"\"\"&INDEX(PP_Locale,ROW(),PP_LanguageIndex)","v":"Impairment losses and depreciation of actuarial gains (losses) for reporting period [Statement of changes in equity]"},null,null,null,null,null,null,null,null,null,null,null,null,null,null,null,null,null,"Impairment losses and depreciation of actuarial gains (losses) for reporting period [Statement of changes in equity]",null,null,"Årets ned- og afskrivninger af aktuarmæssige gevinster (tab) [egenkapitalopgørelsen]"]
[{"$f":"\"\"&INDEX(PP_Locale,ROW(),PP_LanguageIndex)","v":"Dissolution of previous years revaluations"},null,null,null,null,null,null,null,null,null,null,null,null,null,null,null,null,null,"Dissolution of previous years revaluations",null,null,"Opløsning af tidligere års opskrivning"]
[{"$f":"\"\"&INDEX(PP_Locale,ROW(),PP_LanguageIndex)","v":"Dissolution of fair value reserve"},null,null,null,null,null,null,null,null,null,null,null,null,null,null,null,null,null,"Dissolution of fair value reserve",null,null,"Opløsning af dagsværdireserve ved realisation"]
[{"$f":"\"\"&INDEX(PP_Locale,ROW(),PP_LanguageIndex)","v":"Dissolution of reserves"},null,null,null,null,null,null,null,null,null,null,null,null,null,null,null,null,null,"Dissolution of reserves",null,null,"Opløsning af reserve"]
[{"$f":"\"\"&INDEX(PP_Locale,ROW(),PP_LanguageIndex)","v":"Adjustments of hedging instruments at fair value"},null,null,null,null,null,null,null,null,null,null,null,null,null,null,null,null,null,"Adjustments of hedging instruments at fair value",null,null,"Regulering af sikringsinstrumenter til dagsværdi"]
[{"$f":"\"\"&INDEX(PP_Locale,ROW(),PP_LanguageIndex)","v":"Adjustments of collaterals on sale of investments"},null,null,null,null,null,null,null,null,null,null,null,null,null,null,null,null,null,"Adjustments of collaterals on sale of investments",null,null,"Regulering af sikkerhedsstillelse ved salg af selskabets kapitalandele"]
[{"$f":"\"\"&INDEX(PP_Locale,ROW(),PP_LanguageIndex)","v":"Transferred from share premium"},null,null,null,null,null,null,null,null,null,null,null,null,null,null,null,null,null,"Transferred from share premium",null,null,"Overført fra overkurs ved emission"]
[{"$f":"\"\"&INDEX(PP_Locale,ROW(),PP_LanguageIndex)","v":"Transfer for coverage of losses"},null,null,null,null,null,null,null,null,null,null,null,null,null,null,null,null,null,"Transfer for coverage of losses",null,null,"Overførsel til dækning af tab"]
[{"$f":"\"\"&INDEX(PP_Locale,ROW(),PP_LanguageIndex)","v":"Profit (loss) from group enterprises"},null,null,null,null,null,null,null,null,null,null,null,null,null,null,null,null,null,"Profit (loss) from group enterprises",null,null,"Resultat i tilknyttede virksomheder"]
[{"$f":"\"\"&INDEX(PP_Locale,ROW(),PP_LanguageIndex)","v":"Profit (loss) from associates"},null,null,null,null,null,null,null,null,null,null,null,null,null,null,null,null,null,"Profit (loss) from associates",null,null,"Resultat i associerede virksomheder"]
[{"$f":"\"\"&INDEX(PP_Locale,ROW(),PP_LanguageIndex)","v":"Profit (loss) from participating interests"},null,null,null,null,null,null,null,null,null,null,null,null,null,null,null,null,null,"Profit (loss) from participating interests",null,null,"Resultat i kapitalinteresser"]
[{"$f":"\"\"&INDEX(PP_Locale,ROW(),PP_LanguageIndex)","v":"Reversed revaluations during reporting period"},null,null,null,null,null,null,null,null,null,null,null,null,null,null,null,null,null,"Reversed revaluations during reporting period",null,null,"Tilbageførte opskrivninger i året"]
[{"$f":"\"\"&INDEX(PP_Locale,ROW(),PP_LanguageIndex)","v":"Distributed dividends from group enterprises"},null,null,null,null,null,null,null,null,null,null,null,null,null,null,null,null,null,"Distributed dividends from group enterprises",null,null,"Udloddet udbytte fra tilknyttede virksomheder"]
[{"$f":"\"\"&INDEX(PP_Locale,ROW(),PP_LanguageIndex)","v":"Distributed dividends from associates"},null,null,null,null,null,null,null,null,null,null,null,null,null,null,null,null,null,"Distributed dividends from associates",null,null,"Udloddet udbytte fra associerede virksomheder"]
[{"$f":"\"\"&INDEX(PP_Locale,ROW(),PP_LanguageIndex)","v":"Distributed dividends from participating interests"},null,null,null,null,null,null,null,null,null,null,null,null,null,null,null,null,null,"Distributed dividends from participating interests",null,null,"Udloddet udbytte fra kapitalinteresser"]
[{"$f":"\"\"&INDEX(PP_Locale,ROW(),PP_LanguageIndex)","v":"Cash payments concerning formation of entity"},null,null,null,null,null,null,null,null,null,null,null,null,null,null,null,null,null,"Cash payments concerning formation of entity",null,null,"Kontant indbetaling i forbindelse med stiftelse"]
[{"$f":"\"\"&INDEX(PP_Locale,ROW(),PP_LanguageIndex)","v":"Contribution from group"},null,null,null,null,null,null,null,null,null,null,null,null,null,null,null,null,null,"Contribution from group",null,null,"Tilskud fra koncern"]
[{"$f":"\"\"&INDEX(PP_Locale,ROW(),PP_LanguageIndex)","v":"Increase (decrease) of reserves through application of uniting of interests method [Equity]"},null,null,null,null,null,null,null,null,null,null,null,null,null,null,null,null,null,"Increase (decrease) of reserves through application of uniting of interests method [Equity]",null,null,"Forhøjelse (nedsættelse) af reserverne som følge af anvendelse af sammenlægningsmetode [Egenkapital]"]
[{"$f":"\"\"&INDEX(PP_Locale,ROW(),PP_LanguageIndex)","v":"Equity, ending balance"},null,null,null,null,null,null,null,null,null,null,null,null,null,null,null,null,null,"Equity, ending balance",null,null,"Egenkapital, ultimo"]
[{"$f":"\"\"&INDEX(PP_Locale,ROW(),PP_LanguageIndex)","v":""}]
[{"$f":"\"\"&INDEX(PP_Locale,ROW(),PP_LanguageIndex)","v":"Statement of changes in equity, vertical"},null,null,null,null,null,null,null,null,null,null,null,null,null,null,null,null,null,"Statement of changes in equity, vertical",null,null,"Egenkapitalopgørelse, vertikal"]
[{"$f":"\"\"&INDEX(PP_Locale,ROW(),PP_LanguageIndex)","v":"All classes of equity, beginning balance"},null,null,null,null,null,null,null,null,null,null,null,null,null,null,null,null,null,"All classes of equity, beginning balance",null,null,"Alle klasser af egenkapital, primo"]
[{"$f":"\"\"&INDEX(PP_Locale,ROW(),PP_LanguageIndex)","v":"Contributed capital, beginning balance"},null,null,null,null,null,null,null,null,null,null,null,null,null,null,null,null,null,"Contributed capital, beginning balance",null,null,"Registreret kapital mv., primo"]
[{"$f":"\"\"&INDEX(PP_Locale,ROW(),PP_LanguageIndex)","v":"Contributed capital, profit (loss)"},null,null,null,null,null,null,null,null,null,null,null,null,null,null,null,null,null,"Contributed capital, profit (loss)",null,null,"Registreret kapital mv., årets resultat"]
[{"$f":"\"\"&INDEX(PP_Locale,ROW(),PP_LanguageIndex)","v":"Contributed capital, ending balance"},null,null,null,null,null,null,null,null,null,null,null,null,null,null,null,null,null,"Contributed capital, ending balance",null,null,"Registreret kapital mv., ultimo"]
[{"$f":"\"\"&INDEX(PP_Locale,ROW(),PP_LanguageIndex)","v":"Retained earnings, beginning balance"},null,null,null,null,null,null,null,null,null,null,null,null,null,null,null,null,null,"Retained earnings, beginning balance",null,null,"Overført resultat, primo"]
[{"$f":"\"\"&INDEX(PP_Locale,ROW(),PP_LanguageIndex)","v":"Retained earnings, profit (loss)"},null,null,null,null,null,null,null,null,null,null,null,null,null,null,null,null,null,"Retained earnings, profit (loss)",null,null,"Overført resultat, årets resultat"]
[{"$f":"\"\"&INDEX(PP_Locale,ROW(),PP_LanguageIndex)","v":"Retained earnings, ending balance"},null,null,null,null,null,null,null,null,null,null,null,null,null,null,null,null,null,"Retained earnings, ending balance",null,null,"Overført resultat, ultimo"]
[{"$f":"\"\"&INDEX(PP_Locale,ROW(),PP_LanguageIndex)","v":"Proposed dividend recognised in equity, beginning balance"},null,null,null,null,null,null,null,null,null,null,null,null,null,null,null,null,null,"Proposed dividend recognised in equity, beginning balance",null,null,"Foreslået udbytte indregnet under egenkapitalen, primo"]
[{"$f":"\"\"&INDEX(PP_Locale,ROW(),PP_LanguageIndex)","v":"Proposed dividend recognised in equity, dividend"},null,null,null,null,null,null,null,null,null,null,null,null,null,null,null,null,null,"Proposed dividend recognised in equity, dividend",null,null,"Foreslået udbytte indregnet under egenkapitalen, udbytte"]
[{"$f":"\"\"&INDEX(PP_Locale,ROW(),PP_LanguageIndex)","v":"Proposed dividend recognised in equity, dividend paid"},null,null,null,null,null,null,null,null,null,null,null,null,null,null,null,null,null,"Proposed dividend recognised in equity, dividend paid",null,null,"Foreslået udbytte indregnet under egenkapitalen, betalt udbytte"]
[{"$f":"\"\"&INDEX(PP_Locale,ROW(),PP_LanguageIndex)","v":"Proposed dividend recognised in equity, ending balance"},null,null,null,null,null,null,null,null,null,null,null,null,null,null,null,null,null,"Proposed dividend recognised in equity, ending balance",null,null,"Foreslået udbytte indregnet under egenkapitalen, ultimo"]
[{"$f":"\"\"&INDEX(PP_Locale,ROW(),PP_LanguageIndex)","v":"All classes of equity, ending balance"},null,null,null,null,null,null,null,null,null,null,null,null,null,null,null,null,null,"All classes of equity, ending balance",null,null,"Alle klasser af egenkapital, ultimo"]
[{"$f":"\"\"&INDEX(PP_Locale,ROW(),PP_LanguageIndex)","v":"All classes of equity, profit (loss)"},null,null,null,null,null,null,null,null,null,null,null,null,null,null,null,null,null,"All classes of equity, profit (loss)",null,null,"Alle klasser af egenkapital, årets resultat"]
[{"$f":"\"\"&INDEX(PP_Locale,ROW(),PP_LanguageIndex)","v":""}]
[{"$f":"\"\"&INDEX(PP_Locale,ROW(),PP_LanguageIndex)","v":"Cash flow statement"},null,null,null,null,null,null,null,null,null,null,null,null,null,null,null,null,null,"Cash flow statement",null,null,"Pengestrømsopgørelse"]
[{"$f":"\"\"&INDEX(PP_Locale,ROW(),PP_LanguageIndex)","v":"Cash flows from (used in) operating activities"},null,null,null,null,null,null,null,null,null,null,null,null,null,null,null,null,null,"Cash flows from (used in) operating activities",null,null,"Pengestrømme fra (brugt i) driftsaktivitet"]
[{"$f":"\"\"&INDEX(PP_Locale,ROW(),PP_LanguageIndex)","v":"Turnover [net sales]"},null,null,null,null,null,null,null,null,null,null,null,null,null,null,null,null,null,"Turnover [net sales]",null,null,"Nettoomsætning"]
[{"$f":"\"\"&INDEX(PP_Locale,ROW(),PP_LanguageIndex)","v":"Costs [cash flow]"},null,null,null,null,null,null,null,null,null,null,null,null,null,null,null,null,null,"Costs [cash flow]",null,null,"Omkostninger (pengestrømsopgørelsen)"]
[{"$f":"\"\"&INDEX(PP_Locale,ROW(),PP_LanguageIndex)","v":"Other operating income"},null,null,null,null,null,null,null,null,null,null,null,null,null,null,null,null,null,"Other operating income",null,null,"Andre driftsindtægter"]
[{"$f":"\"\"&INDEX(PP_Locale,ROW(),PP_LanguageIndex)","v":"Other operating expenses"},null,null,null,null,null,null,null,null,null,null,null,null,null,null,null,null,null,"Other operating expenses",null,null,"Andre driftsomkostninger"]
[{"$f":"\"\"&INDEX(PP_Locale,ROW(),PP_LanguageIndex)","v":"Gross proft or loss"},null,null,null,null,null,null,null,null,null,null,null,null,null,null,null,null,null,"Gross proft or loss",null,null,"Bruttoresultat"]
[{"$f":"\"\"&INDEX(PP_Locale,ROW(),PP_LanguageIndex)","v":"Gross profit (loss)"},null,null,null,null,null,null,null,null,null,null,null,null,null,null,null,null,null,"Gross profit (loss)",null,null,"Bruttofortjeneste/Bruttotab"]
[{"$f":"\"\"&INDEX(PP_Locale,ROW(),PP_LanguageIndex)","v":"Profit (loss) from ordinary operating activities"},null,null,null,null,null,null,null,null,null,null,null,null,null,null,null,null,null,"Profit (loss) from ordinary operating activities",null,null,"Ordinært resultat før finansiering og ekstraordinære poster"]
[{"$f":"\"\"&INDEX(PP_Locale,ROW(),PP_LanguageIndex)","v":"Profit (loss) from ordinary activities before tax"},null,null,null,null,null,null,null,null,null,null,null,null,null,null,null,null,null,"Profit (loss) from ordinary activities before tax",null,null,"Ordinært resultat før skat"]
[{"$f":"\"\"&INDEX(PP_Locale,ROW(),PP_LanguageIndex)","v":"Profit (loss) from ordinary activities after tax"},null,null,null,null,null,null,null,null,null,null,null,null,null,null,null,null,null,"Profit (loss) from ordinary activities after tax",null,null,"Ordinært resultat efter skat"]
[{"$f":"\"\"&INDEX(PP_Locale,ROW(),PP_LanguageIndex)","v":"Profit (loss)"},null,null,null,null,null,null,null,null,null,null,null,null,null,null,null,null,null,"Profit (loss)",null,null,"Årets resultat"]
[{"$f":"\"\"&INDEX(PP_Locale,ROW(),PP_LanguageIndex)","v":"Free cash flows generated from operation and investment before financing"},null,null,null,null,null,null,null,null,null,null,null,null,null,null,null,null,null,"Free cash flows generated from operation and investment before financing",null,null,"Frie pengestrømme frembragt fra drift og investering før finansiering"]
[{"$f":"\"\"&INDEX(PP_Locale,ROW(),PP_LanguageIndex)","v":"Depreciation, amortisation expense and impairment losses of property, plant and equipment and intangible assets"},null,null,null,null,null,null,null,null,null,null,null,null,null,null,null,null,null,"Depreciation, amortisation expense and impairment losses of property, plant and equipment and intangible assets",null,null,"Af- og nedskrivninger af materielle og immaterielle anlægsaktiver [Pengestrømopgørelse]"]
[{"$f":"\"\"&INDEX(PP_Locale,ROW(),PP_LanguageIndex)","v":"Writedowns of current assets"},null,null,null,null,null,null,null,null,null,null,null,null,null,null,null,null,null,"Writedowns of current assets",null,null,"Nedskrivninger af omsætningsaktiver"]
[{"$f":"\"\"&INDEX(PP_Locale,ROW(),PP_LanguageIndex)","v":"Adjustments of profit (loss) on disposals of fixed assets"},null,null,null,null,null,null,null,null,null,null,null,null,null,null,null,null,null,"Adjustments of profit (loss) on disposals of fixed assets",null,null,"Reguleringer af avance (tab) ved afhændelse af anlægsaktiver"]
[{"$f":"\"\"&INDEX(PP_Locale,ROW(),PP_LanguageIndex)","v":"Adjustments of profit (loss) from group enterprises after tax"},null,null,null,null,null,null,null,null,null,null,null,null,null,null,null,null,null,"Adjustments of profit (loss) from group enterprises after tax",null,null,"Reguleringer af andel i tilknyttet virksomheds resultat efter skat"]
[{"$f":"\"\"&INDEX(PP_Locale,ROW(),PP_LanguageIndex)","v":"Adjustments of dividends from group enterprises"},null,null,null,null,null,null,null,null,null,null,null,null,null,null,null,null,null,"Adjustments of dividends from group enterprises",null,null,"Reguleringer af udbytte fra tilknyttede virksomheder"]
[{"$f":"\"\"&INDEX(PP_Locale,ROW(),PP_LanguageIndex)","v":"Adjustments of profit (loss) from associates after tax"},null,null,null,null,null,null,null,null,null,null,null,null,null,null,null,null,null,"Adjustments of profit (loss) from associates after tax",null,null,"Reguleringer af andel i associerede virksomheders resultat efter skat"]
[{"$f":"\"\"&INDEX(PP_Locale,ROW(),PP_LanguageIndex)","v":"Adjustments of profit (loss) from participating interests after tax"},null,null,null,null,null,null,null,null,null,null,null,null,null,null,null,null,null,"Adjustments of profit (loss) from participating interests after tax",null,null,"Reguleringer af andel i kapitalinteressers resultat efter skat"]
[{"$f":"\"\"&INDEX(PP_Locale,ROW(),PP_LanguageIndex)","v":"Adjustments of dividends from associates"},null,null,null,null,null,null,null,null,null,null,null,null,null,null,null,null,null,"Adjustments of dividends from associates",null,null,"Reguleringer af udbytte fra associerede virksomheder"]
[{"$f":"\"\"&INDEX(PP_Locale,ROW(),PP_LanguageIndex)","v":"Adjustments of dividends from participating interests"},null,null,null,null,null,null,null,null,null,null,null,null,null,null,null,null,null,"Adjustments of dividends from participating interests",null,null,"Reguleringer af udbytte fra kapitalinteresser"]
[{"$f":"\"\"&INDEX(PP_Locale,ROW(),PP_LanguageIndex)","v":"Adjustments of profit from joint ventures after tax"},null,null,null,null,null,null,null,null,null,null,null,null,null,null,null,null,null,"Adjustments of profit from joint ventures after tax",null,null,"Regulering af andel i joint ventures' resultat efter skat"]
[{"$f":"\"\"&INDEX(PP_Locale,ROW(),PP_LanguageIndex)","v":"Adjustments of dividends from joint ventures"},null,null,null,null,null,null,null,null,null,null,null,null,null,null,null,null,null,"Adjustments of dividends from joint ventures",null,null,"Regulering af udbytte fra joint ventures"]
[{"$f":"\"\"&INDEX(PP_Locale,ROW(),PP_LanguageIndex)","v":"Adjustments of income from other investments and receivables that are fixed assets"},null,null,null,null,null,null,null,null,null,null,null,null,null,null,null,null,null,"Adjustments of income from other investments and receivables that are fixed assets",null,null,"Reguleringer af indtægter af andre kapitalandele, værdipapirer og tilgodehavender, der er anlægsaktiver"]
[{"$f":"\"\"&INDEX(PP_Locale,ROW(),PP_LanguageIndex)","v":"Adjustments of interest and similar incomes"},null,null,null,null,null,null,null,null,null,null,null,null,null,null,null,null,null,"Adjustments of interest and similar incomes",null,null,"Reguleringer af renteindtægter og lignende indtægter"]
[{"$f":"\"\"&INDEX(PP_Locale,ROW(),PP_LanguageIndex)","v":"Adjustments of interest and similar expenses"},null,null,null,null,null,null,null,null,null,null,null,null,null,null,null,null,null,"Adjustments of interest and similar expenses",null,null,"Reguleringer af renteudgifter og lignende udgifter"]
[{"$f":"\"\"&INDEX(PP_Locale,ROW(),PP_LanguageIndex)","v":"Adjustments of financial liabilities"},null,null,null,null,null,null,null,null,null,null,null,null,null,null,null,null,null,"Adjustments of financial liabilities",null,null,"Reguleringer af finansielle forpligtelser"]
[{"$f":"\"\"&INDEX(PP_Locale,ROW(),PP_LanguageIndex)","v":"Adjustments of share-based payment"},null,null,null,null,null,null,null,null,null,null,null,null,null,null,null,null,null,"Adjustments of share-based payment",null,null,"Reguleringer af aktiebaseret vederlæggelser"]
[{"$f":"\"\"&INDEX(PP_Locale,ROW(),PP_LanguageIndex)","v":"Adjustments of tax expense"},null,null,null,null,null,null,null,null,null,null,null,null,null,null,null,null,null,"Adjustments of tax expense",null,null,"Reguleringer af skat af årets resultat"]
[{"$f":"\"\"&INDEX(PP_Locale,ROW(),PP_LanguageIndex)","v":"Adjustments for deferred tax [cash flow]"},null,null,null,null,null,null,null,null,null,null,null,null,null,null,null,null,null,"Adjustments for deferred tax [cash flow]",null,null,"Reguleringer af udskudt skat"]
[{"$f":"\"\"&INDEX(PP_Locale,ROW(),PP_LanguageIndex)","v":"Adjustments of other tax expenses"},null,null,null,null,null,null,null,null,null,null,null,null,null,null,null,null,null,"Adjustments of other tax expenses",null,null,"Reguleringer af andre skatter"]
[{"$f":"\"\"&INDEX(PP_Locale,ROW(),PP_LanguageIndex)","v":"Other provisions [cash flow]"},null,null,null,null,null,null,null,null,null,null,null,null,null,null,null,null,null,"Other provisions [cash flow]",null,null,"Andre hensatte forpligtelser, pengestrøm"]
[{"$f":"\"\"&INDEX(PP_Locale,ROW(),PP_LanguageIndex)","v":"Adjustments of income exceed cost/cost exceed income for the financial year, inflow (outflow)"},null,null,null,null,null,null,null,null,null,null,null,null,null,null,null,null,null,"Adjustments of income exceed cost/cost exceed income for the financial year, inflow (outflow)",null,null,"Reguleringer af over/underdækning, inflow (outflow)"]
[{"$f":"\"\"&INDEX(PP_Locale,ROW(),PP_LanguageIndex)","v":"Adjustments of investment property [cash flow]"},null,null,null,null,null,null,null,null,null,null,null,null,null,null,null,null,null,"Adjustments of investment property [cash flow]",null,null,"Regulering af investeringsejendomme (pengestrømsopgørelsen)"]
[{"$f":"\"\"&INDEX(PP_Locale,ROW(),PP_LanguageIndex)","v":"Adjustments of biological assets [cash flow]"},null,null,null,null,null,null,null,null,null,null,null,null,null,null,null,null,null,"Adjustments of biological assets [cash flow]",null,null,"Regulering af biologiske aktiver (pengestrømsopgørelsen)"]
[{"$f":"\"\"&INDEX(PP_Locale,ROW(),PP_LanguageIndex)","v":"Adjustments of profit (loss) from discontinued operations"},null,null,null,null,null,null,null,null,null,null,null,null,null,null,null,null,null,"Adjustments of profit (loss) from discontinued operations",null,null,"Reguleringer af resultat af ophørende aktiviteter"]
[{"$f":"\"\"&INDEX(PP_Locale,ROW(),PP_LanguageIndex)","v":"Other adjustments [cash flow]"},null,null,null,null,null,null,null,null,null,null,null,null,null,null,null,null,null,"Other adjustments [cash flow]",null,null,"Øvrige reguleringer (pengestrømsopgørelsen)"]
[{"$f":"\"\"&INDEX(PP_Locale,ROW(),PP_LanguageIndex)","v":"Adjustments [cash flow]"},null,null,null,null,null,null,null,null,null,null,null,null,null,null,null,null,null,"Adjustments [cash flow]",null,null,"Reguleringer (pengestrømsopgørelsen)"]
[{"$f":"\"\"&INDEX(PP_Locale,ROW(),PP_LanguageIndex)","v":"Decrease (increase) in inventories"},null,null,null,null,null,null,null,null,null,null,null,null,null,null,null,null,null,"Decrease (increase) in inventories",null,null,"Ændring i varebeholdninger"]
[{"$f":"\"\"&INDEX(PP_Locale,ROW(),PP_LanguageIndex)","v":"Decrease (increase) in receivables"},null,null,null,null,null,null,null,null,null,null,null,null,null,null,null,null,null,"Decrease (increase) in receivables",null,null,"Ændring i tilgodehavender"]
[{"$f":"\"\"&INDEX(PP_Locale,ROW(),PP_LanguageIndex)","v":"Decrease (increase) in trade payables"},null,null,null,null,null,null,null,null,null,null,null,null,null,null,null,null,null,"Decrease (increase) in trade payables",null,null,"Ændring i leverandørgæld mv."]
[{"$f":"\"\"&INDEX(PP_Locale,ROW(),PP_LanguageIndex)","v":"Other adjustments for decrease (increase) in working capital"},null,null,null,null,null,null,null,null,null,null,null,null,null,null,null,null,null,"Other adjustments for decrease (increase) in working capital",null,null,"Andre ændringer i driftskapital"]
[{"$f":"\"\"&INDEX(PP_Locale,ROW(),PP_LanguageIndex)","v":"Adjustments for decrease (increase) in working capital"},null,null,null,null,null,null,null,null,null,null,null,null,null,null,null,null,null,"Adjustments for decrease (increase) in working capital",null,null,"Ændring i driftskapital"]
[{"$f":"\"\"&INDEX(PP_Locale,ROW(),PP_LanguageIndex)","v":"Cash flow from operating activities before finance income (expenses)"},null,null,null,null,null,null,null,null,null,null,null,null,null,null,null,null,null,"Cash flow from operating activities before finance income (expenses)",null,null,"Pengestrøm fra primær drift før finansielle poster"]
[{"$f":"\"\"&INDEX(PP_Locale,ROW(),PP_LanguageIndex)","v":"Interest received, classified as operating activities"},null,null,null,null,null,null,null,null,null,null,null,null,null,null,null,null,null,"Interest received, classified as operating activities",null,null,"Renteindbetalinger klassificeret som driftsaktivitet"]
[{"$f":"\"\"&INDEX(PP_Locale,ROW(),PP_LanguageIndex)","v":"Interest paid, classified as operating activities"},null,null,null,null,null,null,null,null,null,null,null,null,null,null,null,null,null,"Interest paid, classified as operating activities",null,null,"Renteomkostninger betalt, klassificeret som driftsaktivitet"]
[{"$f":"\"\"&INDEX(PP_Locale,ROW(),PP_LanguageIndex)","v":"Cash flow from ordinary operating activities"},null,null,null,null,null,null,null,null,null,null,null,null,null,null,null,null,null,"Cash flow from ordinary operating activities",null,null,"Pengestrøm fra ordinær drift"]
[{"$f":"\"\"&INDEX(PP_Locale,ROW(),PP_LanguageIndex)","v":"Income taxes paid (refund), classified as operating activities"},null,null,null,null,null,null,null,null,null,null,null,null,null,null,null,null,null,"Income taxes paid (refund), classified as operating activities",null,null,"Betalt (refunderet) selskabsskat, klassificeret som driftsaktivitet"]
[{"$f":"\"\"&INDEX(PP_Locale,ROW(),PP_LanguageIndex)","v":"Share-based payment"},null,null,null,null,null,null,null,null,null,null,null,null,null,null,null,null,null,"Share-based payment",null,null,"Aktiebaseret vederlæggelse"]
[{"$f":"\"\"&INDEX(PP_Locale,ROW(),PP_LanguageIndex)","v":"Extraordinary payments [inflow]"},null,null,null,null,null,null,null,null,null,null,null,null,null,null,null,null,null,"Extraordinary payments [inflow]",null,null,"Ekstraordinære indbetalinger"]
[{"$f":"\"\"&INDEX(PP_Locale,ROW(),PP_LanguageIndex)","v":"Extraordinary payments [outflow]"},null,null,null,null,null,null,null,null,null,null,null,null,null,null,null,null,null,"Extraordinary payments [outflow]",null,null,"Ekstraordinære udbetalinger"]
[{"$f":"\"\"&INDEX(PP_Locale,ROW(),PP_LanguageIndex)","v":"Assets held for sale, classified as operating activities"},null,null,null,null,null,null,null,null,null,null,null,null,null,null,null,null,null,"Assets held for sale, classified as operating activities",null,null,"Aktiver bestemt for salg, klassificeret som driftsaktivitet"]
[{"$f":"\"\"&INDEX(PP_Locale,ROW(),PP_LanguageIndex)","v":"Name of component of cash flows from (used in) operating activities 1"},"Operating activities/Name of component of cash flows from (used in) operating activities 1[taxonomy=DKGAAP,period=1]","Operating activities/Name of component of cash flows from (used in) operating activities 1[taxonomy=DKGAAP,period=2]",null,null,null,null,null,null,null,null,{"$f":"IF(COUNTBLANK(L$1),$O939,SUBSTITUTE($O939,\"DKGAAP]\",\"DKGAAP,\"&L$1&\"]\"))","v":"pp://Operating activities/Name of component of cash flows from (used in) operating activities 1[taxonomy=DKGAAP,period=1]+Operating activities/Name of component of cash flows from (used in) operating activities 1[taxonomy=DKGAAP,period=2]"},"pp://Operating activities/Name of component of cash flows from (used in) operating activities 1[taxonomy=DKGAAP,period=1]+Operating activities/Name of component of cash flows from (used in) operating activities 1[taxonomy=DKGAAP,period=2]","pp://Operating activities/Name of component of cash flows from (used in) operating activities 1[taxonomy=DKGAAP,period=1]+Operating activities/Name of component of cash flows from (used in) operating activities 1[taxonomy=DKGAAP,period=2]",{"$f":"IF(COUNTA($B939),\"pp://\"&$B939&IF(COUNTA($C939),\"+\"&$C939,\"\")&IF(COUNTA($D939),\"+\"&$D939,\"\")&IF(COUNTA($E939),\"+\"&$E939,\"\")&IF(COUNTA($F939),\"+\"&$F939,\"\")&IF(COUNTA($G939),\"+\"&$G939,\"\")&IF(COUNTA($H939),\"+\"&$H939,\"\")&IF(COUNTA($I939),\"+\"&$I939,\"\")&IF(COUNTA($J939),\"+\"&$J939,\"\")&IF(COUNTA($K939),\"+\"&$K939,\"\")&$P939,\"\")","v":"pp://Operating activities/Name of component of cash flows from (used in) operating activities 1[taxonomy=DKGAAP,period=1]+Operating activities/Name of component of cash flows from (used in) operating activities 1[taxonomy=DKGAAP,period=2]"},null,null,null,"Name of component of cash flows from (used in) operating activities 1",null,null,"Navn på pengestrømskomponent vedrørende driftssaktivitet 1"]
[{"$f":"\"\"&INDEX(PP_Locale,ROW(),PP_LanguageIndex)","v":"Name of component of cash flows from (used in) operating activities 2"},"Operating activities/Name of component of cash flows from (used in) operating activities 2[taxonomy=DKGAAP,period=1]","Operating activities/Name of component of cash flows from (used in) operating activities 2[taxonomy=DKGAAP,period=2]",null,null,null,null,null,null,null,null,"pp://Operating activities/Name of component of cash flows from (used in) operating activities 2[taxonomy=DKGAAP,period=1]+Operating activities/Name of component of cash flows from (used in) operating activities 2[taxonomy=DKGAAP,period=2]","pp://Operating activities/Name of component of cash flows from (used in) operating activities 2[taxonomy=DKGAAP,period=1]+Operating activities/Name of component of cash flows from (used in) operating activities 2[taxonomy=DKGAAP,period=2]","pp://Operating activities/Name of component of cash flows from (used in) operating activities 2[taxonomy=DKGAAP,period=1]+Operating activities/Name of component of cash flows from (used in) operating activities 2[taxonomy=DKGAAP,period=2]","pp://Operating activities/Name of component of cash flows from (used in) operating activities 2[taxonomy=DKGAAP,period=1]+Operating activities/Name of component of cash flows from (used in) operating activities 2[taxonomy=DKGAAP,period=2]",null,null,null,"Name of component of cash flows from (used in) operating activities 2",null,null,"Navn på pengestrømskomponent vedrørende driftssaktivitet 2"]
[{"$f":"\"\"&INDEX(PP_Locale,ROW(),PP_LanguageIndex)","v":"Name of component of cash flows from (used in) operating activities 3"},"Operating activities/Name of component of cash flows from (used in) operating activities 3[taxonomy=DKGAAP,period=1]","Operating activities/Name of component of cash flows from (used in) operating activities 3[taxonomy=DKGAAP,period=2]",null,null,null,null,null,null,null,null,"pp://Operating activities/Name of component of cash flows from (used in) operating activities 3[taxonomy=DKGAAP,period=1]+Operating activities/Name of component of cash flows from (used in) operating activities 3[taxonomy=DKGAAP,period=2]","pp://Operating activities/Name of component of cash flows from (used in) operating activities 3[taxonomy=DKGAAP,period=1]+Operating activities/Name of component of cash flows from (used in) operating activities 3[taxonomy=DKGAAP,period=2]","pp://Operating activities/Name of component of cash flows from (used in) operating activities 3[taxonomy=DKGAAP,period=1]+Operating activities/Name of component of cash flows from (used in) operating activities 3[taxonomy=DKGAAP,period=2]","pp://Operating activities/Name of component of cash flows from (used in) operating activities 3[taxonomy=DKGAAP,period=1]+Operating activities/Name of component of cash flows from (used in) operating activities 3[taxonomy=DKGAAP,period=2]",null,null,null,"Name of component of cash flows from (used in) operating activities 3",null,null,"Navn på pengestrømskomponent vedrørende driftssaktivitet 3"]
[{"$f":"\"\"&INDEX(PP_Locale,ROW(),PP_LanguageIndex)","v":"Name of component of cash flows from (used in) operating activities 4"},"Operating activities/Name of component of cash flows from (used in) operating activities 4[taxonomy=DKGAAP,period=1]","Operating activities/Name of component of cash flows from (used in) operating activities 4[taxonomy=DKGAAP,period=2]",null,null,null,null,null,null,null,null,"pp://Operating activities/Name of component of cash flows from (used in) operating activities 4[taxonomy=DKGAAP,period=1]+Operating activities/Name of component of cash flows from (used in) operating activities 4[taxonomy=DKGAAP,period=2]","pp://Operating activities/Name of component of cash flows from (used in) operating activities 4[taxonomy=DKGAAP,period=1]+Operating activities/Name of component of cash flows from (used in) operating activities 4[taxonomy=DKGAAP,period=2]","pp://Operating activities/Name of component of cash flows from (used in) operating activities 4[taxonomy=DKGAAP,period=1]+Operating activities/Name of component of cash flows from (used in) operating activities 4[taxonomy=DKGAAP,period=2]","pp://Operating activities/Name of component of cash flows from (used in) operating activities 4[taxonomy=DKGAAP,period=1]+Operating activities/Name of component of cash flows from (used in) operating activities 4[taxonomy=DKGAAP,period=2]",null,null,null,"Name of component of cash flows from (used in) operating activities 4",null,null,"Navn på pengestrømskomponent vedrørende driftssaktivitet 4"]
[{"$f":"\"\"&INDEX(PP_Locale,ROW(),PP_LanguageIndex)","v":"Name of component of cash flows from (used in) operating activities 5"},"Operating activities/Name of component of cash flows from (used in) operating activities 5[taxonomy=DKGAAP,period=1]","Operating activities/Name of component of cash flows from (used in) operating activities 5[taxonomy=DKGAAP,period=2]",null,null,null,null,null,null,null,null,"pp://Operating activities/Name of component of cash flows from (used in) operating activities 5[taxonomy=DKGAAP,period=1]+Operating activities/Name of component of cash flows from (used in) operating activities 5[taxonomy=DKGAAP,period=2]","pp://Operating activities/Name of component of cash flows from (used in) operating activities 5[taxonomy=DKGAAP,period=1]+Operating activities/Name of component of cash flows from (used in) operating activities 5[taxonomy=DKGAAP,period=2]","pp://Operating activities/Name of component of cash flows from (used in) operating activities 5[taxonomy=DKGAAP,period=1]+Operating activities/Name of component of cash flows from (used in) operating activities 5[taxonomy=DKGAAP,period=2]","pp://Operating activities/Name of component of cash flows from (used in) operating activities 5[taxonomy=DKGAAP,period=1]+Operating activities/Name of component of cash flows from (used in) operating activities 5[taxonomy=DKGAAP,period=2]",null,null,null,"Name of component of cash flows from (used in) operating activities 5",null,null,"Navn på pengestrømskomponent vedrørende driftssaktivitet 5"]
[{"$f":"\"\"&INDEX(PP_Locale,ROW(),PP_LanguageIndex)","v":"Name of component of cash flows from (used in) operating activities 6"},"Operating activities/Name of component of cash flows from (used in) operating activities 6[taxonomy=DKGAAP,period=1]","Operating activities/Name of component of cash flows from (used in) operating activities 6[taxonomy=DKGAAP,period=2]",null,null,null,null,null,null,null,null,"pp://Operating activities/Name of component of cash flows from (used in) operating activities 6[taxonomy=DKGAAP,period=1]+Operating activities/Name of component of cash flows from (used in) operating activities 6[taxonomy=DKGAAP,period=2]","pp://Operating activities/Name of component of cash flows from (used in) operating activities 6[taxonomy=DKGAAP,period=1]+Operating activities/Name of component of cash flows from (used in) operating activities 6[taxonomy=DKGAAP,period=2]","pp://Operating activities/Name of component of cash flows from (used in) operating activities 6[taxonomy=DKGAAP,period=1]+Operating activities/Name of component of cash flows from (used in) operating activities 6[taxonomy=DKGAAP,period=2]","pp://Operating activities/Name of component of cash flows from (used in) operating activities 6[taxonomy=DKGAAP,period=1]+Operating activities/Name of component of cash flows from (used in) operating activities 6[taxonomy=DKGAAP,period=2]",null,null,null,"Name of component of cash flows from (used in) operating activities 6",null,null,"Navn på pengestrømskomponent vedrørende driftssaktivitet 6"]
[{"$f":"\"\"&INDEX(PP_Locale,ROW(),PP_LanguageIndex)","v":"Name of component of cash flows from (used in) operating activities 7"},"Operating activities/Name of component of cash flows from (used in) operating activities 7[taxonomy=DKGAAP,period=1]","Operating activities/Name of component of cash flows from (used in) operating activities 7[taxonomy=DKGAAP,period=2]",null,null,null,null,null,null,null,null,"pp://Operating activities/Name of component of cash flows from (used in) operating activities 7[taxonomy=DKGAAP,period=1]+Operating activities/Name of component of cash flows from (used in) operating activities 7[taxonomy=DKGAAP,period=2]","pp://Operating activities/Name of component of cash flows from (used in) operating activities 7[taxonomy=DKGAAP,period=1]+Operating activities/Name of component of cash flows from (used in) operating activities 7[taxonomy=DKGAAP,period=2]","pp://Operating activities/Name of component of cash flows from (used in) operating activities 7[taxonomy=DKGAAP,period=1]+Operating activities/Name of component of cash flows from (used in) operating activities 7[taxonomy=DKGAAP,period=2]","pp://Operating activities/Name of component of cash flows from (used in) operating activities 7[taxonomy=DKGAAP,period=1]+Operating activities/Name of component of cash flows from (used in) operating activities 7[taxonomy=DKGAAP,period=2]",null,null,null,"Name of component of cash flows from (used in) operating activities 7",null,null,"Navn på pengestrømskomponent vedrørende driftssaktivitet 7"]
[{"$f":"\"\"&INDEX(PP_Locale,ROW(),PP_LanguageIndex)","v":"Name of component of cash flows from (used in) operating activities 8"},"Operating activities/Name of component of cash flows from (used in) operating activities 8[taxonomy=DKGAAP,period=1]","Operating activities/Name of component of cash flows from (used in) operating activities 8[taxonomy=DKGAAP,period=2]",null,null,null,null,null,null,null,null,"pp://Operating activities/Name of component of cash flows from (used in) operating activities 8[taxonomy=DKGAAP,period=1]+Operating activities/Name of component of cash flows from (used in) operating activities 8[taxonomy=DKGAAP,period=2]","pp://Operating activities/Name of component of cash flows from (used in) operating activities 8[taxonomy=DKGAAP,period=1]+Operating activities/Name of component of cash flows from (used in) operating activities 8[taxonomy=DKGAAP,period=2]","pp://Operating activities/Name of component of cash flows from (used in) operating activities 8[taxonomy=DKGAAP,period=1]+Operating activities/Name of component of cash flows from (used in) operating activities 8[taxonomy=DKGAAP,period=2]","pp://Operating activities/Name of component of cash flows from (used in) operating activities 8[taxonomy=DKGAAP,period=1]+Operating activities/Name of component of cash flows from (used in) operating activities 8[taxonomy=DKGAAP,period=2]",null,null,null,"Name of component of cash flows from (used in) operating activities 8",null,null,"Navn på pengestrømskomponent vedrørende driftssaktivitet 8"]
[{"$f":"\"\"&INDEX(PP_Locale,ROW(),PP_LanguageIndex)","v":"Name of component of cash flows from (used in) operating activities 9"},"Operating activities/Name of component of cash flows from (used in) operating activities 9[taxonomy=DKGAAP,period=1]","Operating activities/Name of component of cash flows from (used in) operating activities 9[taxonomy=DKGAAP,period=2]",null,null,null,null,null,null,null,null,"pp://Operating activities/Name of component of cash flows from (used in) operating activities 9[taxonomy=DKGAAP,period=1]+Operating activities/Name of component of cash flows from (used in) operating activities 9[taxonomy=DKGAAP,period=2]","pp://Operating activities/Name of component of cash flows from (used in) operating activities 9[taxonomy=DKGAAP,period=1]+Operating activities/Name of component of cash flows from (used in) operating activities 9[taxonomy=DKGAAP,period=2]","pp://Operating activities/Name of component of cash flows from (used in) operating activities 9[taxonomy=DKGAAP,period=1]+Operating activities/Name of component of cash flows from (used in) operating activities 9[taxonomy=DKGAAP,period=2]","pp://Operating activities/Name of component of cash flows from (used in) operating activities 9[taxonomy=DKGAAP,period=1]+Operating activities/Name of component of cash flows from (used in) operating activities 9[taxonomy=DKGAAP,period=2]",null,null,null,"Name of component of cash flows from (used in) operating activities 9",null,null,"Navn på pengestrømskomponent vedrørende driftssaktivitet 9"]
[{"$f":"\"\"&INDEX(PP_Locale,ROW(),PP_LanguageIndex)","v":"Name of component of cash flows from (used in) operating activities 10"},"Operating activities/Name of component of cash flows from (used in) operating activities 10[taxonomy=DKGAAP,period=1]","Operating activities/Name of component of cash flows from (used in) operating activities 10[taxonomy=DKGAAP,period=2]",null,null,null,null,null,null,null,null,"pp://Operating activities/Name of component of cash flows from (used in) operating activities 10[taxonomy=DKGAAP,period=1]+Operating activities/Name of component of cash flows from (used in) operating activities 10[taxonomy=DKGAAP,period=2]","pp://Operating activities/Name of component of cash flows from (used in) operating activities 10[taxonomy=DKGAAP,period=1]+Operating activities/Name of component of cash flows from (used in) operating activities 10[taxonomy=DKGAAP,period=2]","pp://Operating activities/Name of component of cash flows from (used in) operating activities 10[taxonomy=DKGAAP,period=1]+Operating activities/Name of component of cash flows from (used in) operating activities 10[taxonomy=DKGAAP,period=2]","pp://Operating activities/Name of component of cash flows from (used in) operating activities 10[taxonomy=DKGAAP,period=1]+Operating activities/Name of component of cash flows from (used in) operating activities 10[taxonomy=DKGAAP,period=2]",null,null,null,"Name of component of cash flows from (used in) operating activities 10",null,null,"Navn på pengestrømskomponent vedrørende driftssaktivitet 10"]
[{"$f":"\"\"&INDEX(PP_Locale,ROW(),PP_LanguageIndex)","v":"Cash flows from (used in) operating activities"},null,null,null,null,null,null,null,null,null,null,null,null,null,null,null,null,null,"Cash flows from (used in) operating activities",null,null,"Pengestrømme fra (brugt i) driftsaktivitet"]
[{"$f":"\"\"&INDEX(PP_Locale,ROW(),PP_LanguageIndex)","v":""}]
[{"$f":"\"\"&INDEX(PP_Locale,ROW(),PP_LanguageIndex)","v":"Cash flows from (used in) investing activities"},null,null,null,null,null,null,null,null,null,null,null,null,null,null,null,null,null,"Cash flows from (used in) investing activities",null,null,"Pengestrømme fra (brugt i) investeringsaktivitet"]
[{"$f":"\"\"&INDEX(PP_Locale,ROW(),PP_LanguageIndex)","v":"Purchase of intangible assets, classified as investing activities"},null,null,null,null,null,null,null,null,null,null,null,null,null,null,null,null,null,"Purchase of intangible assets, classified as investing activities",null,null,"Køb af immaterielle anlægsaktiver klassificeret som investeringsaktivitet"]
[{"$f":"\"\"&INDEX(PP_Locale,ROW(),PP_LanguageIndex)","v":"Sales of intangible assets, classified as investing activities"},null,null,null,null,null,null,null,null,null,null,null,null,null,null,null,null,null,"Sales of intangible assets, classified as investing activities",null,null,"Salg af immaterielle anlægsaktiver klassificeret som investeringsaktivitet"]
[{"$f":"\"\"&INDEX(PP_Locale,ROW(),PP_LanguageIndex)","v":"Purchase of property, plant and equipment, classified as investing activities"},null,null,null,null,null,null,null,null,null,null,null,null,null,null,null,null,null,"Purchase of property, plant and equipment, classified as investing activities",null,null,"Køb af materielle anlægsaktiver klassificeret som investeringsaktivitet"]
[{"$f":"\"\"&INDEX(PP_Locale,ROW(),PP_LanguageIndex)","v":"Sales of property, plant and equipment, classified as investing activities"},null,null,null,null,null,null,null,null,null,null,null,null,null,null,null,null,null,"Sales of property, plant and equipment, classified as investing activities",null,null,"Salg af materielle anlægsaktiver klassificeret som investeringsaktivitet"]
[{"$f":"\"\"&INDEX(PP_Locale,ROW(),PP_LanguageIndex)","v":"Intangible assets from acquisition of enterprises and activities [cash flow]"},null,null,null,null,null,null,null,null,null,null,null,null,null,null,null,null,null,"Intangible assets from acquisition of enterprises and activities [cash flow]",null,null,"Immaterielle anlægsaktiver fra køb af virksomheder og aktiviteter (pengestrømsopgørelsen)"]
[{"$f":"\"\"&INDEX(PP_Locale,ROW(),PP_LanguageIndex)","v":"Property, plant and equipment from acquisition of enterprises and activities [cash flow]"},null,null,null,null,null,null,null,null,null,null,null,null,null,null,null,null,null,"Property, plant and equipment from acquisition of enterprises and activities [cash flow]",null,null,"Materielle anlægsaktiver fra køb af virksomheder og aktiviteter (pengestrømsopgørelsen)"]
[{"$f":"\"\"&INDEX(PP_Locale,ROW(),PP_LanguageIndex)","v":"Inventories from acquisition of enterprises and activities [cash flow]"},null,null,null,null,null,null,null,null,null,null,null,null,null,null,null,null,null,"Inventories from acquisition of enterprises and activities [cash flow]",null,null,"Varebeholdninger fra køb af virksomheder og aktiviteter (pengestrømsopgørelsen)"]
[{"$f":"\"\"&INDEX(PP_Locale,ROW(),PP_LanguageIndex)","v":"Receivables from acquisition of companies and activities [cash flow]"},null,null,null,null,null,null,null,null,null,null,null,null,null,null,null,null,null,"Receivables from acquisition of companies and activities [cash flow]",null,null,"Tilgodehavender fra køb af virksomheder og aktiviteter (pengestrømsopgørelsen)"]
[{"$f":"\"\"&INDEX(PP_Locale,ROW(),PP_LanguageIndex)","v":"Cash and cash equivalents from acquisition of enterprises and activities, specification [cash flow]"},null,null,null,null,null,null,null,null,null,null,null,null,null,null,null,null,null,"Cash and cash equivalents from acquisition of enterprises and activities, specification [cash flow]",null,null,"Likvide beholdninger fra køb af virksomheder og aktiviteter, specifikation (pengestrømsopgørelsen)"]
[{"$f":"\"\"&INDEX(PP_Locale,ROW(),PP_LanguageIndex)","v":"Debt to banks from acquisition of enterprises and activities [cash flow]"},null,null,null,null,null,null,null,null,null,null,null,null,null,null,null,null,null,"Debt to banks from acquisition of enterprises and activities [cash flow]",null,null,"Gæld til banker fra køb af virksomheder og aktiviteter (pengestrømsopgørelsen)"]
[{"$f":"\"\"&INDEX(PP_Locale,ROW(),PP_LanguageIndex)","v":"Mortgage debt from acquisition of enterprises and activities [cash flow]"},null,null,null,null,null,null,null,null,null,null,null,null,null,null,null,null,null,"Mortgage debt from acquisition of enterprises and activities [cash flow]",null,null,"Gæld til realkreditinstitutter fra køb af virksomheder og aktiviteter (pengestrømsopgørelsen)"]
[{"$f":"\"\"&INDEX(PP_Locale,ROW(),PP_LanguageIndex)","v":"Deferred tax from acquisition of enterprises and activities [cash flow]"},null,null,null,null,null,null,null,null,null,null,null,null,null,null,null,null,null,"Deferred tax from acquisition of enterprises and activities [cash flow]",null,null,"Udskudt skat fra køb af virksomheder og aktiviteter (pengestrømsopgørelsen)"]
[{"$f":"\"\"&INDEX(PP_Locale,ROW(),PP_LanguageIndex)","v":"Trade payables from acquisition of enterprises and activities [cash flow]"},null,null,null,null,null,null,null,null,null,null,null,null,null,null,null,null,null,"Trade payables from acquisition of enterprises and activities [cash flow]",null,null,"Leverandørgæld fra køb af virksomheder og aktiviteter (pengestrømsopgørelsen)"]
[{"$f":"\"\"&INDEX(PP_Locale,ROW(),PP_LanguageIndex)","v":"Other payables from acquisition of enterprises and activities [cash flow]"},null,null,null,null,null,null,null,null,null,null,null,null,null,null,null,null,null,"Other payables from acquisition of enterprises and activities [cash flow]",null,null,"Anden gæld fra køb af virksomheder og aktiviteter (pengestrømsopgørelsen)"]
[{"$f":"\"\"&INDEX(PP_Locale,ROW(),PP_LanguageIndex)","v":"Restructuring provisions from acquisition of enterprises and activities [cashflow]"},null,null,null,null,null,null,null,null,null,null,null,null,null,null,null,null,null,"Restructuring provisions from acquisition of enterprises and activities [cashflow]",null,null,"Omstruktureringshensættelse i forbindelse med køb af virksomheder og aktiviteter (pengestrømsopgørelsen)"]
[{"$f":"\"\"&INDEX(PP_Locale,ROW(),PP_LanguageIndex)","v":"Acquisition of enterprises and activities, specification"},null,null,null,null,null,null,null,null,null,null,null,null,null,null,null,null,null,"Acquisition of enterprises and activities, specification",null,null,"Køb af virksomheder og aktiviteter, specifikation"]
[{"$f":"\"\"&INDEX(PP_Locale,ROW(),PP_LanguageIndex)","v":"Cash and cash equivalents from acquisition of enterprises and activities, cost [cash flow]"},null,null,null,null,null,null,null,null,null,null,null,null,null,null,null,null,null,"Cash and cash equivalents from acquisition of enterprises and activities, cost [cash flow]",null,null,"Likvide beholdninger fra køb af virksomheder og aktiviteter, kostpris (pengestrømsopgørelsen)"]
[{"$f":"\"\"&INDEX(PP_Locale,ROW(),PP_LanguageIndex)","v":"Goodwill from acquisition of enterprises and activities [cashflow]"},null,null,null,null,null,null,null,null,null,null,null,null,null,null,null,null,null,"Goodwill from acquisition of enterprises and activities [cashflow]",null,null,"Goodwill fra køb af virksomheder og aktiviteter (pengestrømsopgørelsen)"]
[{"$f":"\"\"&INDEX(PP_Locale,ROW(),PP_LanguageIndex)","v":"Acquisition of enterprises and activities, cost"},null,null,null,null,null,null,null,null,null,null,null,null,null,null,null,null,null,"Acquisition of enterprises and activities, cost",null,null,"Køb af virksomheder og aktiviteter, kostpris"]
[{"$f":"\"\"&INDEX(PP_Locale,ROW(),PP_LanguageIndex)","v":"Remuneration by way of treasury shares [cash flow]"},null,null,null,null,null,null,null,null,null,null,null,null,null,null,null,null,null,"Remuneration by way of treasury shares [cash flow]",null,null,"Vederlag i form af egne kapitalandele (pengestrømsopgørelsen)"]
[{"$f":"\"\"&INDEX(PP_Locale,ROW(),PP_LanguageIndex)","v":"Purchase of investments"},null,null,null,null,null,null,null,null,null,null,null,null,null,null,null,null,null,"Purchase of investments",null,null,"Køb af finansielle anlægsaktiver mv."]
[{"$f":"\"\"&INDEX(PP_Locale,ROW(),PP_LanguageIndex)","v":"Sale of investments"},null,null,null,null,null,null,null,null,null,null,null,null,null,null,null,null,null,"Sale of investments",null,null,"Salg af finansielle anlægsaktiver mv."]
[{"$f":"\"\"&INDEX(PP_Locale,ROW(),PP_LanguageIndex)","v":"Purchase of financial instruments, classified as investing activities"},null,null,null,null,null,null,null,null,null,null,null,null,null,null,null,null,null,"Purchase of financial instruments, classified as investing activities",null,null,"Køb af finansielle instrumenter klassificeret som investeringsaktivitet"]
[{"$f":"\"\"&INDEX(PP_Locale,ROW(),PP_LanguageIndex)","v":"Sales of financial instruments, classified as investing activities"},null,null,null,null,null,null,null,null,null,null,null,null,null,null,null,null,null,"Sales of financial instruments, classified as investing activities",null,null,"Salg af finansielle instrumenter klassificeret som investeringsaktivitet"]
[{"$f":"\"\"&INDEX(PP_Locale,ROW(),PP_LanguageIndex)","v":"Acquisition of enterprise"},null,null,null,null,null,null,null,null,null,null,null,null,null,null,null,null,null,"Acquisition of enterprise",null,null,"Køb af virksomhed"]
[{"$f":"\"\"&INDEX(PP_Locale,ROW(),PP_LanguageIndex)","v":"Sale of enterprise"},null,null,null,null,null,null,null,null,null,null,null,null,null,null,null,null,null,"Sale of enterprise",null,null,"Salg af virksomhed"]
[{"$f":"\"\"&INDEX(PP_Locale,ROW(),PP_LanguageIndex)","v":"Dividends received"},null,null,null,null,null,null,null,null,null,null,null,null,null,null,null,null,null,"Dividends received",null,null,"Modtagne udbytter"]
[{"$f":"\"\"&INDEX(PP_Locale,ROW(),PP_LanguageIndex)","v":"Dividends received from associates"},null,null,null,null,null,null,null,null,null,null,null,null,null,null,null,null,null,"Dividends received from associates",null,null,"Modtaget udbytte fra associerede virksomheder"]
[{"$f":"\"\"&INDEX(PP_Locale,ROW(),PP_LanguageIndex)","v":"Dividends received from participating interests"},null,null,null,null,null,null,null,null,null,null,null,null,null,null,null,null,null,"Dividends received from participating interests",null,null,"Modtaget udbytte fra kapitalinteresser"]
[{"$f":"\"\"&INDEX(PP_Locale,ROW(),PP_LanguageIndex)","v":"Repayments received"},null,null,null,null,null,null,null,null,null,null,null,null,null,null,null,null,null,"Repayments received",null,null,"Modtagne afdrag"]
[{"$f":"\"\"&INDEX(PP_Locale,ROW(),PP_LanguageIndex)","v":"Interest received"},null,null,null,null,null,null,null,null,null,null,null,null,null,null,null,null,null,"Interest received",null,null,"Renteindbetalinger"]
[{"$f":"\"\"&INDEX(PP_Locale,ROW(),PP_LanguageIndex)","v":"Loans"},null,null,null,null,null,null,null,null,null,null,null,null,null,null,null,null,null,"Loans",null,null,"Udlån"]
[{"$f":"\"\"&INDEX(PP_Locale,ROW(),PP_LanguageIndex)","v":"Assets held for sale, classified as investing activities"},null,null,null,null,null,null,null,null,null,null,null,null,null,null,null,null,null,"Assets held for sale, classified as investing activities",null,null,"Aktiver bestemt for salg, klassificeret som investeringsaktivitet"]
[{"$f":"\"\"&INDEX(PP_Locale,ROW(),PP_LanguageIndex)","v":"Name of component of cash flows from (used in) investing activities 1"},"Investing activities/Name of component of cash flows from (used in) investing activities 1[taxonomy=DKGAAP,period=1]","Investing activities/Name of component of cash flows from (used in) investing activities 1[taxonomy=DKGAAP,period=2]",null,null,null,null,null,null,null,null,{"$f":"IF(COUNTBLANK(L$1),$O985,SUBSTITUTE($O985,\"DKGAAP]\",\"DKGAAP,\"&L$1&\"]\"))","v":"pp://Investing activities/Name of component of cash flows from (used in) investing activities 1[taxonomy=DKGAAP,period=1]+Investing activities/Name of component of cash flows from (used in) investing activities 1[taxonomy=DKGAAP,period=2]"},"pp://Investing activities/Name of component of cash flows from (used in) investing activities 1[taxonomy=DKGAAP,period=1]+Investing activities/Name of component of cash flows from (used in) investing activities 1[taxonomy=DKGAAP,period=2]","pp://Investing activities/Name of component of cash flows from (used in) investing activities 1[taxonomy=DKGAAP,period=1]+Investing activities/Name of component of cash flows from (used in) investing activities 1[taxonomy=DKGAAP,period=2]",{"$f":"IF(COUNTA($B985),\"pp://\"&$B985&IF(COUNTA($C985),\"+\"&$C985,\"\")&IF(COUNTA($D985),\"+\"&$D985,\"\")&IF(COUNTA($E985),\"+\"&$E985,\"\")&IF(COUNTA($F985),\"+\"&$F985,\"\")&IF(COUNTA($G985),\"+\"&$G985,\"\")&IF(COUNTA($H985),\"+\"&$H985,\"\")&IF(COUNTA($I985),\"+\"&$I985,\"\")&IF(COUNTA($J985),\"+\"&$J985,\"\")&IF(COUNTA($K985),\"+\"&$K985,\"\")&$P985,\"\")","v":"pp://Investing activities/Name of component of cash flows from (used in) investing activities 1[taxonomy=DKGAAP,period=1]+Investing activities/Name of component of cash flows from (used in) investing activities 1[taxonomy=DKGAAP,period=2]"},null,null,null,"Name of component of cash flows from (used in) investing activities 1",null,null,"Navn på pengestrømskomponent vedrørende investeringsaktivitet 1"]
[{"$f":"\"\"&INDEX(PP_Locale,ROW(),PP_LanguageIndex)","v":"Name of component of cash flows from (used in) investing activities 2"},"Investing activities/Name of component of cash flows from (used in) investing activities 2[taxonomy=DKGAAP,period=1]","Investing activities/Name of component of cash flows from (used in) investing activities 2[taxonomy=DKGAAP,period=2]",null,null,null,null,null,null,null,null,"pp://Investing activities/Name of component of cash flows from (used in) investing activities 2[taxonomy=DKGAAP,period=1]+Investing activities/Name of component of cash flows from (used in) investing activities 2[taxonomy=DKGAAP,period=2]","pp://Investing activities/Name of component of cash flows from (used in) investing activities 2[taxonomy=DKGAAP,period=1]+Investing activities/Name of component of cash flows from (used in) investing activities 2[taxonomy=DKGAAP,period=2]","pp://Investing activities/Name of component of cash flows from (used in) investing activities 2[taxonomy=DKGAAP,period=1]+Investing activities/Name of component of cash flows from (used in) investing activities 2[taxonomy=DKGAAP,period=2]","pp://Investing activities/Name of component of cash flows from (used in) investing activities 2[taxonomy=DKGAAP,period=1]+Investing activities/Name of component of cash flows from (used in) investing activities 2[taxonomy=DKGAAP,period=2]",null,null,null,"Name of component of cash flows from (used in) investing activities 2",null,null,"Navn på pengestrømskomponent vedrørende investeringsaktivitet 2"]
[{"$f":"\"\"&INDEX(PP_Locale,ROW(),PP_LanguageIndex)","v":"Name of component of cash flows from (used in) investing activities 3"},"Investing activities/Name of component of cash flows from (used in) investing activities 3[taxonomy=DKGAAP,period=1]","Investing activities/Name of component of cash flows from (used in) investing activities 3[taxonomy=DKGAAP,period=2]",null,null,null,null,null,null,null,null,"pp://Investing activities/Name of component of cash flows from (used in) investing activities 3[taxonomy=DKGAAP,period=1]+Investing activities/Name of component of cash flows from (used in) investing activities 3[taxonomy=DKGAAP,period=2]","pp://Investing activities/Name of component of cash flows from (used in) investing activities 3[taxonomy=DKGAAP,period=1]+Investing activities/Name of component of cash flows from (used in) investing activities 3[taxonomy=DKGAAP,period=2]","pp://Investing activities/Name of component of cash flows from (used in) investing activities 3[taxonomy=DKGAAP,period=1]+Investing activities/Name of component of cash flows from (used in) investing activities 3[taxonomy=DKGAAP,period=2]","pp://Investing activities/Name of component of cash flows from (used in) investing activities 3[taxonomy=DKGAAP,period=1]+Investing activities/Name of component of cash flows from (used in) investing activities 3[taxonomy=DKGAAP,period=2]",null,null,null,"Name of component of cash flows from (used in) investing activities 3",null,null,"Navn på pengestrømskomponent vedrørende investeringsaktivitet 3"]
[{"$f":"\"\"&INDEX(PP_Locale,ROW(),PP_LanguageIndex)","v":"Name of component of cash flows from (used in) investing activities 4"},"Investing activities/Name of component of cash flows from (used in) investing activities 4[taxonomy=DKGAAP,period=1]","Investing activities/Name of component of cash flows from (used in) investing activities 4[taxonomy=DKGAAP,period=2]",null,null,null,null,null,null,null,null,"pp://Investing activities/Name of component of cash flows from (used in) investing activities 4[taxonomy=DKGAAP,period=1]+Investing activities/Name of component of cash flows from (used in) investing activities 4[taxonomy=DKGAAP,period=2]","pp://Investing activities/Name of component of cash flows from (used in) investing activities 4[taxonomy=DKGAAP,period=1]+Investing activities/Name of component of cash flows from (used in) investing activities 4[taxonomy=DKGAAP,period=2]","pp://Investing activities/Name of component of cash flows from (used in) investing activities 4[taxonomy=DKGAAP,period=1]+Investing activities/Name of component of cash flows from (used in) investing activities 4[taxonomy=DKGAAP,period=2]","pp://Investing activities/Name of component of cash flows from (used in) investing activities 4[taxonomy=DKGAAP,period=1]+Investing activities/Name of component of cash flows from (used in) investing activities 4[taxonomy=DKGAAP,period=2]",null,null,null,"Name of component of cash flows from (used in) investing activities 4",null,null,"Navn på pengestrømskomponent vedrørende investeringsaktivitet 4"]
[{"$f":"\"\"&INDEX(PP_Locale,ROW(),PP_LanguageIndex)","v":"Name of component of cash flows from (used in) investing activities 5"},"Investing activities/Name of component of cash flows from (used in) investing activities 5[taxonomy=DKGAAP,period=1]","Investing activities/Name of component of cash flows from (used in) investing activities 5[taxonomy=DKGAAP,period=2]",null,null,null,null,null,null,null,null,"pp://Investing activities/Name of component of cash flows from (used in) investing activities 5[taxonomy=DKGAAP,period=1]+Investing activities/Name of component of cash flows from (used in) investing activities 5[taxonomy=DKGAAP,period=2]","pp://Investing activities/Name of component of cash flows from (used in) investing activities 5[taxonomy=DKGAAP,period=1]+Investing activities/Name of component of cash flows from (used in) investing activities 5[taxonomy=DKGAAP,period=2]","pp://Investing activities/Name of component of cash flows from (used in) investing activities 5[taxonomy=DKGAAP,period=1]+Investing activities/Name of component of cash flows from (used in) investing activities 5[taxonomy=DKGAAP,period=2]","pp://Investing activities/Name of component of cash flows from (used in) investing activities 5[taxonomy=DKGAAP,period=1]+Investing activities/Name of component of cash flows from (used in) investing activities 5[taxonomy=DKGAAP,period=2]",null,null,null,"Name of component of cash flows from (used in) investing activities 5",null,null,"Navn på pengestrømskomponent vedrørende investeringsaktivitet 5"]
[{"$f":"\"\"&INDEX(PP_Locale,ROW(),PP_LanguageIndex)","v":"Name of component of cash flows from (used in) investing activities 6"},"Investing activities/Name of component of cash flows from (used in) investing activities 6[taxonomy=DKGAAP,period=1]","Investing activities/Name of component of cash flows from (used in) investing activities 6[taxonomy=DKGAAP,period=2]",null,null,null,null,null,null,null,null,"pp://Investing activities/Name of component of cash flows from (used in) investing activities 6[taxonomy=DKGAAP,period=1]+Investing activities/Name of component of cash flows from (used in) investing activities 6[taxonomy=DKGAAP,period=2]","pp://Investing activities/Name of component of cash flows from (used in) investing activities 6[taxonomy=DKGAAP,period=1]+Investing activities/Name of component of cash flows from (used in) investing activities 6[taxonomy=DKGAAP,period=2]","pp://Investing activities/Name of component of cash flows from (used in) investing activities 6[taxonomy=DKGAAP,period=1]+Investing activities/Name of component of cash flows from (used in) investing activities 6[taxonomy=DKGAAP,period=2]","pp://Investing activities/Name of component of cash flows from (used in) investing activities 6[taxonomy=DKGAAP,period=1]+Investing activities/Name of component of cash flows from (used in) investing activities 6[taxonomy=DKGAAP,period=2]",null,null,null,"Name of component of cash flows from (used in) investing activities 6",null,null,"Navn på pengestrømskomponent vedrørende investeringsaktivitet 6"]
[{"$f":"\"\"&INDEX(PP_Locale,ROW(),PP_LanguageIndex)","v":"Name of component of cash flows from (used in) investing activities 7"},"Investing activities/Name of component of cash flows from (used in) investing activities 7[taxonomy=DKGAAP,period=1]","Investing activities/Name of component of cash flows from (used in) investing activities 7[taxonomy=DKGAAP,period=2]",null,null,null,null,null,null,null,null,"pp://Investing activities/Name of component of cash flows from (used in) investing activities 7[taxonomy=DKGAAP,period=1]+Investing activities/Name of component of cash flows from (used in) investing activities 7[taxonomy=DKGAAP,period=2]","pp://Investing activities/Name of component of cash flows from (used in) investing activities 7[taxonomy=DKGAAP,period=1]+Investing activities/Name of component of cash flows from (used in) investing activities 7[taxonomy=DKGAAP,period=2]","pp://Investing activities/Name of component of cash flows from (used in) investing activities 7[taxonomy=DKGAAP,period=1]+Investing activities/Name of component of cash flows from (used in) investing activities 7[taxonomy=DKGAAP,period=2]","pp://Investing activities/Name of component of cash flows from (used in) investing activities 7[taxonomy=DKGAAP,period=1]+Investing activities/Name of component of cash flows from (used in) investing activities 7[taxonomy=DKGAAP,period=2]",null,null,null,"Name of component of cash flows from (used in) investing activities 7",null,null,"Navn på pengestrømskomponent vedrørende investeringsaktivitet 7"]
[{"$f":"\"\"&INDEX(PP_Locale,ROW(),PP_LanguageIndex)","v":"Name of component of cash flows from (used in) investing activities 8"},"Investing activities/Name of component of cash flows from (used in) investing activities 8[taxonomy=DKGAAP,period=1]","Investing activities/Name of component of cash flows from (used in) investing activities 8[taxonomy=DKGAAP,period=2]",null,null,null,null,null,null,null,null,"pp://Investing activities/Name of component of cash flows from (used in) investing activities 8[taxonomy=DKGAAP,period=1]+Investing activities/Name of component of cash flows from (used in) investing activities 8[taxonomy=DKGAAP,period=2]","pp://Investing activities/Name of component of cash flows from (used in) investing activities 8[taxonomy=DKGAAP,period=1]+Investing activities/Name of component of cash flows from (used in) investing activities 8[taxonomy=DKGAAP,period=2]","pp://Investing activities/Name of component of cash flows from (used in) investing activities 8[taxonomy=DKGAAP,period=1]+Investing activities/Name of component of cash flows from (used in) investing activities 8[taxonomy=DKGAAP,period=2]","pp://Investing activities/Name of component of cash flows from (used in) investing activities 8[taxonomy=DKGAAP,period=1]+Investing activities/Name of component of cash flows from (used in) investing activities 8[taxonomy=DKGAAP,period=2]",null,null,null,"Name of component of cash flows from (used in) investing activities 8",null,null,"Navn på pengestrømskomponent vedrørende investeringsaktivitet 8"]
[{"$f":"\"\"&INDEX(PP_Locale,ROW(),PP_LanguageIndex)","v":"Name of component of cash flows from (used in) investing activities 9"},"Investing activities/Name of component of cash flows from (used in) investing activities 9[taxonomy=DKGAAP,period=1]","Investing activities/Name of component of cash flows from (used in) investing activities 9[taxonomy=DKGAAP,period=2]",null,null,null,null,null,null,null,null,"pp://Investing activities/Name of component of cash flows from (used in) investing activities 9[taxonomy=DKGAAP,period=1]+Investing activities/Name of component of cash flows from (used in) investing activities 9[taxonomy=DKGAAP,period=2]","pp://Investing activities/Name of component of cash flows from (used in) investing activities 9[taxonomy=DKGAAP,period=1]+Investing activities/Name of component of cash flows from (used in) investing activities 9[taxonomy=DKGAAP,period=2]","pp://Investing activities/Name of component of cash flows from (used in) investing activities 9[taxonomy=DKGAAP,period=1]+Investing activities/Name of component of cash flows from (used in) investing activities 9[taxonomy=DKGAAP,period=2]","pp://Investing activities/Name of component of cash flows from (used in) investing activities 9[taxonomy=DKGAAP,period=1]+Investing activities/Name of component of cash flows from (used in) investing activities 9[taxonomy=DKGAAP,period=2]",null,null,null,"Name of component of cash flows from (used in) investing activities 9",null,null,"Navn på pengestrømskomponent vedrørende investeringsaktivitet 9"]
[{"$f":"\"\"&INDEX(PP_Locale,ROW(),PP_LanguageIndex)","v":"Name of component of cash flows from (used in) investing activities 10"},"Investing activities/Name of component of cash flows from (used in) investing activities 10[taxonomy=DKGAAP,period=1]","Investing activities/Name of component of cash flows from (used in) investing activities 10[taxonomy=DKGAAP,period=2]",null,null,null,null,null,null,null,null,"pp://Investing activities/Name of component of cash flows from (used in) investing activities 10[taxonomy=DKGAAP,period=1]+Investing activities/Name of component of cash flows from (used in) investing activities 10[taxonomy=DKGAAP,period=2]","pp://Investing activities/Name of component of cash flows from (used in) investing activities 10[taxonomy=DKGAAP,period=1]+Investing activities/Name of component of cash flows from (used in) investing activities 10[taxonomy=DKGAAP,period=2]","pp://Investing activities/Name of component of cash flows from (used in) investing activities 10[taxonomy=DKGAAP,period=1]+Investing activities/Name of component of cash flows from (used in) investing activities 10[taxonomy=DKGAAP,period=2]","pp://Investing activities/Name of component of cash flows from (used in) investing activities 10[taxonomy=DKGAAP,period=1]+Investing activities/Name of component of cash flows from (used in) investing activities 10[taxonomy=DKGAAP,period=2]",null,null,null,"Name of component of cash flows from (used in) investing activities 10",null,null,"Navn på pengestrømskomponent vedrørende investeringsaktivitet 10"]
[{"$f":"\"\"&INDEX(PP_Locale,ROW(),PP_LanguageIndex)","v":"Cash flows from (used in) investing activities"},null,null,null,null,null,null,null,null,null,null,null,null,null,null,null,null,null,"Cash flows from (used in) investing activities",null,null,"Pengestrømme fra (brugt i) investeringsaktivitet"]
[{"$f":"\"\"&INDEX(PP_Locale,ROW(),PP_LanguageIndex)","v":""}]
[{"$f":"\"\"&INDEX(PP_Locale,ROW(),PP_LanguageIndex)","v":"Cash flows from (used in) financing activities"},null,null,null,null,null,null,null,null,null,null,null,null,null,null,null,null,null,"Cash flows from (used in) financing activities",null,null,"Pengestrømme fra (brugt i) finansieringsaktivitet"]
[{"$f":"\"\"&INDEX(PP_Locale,ROW(),PP_LanguageIndex)","v":"Proceeds from long-term liabilities, classified as financing activities"},null,null,null,null,null,null,null,null,null,null,null,null,null,null,null,null,null,"Proceeds from long-term liabilities, classified as financing activities",null,null,"Provenu af langfristede gældsforpligtelser klassificeret som finansieringsaktivitet"]
[{"$f":"\"\"&INDEX(PP_Locale,ROW(),PP_LanguageIndex)","v":"Repayments of long-term liabilities, classified as financing activities"},null,null,null,null,null,null,null,null,null,null,null,null,null,null,null,null,null,"Repayments of long-term liabilities, classified as financing activities",null,null,"Afdrag på langfristede gældsforpligtelser, klassificeret som finansieringsaktivitet"]
[{"$f":"\"\"&INDEX(PP_Locale,ROW(),PP_LanguageIndex)","v":"Repayment of debt to credit institutions"},null,null,null,null,null,null,null,null,null,null,null,null,null,null,null,null,null,"Repayment of debt to credit institutions",null,null,"Tilbagebetaling af gæld til kreditinstitutter"]
[{"$f":"\"\"&INDEX(PP_Locale,ROW(),PP_LanguageIndex)","v":"Repayment of mortgage debt"},null,null,null,null,null,null,null,null,null,null,null,null,null,null,null,null,null,"Repayment of mortgage debt",null,null,"Tilbagebetaling af gæld til realkreditinstitutter"]
[{"$f":"\"\"&INDEX(PP_Locale,ROW(),PP_LanguageIndex)","v":"Reduction of lease commitments"},null,null,null,null,null,null,null,null,null,null,null,null,null,null,null,null,null,"Reduction of lease commitments",null,null,"Nedbringelse af leasingforpligtelser"]
[{"$f":"\"\"&INDEX(PP_Locale,ROW(),PP_LanguageIndex)","v":"Repayment of debt to group enterprises"},null,null,null,null,null,null,null,null,null,null,null,null,null,null,null,null,null,"Repayment of debt to group enterprises",null,null,"Tilbagebetaling af gæld til tilknyttede virksomheder"]
[{"$f":"\"\"&INDEX(PP_Locale,ROW(),PP_LanguageIndex)","v":"Repayment of debt to associates"},null,null,null,null,null,null,null,null,null,null,null,null,null,null,null,null,null,"Repayment of debt to associates",null,null,"Tilbagebetaling af gæld til associerede virksomheder"]
[{"$f":"\"\"&INDEX(PP_Locale,ROW(),PP_LanguageIndex)","v":"Repayment of debt to participating interests"},null,null,null,null,null,null,null,null,null,null,null,null,null,null,null,null,null,"Repayment of debt to participating interests",null,null,"Tilbagebetaling af gæld til kapitalinteresser"]
[{"$f":"\"\"&INDEX(PP_Locale,ROW(),PP_LanguageIndex)","v":"Repayment of other long-term debt"},null,null,null,null,null,null,null,null,null,null,null,null,null,null,null,null,null,"Repayment of other long-term debt",null,null,"Tilbagebetaling af langfristet gæld i øvrigt"]
[{"$f":"\"\"&INDEX(PP_Locale,ROW(),PP_LanguageIndex)","v":"Incurrence of debt to credit institutions"},null,null,null,null,null,null,null,null,null,null,null,null,null,null,null,null,null,"Incurrence of debt to credit institutions",null,null,"Optagelse af gæld til kreditinstitutter"]
[{"$f":"\"\"&INDEX(PP_Locale,ROW(),PP_LanguageIndex)","v":"Incurrence of mortgage debt"},null,null,null,null,null,null,null,null,null,null,null,null,null,null,null,null,null,"Incurrence of mortgage debt",null,null,"Optagelse af gæld til realkreditinstitutter"]
[{"$f":"\"\"&INDEX(PP_Locale,ROW(),PP_LanguageIndex)","v":"Incurrence of lease obligations"},null,null,null,null,null,null,null,null,null,null,null,null,null,null,null,null,null,"Incurrence of lease obligations",null,null,"Indgåelse af leasingforpligtelser"]
[{"$f":"\"\"&INDEX(PP_Locale,ROW(),PP_LanguageIndex)","v":"incurrence of debt to group enterprises"},null,null,null,null,null,null,null,null,null,null,null,null,null,null,null,null,null,"incurrence of debt to group enterprises",null,null,"Optagelse af gæld hos tilknyttede virksomheder"]
[{"$f":"\"\"&INDEX(PP_Locale,ROW(),PP_LanguageIndex)","v":"Incurrence of debt to associates"},null,null,null,null,null,null,null,null,null,null,null,null,null,null,null,null,null,"Incurrence of debt to associates",null,null,"Optagelse af gæld hos associerede virksomheder"]
[{"$f":"\"\"&INDEX(PP_Locale,ROW(),PP_LanguageIndex)","v":"Incurrence of debt to participating interests"},null,null,null,null,null,null,null,null,null,null,null,null,null,null,null,null,null,"Incurrence of debt to participating interests",null,null,"Optagelse af gæld hos kapitalinteresser"]
[{"$f":"\"\"&INDEX(PP_Locale,ROW(),PP_LanguageIndex)","v":"Incurrence of long-term debt"},null,null,null,null,null,null,null,null,null,null,null,null,null,null,null,null,null,"Incurrence of long-term debt",null,null,"Optagelse af langfristet gæld i øvrigt"]
[{"$f":"\"\"&INDEX(PP_Locale,ROW(),PP_LanguageIndex)","v":"Purchase of treasury shares [cash flow]"},null,null,null,null,null,null,null,null,null,null,null,null,null,null,null,null,null,"Purchase of treasury shares [cash flow]",null,null,"Køb af egne aktier"]
[{"$f":"\"\"&INDEX(PP_Locale,ROW(),PP_LanguageIndex)","v":"Sale of treasury shares"},null,null,null,null,null,null,null,null,null,null,null,null,null,null,null,null,null,"Sale of treasury shares",null,null,"Salg af egne aktier"]
[{"$f":"\"\"&INDEX(PP_Locale,ROW(),PP_LanguageIndex)","v":"Cash capital increase"},null,null,null,null,null,null,null,null,null,null,null,null,null,null,null,null,null,"Cash capital increase",null,null,"Kontant kapitalforhøjelse"]
[{"$f":"\"\"&INDEX(PP_Locale,ROW(),PP_LanguageIndex)","v":"Cash capital reduction"},null,null,null,null,null,null,null,null,null,null,null,null,null,null,null,null,null,"Cash capital reduction",null,null,"Kontant kapitalnedsættelse"]
[{"$f":"\"\"&INDEX(PP_Locale,ROW(),PP_LanguageIndex)","v":"Dividends paid, classified as financing activities"},null,null,null,null,null,null,null,null,null,null,null,null,null,null,null,null,null,"Dividends paid, classified as financing activities",null,null,"Udbetalt udbytte, klassificeret som finansieringsaktivitet"]
[{"$f":"\"\"&INDEX(PP_Locale,ROW(),PP_LanguageIndex)","v":"Dividend paid [cash flow]"},null,null,null,null,null,null,null,null,null,null,null,null,null,null,null,null,null,"Dividend paid [cash flow]",null,null,"Betalt udbytte [pengestrømsopgørelse]"]
[{"$f":"\"\"&INDEX(PP_Locale,ROW(),PP_LanguageIndex)","v":"Assets held for sale, classified as financing activities"},null,null,null,null,null,null,null,null,null,null,null,null,null,null,null,null,null,"Assets held for sale, classified as financing activities",null,null,"Aktiver bestemt for salg, klassificeret som finansieringsaktivitet"]
[{"$f":"\"\"&INDEX(PP_Locale,ROW(),PP_LanguageIndex)","v":"Name of component of cash flows from (used in) financing activities 1"},"Financing activities/Name of component of cash flows from (used in) financing activities 1[taxonomy=DKGAAP,period=1]","Financing activities/Name of component of cash flows from (used in) financing activities 1[taxonomy=DKGAAP,period=2]",null,null,null,null,null,null,null,null,{"$f":"IF(COUNTBLANK(L$1),$O1021,SUBSTITUTE($O1021,\"DKGAAP]\",\"DKGAAP,\"&L$1&\"]\"))","v":"pp://Financing activities/Name of component of cash flows from (used in) financing activities 1[taxonomy=DKGAAP,period=1]+Financing activities/Name of component of cash flows from (used in) financing activities 1[taxonomy=DKGAAP,period=2]"},"pp://Financing activities/Name of component of cash flows from (used in) financing activities 1[taxonomy=DKGAAP,period=1]+Financing activities/Name of component of cash flows from (used in) financing activities 1[taxonomy=DKGAAP,period=2]","pp://Financing activities/Name of component of cash flows from (used in) financing activities 1[taxonomy=DKGAAP,period=1]+Financing activities/Name of component of cash flows from (used in) financing activities 1[taxonomy=DKGAAP,period=2]",{"$f":"IF(COUNTA($B1021),\"pp://\"&$B1021&IF(COUNTA($C1021),\"+\"&$C1021,\"\")&IF(COUNTA($D1021),\"+\"&$D1021,\"\")&IF(COUNTA($E1021),\"+\"&$E1021,\"\")&IF(COUNTA($F1021),\"+\"&$F1021,\"\")&IF(COUNTA($G1021),\"+\"&$G1021,\"\")&IF(COUNTA($H1021),\"+\"&$H1021,\"\")&IF(COUNTA($I1021),\"+\"&$I1021,\"\")&IF(COUNTA($J1021),\"+\"&$J1021,\"\")&IF(COUNTA($K1021),\"+\"&$K1021,\"\")&$P1021,\"\")","v":"pp://Financing activities/Name of component of cash flows from (used in) financing activities 1[taxonomy=DKGAAP,period=1]+Financing activities/Name of component of cash flows from (used in) financing activities 1[taxonomy=DKGAAP,period=2]"},null,null,null,"Name of component of cash flows from (used in) financing activities 1",null,null,"Navn på pengestrømskomponent vedrørende finansieringsaktivitet 1"]
[{"$f":"\"\"&INDEX(PP_Locale,ROW(),PP_LanguageIndex)","v":"Name of component of cash flows from (used in) financing activities 2"},"Financing activities/Name of component of cash flows from (used in) financing activities 2[taxonomy=DKGAAP,period=1]","Financing activities/Name of component of cash flows from (used in) financing activities 2[taxonomy=DKGAAP,period=2]",null,null,null,null,null,null,null,null,"pp://Financing activities/Name of component of cash flows from (used in) financing activities 2[taxonomy=DKGAAP,period=1]+Financing activities/Name of component of cash flows from (used in) financing activities 2[taxonomy=DKGAAP,period=2]","pp://Financing activities/Name of component of cash flows from (used in) financing activities 2[taxonomy=DKGAAP,period=1]+Financing activities/Name of component of cash flows from (used in) financing activities 2[taxonomy=DKGAAP,period=2]","pp://Financing activities/Name of component of cash flows from (used in) financing activities 2[taxonomy=DKGAAP,period=1]+Financing activities/Name of component of cash flows from (used in) financing activities 2[taxonomy=DKGAAP,period=2]","pp://Financing activities/Name of component of cash flows from (used in) financing activities 2[taxonomy=DKGAAP,period=1]+Financing activities/Name of component of cash flows from (used in) financing activities 2[taxonomy=DKGAAP,period=2]",null,null,null,"Name of component of cash flows from (used in) financing activities 2",null,null,"Navn på pengestrømskomponent vedrørende finansieringsaktivitet 2"]
[{"$f":"\"\"&INDEX(PP_Locale,ROW(),PP_LanguageIndex)","v":"Name of component of cash flows from (used in) financing activities 3"},"Financing activities/Name of component of cash flows from (used in) financing activities 3[taxonomy=DKGAAP,period=1]","Financing activities/Name of component of cash flows from (used in) financing activities 3[taxonomy=DKGAAP,period=2]",null,null,null,null,null,null,null,null,"pp://Financing activities/Name of component of cash flows from (used in) financing activities 3[taxonomy=DKGAAP,period=1]+Financing activities/Name of component of cash flows from (used in) financing activities 3[taxonomy=DKGAAP,period=2]","pp://Financing activities/Name of component of cash flows from (used in) financing activities 3[taxonomy=DKGAAP,period=1]+Financing activities/Name of component of cash flows from (used in) financing activities 3[taxonomy=DKGAAP,period=2]","pp://Financing activities/Name of component of cash flows from (used in) financing activities 3[taxonomy=DKGAAP,period=1]+Financing activities/Name of component of cash flows from (used in) financing activities 3[taxonomy=DKGAAP,period=2]","pp://Financing activities/Name of component of cash flows from (used in) financing activities 3[taxonomy=DKGAAP,period=1]+Financing activities/Name of component of cash flows from (used in) financing activities 3[taxonomy=DKGAAP,period=2]",null,null,null,"Name of component of cash flows from (used in) financing activities 3",null,null,"Navn på pengestrømskomponent vedrørende finansieringsaktivitet 3"]
[{"$f":"\"\"&INDEX(PP_Locale,ROW(),PP_LanguageIndex)","v":"Name of component of cash flows from (used in) financing activities 4"},"Financing activities/Name of component of cash flows from (used in) financing activities 4[taxonomy=DKGAAP,period=1]","Financing activities/Name of component of cash flows from (used in) financing activities 4[taxonomy=DKGAAP,period=2]",null,null,null,null,null,null,null,null,"pp://Financing activities/Name of component of cash flows from (used in) financing activities 4[taxonomy=DKGAAP,period=1]+Financing activities/Name of component of cash flows from (used in) financing activities 4[taxonomy=DKGAAP,period=2]","pp://Financing activities/Name of component of cash flows from (used in) financing activities 4[taxonomy=DKGAAP,period=1]+Financing activities/Name of component of cash flows from (used in) financing activities 4[taxonomy=DKGAAP,period=2]","pp://Financing activities/Name of component of cash flows from (used in) financing activities 4[taxonomy=DKGAAP,period=1]+Financing activities/Name of component of cash flows from (used in) financing activities 4[taxonomy=DKGAAP,period=2]","pp://Financing activities/Name of component of cash flows from (used in) financing activities 4[taxonomy=DKGAAP,period=1]+Financing activities/Name of component of cash flows from (used in) financing activities 4[taxonomy=DKGAAP,period=2]",null,null,null,"Name of component of cash flows from (used in) financing activities 4",null,null,"Navn på pengestrømskomponent vedrørende finansieringsaktivitet 4"]
[{"$f":"\"\"&INDEX(PP_Locale,ROW(),PP_LanguageIndex)","v":"Name of component of cash flows from (used in) financing activities 5"},"Financing activities/Name of component of cash flows from (used in) financing activities 5[taxonomy=DKGAAP,period=1]","Financing activities/Name of component of cash flows from (used in) financing activities 5[taxonomy=DKGAAP,period=2]",null,null,null,null,null,null,null,null,"pp://Financing activities/Name of component of cash flows from (used in) financing activities 5[taxonomy=DKGAAP,period=1]+Financing activities/Name of component of cash flows from (used in) financing activities 5[taxonomy=DKGAAP,period=2]","pp://Financing activities/Name of component of cash flows from (used in) financing activities 5[taxonomy=DKGAAP,period=1]+Financing activities/Name of component of cash flows from (used in) financing activities 5[taxonomy=DKGAAP,period=2]","pp://Financing activities/Name of component of cash flows from (used in) financing activities 5[taxonomy=DKGAAP,period=1]+Financing activities/Name of component of cash flows from (used in) financing activities 5[taxonomy=DKGAAP,period=2]","pp://Financing activities/Name of component of cash flows from (used in) financing activities 5[taxonomy=DKGAAP,period=1]+Financing activities/Name of component of cash flows from (used in) financing activities 5[taxonomy=DKGAAP,period=2]",null,null,null,"Name of component of cash flows from (used in) financing activities 5",null,null,"Navn på pengestrømskomponent vedrørende finansieringsaktivitet 5"]
[{"$f":"\"\"&INDEX(PP_Locale,ROW(),PP_LanguageIndex)","v":"Name of component of cash flows from (used in) financing activities 6"},"Financing activities/Name of component of cash flows from (used in) financing activities 6[taxonomy=DKGAAP,period=1]","Financing activities/Name of component of cash flows from (used in) financing activities 6[taxonomy=DKGAAP,period=2]",null,null,null,null,null,null,null,null,"pp://Financing activities/Name of component of cash flows from (used in) financing activities 6[taxonomy=DKGAAP,period=1]+Financing activities/Name of component of cash flows from (used in) financing activities 6[taxonomy=DKGAAP,period=2]","pp://Financing activities/Name of component of cash flows from (used in) financing activities 6[taxonomy=DKGAAP,period=1]+Financing activities/Name of component of cash flows from (used in) financing activities 6[taxonomy=DKGAAP,period=2]","pp://Financing activities/Name of component of cash flows from (used in) financing activities 6[taxonomy=DKGAAP,period=1]+Financing activities/Name of component of cash flows from (used in) financing activities 6[taxonomy=DKGAAP,period=2]","pp://Financing activities/Name of component of cash flows from (used in) financing activities 6[taxonomy=DKGAAP,period=1]+Financing activities/Name of component of cash flows from (used in) financing activities 6[taxonomy=DKGAAP,period=2]",null,null,null,"Name of component of cash flows from (used in) financing activities 6",null,null,"Navn på pengestrømskomponent vedrørende finansieringsaktivitet 6"]
[{"$f":"\"\"&INDEX(PP_Locale,ROW(),PP_LanguageIndex)","v":"Name of component of cash flows from (used in) financing activities 7"},"Financing activities/Name of component of cash flows from (used in) financing activities 7[taxonomy=DKGAAP,period=1]","Financing activities/Name of component of cash flows from (used in) financing activities 7[taxonomy=DKGAAP,period=2]",null,null,null,null,null,null,null,null,"pp://Financing activities/Name of component of cash flows from (used in) financing activities 7[taxonomy=DKGAAP,period=1]+Financing activities/Name of component of cash flows from (used in) financing activities 7[taxonomy=DKGAAP,period=2]","pp://Financing activities/Name of component of cash flows from (used in) financing activities 7[taxonomy=DKGAAP,period=1]+Financing activities/Name of component of cash flows from (used in) financing activities 7[taxonomy=DKGAAP,period=2]","pp://Financing activities/Name of component of cash flows from (used in) financing activities 7[taxonomy=DKGAAP,period=1]+Financing activities/Name of component of cash flows from (used in) financing activities 7[taxonomy=DKGAAP,period=2]","pp://Financing activities/Name of component of cash flows from (used in) financing activities 7[taxonomy=DKGAAP,period=1]+Financing activities/Name of component of cash flows from (used in) financing activities 7[taxonomy=DKGAAP,period=2]",null,null,null,"Name of component of cash flows from (used in) financing activities 7",null,null,"Navn på pengestrømskomponent vedrørende finansieringsaktivitet 7"]
[{"$f":"\"\"&INDEX(PP_Locale,ROW(),PP_LanguageIndex)","v":"Name of component of cash flows from (used in) financing activities 8"},"Financing activities/Name of component of cash flows from (used in) financing activities 8[taxonomy=DKGAAP,period=1]","Financing activities/Name of component of cash flows from (used in) financing activities 8[taxonomy=DKGAAP,period=2]",null,null,null,null,null,null,null,null,"pp://Financing activities/Name of component of cash flows from (used in) financing activities 8[taxonomy=DKGAAP,period=1]+Financing activities/Name of component of cash flows from (used in) financing activities 8[taxonomy=DKGAAP,period=2]","pp://Financing activities/Name of component of cash flows from (used in) financing activities 8[taxonomy=DKGAAP,period=1]+Financing activities/Name of component of cash flows from (used in) financing activities 8[taxonomy=DKGAAP,period=2]","pp://Financing activities/Name of component of cash flows from (used in) financing activities 8[taxonomy=DKGAAP,period=1]+Financing activities/Name of component of cash flows from (used in) financing activities 8[taxonomy=DKGAAP,period=2]","pp://Financing activities/Name of component of cash flows from (used in) financing activities 8[taxonomy=DKGAAP,period=1]+Financing activities/Name of component of cash flows from (used in) financing activities 8[taxonomy=DKGAAP,period=2]",null,null,null,"Name of component of cash flows from (used in) financing activities 8",null,null,"Navn på pengestrømskomponent vedrørende finansieringsaktivitet 8"]
[{"$f":"\"\"&INDEX(PP_Locale,ROW(),PP_LanguageIndex)","v":"Name of component of cash flows from (used in) financing activities 9"},"Financing activities/Name of component of cash flows from (used in) financing activities 9[taxonomy=DKGAAP,period=1]","Financing activities/Name of component of cash flows from (used in) financing activities 9[taxonomy=DKGAAP,period=2]",null,null,null,null,null,null,null,null,"pp://Financing activities/Name of component of cash flows from (used in) financing activities 9[taxonomy=DKGAAP,period=1]+Financing activities/Name of component of cash flows from (used in) financing activities 9[taxonomy=DKGAAP,period=2]","pp://Financing activities/Name of component of cash flows from (used in) financing activities 9[taxonomy=DKGAAP,period=1]+Financing activities/Name of component of cash flows from (used in) financing activities 9[taxonomy=DKGAAP,period=2]","pp://Financing activities/Name of component of cash flows from (used in) financing activities 9[taxonomy=DKGAAP,period=1]+Financing activities/Name of component of cash flows from (used in) financing activities 9[taxonomy=DKGAAP,period=2]","pp://Financing activities/Name of component of cash flows from (used in) financing activities 9[taxonomy=DKGAAP,period=1]+Financing activities/Name of component of cash flows from (used in) financing activities 9[taxonomy=DKGAAP,period=2]",null,null,null,"Name of component of cash flows from (used in) financing activities 9",null,null,"Navn på pengestrømskomponent vedrørende finansieringsaktivitet 9"]
[{"$f":"\"\"&INDEX(PP_Locale,ROW(),PP_LanguageIndex)","v":"Name of component of cash flows from (used in) financing activities 10"},"Financing activities/Name of component of cash flows from (used in) financing activities 10[taxonomy=DKGAAP,period=1]","Financing activities/Name of component of cash flows from (used in) financing activities 10[taxonomy=DKGAAP,period=2]",null,null,null,null,null,null,null,null,"pp://Financing activities/Name of component of cash flows from (used in) financing activities 10[taxonomy=DKGAAP,period=1]+Financing activities/Name of component of cash flows from (used in) financing activities 10[taxonomy=DKGAAP,period=2]","pp://Financing activities/Name of component of cash flows from (used in) financing activities 10[taxonomy=DKGAAP,period=1]+Financing activities/Name of component of cash flows from (used in) financing activities 10[taxonomy=DKGAAP,period=2]","pp://Financing activities/Name of component of cash flows from (used in) financing activities 10[taxonomy=DKGAAP,period=1]+Financing activities/Name of component of cash flows from (used in) financing activities 10[taxonomy=DKGAAP,period=2]","pp://Financing activities/Name of component of cash flows from (used in) financing activities 10[taxonomy=DKGAAP,period=1]+Financing activities/Name of component of cash flows from (used in) financing activities 10[taxonomy=DKGAAP,period=2]",null,null,null,"Name of component of cash flows from (used in) financing activities 10",null,null,"Navn på pengestrømskomponent vedrørende finansieringsaktivitet 10"]
[{"$f":"\"\"&INDEX(PP_Locale,ROW(),PP_LanguageIndex)","v":"Cash flows from (used in) financing activities"},null,null,null,null,null,null,null,null,null,null,null,null,null,null,null,null,null,"Cash flows from (used in) financing activities",null,null,"Pengestrømme fra (brugt i) finansieringsaktivitet"]
[{"$f":"\"\"&INDEX(PP_Locale,ROW(),PP_LanguageIndex)","v":""}]
[{"$f":"\"\"&INDEX(PP_Locale,ROW(),PP_LanguageIndex)","v":"Cash flows statement"},null,null,null,null,null,null,null,null,null,null,null,null,null,null,null,null,null,"Cash flows statement",null,null,"Pengestrømsopgørelse"]
[{"$f":"\"\"&INDEX(PP_Locale,ROW(),PP_LanguageIndex)","v":"Increase (decrease) of cash and cash equivalents before effect of exchange rate changes"},null,null,null,null,null,null,null,null,null,null,null,null,null,null,null,null,null,"Increase (decrease) of cash and cash equivalents before effect of exchange rate changes",null,null,"Forhøjelse (nedsættelse) af likvider før effekt af valutakursændringer"]
[{"$f":"\"\"&INDEX(PP_Locale,ROW(),PP_LanguageIndex)","v":"Net increase (decrease) in cash and cash equivalents"},null,null,null,null,null,null,null,null,null,null,null,null,null,null,null,null,null,"Net increase (decrease) in cash and cash equivalents",null,null,"Ændring i likvider"]
[{"$f":"\"\"&INDEX(PP_Locale,ROW(),PP_LanguageIndex)","v":"Cash and cash equivalents, beginning balance"},null,null,null,null,null,null,null,null,null,null,null,null,null,null,null,null,null,"Cash and cash equivalents, beginning balance",null,null,"Likvide beholdninger, primo"]
[{"$f":"\"\"&INDEX(PP_Locale,ROW(),PP_LanguageIndex)","v":"Securities included as cash and cash equivalents, beginning balance"},null,null,null,null,null,null,null,null,null,null,null,null,null,null,null,null,null,"Securities included as cash and cash equivalents, beginning balance",null,null,"Værdipapirer medtaget som likvider, primo"]
[{"$f":"\"\"&INDEX(PP_Locale,ROW(),PP_LanguageIndex)","v":"Short-term debt to banks, beginning balance (Cach flow statement)"},null,null,null,null,null,null,null,null,null,null,null,null,null,null,null,null,null,"Short-term debt to banks, beginning balance (Cach flow statement)",null,null,"Kortfristet gæld til banker, primo (pengestrømsopgørelse)"]
[{"$f":"\"\"&INDEX(PP_Locale,ROW(),PP_LanguageIndex)","v":"Exchange rate adjustments, cash and cash equivalents, beginning balance"},null,null,null,null,null,null,null,null,null,null,null,null,null,null,null,null,null,"Exchange rate adjustments, cash and cash equivalents, beginning balance",null,null,"Valutakursreguleringer (likvider), primo"]
[{"$f":"\"\"&INDEX(PP_Locale,ROW(),PP_LanguageIndex)","v":"Cash and cash equivalents [cash flow], beginning balance"},null,null,null,null,null,null,null,null,null,null,null,null,null,null,null,null,null,"Cash and cash equivalents [cash flow], beginning balance",null,null,"Likvide beholdninger (pengestrømsopgørelsen), primo"]
[{"$f":"\"\"&INDEX(PP_Locale,ROW(),PP_LanguageIndex)","v":"Cash and cash equivalents, ending balance"},null,null,null,null,null,null,null,null,null,null,null,null,null,null,null,null,null,"Cash and cash equivalents, ending balance",null,null,"Likvide beholdninger, ultimo"]
[{"$f":"\"\"&INDEX(PP_Locale,ROW(),PP_LanguageIndex)","v":"Securities included as cash and cash equivalents, ending balance"},null,null,null,null,null,null,null,null,null,null,null,null,null,null,null,null,null,"Securities included as cash and cash equivalents, ending balance",null,null,"Værdipapirer medtaget som likvider, ultimo"]
[{"$f":"\"\"&INDEX(PP_Locale,ROW(),PP_LanguageIndex)","v":"Short-term debt to banks, ending balance (Cach flow statement)"},null,null,null,null,null,null,null,null,null,null,null,null,null,null,null,null,null,"Short-term debt to banks, ending balance (Cach flow statement)",null,null,"Kortfristet gæld til banker, ultimo (pengestrømsopgørelse)"]
[{"$f":"\"\"&INDEX(PP_Locale,ROW(),PP_LanguageIndex)","v":"Exchange rate adjustments, cash and cash equivalents, ending balance"},null,null,null,null,null,null,null,null,null,null,null,null,null,null,null,null,null,"Exchange rate adjustments, cash and cash equivalents, ending balance",null,null,"Valutakursreguleringer (likvider), ultimo"]
[{"$f":"\"\"&INDEX(PP_Locale,ROW(),PP_LanguageIndex)","v":"Cash and cash equivalents [cash flow], ending balance"},null,null,null,null,null,null,null,null,null,null,null,null,null,null,null,null,null,"Cash and cash equivalents [cash flow], ending balance",null,null,"Likvide beholdninger (pengestrømsopgørelsen), ultimo"]
[{"$f":"\"\"&INDEX(PP_Locale,ROW(),PP_LanguageIndex)","v":"Tax on changes in equity [cash flow]"},null,null,null,null,null,null,null,null,null,null,null,null,null,null,null,null,null,"Tax on changes in equity [cash flow]",null,null,"Skat af egenkapitalbevægelser (pengestrømsopgørelse)"]
[{"$f":"\"\"&INDEX(PP_Locale,ROW(),PP_LanguageIndex)","v":""}]
[{"$f":"\"\"&INDEX(PP_Locale,ROW(),PP_LanguageIndex)","v":"Accounting policies"},null,null,null,null,null,null,null,null,null,null,null,null,null,null,null,null,null,"Accounting policies",null,null,"Anvendt regnskabspraksis"]
[{"$f":"\"\"&INDEX(PP_Locale,ROW(),PP_LanguageIndex)","v":"Disclosure of accounting policies"},"Accounting policies/Disclosure of accounting policies[taxonomy=DKGAAP]",null,null,null,null,null,null,null,null,null,{"$f":"IF(COUNTBLANK(L$1),$O1049,SUBSTITUTE($O1049,\"DKGAAP]\",\"DKGAAP,\"&L$1&\"]\"))","v":"pp://Accounting policies/Disclosure of accounting policies[taxonomy=DKGAAP]"},"pp://Accounting policies/Disclosure of accounting policies[taxonomy=DKGAAP,valuelanguage=en]","pp://Accounting policies/Disclosure of accounting policies[taxonomy=DKGAAP,period=1_parent]",{"$f":"IF(COUNTA($B1049),\"pp://\"&$B1049&IF(COUNTA($C1049),\"+\"&$C1049,\"\")&IF(COUNTA($D1049),\"+\"&$D1049,\"\")&IF(COUNTA($E1049),\"+\"&$E1049,\"\")&IF(COUNTA($F1049),\"+\"&$F1049,\"\")&IF(COUNTA($G1049),\"+\"&$G1049,\"\")&IF(COUNTA($H1049),\"+\"&$H1049,\"\")&IF(COUNTA($I1049),\"+\"&$I1049,\"\")&IF(COUNTA($J1049),\"+\"&$J1049,\"\")&IF(COUNTA($K1049),\"+\"&$K1049,\"\")&$P1049,\"\")","v":"pp://Accounting policies/Disclosure of accounting policies[taxonomy=DKGAAP]"},null,null,null,"Disclosure of accounting policies",null,null,"Oplysning om anvendt regnskabspraksis"]
[{"$f":"\"\"&INDEX(PP_Locale,ROW(),PP_LanguageIndex)","v":"Accounting policies are UNCHANGED from previous period"},"Accounting policies/Accounting policies are UNCHANGED from previous period[transformation=fixed-true,taxonomy=DKGAAP]",null,null,null,null,null,null,null,null,null,"pp://Accounting policies/Accounting policies are UNCHANGED from previous period[transformation=fixed-true,taxonomy=DKGAAP]","pp://Accounting policies/Accounting policies are UNCHANGED from previous period[transformation=fixed-true,taxonomy=DKGAAP,valuelanguage=en]","pp://Accounting policies/Accounting policies are UNCHANGED from previous period[transformation=fixed-true,taxonomy=DKGAAP,period=1_parent]","pp://Accounting policies/Accounting policies are UNCHANGED from previous period[transformation=fixed-true,taxonomy=DKGAAP]",null,null,null,"Accounting policies are UNCHANGED from previous period",null,null,"Den anvendte regnskabspraksis er UÆNDRET i forhold til foregående periode"]
[{"$f":"\"\"&INDEX(PP_Locale,ROW(),PP_LanguageIndex)","v":"Accounting policies are CHANGED from previous period"},"Accounting policies/Accounting policies are CHANGED from previous period[transformation=fixed-false,taxonomy=DKGAAP]",null,null,null,null,null,null,null,null,null,"pp://Accounting policies/Accounting policies are CHANGED from previous period[transformation=fixed-false,taxonomy=DKGAAP]","pp://Accounting policies/Accounting policies are CHANGED from previous period[transformation=fixed-false,taxonomy=DKGAAP,valuelanguage=en]","pp://Accounting policies/Accounting policies are CHANGED from previous period[transformation=fixed-false,taxonomy=DKGAAP,period=1_parent]","pp://Accounting policies/Accounting policies are CHANGED from previous period[transformation=fixed-false,taxonomy=DKGAAP]",null,null,null,"Accounting policies are CHANGED from previous period",null,null,"Den anvendte regnskabspraksis er ÆNDRET i forhold til foregående periode"]
[{"$f":"\"\"&INDEX(PP_Locale,ROW(),PP_LanguageIndex)","v":"Explanation of not disclosing cash flows statements"},"Accounting policies/Explanation of not disclosing cash flows statements[taxonomy=DKGAAP]",null,null,null,null,null,null,null,null,null,"pp://Accounting policies/Explanation of not disclosing cash flows statements[taxonomy=DKGAAP]","pp://Accounting policies/Explanation of not disclosing cash flows statements[taxonomy=DKGAAP,valuelanguage=en]","pp://Accounting policies/Explanation of not disclosing cash flows statements[taxonomy=DKGAAP,period=1_parent]","pp://Accounting policies/Explanation of not disclosing cash flows statements[taxonomy=DKGAAP]",null,null,null,"Explanation of not disclosing cash flows statements",null,null,"Forklaring af manglende pengestrømsopgørelse"]
[{"$f":"\"\"&INDEX(PP_Locale,ROW(),PP_LanguageIndex)","v":"Information on omission of consolidated financial statement"},"Accounting policies/Information on omission of consolidated financial statement[taxonomy=DKGAAP]",null,null,null,null,null,null,null,null,null,"pp://Accounting policies/Information on omission of consolidated financial statement[taxonomy=DKGAAP]","pp://Accounting policies/Information on omission of consolidated financial statement[taxonomy=DKGAAP,valuelanguage=en]","pp://Accounting policies/Information on omission of consolidated financial statement[taxonomy=DKGAAP,period=1_parent]","pp://Accounting policies/Information on omission of consolidated financial statement[taxonomy=DKGAAP]",null,null,null,"Information on omission of consolidated financial statement",null,null,"Information om undladelse af koncernregnskab"]
[{"$f":"\"\"&INDEX(PP_Locale,ROW(),PP_LanguageIndex)","v":""}]
[{"$f":"\"\"&INDEX(PP_Locale,ROW(),PP_LanguageIndex)","v":"Notes"},null,null,null,null,null,null,null,null,null,null,null,null,null,null,null,null,null,"Notes",null,null,"Noter"]
[{"$f":"\"\"&INDEX(PP_Locale,ROW(),PP_LanguageIndex)","v":"Disclosure of income statement"},"Notes/Disclosure of income statement[taxonomy=DKGAAP]",null,null,null,null,null,null,null,null,null,{"$f":"IF(COUNTBLANK(L$1),$O1056,SUBSTITUTE($O1056,\"DKGAAP]\",\"DKGAAP,\"&L$1&\"]\"))","v":"pp://Notes/Disclosure of income statement[taxonomy=DKGAAP]"},"pp://Notes/Disclosure of income statement[taxonomy=DKGAAP,valuelanguage=en]","pp://Notes/Disclosure of income statement[taxonomy=DKGAAP,period=1_parent]",{"$f":"IF(COUNTA($B1056),\"pp://\"&$B1056&IF(COUNTA($C1056),\"+\"&$C1056,\"\")&IF(COUNTA($D1056),\"+\"&$D1056,\"\")&IF(COUNTA($E1056),\"+\"&$E1056,\"\")&IF(COUNTA($F1056),\"+\"&$F1056,\"\")&IF(COUNTA($G1056),\"+\"&$G1056,\"\")&IF(COUNTA($H1056),\"+\"&$H1056,\"\")&IF(COUNTA($I1056),\"+\"&$I1056,\"\")&IF(COUNTA($J1056),\"+\"&$J1056,\"\")&IF(COUNTA($K1056),\"+\"&$K1056,\"\")&$P1056,\"\")","v":"pp://Notes/Disclosure of income statement[taxonomy=DKGAAP]"},null,null,null,"Disclosure of income statement",null,null,"Oplysning om resultatopgørelsen"]
[{"$f":"\"\"&INDEX(PP_Locale,ROW(),PP_LanguageIndex)","v":"Disclosure of revenue"},"Notes/Disclosure of revenue[taxonomy=DKGAAP]",null,null,null,null,null,null,null,null,null,"pp://Notes/Disclosure of revenue[taxonomy=DKGAAP]","pp://Notes/Disclosure of revenue[taxonomy=DKGAAP,valuelanguage=en]","pp://Notes/Disclosure of revenue[taxonomy=DKGAAP,period=1_parent]","pp://Notes/Disclosure of revenue[taxonomy=DKGAAP]",null,null,null,"Disclosure of revenue",null,null,"Oplysning om nettoomsætning"]
[{"$f":"\"\"&INDEX(PP_Locale,ROW(),PP_LanguageIndex)","v":"Information on operating segments - activities and geographical markets"},"Notes/Information on operating segments - activities and geographical markets[taxonomy=DKGAAP]",null,null,null,null,null,null,null,null,null,"pp://Notes/Information on operating segments - activities and geographical markets[taxonomy=DKGAAP]","pp://Notes/Information on operating segments - activities and geographical markets[taxonomy=DKGAAP,valuelanguage=en]","pp://Notes/Information on operating segments - activities and geographical markets[taxonomy=DKGAAP,period=1_parent]","pp://Notes/Information on operating segments - activities and geographical markets[taxonomy=DKGAAP]",null,null,null,"Information on operating segments - activities and geographical markets",null,null,"Information om forretningssegmenter - aktiviteter og geografiske segmenter"]
[{"$f":"\"\"&INDEX(PP_Locale,ROW(),PP_LanguageIndex)","v":"Disclosure of other operating income"},"Notes/Disclosure of other operating income[taxonomy=DKGAAP]",null,null,null,null,null,null,null,null,null,"pp://Notes/Disclosure of other operating income[taxonomy=DKGAAP]","pp://Notes/Disclosure of other operating income[taxonomy=DKGAAP,valuelanguage=en]","pp://Notes/Disclosure of other operating income[taxonomy=DKGAAP,period=1_parent]","pp://Notes/Disclosure of other operating income[taxonomy=DKGAAP]",null,null,null,"Disclosure of other operating income",null,null,"Oplysning om andre driftsindtægter"]
[{"$f":"\"\"&INDEX(PP_Locale,ROW(),PP_LanguageIndex)","v":"Disclosure of external expenses"},"Notes/Disclosure of external expenses[taxonomy=DKGAAP]",null,null,null,null,null,null,null,null,null,"pp://Notes/Disclosure of external expenses[taxonomy=DKGAAP]","pp://Notes/Disclosure of external expenses[taxonomy=DKGAAP,valuelanguage=en]","pp://Notes/Disclosure of external expenses[taxonomy=DKGAAP,period=1_parent]","pp://Notes/Disclosure of external expenses[taxonomy=DKGAAP]",null,null,null,"Disclosure of external expenses",null,null,"Oplysning om eksterne omkostninger"]
[{"$f":"\"\"&INDEX(PP_Locale,ROW(),PP_LanguageIndex)","v":"Disclosure of gross profit (loss)"},"Notes/Disclosure of gross profit (loss)[taxonomy=DKGAAP]",null,null,null,null,null,null,null,null,null,"pp://Notes/Disclosure of gross profit (loss)[taxonomy=DKGAAP]","pp://Notes/Disclosure of gross profit (loss)[taxonomy=DKGAAP,valuelanguage=en]","pp://Notes/Disclosure of gross profit (loss)[taxonomy=DKGAAP,period=1_parent]","pp://Notes/Disclosure of gross profit (loss)[taxonomy=DKGAAP]",null,null,null,"Disclosure of gross profit (loss)",null,null,"Oplysning om bruttofortjeneste/bruttotab"]
[{"$f":"\"\"&INDEX(PP_Locale,ROW(),PP_LanguageIndex)","v":"Disclosure of distribution costs"},"Notes/Disclosure of distribution costs[taxonomy=DKGAAP]",null,null,null,null,null,null,null,null,null,"pp://Notes/Disclosure of distribution costs[taxonomy=DKGAAP]","pp://Notes/Disclosure of distribution costs[taxonomy=DKGAAP,valuelanguage=en]","pp://Notes/Disclosure of distribution costs[taxonomy=DKGAAP,period=1_parent]","pp://Notes/Disclosure of distribution costs[taxonomy=DKGAAP]",null,null,null,"Disclosure of distribution costs",null,null,"Oplysning om distributionsomkostninger"]
[{"$f":"\"\"&INDEX(PP_Locale,ROW(),PP_LanguageIndex)","v":"Disclosure of administrative expenses"},"Notes/Disclosure of administrative expenses[taxonomy=DKGAAP]",null,null,null,null,null,null,null,null,null,"pp://Notes/Disclosure of administrative expenses[taxonomy=DKGAAP]","pp://Notes/Disclosure of administrative expenses[taxonomy=DKGAAP,valuelanguage=en]","pp://Notes/Disclosure of administrative expenses[taxonomy=DKGAAP,period=1_parent]","pp://Notes/Disclosure of administrative expenses[taxonomy=DKGAAP]",null,null,null,"Disclosure of administrative expenses",null,null,"Oplysning om administrationsomkostninger"]
[{"$f":"\"\"&INDEX(PP_Locale,ROW(),PP_LanguageIndex)","v":"Disclosure of employee expense"},"Notes/Disclosure of employee expense[taxonomy=DKGAAP]",null,null,null,null,null,null,null,null,null,"pp://Notes/Disclosure of employee expense[taxonomy=DKGAAP]","pp://Notes/Disclosure of employee expense[taxonomy=DKGAAP,valuelanguage=en]","pp://Notes/Disclosure of employee expense[taxonomy=DKGAAP,period=1_parent]","pp://Notes/Disclosure of employee expense[taxonomy=DKGAAP]",null,null,null,"Disclosure of employee expense",null,null,"Oplysning om personaleomkostninger"]
[{"$f":"\"\"&INDEX(PP_Locale,ROW(),PP_LanguageIndex)","v":"Average number of employees"},null,null,null,null,null,null,null,null,null,null,null,null,null,null,null,null,null,"Average number of employees",null,null,"Gennemsnitligt antal ansatte"]
[{"$f":"\"\"&INDEX(PP_Locale,ROW(),PP_LanguageIndex)","v":"Information on remuneration of management categories and special incentive programmes"},"Notes/Information on remuneration of management categories and special incentive programmes[taxonomy=DKGAAP]",null,null,null,null,null,null,null,null,null,{"$f":"IF(COUNTBLANK(L$1),$O1066,SUBSTITUTE($O1066,\"DKGAAP]\",\"DKGAAP,\"&L$1&\"]\"))","v":"pp://Notes/Information on remuneration of management categories and special incentive programmes[taxonomy=DKGAAP]"},"pp://Notes/Information on remuneration of management categories and special incentive programmes[taxonomy=DKGAAP,valuelanguage=en]","pp://Notes/Information on remuneration of management categories and special incentive programmes[taxonomy=DKGAAP,period=1_parent]",{"$f":"IF(COUNTA($B1066),\"pp://\"&$B1066&IF(COUNTA($C1066),\"+\"&$C1066,\"\")&IF(COUNTA($D1066),\"+\"&$D1066,\"\")&IF(COUNTA($E1066),\"+\"&$E1066,\"\")&IF(COUNTA($F1066),\"+\"&$F1066,\"\")&IF(COUNTA($G1066),\"+\"&$G1066,\"\")&IF(COUNTA($H1066),\"+\"&$H1066,\"\")&IF(COUNTA($I1066),\"+\"&$I1066,\"\")&IF(COUNTA($J1066),\"+\"&$J1066,\"\")&IF(COUNTA($K1066),\"+\"&$K1066,\"\")&$P1066,\"\")","v":"pp://Notes/Information on remuneration of management categories and special incentive programmes[taxonomy=DKGAAP]"},null,null,null,"Information on remuneration of management categories and special incentive programmes",null,null,"Information om vederlag til ledelsesorganer og særlige incitamentsprogrammer"]
[{"$f":"\"\"&INDEX(PP_Locale,ROW(),PP_LanguageIndex)","v":"Disclosure of depreciation, amortisation expense and impairment losses of property, plant and equipment and intangible assets recognised in profit or loss"},"Notes/Disclosure of depreciation, amortisation expense and impairment losses of property, plant and equipment and intangible assets recognised in profit or loss[taxonomy=DKGAAP]",null,null,null,null,null,null,null,null,null,"pp://Notes/Disclosure of depreciation, amortisation expense and impairment losses of property, plant and equipment and intangible assets recognised in profit or loss[taxonomy=DKGAAP]","pp://Notes/Disclosure of depreciation, amortisation expense and impairment losses of property, plant and equipment and intangible assets recognised in profit or loss[taxonomy=DKGAAP,valuelanguage=en]","pp://Notes/Disclosure of depreciation, amortisation expense and impairment losses of property, plant and equipment and intangible assets recognised in profit or loss[taxonomy=DKGAAP,period=1_parent]","pp://Notes/Disclosure of depreciation, amortisation expense and impairment losses of property, plant and equipment and intangible assets recognised in profit or loss[taxonomy=DKGAAP]",null,null,null,"Disclosure of depreciation, amortisation expense and impairment losses of property, plant and equipment and intangible assets recognised in profit or loss",null,null,"Oplysning om afskrivninger og nedskrivninger på materielle anlægsaktiver og immaterielle anlægsaktiver indregnet i resultatopgørelsen"]
[{"$f":"\"\"&INDEX(PP_Locale,ROW(),PP_LanguageIndex)","v":"Disclosure of income [including dividend income] from investments in group enterprises, associates and participating interests"},"Notes/Disclosure of income [including dividend income] from investments in group enterprises, associates and participating interests[taxonomy=DKGAAP]",null,null,null,null,null,null,null,null,null,"pp://Notes/Disclosure of income [including dividend income] from investments in group enterprises, associates and participating interests[taxonomy=DKGAAP]","pp://Notes/Disclosure of income [including dividend income] from investments in group enterprises, associates and participating interests[taxonomy=DKGAAP,valuelanguage=en]","pp://Notes/Disclosure of income [including dividend income] from investments in group enterprises, associates and participating interests[taxonomy=DKGAAP,period=1_parent]","pp://Notes/Disclosure of income [including dividend income] from investments in group enterprises, associates and participating interests[taxonomy=DKGAAP]",null,null,null,"Disclosure of income [including dividend income] from investments in group enterprises, associates and participating interests",null,null,"Oplysning om indtægter [inklusiv udbytte] af kapitalandele i tilknyttede virksomheder, associerede virksomheder og kapitalinteresser"]
[{"$f":"\"\"&INDEX(PP_Locale,ROW(),PP_LanguageIndex)","v":"Disclosure of income from other investments and receivables that are fixed assets"},"Notes/Disclosure of income from other investments and receivables that are fixed assets[taxonomy=DKGAAP]",null,null,null,null,null,null,null,null,null,"pp://Notes/Disclosure of income from other investments and receivables that are fixed assets[taxonomy=DKGAAP]","pp://Notes/Disclosure of income from other investments and receivables that are fixed assets[taxonomy=DKGAAP,valuelanguage=en]","pp://Notes/Disclosure of income from other investments and receivables that are fixed assets[taxonomy=DKGAAP,period=1_parent]","pp://Notes/Disclosure of income from other investments and receivables that are fixed assets[taxonomy=DKGAAP]",null,null,null,"Disclosure of income from other investments and receivables that are fixed assets",null,null,"Oplysning om indtægter af andre kapitalandele, værdipapirer og tilgodehavender, der er anlægsaktiver"]
[{"$f":"\"\"&INDEX(PP_Locale,ROW(),PP_LanguageIndex)","v":"Disclosure of gains (losses) from fair value adjustments of investment property"},"Notes/Disclosure of gains (losses) from fair value adjustments of investment property[taxonomy=DKGAAP]",null,null,null,null,null,null,null,null,null,"pp://Notes/Disclosure of gains (losses) from fair value adjustments of investment property[taxonomy=DKGAAP]","pp://Notes/Disclosure of gains (losses) from fair value adjustments of investment property[taxonomy=DKGAAP,valuelanguage=en]","pp://Notes/Disclosure of gains (losses) from fair value adjustments of investment property[taxonomy=DKGAAP,period=1_parent]","pp://Notes/Disclosure of gains (losses) from fair value adjustments of investment property[taxonomy=DKGAAP]",null,null,null,"Disclosure of gains (losses) from fair value adjustments of investment property",null,null,"Oplysning om dagsværdiregulering af investeringsejendomme"]
[{"$f":"\"\"&INDEX(PP_Locale,ROW(),PP_LanguageIndex)","v":"Disclosure of gains (losses) from fair value adjustments of debt"},"Notes/Disclosure of gains (losses) from fair value adjustments of debt[taxonomy=DKGAAP]",null,null,null,null,null,null,null,null,null,"pp://Notes/Disclosure of gains (losses) from fair value adjustments of debt[taxonomy=DKGAAP]","pp://Notes/Disclosure of gains (losses) from fair value adjustments of debt[taxonomy=DKGAAP,valuelanguage=en]","pp://Notes/Disclosure of gains (losses) from fair value adjustments of debt[taxonomy=DKGAAP,period=1_parent]","pp://Notes/Disclosure of gains (losses) from fair value adjustments of debt[taxonomy=DKGAAP]",null,null,null,"Disclosure of gains (losses) from fair value adjustments of debt",null,null,"Oplysning om dagsværdiregulering af gæld"]
[{"$f":"\"\"&INDEX(PP_Locale,ROW(),PP_LanguageIndex)","v":"Disclosure of gains (losses) from fair value adjustments of other investment assets"},"Notes/Disclosure of gains (losses) from fair value adjustments of other investment assets[taxonomy=DKGAAP]",null,null,null,null,null,null,null,null,null,"pp://Notes/Disclosure of gains (losses) from fair value adjustments of other investment assets[taxonomy=DKGAAP]","pp://Notes/Disclosure of gains (losses) from fair value adjustments of other investment assets[taxonomy=DKGAAP,valuelanguage=en]","pp://Notes/Disclosure of gains (losses) from fair value adjustments of other investment assets[taxonomy=DKGAAP,period=1_parent]","pp://Notes/Disclosure of gains (losses) from fair value adjustments of other investment assets[taxonomy=DKGAAP]",null,null,null,"Disclosure of gains (losses) from fair value adjustments of other investment assets",null,null,"Oplysning om dagsværdiregulering af andre investeringsaktiver"]
[{"$f":"\"\"&INDEX(PP_Locale,ROW(),PP_LanguageIndex)","v":"Disclosure of other finance income"},"Notes/Disclosure of other finance income[taxonomy=DKGAAP]",null,null,null,null,null,null,null,null,null,"pp://Notes/Disclosure of other finance income[taxonomy=DKGAAP]","pp://Notes/Disclosure of other finance income[taxonomy=DKGAAP,valuelanguage=en]","pp://Notes/Disclosure of other finance income[taxonomy=DKGAAP,period=1_parent]","pp://Notes/Disclosure of other finance income[taxonomy=DKGAAP]",null,null,null,"Disclosure of other finance income",null,null,"Oplysning om andre finansielle indtægter"]
[{"$f":"\"\"&INDEX(PP_Locale,ROW(),PP_LanguageIndex)","v":"Disclosure of other finance expenses"},"Notes/Disclosure of other finance expenses[taxonomy=DKGAAP]",null,null,null,null,null,null,null,null,null,"pp://Notes/Disclosure of other finance expenses[taxonomy=DKGAAP]","pp://Notes/Disclosure of other finance expenses[taxonomy=DKGAAP,valuelanguage=en]","pp://Notes/Disclosure of other finance expenses[taxonomy=DKGAAP,period=1_parent]","pp://Notes/Disclosure of other finance expenses[taxonomy=DKGAAP]",null,null,null,"Disclosure of other finance expenses",null,null,"Oplysning om øvrige finansielle omkostninger"]
[{"$f":"\"\"&INDEX(PP_Locale,ROW(),PP_LanguageIndex)","v":"Disclosure of tax expenses"},"Notes/Disclosure of tax expenses[taxonomy=DKGAAP]",null,null,null,null,null,null,null,null,null,"pp://Notes/Disclosure of tax expenses[taxonomy=DKGAAP]","pp://Notes/Disclosure of tax expenses[taxonomy=DKGAAP,valuelanguage=en]","pp://Notes/Disclosure of tax expenses[taxonomy=DKGAAP,period=1_parent]","pp://Notes/Disclosure of tax expenses[taxonomy=DKGAAP]",null,null,null,"Disclosure of tax expenses",null,null,"Oplysning om skat af årets resultat"]
[{"$f":"\"\"&INDEX(PP_Locale,ROW(),PP_LanguageIndex)","v":""}]
[{"$f":"\"\"&INDEX(PP_Locale,ROW(),PP_LanguageIndex)","v":"Disclosure of assets"},"Notes/Disclosure of assets[taxonomy=DKGAAP]",null,null,null,null,null,null,null,null,null,{"$f":"IF(COUNTBLANK(L$1),$O1077,SUBSTITUTE($O1077,\"DKGAAP]\",\"DKGAAP,\"&L$1&\"]\"))","v":"pp://Notes/Disclosure of assets[taxonomy=DKGAAP]"},"pp://Notes/Disclosure of assets[taxonomy=DKGAAP,valuelanguage=en]","pp://Notes/Disclosure of assets[taxonomy=DKGAAP,period=1_parent]",{"$f":"IF(COUNTA($B1077),\"pp://\"&$B1077&IF(COUNTA($C1077),\"+\"&$C1077,\"\")&IF(COUNTA($D1077),\"+\"&$D1077,\"\")&IF(COUNTA($E1077),\"+\"&$E1077,\"\")&IF(COUNTA($F1077),\"+\"&$F1077,\"\")&IF(COUNTA($G1077),\"+\"&$G1077,\"\")&IF(COUNTA($H1077),\"+\"&$H1077,\"\")&IF(COUNTA($I1077),\"+\"&$I1077,\"\")&IF(COUNTA($J1077),\"+\"&$J1077,\"\")&IF(COUNTA($K1077),\"+\"&$K1077,\"\")&$P1077,\"\")","v":"pp://Notes/Disclosure of assets[taxonomy=DKGAAP]"},null,null,null,"Disclosure of assets",null,null,"Oplysning om aktiver"]
[{"$f":"\"\"&INDEX(PP_Locale,ROW(),PP_LanguageIndex)","v":"Disclosure of intangible assets"},"Notes/Disclosure of intangible assets[taxonomy=DKGAAP]",null,null,null,null,null,null,null,null,null,"pp://Notes/Disclosure of intangible assets[taxonomy=DKGAAP]","pp://Notes/Disclosure of intangible assets[taxonomy=DKGAAP,valuelanguage=en]","pp://Notes/Disclosure of intangible assets[taxonomy=DKGAAP,period=1_parent]","pp://Notes/Disclosure of intangible assets[taxonomy=DKGAAP]",null,null,null,"Disclosure of intangible assets",null,null,"Oplysning om immaterielle anlægsaktiver"]
[{"$f":"\"\"&INDEX(PP_Locale,ROW(),PP_LanguageIndex)","v":"Disclosure of property, plant and equipment"},"Notes/Disclosure of property, plant and equipment[taxonomy=DKGAAP]",null,null,null,null,null,null,null,null,null,"pp://Notes/Disclosure of property, plant and equipment[taxonomy=DKGAAP]","pp://Notes/Disclosure of property, plant and equipment[taxonomy=DKGAAP,valuelanguage=en]","pp://Notes/Disclosure of property, plant and equipment[taxonomy=DKGAAP,period=1_parent]","pp://Notes/Disclosure of property, plant and equipment[taxonomy=DKGAAP]",null,null,null,"Disclosure of property, plant and equipment",null,null,"Oplysning om materielle anlægsaktiver"]
[{"$f":"\"\"&INDEX(PP_Locale,ROW(),PP_LanguageIndex)","v":"Disclosure of investments"},"Notes/Disclosure of investments[taxonomy=DKGAAP]",null,null,null,null,null,null,null,null,null,"pp://Notes/Disclosure of investments[taxonomy=DKGAAP]","pp://Notes/Disclosure of investments[taxonomy=DKGAAP,valuelanguage=en]","pp://Notes/Disclosure of investments[taxonomy=DKGAAP,period=1_parent]","pp://Notes/Disclosure of investments[taxonomy=DKGAAP]",null,null,null,"Disclosure of investments",null,null,"Oplysning om finansielle anlægsaktiver"]
[{"$f":"\"\"&INDEX(PP_Locale,ROW(),PP_LanguageIndex)","v":"Disclosure of short-term investments"},"Notes/Disclosure of short-term investments[taxonomy=DKGAAP]",null,null,null,null,null,null,null,null,null,"pp://Notes/Disclosure of short-term investments[taxonomy=DKGAAP]","pp://Notes/Disclosure of short-term investments[taxonomy=DKGAAP,valuelanguage=en]","pp://Notes/Disclosure of short-term investments[taxonomy=DKGAAP,period=1_parent]","pp://Notes/Disclosure of short-term investments[taxonomy=DKGAAP]",null,null,null,"Disclosure of short-term investments",null,null,"Oplysning om værdipapirer og kapitalandele"]
[{"$f":"\"\"&INDEX(PP_Locale,ROW(),PP_LanguageIndex)","v":"Information on current deferred tax assets"},"Notes/Information on current deferred tax assets[taxonomy=DKGAAP]",null,null,null,null,null,null,null,null,null,"pp://Notes/Information on current deferred tax assets[taxonomy=DKGAAP]","pp://Notes/Information on current deferred tax assets[taxonomy=DKGAAP,valuelanguage=en]","pp://Notes/Information on current deferred tax assets[taxonomy=DKGAAP,period=1_parent]","pp://Notes/Information on current deferred tax assets[taxonomy=DKGAAP]",null,null,null,"Information on current deferred tax assets",null,null,"Information om udskudte skatteaktiver"]
[{"$f":"\"\"&INDEX(PP_Locale,ROW(),PP_LanguageIndex)","v":"Disclosure of inventories"},"Notes/Disclosure of inventories[taxonomy=DKGAAP]",null,null,null,null,null,null,null,null,null,"pp://Notes/Disclosure of inventories[taxonomy=DKGAAP]","pp://Notes/Disclosure of inventories[taxonomy=DKGAAP,valuelanguage=en]","pp://Notes/Disclosure of inventories[taxonomy=DKGAAP,period=1_parent]","pp://Notes/Disclosure of inventories[taxonomy=DKGAAP]",null,null,null,"Disclosure of inventories",null,null,"Oplysning om varebeholdninger"]
[{"$f":"\"\"&INDEX(PP_Locale,ROW(),PP_LanguageIndex)","v":"Disclosure of receivables"},"Notes/Disclosure of receivables[taxonomy=DKGAAP]",null,null,null,null,null,null,null,null,null,"pp://Notes/Disclosure of receivables[taxonomy=DKGAAP]","pp://Notes/Disclosure of receivables[taxonomy=DKGAAP,valuelanguage=en]","pp://Notes/Disclosure of receivables[taxonomy=DKGAAP,period=1_parent]","pp://Notes/Disclosure of receivables[taxonomy=DKGAAP]",null,null,null,"Disclosure of receivables",null,null,"Oplysning om tilgodehavender"]
[{"$f":"\"\"&INDEX(PP_Locale,ROW(),PP_LanguageIndex)","v":"Information on other receivables"},"Notes/Information on other receivables[taxonomy=DKGAAP]",null,null,null,null,null,null,null,null,null,"pp://Notes/Information on other receivables[taxonomy=DKGAAP]","pp://Notes/Information on other receivables[taxonomy=DKGAAP,valuelanguage=en]","pp://Notes/Information on other receivables[taxonomy=DKGAAP,period=1_parent]","pp://Notes/Information on other receivables[taxonomy=DKGAAP]",null,null,null,"Information on other receivables",null,null,"Information om andre tilgodehavender"]
[{"$f":"\"\"&INDEX(PP_Locale,ROW(),PP_LanguageIndex)","v":"Information on short-term trade receivables"},"Notes/Information on short-term trade receivables[taxonomy=DKGAAP]",null,null,null,null,null,null,null,null,null,"pp://Notes/Information on short-term trade receivables[taxonomy=DKGAAP]","pp://Notes/Information on short-term trade receivables[taxonomy=DKGAAP,valuelanguage=en]","pp://Notes/Information on short-term trade receivables[taxonomy=DKGAAP,period=1_parent]","pp://Notes/Information on short-term trade receivables[taxonomy=DKGAAP]",null,null,null,"Information on short-term trade receivables",null,null,"Information om tilgodehavender fra salg og tjenesteydelser"]
[{"$f":"\"\"&INDEX(PP_Locale,ROW(),PP_LanguageIndex)","v":"Disclosure of cash and cash equivalents"},"Notes/Disclosure of cash and cash equivalents[taxonomy=DKGAAP]",null,null,null,null,null,null,null,null,null,"pp://Notes/Disclosure of cash and cash equivalents[taxonomy=DKGAAP]","pp://Notes/Disclosure of cash and cash equivalents[taxonomy=DKGAAP,valuelanguage=en]","pp://Notes/Disclosure of cash and cash equivalents[taxonomy=DKGAAP,period=1_parent]","pp://Notes/Disclosure of cash and cash equivalents[taxonomy=DKGAAP]",null,null,null,"Disclosure of cash and cash equivalents",null,null,"Oplysning om likvider"]
[{"$f":"\"\"&INDEX(PP_Locale,ROW(),PP_LanguageIndex)","v":"Explanation of deferred income"},"Notes/Explanation of deferred income[taxonomy=DKGAAP]",null,null,null,null,null,null,null,null,null,"pp://Notes/Explanation of deferred income[taxonomy=DKGAAP]","pp://Notes/Explanation of deferred income[taxonomy=DKGAAP,valuelanguage=en]","pp://Notes/Explanation of deferred income[taxonomy=DKGAAP,period=1_parent]","pp://Notes/Explanation of deferred income[taxonomy=DKGAAP]",null,null,null,"Explanation of deferred income",null,null,"Forklaring af periodeafgrænsningsposter"]
[{"$f":"\"\"&INDEX(PP_Locale,ROW(),PP_LanguageIndex)","v":"Information on receivables from owners and management"},"Notes/Information on receivables from owners and management[taxonomy=DKGAAP]",null,null,null,null,null,null,null,null,null,"pp://Notes/Information on receivables from owners and management[taxonomy=DKGAAP]","pp://Notes/Information on receivables from owners and management[taxonomy=DKGAAP,valuelanguage=en]","pp://Notes/Information on receivables from owners and management[taxonomy=DKGAAP,period=1_parent]","pp://Notes/Information on receivables from owners and management[taxonomy=DKGAAP]",null,null,null,"Information on receivables from owners and management",null,null,"Information om tilgodehavender hos ejere og medlemmer af ledelsen"]
[{"$f":"\"\"&INDEX(PP_Locale,ROW(),PP_LanguageIndex)","v":""}]
[{"$f":"\"\"&INDEX(PP_Locale,ROW(),PP_LanguageIndex)","v":"Disclosure of equity"},"Notes/Disclosure of equity[taxonomy=DKGAAP]",null,null,null,null,null,null,null,null,null,{"$f":"IF(COUNTBLANK(L$1),$O1091,SUBSTITUTE($O1091,\"DKGAAP]\",\"DKGAAP,\"&L$1&\"]\"))","v":"pp://Notes/Disclosure of equity[taxonomy=DKGAAP]"},"pp://Notes/Disclosure of equity[taxonomy=DKGAAP,valuelanguage=en]","pp://Notes/Disclosure of equity[taxonomy=DKGAAP,period=1_parent]",{"$f":"IF(COUNTA($B1091),\"pp://\"&$B1091&IF(COUNTA($C1091),\"+\"&$C1091,\"\")&IF(COUNTA($D1091),\"+\"&$D1091,\"\")&IF(COUNTA($E1091),\"+\"&$E1091,\"\")&IF(COUNTA($F1091),\"+\"&$F1091,\"\")&IF(COUNTA($G1091),\"+\"&$G1091,\"\")&IF(COUNTA($H1091),\"+\"&$H1091,\"\")&IF(COUNTA($I1091),\"+\"&$I1091,\"\")&IF(COUNTA($J1091),\"+\"&$J1091,\"\")&IF(COUNTA($K1091),\"+\"&$K1091,\"\")&$P1091,\"\")","v":"pp://Notes/Disclosure of equity[taxonomy=DKGAAP]"},null,null,null,"Disclosure of equity",null,null,"Oplysning om egenkapital"]
[{"$f":"\"\"&INDEX(PP_Locale,ROW(),PP_LanguageIndex)","v":"Disclosure of contributed capital"},"Notes/Disclosure of contributed capital[taxonomy=DKGAAP]",null,null,null,null,null,null,null,null,null,"pp://Notes/Disclosure of contributed capital[taxonomy=DKGAAP]","pp://Notes/Disclosure of contributed capital[taxonomy=DKGAAP,valuelanguage=en]","pp://Notes/Disclosure of contributed capital[taxonomy=DKGAAP,period=1_parent]","pp://Notes/Disclosure of contributed capital[taxonomy=DKGAAP]",null,null,null,"Disclosure of contributed capital",null,null,"Oplysning om registreret kapital mv."]
[{"$f":"\"\"&INDEX(PP_Locale,ROW(),PP_LanguageIndex)","v":""}]
[{"$f":"\"\"&INDEX(PP_Locale,ROW(),PP_LanguageIndex)","v":"Disclosure of provisions"},"Notes/Disclosure of provisions[taxonomy=DKGAAP]",null,null,null,null,null,null,null,null,null,{"$f":"IF(COUNTBLANK(L$1),$O1094,SUBSTITUTE($O1094,\"DKGAAP]\",\"DKGAAP,\"&L$1&\"]\"))","v":"pp://Notes/Disclosure of provisions[taxonomy=DKGAAP]"},"pp://Notes/Disclosure of provisions[taxonomy=DKGAAP,valuelanguage=en]","pp://Notes/Disclosure of provisions[taxonomy=DKGAAP,period=1_parent]",{"$f":"IF(COUNTA($B1094),\"pp://\"&$B1094&IF(COUNTA($C1094),\"+\"&$C1094,\"\")&IF(COUNTA($D1094),\"+\"&$D1094,\"\")&IF(COUNTA($E1094),\"+\"&$E1094,\"\")&IF(COUNTA($F1094),\"+\"&$F1094,\"\")&IF(COUNTA($G1094),\"+\"&$G1094,\"\")&IF(COUNTA($H1094),\"+\"&$H1094,\"\")&IF(COUNTA($I1094),\"+\"&$I1094,\"\")&IF(COUNTA($J1094),\"+\"&$J1094,\"\")&IF(COUNTA($K1094),\"+\"&$K1094,\"\")&$P1094,\"\")","v":"pp://Notes/Disclosure of provisions[taxonomy=DKGAAP]"},null,null,null,"Disclosure of provisions",null,null,"Oplysning om hensatte forpligtelser"]
[{"$f":"\"\"&INDEX(PP_Locale,ROW(),PP_LanguageIndex)","v":"Disclosure of provisions for deferred tax"},"Notes/Disclosure of provisions for deferred tax[taxonomy=DKGAAP]",null,null,null,null,null,null,null,null,null,"pp://Notes/Disclosure of provisions for deferred tax[taxonomy=DKGAAP]","pp://Notes/Disclosure of provisions for deferred tax[taxonomy=DKGAAP,valuelanguage=en]","pp://Notes/Disclosure of provisions for deferred tax[taxonomy=DKGAAP,period=1_parent]","pp://Notes/Disclosure of provisions for deferred tax[taxonomy=DKGAAP]",null,null,null,"Disclosure of provisions for deferred tax",null,null,"Oplysning om hensættelser til udskudt skat"]
[{"$f":"\"\"&INDEX(PP_Locale,ROW(),PP_LanguageIndex)","v":"Disclosure of other provisions"},"Notes/Disclosure of other provisions[taxonomy=DKGAAP]",null,null,null,null,null,null,null,null,null,"pp://Notes/Disclosure of other provisions[taxonomy=DKGAAP]","pp://Notes/Disclosure of other provisions[taxonomy=DKGAAP,valuelanguage=en]","pp://Notes/Disclosure of other provisions[taxonomy=DKGAAP,period=1_parent]","pp://Notes/Disclosure of other provisions[taxonomy=DKGAAP]",null,null,null,"Disclosure of other provisions",null,null,"Oplysning om andre hensatte forpligtelser"]
[{"$f":"\"\"&INDEX(PP_Locale,ROW(),PP_LanguageIndex)","v":""}]
[{"$f":"\"\"&INDEX(PP_Locale,ROW(),PP_LanguageIndex)","v":"Disclosure of liabilities other than provisions"},"Notes/Disclosure of liabilities other than provisions[taxonomy=DKGAAP]",null,null,null,null,null,null,null,null,null,{"$f":"IF(COUNTBLANK(L$1),$O1098,SUBSTITUTE($O1098,\"DKGAAP]\",\"DKGAAP,\"&L$1&\"]\"))","v":"pp://Notes/Disclosure of liabilities other than provisions[taxonomy=DKGAAP]"},"pp://Notes/Disclosure of liabilities other than provisions[taxonomy=DKGAAP,valuelanguage=en]","pp://Notes/Disclosure of liabilities other than provisions[taxonomy=DKGAAP,period=1_parent]",{"$f":"IF(COUNTA($B1098),\"pp://\"&$B1098&IF(COUNTA($C1098),\"+\"&$C1098,\"\")&IF(COUNTA($D1098),\"+\"&$D1098,\"\")&IF(COUNTA($E1098),\"+\"&$E1098,\"\")&IF(COUNTA($F1098),\"+\"&$F1098,\"\")&IF(COUNTA($G1098),\"+\"&$G1098,\"\")&IF(COUNTA($H1098),\"+\"&$H1098,\"\")&IF(COUNTA($I1098),\"+\"&$I1098,\"\")&IF(COUNTA($J1098),\"+\"&$J1098,\"\")&IF(COUNTA($K1098),\"+\"&$K1098,\"\")&$P1098,\"\")","v":"pp://Notes/Disclosure of liabilities other than provisions[taxonomy=DKGAAP]"},null,null,null,"Disclosure of liabilities other than provisions",null,null,"Oplysning om gældsforpligtelser udover hensatte forpligtelser"]
[{"$f":"\"\"&INDEX(PP_Locale,ROW(),PP_LanguageIndex)","v":"Disclosure of long-term liabilities other than provisions"},"Notes/Disclosure of long-term liabilities other than provisions[taxonomy=DKGAAP]",null,null,null,null,null,null,null,null,null,"pp://Notes/Disclosure of long-term liabilities other than provisions[taxonomy=DKGAAP]","pp://Notes/Disclosure of long-term liabilities other than provisions[taxonomy=DKGAAP,valuelanguage=en]","pp://Notes/Disclosure of long-term liabilities other than provisions[taxonomy=DKGAAP,period=1_parent]","pp://Notes/Disclosure of long-term liabilities other than provisions[taxonomy=DKGAAP]",null,null,null,"Disclosure of long-term liabilities other than provisions",null,null,"Oplysning om langfristede gældsforpligtelser"]
[{"$f":"\"\"&INDEX(PP_Locale,ROW(),PP_LanguageIndex)","v":"Disclosure of short-term liabilities other than provisions"},"Notes/Disclosure of short-term liabilities other than provisions[taxonomy=DKGAAP]",null,null,null,null,null,null,null,null,null,"pp://Notes/Disclosure of short-term liabilities other than provisions[taxonomy=DKGAAP]","pp://Notes/Disclosure of short-term liabilities other than provisions[taxonomy=DKGAAP,valuelanguage=en]","pp://Notes/Disclosure of short-term liabilities other than provisions[taxonomy=DKGAAP,period=1_parent]","pp://Notes/Disclosure of short-term liabilities other than provisions[taxonomy=DKGAAP]",null,null,null,"Disclosure of short-term liabilities other than provisions",null,null,"Oplysning om kortfristede gældsforpligtelser"]
[{"$f":"\"\"&INDEX(PP_Locale,ROW(),PP_LanguageIndex)","v":"Disclosure of other payables"},"Notes/Disclosure of other payables[taxonomy=DKGAAP]",null,null,null,null,null,null,null,null,null,"pp://Notes/Disclosure of other payables[taxonomy=DKGAAP]","pp://Notes/Disclosure of other payables[taxonomy=DKGAAP,valuelanguage=en]","pp://Notes/Disclosure of other payables[taxonomy=DKGAAP,period=1_parent]","pp://Notes/Disclosure of other payables[taxonomy=DKGAAP]",null,null,null,"Disclosure of other payables",null,null,"Oplysning om anden gæld"]
[{"$f":"\"\"&INDEX(PP_Locale,ROW(),PP_LanguageIndex)","v":"Disclosure of deferred income"},"Notes/Disclosure of deferred income[taxonomy=DKGAAP]",null,null,null,null,null,null,null,null,null,"pp://Notes/Disclosure of deferred income[taxonomy=DKGAAP]","pp://Notes/Disclosure of deferred income[taxonomy=DKGAAP,valuelanguage=en]","pp://Notes/Disclosure of deferred income[taxonomy=DKGAAP,period=1_parent]","pp://Notes/Disclosure of deferred income[taxonomy=DKGAAP]",null,null,null,"Disclosure of deferred income",null,null,"Oplysning om periodeafgrænsningsposter"]
[{"$f":"\"\"&INDEX(PP_Locale,ROW(),PP_LanguageIndex)","v":""}]
[{"$f":"\"\"&INDEX(PP_Locale,ROW(),PP_LanguageIndex)","v":"Cash flows statement"},"Notes/Cash flows statement[taxonomy=DKGAAP]",null,null,null,null,null,null,null,null,null,{"$f":"IF(COUNTBLANK(L$1),$O1104,SUBSTITUTE($O1104,\"DKGAAP]\",\"DKGAAP,\"&L$1&\"]\"))","v":"pp://Notes/Cash flows statement[taxonomy=DKGAAP]"},{"$f":"IF(COUNTBLANK(M$1),$O1104,SUBSTITUTE($O1104,\"DKGAAP]\",\"DKGAAP,\"&M$1&\"]\"))","v":"pp://Notes/Cash flows statement[taxonomy=DKGAAP,valuelanguage=en]"},"pp://Notes/Cash flows statement[taxonomy=DKGAAP,period=1_parent]",{"$f":"IF(COUNTA($B1104),\"pp://\"&$B1104&IF(COUNTA($C1104),\"+\"&$C1104,\"\")&IF(COUNTA($D1104),\"+\"&$D1104,\"\")&IF(COUNTA($E1104),\"+\"&$E1104,\"\")&IF(COUNTA($F1104),\"+\"&$F1104,\"\")&IF(COUNTA($G1104),\"+\"&$G1104,\"\")&IF(COUNTA($H1104),\"+\"&$H1104,\"\")&IF(COUNTA($I1104),\"+\"&$I1104,\"\")&IF(COUNTA($J1104),\"+\"&$J1104,\"\")&IF(COUNTA($K1104),\"+\"&$K1104,\"\")&$P1104,\"\")","v":"pp://Notes/Cash flows statement[taxonomy=DKGAAP]"},null,null,null,"Cash flows statement",null,null,"Pengestrømsopgørelse"]
[{"$f":"\"\"&INDEX(PP_Locale,ROW(),PP_LanguageIndex)","v":""}]
[{"$f":"\"\"&INDEX(PP_Locale,ROW(),PP_LanguageIndex)","v":"Other disclosures in notes"},"Notes/Other disclosures in notes[taxonomy=DKGAAP]",null,null,null,null,null,null,null,null,null,{"$f":"IF(COUNTBLANK(L$1),$O1106,SUBSTITUTE($O1106,\"DKGAAP]\",\"DKGAAP,\"&L$1&\"]\"))","v":"pp://Notes/Other disclosures in notes[taxonomy=DKGAAP]"},"pp://Notes/Other disclosures in notes[taxonomy=DKGAAP,valuelanguage=en]","pp://Notes/Other disclosures in notes[taxonomy=DKGAAP,period=1_parent]",{"$f":"IF(COUNTA($B1106),\"pp://\"&$B1106&IF(COUNTA($C1106),\"+\"&$C1106,\"\")&IF(COUNTA($D1106),\"+\"&$D1106,\"\")&IF(COUNTA($E1106),\"+\"&$E1106,\"\")&IF(COUNTA($F1106),\"+\"&$F1106,\"\")&IF(COUNTA($G1106),\"+\"&$G1106,\"\")&IF(COUNTA($H1106),\"+\"&$H1106,\"\")&IF(COUNTA($I1106),\"+\"&$I1106,\"\")&IF(COUNTA($J1106),\"+\"&$J1106,\"\")&IF(COUNTA($K1106),\"+\"&$K1106,\"\")&$P1106,\"\")","v":"pp://Notes/Other disclosures in notes[taxonomy=DKGAAP]"},null,null,null,"Other disclosures in notes",null,null,"Andre noteoplysninger"]
[{"$f":"\"\"&INDEX(PP_Locale,ROW(),PP_LanguageIndex)","v":"Disclosure of uncertainties relating to going concern"},"Notes/Disclosure of uncertainties relating to going concern[taxonomy=DKGAAP]",null,null,null,null,null,null,null,null,null,"pp://Notes/Disclosure of uncertainties relating to going concern[taxonomy=DKGAAP]","pp://Notes/Disclosure of uncertainties relating to going concern[taxonomy=DKGAAP,valuelanguage=en]","pp://Notes/Disclosure of uncertainties relating to going concern[taxonomy=DKGAAP,period=1_parent]","pp://Notes/Disclosure of uncertainties relating to going concern[taxonomy=DKGAAP]",null,null,null,"Disclosure of uncertainties relating to going concern",null,null,"Oplysning om usikkerhed om going concern"]
[{"$f":"\"\"&INDEX(PP_Locale,ROW(),PP_LanguageIndex)","v":"Disclosure of significant events occurring after end of reporting period"},"Notes/Disclosure of significant events occurring after end of reporting period[taxonomy=DKGAAP]",null,null,null,null,null,null,null,null,null,"pp://Notes/Disclosure of significant events occurring after end of reporting period[taxonomy=DKGAAP]","pp://Notes/Disclosure of significant events occurring after end of reporting period[taxonomy=DKGAAP,valuelanguage=en]","pp://Notes/Disclosure of significant events occurring after end of reporting period[taxonomy=DKGAAP,period=1_parent]","pp://Notes/Disclosure of significant events occurring after end of reporting period[taxonomy=DKGAAP]",null,null,null,"Disclosure of significant events occurring after end of reporting period",null,null,"Oplysning om betydningsfulde hændelser, indtruffet efter regnskabsåret afslutning"]
[{"$f":"\"\"&INDEX(PP_Locale,ROW(),PP_LanguageIndex)","v":"Disclosure of any uncertainty connected with recognition or measurement"},"Notes/Disclosure of any uncertainty connected with recognition or measurement[taxonomy=DKGAAP]",null,null,null,null,null,null,null,null,null,"pp://Notes/Disclosure of any uncertainty connected with recognition or measurement[taxonomy=DKGAAP]","pp://Notes/Disclosure of any uncertainty connected with recognition or measurement[taxonomy=DKGAAP,valuelanguage=en]","pp://Notes/Disclosure of any uncertainty connected with recognition or measurement[taxonomy=DKGAAP,period=1_parent]","pp://Notes/Disclosure of any uncertainty connected with recognition or measurement[taxonomy=DKGAAP]",null,null,null,"Disclosure of any uncertainty connected with recognition or measurement",null,null,"Oplysning om usikkerhed ved indregning og måling"]
[{"$f":"\"\"&INDEX(PP_Locale,ROW(),PP_LanguageIndex)","v":"Disclosure of mortgages and collaterals"},"Notes/Disclosure of mortgages and collaterals[taxonomy=DKGAAP]",null,null,null,null,null,null,null,null,null,"pp://Notes/Disclosure of mortgages and collaterals[taxonomy=DKGAAP]","pp://Notes/Disclosure of mortgages and collaterals[taxonomy=DKGAAP,valuelanguage=en]","pp://Notes/Disclosure of mortgages and collaterals[taxonomy=DKGAAP,period=1_parent]","pp://Notes/Disclosure of mortgages and collaterals[taxonomy=DKGAAP]",null,null,null,"Disclosure of mortgages and collaterals",null,null,"Oplysning om pantsætninger og sikkerhedsstillelser"]
[{"$f":"\"\"&INDEX(PP_Locale,ROW(),PP_LanguageIndex)","v":"Disclosure of contingent liabilities"},"Notes/Disclosure of contingent liabilities[taxonomy=DKGAAP]",null,null,null,null,null,null,null,null,null,"pp://Notes/Disclosure of contingent liabilities[taxonomy=DKGAAP]","pp://Notes/Disclosure of contingent liabilities[taxonomy=DKGAAP,valuelanguage=en]","pp://Notes/Disclosure of contingent liabilities[taxonomy=DKGAAP,period=1_parent]","pp://Notes/Disclosure of contingent liabilities[taxonomy=DKGAAP]",null,null,null,"Disclosure of contingent liabilities",null,null,"Oplysning om eventualforpligtelser"]
[{"$f":"\"\"&INDEX(PP_Locale,ROW(),PP_LanguageIndex)","v":"Disclosure of related parties"},"Notes/Disclosure of related parties[taxonomy=DKGAAP]",null,null,null,null,null,null,null,null,null,"pp://Notes/Disclosure of related parties[taxonomy=DKGAAP]","pp://Notes/Disclosure of related parties[taxonomy=DKGAAP,valuelanguage=en]","pp://Notes/Disclosure of related parties[taxonomy=DKGAAP,period=1_parent]","pp://Notes/Disclosure of related parties[taxonomy=DKGAAP]",null,null,null,"Disclosure of related parties",null,null,"Oplysning om nærtstående parter"]
[{"$f":"\"\"&INDEX(PP_Locale,ROW(),PP_LanguageIndex)","v":"Disclosure of ownership"},"Notes/Disclosure of ownership[taxonomy=DKGAAP]",null,null,null,null,null,null,null,null,null,"pp://Notes/Disclosure of ownership[taxonomy=DKGAAP]","pp://Notes/Disclosure of ownership[taxonomy=DKGAAP,valuelanguage=en]","pp://Notes/Disclosure of ownership[taxonomy=DKGAAP,period=1_parent]","pp://Notes/Disclosure of ownership[taxonomy=DKGAAP]",null,null,null,"Disclosure of ownership",null,null,"Oplysning om ejerskab"]
[{"$f":"\"\"&INDEX(PP_Locale,ROW(),PP_LanguageIndex)","v":"Information on consolidated financial statements"},"Notes/Information on consolidated financial statements[taxonomy=DKGAAP]",null,null,null,null,null,null,null,null,null,"pp://Notes/Information on consolidated financial statements[taxonomy=DKGAAP]","pp://Notes/Information on consolidated financial statements[taxonomy=DKGAAP,valuelanguage=en]","pp://Notes/Information on consolidated financial statements[taxonomy=DKGAAP,period=1_parent]","pp://Notes/Information on consolidated financial statements[taxonomy=DKGAAP]",null,null,null,"Information on consolidated financial statements",null,null,"Information om koncernregnskab"]
[{"$f":"\"\"&INDEX(PP_Locale,ROW(),PP_LanguageIndex)","v":"Disclosure of liabilities under off-balance sheet leases"},"Notes/Disclosure of liabilities under off-balance sheet leases[taxonomy=DKGAAP]",null,null,null,null,null,null,null,null,null,"pp://Notes/Disclosure of liabilities under off-balance sheet leases[taxonomy=DKGAAP]","pp://Notes/Disclosure of liabilities under off-balance sheet leases[taxonomy=DKGAAP,valuelanguage=en]","pp://Notes/Disclosure of liabilities under off-balance sheet leases[taxonomy=DKGAAP,period=1_parent]","pp://Notes/Disclosure of liabilities under off-balance sheet leases[taxonomy=DKGAAP]",null,null,null,"Disclosure of liabilities under off-balance sheet leases",null,null,"Oplysning om forpligtelser i henhold til leje- eller leasingkontrakter, der ikke er indregnet i balancen"]
[{"$f":"\"\"&INDEX(PP_Locale,ROW(),PP_LanguageIndex)","v":"Disclosure of main activities and accounting and financial matters"},"Notes/Disclosure of main activities and accounting and financial matters[taxonomy=DKGAAP]",null,null,null,null,null,null,null,null,null,"pp://Notes/Disclosure of main activities and accounting and financial matters[taxonomy=DKGAAP]","pp://Notes/Disclosure of main activities and accounting and financial matters[taxonomy=DKGAAP,valuelanguage=en]","pp://Notes/Disclosure of main activities and accounting and financial matters[taxonomy=DKGAAP,period=1_parent]","pp://Notes/Disclosure of main activities and accounting and financial matters[taxonomy=DKGAAP]",null,null,null,"Disclosure of main activities and accounting and financial matters",null,null,"Oplysning om hovedaktivitet samt regnskabsmæssige og økonomiske forhold"]
[{"$f":"\"\"&INDEX(PP_Locale,ROW(),PP_LanguageIndex)","v":"Information on auditors fees"},"Notes/Information on auditors fees[taxonomy=DKGAAP]",null,null,null,null,null,null,null,null,null,"pp://Notes/Information on auditors fees[taxonomy=DKGAAP]","pp://Notes/Information on auditors fees[taxonomy=DKGAAP,valuelanguage=en]","pp://Notes/Information on auditors fees[taxonomy=DKGAAP,period=1_parent]","pp://Notes/Information on auditors fees[taxonomy=DKGAAP]",null,null,null,"Information on auditors fees",null,null,"Information om revisors honorar"]
[{"$f":"\"\"&INDEX(PP_Locale,ROW(),PP_LanguageIndex)","v":""}]

{"sheet":"Text DKGAAP","index":9,"n_rows":14,"n_cols":7,"rows_kept":14,"cut":false,"hidden":false,"merged":[]}
[]
[null,null,"After","In","Period 1"]
[]
[null,null,null,null,null,null,{"$f":"\"/Notes DKGAAP(headers=\"&CELL(\"address\",$B$1)&\":\"&CELL(\"address\",$F$3)&\",labels=\"&SUBSTITUTE(CELL(\"address\",A4)&\":\"&CELL(\"address\",A15),\"$\",\"\")&\")\"","v":"/Notes DKGAAP(headers=$B$1:$F$3,labels=A4:A15)"}]
["Name of reporting entity",null,null,"*","Test company"]
["Address of reporting entity, street name",null,{"$f":"INDEX(A:A,SUMPRODUCT(MAX((OFFSET(INDEX(E:E,1),0,0,ROW()-1)<>\"\")*ROW(OFFSET(INDEX(E:E,1),0,0,ROW()-1)))))","v":"Name of reporting entity"},"*"]
["Address of reporting entity, street building identifier",null,{"$f":"INDEX(A:A,SUMPRODUCT(MAX((OFFSET(INDEX(E:E,1),0,0,ROW()-1)<>\"\")*ROW(OFFSET(INDEX(E:E,1),0,0,ROW()-1)))))","v":"Name of reporting entity"},"*"]
["Address of reporting entity, post code identifier",null,{"$f":"INDEX(A:A,SUMPRODUCT(MAX((OFFSET(INDEX(E:E,1),0,0,ROW()-1)<>\"\")*ROW(OFFSET(INDEX(E:E,1),0,0,ROW()-1)))))","v":"Name of reporting entity"},"*"]
["Address of reporting entity, district name",null,{"$f":"INDEX(A:A,SUMPRODUCT(MAX((OFFSET(INDEX(E:E,1),0,0,ROW()-1)<>\"\")*ROW(OFFSET(INDEX(E:E,1),0,0,ROW()-1)))))","v":"Name of reporting entity"},"*"]
["Identification number [CVR] of reporting entity",null,{"$f":"INDEX(A:A,SUMPRODUCT(MAX((OFFSET(INDEX(E:E,1),0,0,ROW()-1)<>\"\")*ROW(OFFSET(INDEX(E:E,1),0,0,ROW()-1)))))","v":"Name of reporting entity"},"*"]
["Name of submitting enterprise",null,null,"*",{"$f":"\"\"&E5","v":"Test company"}]
["Address of submitting enterprise, street and number",null,{"$f":"INDEX(A:A,SUMPRODUCT(MAX((OFFSET(INDEX(E:E,1),0,0,ROW()-1)<>\"\")*ROW(OFFSET(INDEX(E:E,1),0,0,ROW()-1)))))","v":"Name of submitting enterprise"},"*",{"$f":"E6&\" \"&E7","v":" "}]
["Address of submitting enterprise, postcode and town",null,{"$f":"INDEX(A:A,SUMPRODUCT(MAX((OFFSET(INDEX(E:E,1),0,0,ROW()-1)<>\"\")*ROW(OFFSET(INDEX(E:E,1),0,0,ROW()-1)))))","v":"Address of submitting enterprise, street and number"},"*",{"$f":"E8&\" \"&E9","v":" "}]
["Identification number [CVR] of submitting enterprise",null,{"$f":"INDEX(A:A,SUMPRODUCT(MAX((OFFSET(INDEX(E:E,1),0,0,ROW()-1)<>\"\")*ROW(OFFSET(INDEX(E:E,1),0,0,ROW()-1)))))","v":"Address of submitting enterprise, postcode and town"},"*",{"$f":"\"\"&E10","v":""}]

{"sheet":"General data BASE","index":10,"n_rows":68,"n_cols":100,"rows_kept":68,"cut":false,"hidden":false,"merged":[[10,1,10,4],[11,1,11,4],[12,1,12,4],[13,1,13,4],[2,1,2,4],[3,1,3,4],[4,1,4,4],[6,1,6,2],[6,3,6,4],[9,1,9,4],[24,1,24,4],[15,1,15,2],[15,3,15,4],[16,1,16,4],[17,1,17,4],[18,1,18,4],[19,1,19,4],[20,1,20,4],[21,1,21,4],[22,1,22,4],[23,1,23,4],[31,1,31,4],[38,1,38,4],[25,1,25,4],[26,1,26,4],[27,1,27,4],[28,1,28,4],[29,1,29,4],[30,1,30,4],[32,1,32,4],[33,1,33,4],[34,1,34,4],[35,1,35,4],[42,1,42,4],[43,1,43,4],[44,1,44,4],[45,1,45,4],[39,1,39,4]]}
[null,null,null,null,null,"Range name","Defaults x4 columns",{"$f":"ISERROR(INDIRECT(\"'General Data ESEF'!PP_Language\"))","v":false},{"$f":"IFERROR(MATCH(PP_Language,PP_Languages,0),1)","v":1},{"$f":"IF(ISBLANK(INDEX(PP_Locale,2,I1)),1,I1)","v":1},"EN","BG","CS","DA","DE","EL","ES","ET","FI","FR","HR","HU","IS","IT","LT","LV","MT","NL","NO","PL","PT","RO","SK","SL","SV",{"$f":"IFERROR(MATCH(PP_CountryCode,PP_Countries,0),1)","v":1},"EU","AT","BE","BG","CH","CY","CZ","DE","DK","EE","EL","ES","FI","FR","GG","GR","HR","HU","IE","IS","IT","LI","LT","LU","LV","MT","NL","NO","PL","PT","RO","SE","SI","SK","UK","Adjusted values x4 columns",null,null,null,"Validation lists"]
[{"$f":"\"\"&INDEX(PP_Locale,ROW(),PP_LanguageIndex)&\" 1.0.0.0\"","v":"ParsePort BASE general data, version 1.0.0.0"},null,null,null,null,null,null,null,null,null,"ParsePort BASE general data, version",null,null,"ParsePort BASE stamdata, version",null,null,null,null,null,null,null,null,null,null,null,null,null,null,null,null,null,null,null,null,null,null,null,null,null,null,null,null,null,null,null,null,null,null,null,null,null,null,null,null,null,null,null,null,null,null,null,null,null,null,null,null,null,null,null,null,null,null,null,null,null,null,null,null,null,null,null,null,null,null,null,null,null,null,null,null,null,null,null,null,null,null,null,null,"Hypertag properties","Hypertag:"]
[null,{"$f":"\"\"&INDEX($K3:$N3,PP_LanguageIndex)","v":"MANDATORY FIELD"},null,null,null,null,null,null,null,null,"MANDATORY FIELD",null,null,"OBLIGATORISK FELT"]
[null,{"$f":"\"\"&INDEX($K4:$N4,PP_LanguageIndex)","v":"AUTOMATIC FIELD (can be overruled)"},null,null,null,null,null,null,null,null,"AUTOMATIC FIELD (can be overruled)",null,null,"AUTOMATISK FELT (kan overstyres)"]
[null,{"$f":"\"\"&INDEX($K5:$N5,PP_LanguageIndex)","v":"FILL OUT IF INFORMATION IS PRESENT IN REPORT"},null,null,null,null,null,null,null,null,"FILL OUT IF INFORMATION IS PRESENT IN REPORT",null,null,"UDFYLDES HVIS INFORMATIONEN FINDES I RAPPORTEN"]
[]
[null,{"$f":"IF(PP_Consolidated,IFERROR(VLOOKUP(\"Group\",PP_Locale,PP_LanguageIndex,FALSE),\"Group\"),\"\")","v":"Group"},null,{"$f":"IF(PP_Consolidated,IFERROR(VLOOKUP(\"Parent\",PP_Locale,PP_LanguageIndex,FALSE),\"Parent\"),\"\")","v":"Parent"},null,null,{"$f":"IF(PP_Consolidated,IFERROR(VLOOKUP(\"Group\",PP_Locale,PP_LanguageIndex,FALSE),\"Group\"),\"\")","v":"Group"},{"$f":"IF(PP_Consolidated,IFERROR(VLOOKUP(\"Group\",PP_Locale,PP_LanguageIndex,FALSE),\"Group\"),\"\")","v":"Group"},{"$f":"IF(PP_Consolidated,IFERROR(VLOOKUP(\"Parent\",PP_Locale,PP_LanguageIndex,FALSE),\"Parent\"),\"\")","v":"Parent"},{"$f":"IF(PP_Consolidated,IFERROR(VLOOKUP(\"Parent\",PP_Locale,PP_LanguageIndex,FALSE),\"Parent\"),\"\")","v":"Parent"},null,null,null,null,null,null,null,null,null,null,null,null,null,null,null,null,null,null,null,null,null,null,null,null,null,null,null,null,null,null,null,null,null,null,null,null,null,null,null,null,null,null,null,null,null,null,null,null,null,null,null,null,null,null,null,null,null,null,null,null,null,{"$f":"IF(PP_Consolidated,\"Group\",\"\")","v":"Group"},{"$f":"IF(PP_Consolidated,\"Group\",\"\")","v":"Group"},{"$f":"IF(PP_Consolidated,\"Parent\",\"\")","v":"Parent"},{"$f":"IF(PP_Consolidated,\"Parent\",\"\")","v":"Parent"}]
[null,{"$f":"IFERROR(VLOOKUP(\"Period\",PP_Locale,PP_LanguageIndex,FALSE),\"Period\")&\" 1\"","v":"Period 1"},{"$f":"IFERROR(VLOOKUP(\"Period\",PP_Locale,PP_LanguageIndex,FALSE),\"Period\")&\" 2\"","v":"Period 2"},{"$f":"IF(PP_Consolidated,IFERROR(VLOOKUP(\"Period\",PP_Locale,PP_LanguageIndex,FALSE),\"Period\")&\" 1\",\"\")","v":"Period 1"},{"$f":"IF(PP_Consolidated,IFERROR(VLOOKUP(\"Period\",PP_Locale,PP_LanguageIndex,FALSE),\"Period\")&\" 2\",\"\")","v":"Period 2"},null,{"$f":"IFERROR(VLOOKUP(\"Period\",PP_Locale,PP_LanguageIndex,FALSE),\"Period\")&\" 1\"","v":"Period 1"},{"$f":"IFERROR(VLOOKUP(\"Period\",PP_Locale,PP_LanguageIndex,FALSE),\"Period\")&\" 2\"","v":"Period 2"},{"$f":"IF(PP_Consolidated,IFERROR(VLOOKUP(\"Period\",PP_Locale,PP_LanguageIndex,FALSE),\"Period\")&\" 1\",\"\")","v":"Period 1"},{"$f":"IF(PP_Consolidated,IFERROR(VLOOKUP(\"Period\",PP_Locale,PP_LanguageIndex,FALSE),\"Period\")&\" 2\",\"\")","v":"Period 2"},null,null,null,null,null,null,null,null,null,null,null,null,null,null,null,null,null,null,null,null,null,null,null,null,null,null,null,null,null,null,null,null,null,null,null,null,null,null,null,null,null,null,null,null,null,null,null,null,null,null,null,null,null,null,null,null,null,null,null,null,null,"Period 1","Period 2",{"$f":"IF(PP_Consolidated,\"Period 1\",\"\")","v":"Period 1"},{"$f":"IF(PP_Consolidated,\"Period 2\",\"\")","v":"Period 2"}]
[{"$f":"\"\"&INDEX(PP_Locale,ROW(),PP_LanguageIndex)","v":"General:"},null,null,null,null,null,null,null,null,null,"General:",null,null,"Generelt:",null,null,null,null,null,null,null,null,null,null,null,null,null,null,null,null,null,null,null,null,null,null,null,null,null,null,null,null,null,null,null,null,null,null,null,null,null,null,null,null,null,null,null,null,null,null,null,null,null,null,null,null,null,null,null,null,null,null,null,null,null,{"$f":"\"/General data \"&PP_TaxonomyId&\"(headers=\"&CELL(\"address\",$BT$7)&\":\"&CELL(\"address\",$BW$8)&\"[language=en],labels=\"&SUBSTITUTE(CELL(\"address\",K9)&\":\"&CELL(\"address\",K47),\"$\",\"\")&\"[language=en],values=\"&SUBSTITUTE(CELL(\"address\",BT9)&\":\"&CELL(\"address\",BW47),\"$\",\"\")&\"[language=\"&LOWER(PP_Language)&\"])\"","v":"/General data UKFRC(headers=$BT$7:$BW$8[language=en],labels=K9:K47[language=en],values=BT9:BW47[language=en])"}]
[{"$f":"\"\"&INDEX(PP_Locale,ROW(),PP_LanguageIndex)","v":"Report language code"},{"$f":"IFERROR(INDIRECT(\"'General Data ESEF'!PP_Language\"),\"DA\")","v":"EN"},null,null,null,"PP_Language",{"$f":"IFERROR(INDIRECT(\"'General Data ESEF'!PP_Language\"),\"DA\")","v":"EN"},null,null,null,"Report language code",null,null,"Rapport sprogkode","Bericht Sprachcode",null,"Código de lenguaje",null,null,"Code de langue",null,null,null,"Codice lingua",null,null,null,null,null,"Kod języka"]
[{"$f":"\"\"&INDEX(PP_Locale,ROW(),PP_LanguageIndex)","v":"Label language code"},{"$f":"PP_Language","v":"EN"},{"$f":"PP_Language","v":"EN"},{"$f":"PP_Language","v":"EN"},{"$f":"PP_Language","v":"EN"},"PP_LabelLanguage",{"$f":"PP_Language","v":"EN"},null,null,null,"Label language code",null,null,"Label sprogkode","Tag-Sprachcode",null,"Código de lenguaje de la etiqueta",null,null,"Code de langue de l'étiquette",null,null,null,"Codice lingua etichetta",null,null,null,null,null,"Kod języka etykiety"]
[{"$f":"\"\"&INDEX(PP_Locale,ROW(),PP_LanguageIndex)","v":"Currency code"},{"$f":"IFERROR(INDIRECT(\"'General Data ESEF'!PP_Currency\"),\"DKK\")","v":"EUR"},null,null,null,"PP_Currency",{"$f":"IFERROR(INDIRECT(\"'General Data ESEF'!PP_Currency\"),\"DKK\")","v":"EUR"},null,null,null,"Currency code",null,null,"Valutakode","Währungscode",null,"Código de moneda",null,null,"Code devise",null,null,null,"Codice valuta",null,null,null,null,null,"Kod waluty",null,null,null,null,null,null,null,null,null,null,null,null,null,null,null,null,null,null,null,null,null,null,null,null,null,null,null,null,null,null,null,null,null,null,null,null,null,null,null,null,null,{"$f":"\"\"&UPPER(B12)","v":"EUR"}]
[{"$f":"\"\"&INDEX(PP_Locale,ROW(),PP_LanguageIndex)","v":"Scale"},{"$f":"IFERROR(INDIRECT(\"'General Data ESEF'!PP_MonetaryScaling\"),0)","v":6},null,null,null,"PP_MonetaryScaling",{"$f":"IFERROR(INDIRECT(\"'General Data ESEF'!PP_MonetaryScaling\"),0)","v":6},null,null,null,"Scale",null,null,"Skalering","Skalierung",null,"Redondeo",null,null,"Mise à l'échelle",null,null,null,"Ridimensionamento",null,null,null,null,null,"Skalowanie",null,null,null,null,null,null,null,null,null,null,null,null,null,null,null,null,null,null,null,null,null,null,null,null,null,null,null,null,null,null,null,null,null,null,null,null,null,null,null,null,null,null,null,null,null,0,3,6,9]
[{"$f":"\"\"&INDEX(PP_Locale,ROW(),PP_LanguageIndex)","v":"Consolidated"},{"$f":"IFERROR(INDIRECT(\"'General Data ESEF'!PP_Consolidated\"),FALSE)","v":true},null,null,null,"PP_Consolidated",{"$f":"IFERROR(INDIRECT(\"'General Data ESEF'!PP_Consolidated\"),FALSE)","v":true},null,null,null,"Consolidated",null,null,"Koncern",null,null,null,null,null,null,null,null,null,null,null,null,null,null,null,null,null,null,null,null,null,null,null,null,null,null,null,null,null,null,null,null,null,null,null,null,null,null,null,null,null,null,null,null,null,null,null,null,null,null,null,null,null,null,null,null,null,null,null,null,null,false,true]
[]
[{"$f":"\"\"&INDEX(PP_Locale,ROW(),PP_LanguageIndex)","v":"Dates:"},null,null,null,null,null,null,null,null,null,"Dates:",null,null,"Datoer:"]
[{"$f":"\"\"&INDEX(PP_Locale,ROW(),PP_LanguageIndex)","v":"Start date of reporting period 1"},{"$f":"DATE(YEAR(TODAY())-1,1,1)","v":"2025-01-01"},null,null,null,"PP_Period1StartDate",{"$f":"DATE(YEAR(TODAY())-1,1,1)","v":45658},null,null,null,"Start date of reporting period 1",null,null,"Startdato for periode 1","Startdatum des Berichtszeitraums 1",null,"Fecha de inicio del período del informe 1",null,null,"Date de début de la période de reporting 1",null,null,null,"Data di inizio del periodo di riferimento 1",null,null,null,null,null,"Data rozpoczęcia okresu sprawozdawczego 1",null,null,null,null,null,null,null,null,null,null,null,null,null,null,null,null,null,null,null,null,null,null,null,null,null,null,null,null,null,null,null,null,null,null,null,null,null,null,null,null,null,{"$f":"IF(COUNTBLANK(B17),\"\",TEXT(YEAR(B17),\"0000\")&\"-\"&TEXT(MONTH(B17),\"00\")&\"-\"&TEXT(DAY(B17),\"00\"))","v":"2025-01-01"}]
[{"$f":"\"\"&INDEX(PP_Locale,ROW(),PP_LanguageIndex)","v":"End date of reporting period 1"},{"$f":"DATE(YEAR(TODAY())-1,12,31)","v":"2025-12-31"},null,null,null,"PP_Period1EndDate",{"$f":"DATE(YEAR(TODAY())-1,12,31)","v":46022},null,null,null,"End date of reporting period 1",null,null,"Slutdato for periode 1","Enddatum des Berichtszeitraums 1",null,"Fecha final del período del informe 1",null,null,"Date de fin de la période de reporting 1",null,null,null,"Data di fine del periodo di riferimento 1",null,null,null,null,null,"Data zakończenia okresu sprawozdawczego 1",null,null,null,null,null,null,null,null,null,null,null,null,null,null,null,null,null,null,null,null,null,null,null,null,null,null,null,null,null,null,null,null,null,null,null,null,null,null,null,null,null,"2025-12-31"]
[{"$f":"\"\"&INDEX(PP_Locale,ROW(),PP_LanguageIndex)","v":"Start date of reporting period 2"},{"$f":"EDATE(PP_Period1StartDate,-1*12)","v":"2024-01-01"},null,null,null,"PP_Period2StartDate",{"$f":"EDATE(PP_Period1StartDate,-1*12)","v":45292},null,null,null,"Start date of reporting period 2",null,null,"Startdato for periode 2","Startdatum des Berichtszeitraums 2",null,"Fecha de inicio del período del informe 2",null,null,"Date de début de la période de reporting 2",null,null,null,"Data di inizio del periodo di riferimento 2",null,null,null,null,null,"Data rozpoczęcia okresu sprawozdawczego 2",null,null,null,null,null,null,null,null,null,null,null,null,null,null,null,null,null,null,null,null,null,null,null,null,null,null,null,null,null,null,null,null,null,null,null,null,null,null,null,null,null,"2024-01-01"]
[{"$f":"\"\"&INDEX(PP_Locale,ROW(),PP_LanguageIndex)","v":"End date of reporting period 2"},{"$f":"EDATE(PP_Period1EndDate,-1*12)","v":"2024-12-31"},null,null,null,"PP_Period2EndDate",{"$f":"EDATE(PP_Period1EndDate,-1*12)","v":45657},null,null,null,"End date of reporting period 2",null,null,"Slutdato for periode 2","Enddatum des Berichtszeitraums 2",null,"Fecha final del período del informe 2",null,null,"Date de fin de la période de reporting 2",null,null,null,"Data di fine del periodo di riferimento 2",null,null,null,null,null,"Data zakończenia okresu sprawozdawczego 2",null,null,null,null,null,null,null,null,null,null,null,null,null,null,null,null,null,null,null,null,null,null,null,null,null,null,null,null,null,null,null,null,null,null,null,null,null,null,null,null,null,"2024-12-31"]
[{"$f":"\"\"&INDEX(PP_Locale,ROW(),PP_LanguageIndex)","v":"Start date of reporting period 3"},{"$f":"EDATE(PP_Period1StartDate,-2*12)","v":"2023-01-01"},null,null,null,"PP_Period3StartDate",{"$f":"EDATE(PP_Period1StartDate,-2*12)","v":44927},null,null,null,"Start date of reporting period 3",null,null,"Startdato for periode 3","Startdatum des Berichtszeitraums 3",null,"Fecha de inicio del período del informe 3",null,null,"Date de début de la période de reporting 3",null,null,null,"Data di inizio del periodo di riferimento 3",null,null,null,null,null,"Data rozpoczęcia okresu sprawozdawczego 3",null,null,null,null,null,null,null,null,null,null,null,null,null,null,null,null,null,null,null,null,null,null,null,null,null,null,null,null,null,null,null,null,null,null,null,null,null,null,null,null,null,"2023-01-01"]
[{"$f":"\"\"&INDEX(PP_Locale,ROW(),PP_LanguageIndex)","v":"End date of reporting period 3"},{"$f":"EDATE(PP_Period1EndDate,-2*12)","v":"2023-12-31"},null,null,null,"PP_Period3EndDate",{"$f":"EDATE(PP_Period1EndDate,-2*12)","v":45291},null,null,null,"End date of reporting period 3",null,null,"Slutdato for periode 3","Enddatum des Berichtszeitraums 3",null,"Fecha final del período del informe 3",null,null,"Date de fin de la période de reporting 3",null,null,null,"Data di fine del periodo di riferimento 3",null,null,null,null,null,"Data zakończenia okresu sprawozdawczego 3",null,null,null,null,null,null,null,null,null,null,null,null,null,null,null,null,null,null,null,null,null,null,null,null,null,null,null,null,null,null,null,null,null,null,null,null,null,null,null,null,null,"2023-12-31"]
[{"$f":"\"\"&INDEX(PP_Locale,ROW(),PP_LanguageIndex)","v":"Start date of reporting period 4"},{"$f":"EDATE(PP_Period1StartDate,-3*12)","v":"2022-01-01"},null,null,null,"PP_Period4StartDate",{"$f":"EDATE(PP_Period1StartDate,-3*12)","v":44562},null,null,null,"Start date of reporting period 4",null,null,"Startdato for periode 4","Startdatum des Berichtszeitraums 4",null,"Fecha de inicio del período del informe 4",null,null,"Date de début de la période de reporting 4",null,null,null,"Data di inizio del periodo di riferimento 4",null,null,null,null,null,"Data rozpoczęcia okresu sprawozdawczego 4",null,null,null,null,null,null,null,null,null,null,null,null,null,null,null,null,null,null,null,null,null,null,null,null,null,null,null,null,null,null,null,null,null,null,null,null,null,null,null,null,null,"2022-01-01"]
[{"$f":"\"\"&INDEX(PP_Locale,ROW(),PP_LanguageIndex)","v":"End date of reporting period 4"},{"$f":"EDATE(PP_Period1EndDate,-3*12)","v":"2022-12-31"},null,null,null,"PP_Period4EndDate",{"$f":"EDATE(PP_Period1EndDate,-3*12)","v":44926},null,null,null,"End date of reporting period 4",null,null,"Slutdato for periode 4","Enddatum des Berichtszeitraums 4",null,"Fecha final del período del informe 4",null,null,"Date de fin de la période de reporting 4",null,null,null,"Data di fine del periodo di riferimento 4",null,null,null,null,null,"Data zakończenia okresu sprawozdawczego 4",null,null,null,null,null,null,null,null,null,null,null,null,null,null,null,null,null,null,null,null,null,null,null,null,null,null,null,null,null,null,null,null,null,null,null,null,null,null,null,null,null,"2022-12-31"]
[{"$f":"\"\"&INDEX(PP_Locale,ROW(),PP_LanguageIndex)","v":"Start date of reporting period 5"},{"$f":"EDATE(PP_Period1StartDate,-4*12)","v":"2021-01-01"},null,null,null,"PP_Period5StartDate",{"$f":"EDATE(PP_Period1StartDate,-4*12)","v":44197},null,null,null,"Start date of reporting period 5",null,null,"Startdato for periode 5","Startdatum des Berichtszeitraums 5",null,"Fecha de inicio del período del informe 5",null,null,"Date de début de la période de reporting 5",null,null,null,"Data di inizio del periodo di riferimento 5",null,null,null,null,null,"Data rozpoczęcia okresu sprawozdawczego 5",null,null,null,null,null,null,null,null,null,null,null,null,null,null,null,null,null,null,null,null,null,null,null,null,null,null,null,null,null,null,null,null,null,null,null,null,null,null,null,null,null,"2021-01-01"]
[{"$f":"\"\"&INDEX(PP_Locale,ROW(),PP_LanguageIndex)","v":"End date of reporting period 5"},{"$f":"EDATE(PP_Period1EndDate,-4*12)","v":"2021-12-31"},null,null,null,"PP_Period5EndDate",{"$f":"EDATE(PP_Period1EndDate,-4*12)","v":44561},null,null,null,"End date of reporting period 5",null,null,"Slutdato for periode 5","Enddatum des Berichtszeitraums 5",null,"Fecha final del período del informe 5",null,null,"Date de fin de la période de reporting 5",null,null,null,"Data di fine del periodo di riferimento 5",null,null,null,null,null,"Data zakończenia okresu sprawozdawczego 5",null,null,null,null,null,null,null,null,null,null,null,null,null,null,null,null,null,null,null,null,null,null,null,null,null,null,null,null,null,null,null,null,null,null,null,null,null,null,null,null,null,"2021-12-31"]
[{"$f":"\"\"&INDEX(PP_Locale,ROW(),PP_LanguageIndex)","v":"Start date of reporting period 6"},{"$f":"EDATE(PP_Period1StartDate,-5*12)","v":"2020-01-01"},null,null,null,"PP_Period6StartDate",{"$f":"EDATE(PP_Period1StartDate,-5*12)","v":43831},null,null,null,"Start date of reporting period 6",null,null,"Startdato for periode 6","Startdatum des Berichtszeitraums 6",null,"Fecha de inicio del período del informe 6",null,null,"Date de début de la période de reporting 6",null,null,null,"Data di inizio del periodo di riferimento 6",null,null,null,null,null,"Data rozpoczęcia okresu sprawozdawczego 6",null,null,null,null,null,null,null,null,null,null,null,null,null,null,null,null,null,null,null,null,null,null,null,null,null,null,null,null,null,null,null,null,null,null,null,null,null,null,null,null,null,"2020-01-01"]
[{"$f":"\"\"&INDEX(PP_Locale,ROW(),PP_LanguageIndex)","v":"End date of reporting period 6"},{"$f":"EDATE(PP_Period1EndDate,-5*12)","v":"2020-12-31"},null,null,null,"PP_Period6EndDate",{"$f":"EDATE(PP_Period1EndDate,-5*12)","v":44196},null,null,null,"End date of reporting period 6",null,null,"Slutdato for periode 6","Enddatum des Berichtszeitraums 6",null,"Fecha final del período del informe 6",null,null,"Date de fin de la période de reporting 6",null,null,null,"Data di fine del periodo di riferimento 6",null,null,null,null,null,"Data zakończenia okresu sprawozdawczego 6",null,null,null,null,null,null,null,null,null,null,null,null,null,null,null,null,null,null,null,null,null,null,null,null,null,null,null,null,null,null,null,null,null,null,null,null,null,null,null,null,null,"2020-12-31"]
[{"$f":"\"\"&INDEX(PP_Locale,ROW(),PP_LanguageIndex)","v":"Start date of reporting period 7"},{"$f":"EDATE(PP_Period1StartDate,-6*12)","v":"2019-01-01"},null,null,null,"PP_Period7StartDate",{"$f":"EDATE(PP_Period1StartDate,-6*12)","v":43466},null,null,null,"Start date of reporting period 7",null,null,"Startdato for periode 7","Startdatum des Berichtszeitraums 7",null,"Fecha de inicio del período del informe 7",null,null,"Date de début de la période de reporting 7",null,null,null,"Data di inizio del periodo di riferimento 7",null,null,null,null,null,"Data rozpoczęcia okresu sprawozdawczego 7",null,null,null,null,null,null,null,null,null,null,null,null,null,null,null,null,null,null,null,null,null,null,null,null,null,null,null,null,null,null,null,null,null,null,null,null,null,null,null,null,null,"2019-01-01"]
[{"$f":"\"\"&INDEX(PP_Locale,ROW(),PP_LanguageIndex)","v":"End date of reporting period 7"},{"$f":"EDATE(PP_Period1EndDate,-6*12)","v":"2019-12-31"},null,null,null,"PP_Period7EndDate",{"$f":"EDATE(PP_Period1EndDate,-6*12)","v":43830},null,null,null,"End date of reporting period 7",null,null,"Slutdato for periode 7","Enddatum des Berichtszeitraums 7",null,"Fecha final del período del informe 7",null,null,"Date de fin de la période de reporting 7",null,null,null,"Data di fine del periodo di riferimento 7",null,null,null,null,null,"Data zakończenia okresu sprawozdawczego 7",null,null,null,null,null,null,null,null,null,null,null,null,null,null,null,null,null,null,null,null,null,null,null,null,null,null,null,null,null,null,null,null,null,null,null,null,null,null,null,null,null,"2019-12-31"]
[{"$f":"\"\"&INDEX(PP_Locale,ROW(),PP_LanguageIndex)","v":"Start date of reporting period 8"},{"$f":"EDATE(PP_Period1StartDate,-7*12)","v":"2018-01-01"},null,null,null,"PP_Period8StartDate",{"$f":"EDATE(PP_Period1StartDate,-7*12)","v":43101},null,null,null,"Start date of reporting period 8",null,null,"Startdato for periode 8","Startdatum des Berichtszeitraums 8",null,"Fecha de inicio del período del informe 8",null,null,"Date de début de la période de reporting 8",null,null,null,"Data di inizio del periodo di riferimento 8",null,null,null,null,null,"Data rozpoczęcia okresu sprawozdawczego 8",null,null,null,null,null,null,null,null,null,null,null,null,null,null,null,null,null,null,null,null,null,null,null,null,null,null,null,null,null,null,null,null,null,null,null,null,null,null,null,null,null,"2018-01-01"]
[{"$f":"\"\"&INDEX(PP_Locale,ROW(),PP_LanguageIndex)","v":"End date of reporting period 8"},{"$f":"EDATE(PP_Period1EndDate,-7*12)","v":"2018-12-31"},null,null,null,"PP_Period8EndDate",{"$f":"EDATE(PP_Period1EndDate,-7*12)","v":43465},null,null,null,"End date of reporting period 8",null,null,"Slutdato for periode 8","Enddatum des Berichtszeitraums 8",null,"Fecha final del período del informe 8",null,null,"Date de fin de la période de reporting 8",null,null,null,"Data di fine del periodo di riferimento 8",null,null,null,null,null,"Data zakończenia okresu sprawozdawczego 8",null,null,null,null,null,null,null,null,null,null,null,null,null,null,null,null,null,null,null,null,null,null,null,null,null,null,null,null,null,null,null,null,null,null,null,null,null,null,null,null,null,"2018-12-31"]
[{"$f":"\"\"&INDEX(PP_Locale,ROW(),PP_LanguageIndex)","v":"Start date of reporting period 9"},{"$f":"EDATE(PP_Period1StartDate,-8*12)","v":"2017-01-01"},null,null,null,"PP_Period9StartDate",{"$f":"EDATE(PP_Period1StartDate,-8*12)","v":42736},null,null,null,"Start date of reporting period 9",null,null,"Startdato for periode 9","Startdatum des Berichtszeitraums 9",null,"Fecha de inicio del período del informe 9",null,null,"Date de début de la période de reporting 9",null,null,null,"Data di inizio del periodo di riferimento 9",null,null,null,null,null,"Data rozpoczęcia okresu sprawozdawczego 9",null,null,null,null,null,null,null,null,null,null,null,null,null,null,null,null,null,null,null,null,null,null,null,null,null,null,null,null,null,null,null,null,null,null,null,null,null,null,null,null,null,{"$f":"IF(COUNTBLANK(B33),\"\",TEXT(YEAR(B33),\"0000\")&\"-\"&TEXT(MONTH(B33),\"00\")&\"-\"&TEXT(DAY(B33),\"00\"))","v":"2017-01-01"}]
[{"$f":"\"\"&INDEX(PP_Locale,ROW(),PP_LanguageIndex)","v":"End date of reporting period 9"},{"$f":"EDATE(PP_Period1EndDate,-8*12)","v":"2017-12-31"},null,null,null,"PP_Period9EndDate",{"$f":"EDATE(PP_Period1EndDate,-8*12)","v":43100},null,null,null,"End date of reporting period 9",null,null,"Slutdato for periode 9","Enddatum des Berichtszeitraums 9",null,"Fecha final del período del informe 9",null,null,"Date de fin de la période de reporting 9",null,null,null,"Data di fine del periodo di riferimento 9",null,null,null,null,null,"Data zakończenia okresu sprawozdawczego 9",null,null,null,null,null,null,null,null,null,null,null,null,null,null,null,null,null,null,null,null,null,null,null,null,null,null,null,null,null,null,null,null,null,null,null,null,null,null,null,null,null,"2017-12-31"]
[{"$f":"\"\"&INDEX(PP_Locale,ROW(),PP_LanguageIndex)","v":"Start date of reporting period 10"},{"$f":"EDATE(PP_Period1StartDate,-9*12)","v":"2016-01-01"},null,null,null,"PP_Period10StartDate",{"$f":"EDATE(PP_Period1StartDate,-9*12)","v":42370},null,null,null,"Start date of reporting period 10",null,null,"Startdato for periode 10","Startdatum des Berichtszeitraums 10",null,"Fecha de inicio del período del informe 10",null,null,"Date de début de la période de reporting 10",null,null,null,"Data di inizio del periodo di riferimento 10",null,null,null,null,null,"Data rozpoczęcia okresu sprawozdawczego 10",null,null,null,null,null,null,null,null,null,null,null,null,null,null,null,null,null,null,null,null,null,null,null,null,null,null,null,null,null,null,null,null,null,null,null,null,null,null,null,null,null,"2016-01-01"]
[{"$f":"\"\"&INDEX(PP_Locale,ROW(),PP_LanguageIndex)","v":"End date of reporting period 10"},{"$f":"EDATE(PP_Period1EndDate,-9*12)","v":"2016-12-31"},null,null,null,"PP_Period10EndDate",{"$f":"EDATE(PP_Period1EndDate,-9*12)","v":42735},null,null,null,"End date of reporting period 10",null,null,"Slutdato for periode 10","Enddatum des Berichtszeitraums 10",null,"Fecha final del período del informe 10",null,null,"Date de fin de la période de reporting 10",null,null,null,"Data di fine del periodo di riferimento 10",null,null,null,null,null,"Data zakończenia okresu sprawozdawczego 10",null,null,null,null,null,null,null,null,null,null,null,null,null,null,null,null,null,null,null,null,null,null,null,null,null,null,null,null,null,null,null,null,null,null,null,null,null,null,null,null,null,"2016-12-31"]
[]
[{"$f":"\"\"&INDEX(PP_Locale,ROW(),PP_LanguageIndex)","v":"Information on reporting entity:"},null,null,null,null,null,null,null,null,null,"Information on reporting entity:",null,null,"Information om den regnskabsaflæggende virksomhed:"]
[{"$f":"\"\"&INDEX(PP_Locale,ROW(),PP_LanguageIndex)","v":"Name of reporting entity"},{"$f":"IFERROR(INDIRECT(\"'General Data ESEF'!PP_NameOfReportingEntity\"),IFERROR(VLOOKUP(\"Test customer\",PP_Locale,PP_LanguageIndex,FALSE),\"Test customer\"))","v":"Test customer"},null,null,null,"PP_NameOfReportingEntity",{"$f":"IFERROR(INDIRECT(\"'General Data ESEF'!PP_NameOfReportingEntity\"),IFERROR(VLOOKUP(\"Test customer\",PP_Locale,PP_LanguageIndex,FALSE),\"Test customer\"))","v":"Test customer"},null,null,null,"Name of reporting entity",null,null,"Regnskabsaflæggende virksomheds navn",null,null,null,null,null,null,null,null,null,null,null,null,null,null,null,null,null,null,null,null,null,null,null,null,null,null,null,null,null,null,null,null,null,null,null,null,null,null,null,null,null,null,null,null,null,null,null,null,null,null,null,null,null,null,null,null,null,{"$f":"\"\"&B39","v":"Test customer"},null,null,null,null,null,null,null,null,null,null,null,null,null,null,null,null,null,null,null,null,null,null,null,null,null,null,"&allowhtml=false",{"$f":"\"pp://General Data/\"&K39&\"?taxonomy=\"&PP_TaxonomyId&\"&labellanguage=en\"&CU39","v":"pp://General Data/Name of reporting entity?taxonomy=UKFRC&labellanguage=en&allowhtml=false"}]
[{"$f":"\"\"&INDEX(PP_Locale,ROW(),PP_LanguageIndex)","v":"Identification number [CVR] of reporting entity"},{"$f":"IF(IFERROR(LEN(INDIRECT(\"'General Data ESEF'!PP_IdentificationOfReportingEntity\")),0)=8,INDIRECT(\"'General Data ESEF'!PP_IdentificationOfReportingEntity\"),\"12345678\")","v":"12345678"},null,null,null,"PP_IdentificationNumberCvrOfReportingEntity",{"$f":"IF(IFERROR(LEN(INDIRECT(\"'General Data ESEF'!PP_IdentificationOfReportingEntity\")),0)=8,INDIRECT(\"'General Data ESEF'!PP_IdentificationOfReportingEntity\"),\"12345678\")","v":"12345678"},null,null,null,"Identification number [CVR] of reporting entity",null,null,"Regnskabsaflæggende virksomheds CVR-nr.",null,null,null,null,null,null,null,null,null,null,null,null,null,null,null,null,null,null,null,null,null,null,null,null,null,null,null,null,null,null,null,null,null,null,null,null,null,null,null,null,null,null,null,null,null,null,null,null,null,null,null,null,null,null,null,null,null,{"$f":"\"\"&SUBSTITUTE(B40,\" \",\"\")","v":"12345678"},null,null,null,null,null,null,null,null,null,null,null,null,null,null,null,null,null,null,null,null,null,null,null,null,null,null,"&allowhtml=false&skipspace=true",{"$f":"\"pp://General Data/\"&K40&\"?taxonomy=\"&PP_TaxonomyId&\"&labellanguage=en\"&CU40","v":"pp://General Data/Identification number [CVR] of reporting entity?taxonomy=UKFRC&labellanguage=en&allowhtml=false&skipspace=true"}]
[]
[{"$f":"\"\"&INDEX(PP_Locale,ROW(),PP_LanguageIndex)","v":"Technical information:"},null,null,null,null,null,null,null,null,null,"Technical information:",null,null,"Teknisk information:","Technische Information:",null,"Información técnica:",null,null,"Informations techniques:",null,null,null,"Informazioni tecniche:",null,null,null,null,null,"Specyfikacja:"]
[{"$f":"\"\"&INDEX(PP_Locale,ROW(),PP_LanguageIndex)","v":"Taxonomy"},"UK FRC",null,null,null,"PP_Taxonomy","UK FRC",null,null,null,"Taxonomy",null,null,"Taksonomi","Taxonomie",null,"Taxonomía",null,null,"Taxonomie",null,null,null,"Tassonomia",null,null,null,null,null,"Taksonomia",null,null,null,null,null,null,null,null,null,null,null,null,null,null,null,null,null,null,null,null,null,null,null,null,null,null,null,null,null,null,null,null,null,null,null,null,null,null,null,null,null,null,null,null,null,"DK GAAP","DK GAAP 20211001","DK GAAP 20201001","DK GAAP 20191001","DK GAAP 20171001"]
[{"$f":"\"\"&INDEX(PP_Locale,ROW(),PP_LanguageIndex)","v":"Taxonomy ID"},"UKFRC",null,null,null,"PP_TaxonomyId","DKGAAP",null,null,null,"Taxonomy ID",null,null,"Taksonomi ID"]
[{"$f":"\"\"&INDEX(PP_Locale,ROW(),PP_LanguageIndex)","v":"Taxonomy entrypoint"},"TEST",null,null,null,"PP_TaxonomyEntrypoint","TEST",null,null,null,"Taxonomy entrypoint",null,null,"Taksonomi entrypoint","Einstiegspunkt",null,"Punto de acceso",null,null,"Point d'accès",null,null,null,"Punto d'entrata",null,null,null,null,null,"Punkt wejścia",null,null,null,null,null,null,null,null,null,null,null,null,null,null,null,null,null,null,null,null,null,null,null,null,null,null,null,null,null,null,null,null,null,null,null,null,null,null,null,null,null,null,null,null,null,"Balance sheet (account form), income statement (by nature)","Balance sheet (account form), income statement (by function)","Balance sheet (account form by current and longterm), income statement (by nature)","Balance sheet (account form by current and longterm), income statement (by function)","Excluding Balance sheet and Income statement, including managements review and statistics"]
[{"$f":"\"\"&INDEX(PP_Locale,ROW(),PP_LanguageIndex)","v":"Identifier scheme"},{"$f":"IFERROR(INDIRECT(\"'General Data ESEF'!PP_IdentifierScheme\"),\"http://www.dcca.dk/cvr\")","v":"http://standards.iso.org/iso/17442"},null,null,null,"PP_IdentifierScheme",{"$f":"IFERROR(INDIRECT(\"'General Data ESEF'!PP_IdentifierScheme\"),\"http://www.dcca.dk/cvr\")","v":"http://standards.iso.org/iso/17442"},null,null,null,"Identifier scheme",null,null,"Identifier scheme","Identifikationsschema",null,"Esquema de identificación",null,null,"Schéma d'identification",null,null,null,"Schema identificativo",null,null,null,null,null,"Schemat identyfikacyjny",null,null,null,null,null,null,null,null,null,null,null,null,null,null,null,null,null,null,null,null,null,null,null,null,null,null,null,null,null,null,null,null,null,null,null,null,null,null,null,null,null,{"$f":"\"\"&B46","v":"http://standards.iso.org/iso/17442"}]
[]
[null,null,null,null,null,null,null,null,null,null,"UNKNOWN",null,null,"UKENDT"]
[null,null,null,null,null,null,null,null,null,null,"Type of basis for opinion on audited financial statements (audit)",null,null,"Type af grundlag for konklusion (revision)"]
[null,null,null,null,null,null,null,null,null,null,"Type of basis for opinion on financial statements (Extended review)",null,null,"Type af grundlag for konklusion (udvidet gennemgang)"]
[null,null,null,null,null,null,null,null,null,null,"Type of basis for conclusion on financial statements (review)",null,null,"Type af grundlag for konklusion (review)"]
[null,null,null,null,null,null,null,null,null,null,"Type of opinion on audited financial statements (Audit)",null,null,"Type af konklusion (revision)"]
[null,null,null,null,null,null,null,null,null,null,"Type of opinion on financial statements (Extended Review)",null,null,"Type af konklusion (udvidet gennemgang)"]
[null,null,null,null,null,null,null,null,null,null,"Type of conclusion on financial statements (review)",null,null,"Type af konklusion (review)"]
[null,null,null,null,null,null,null,null,null,null,"Reporting responsibilities according to the Danish executive order on approved auditors' reports especially the criminal code and Fiscal-, tax- and subsidy legislation (Audit)",null,null,"Erklæringsforpligtelser i henhold til erklæringsbekendtgørelsen, herunder særligt straffeloven samt skatte-, afgifts- og tilskudslovgivningen (revision)"]
[null,null,null,null,null,null,null,null,null,null,"Reporting responsibilities according to the Danish executive order on approved auditors' reports especially the criminal code and Fiscal-, tax- and subsidy legislation (Extended review)",null,null,"Erklæringsforpligtelser i henhold til erklæringsbekendtgørelsen, herunder særligt straffeloven samt skatte-, afgifts- og tilskudslovgivningen (udvidet gennemgang)"]
[null,null,null,null,null,null,null,null,null,null,"Reporting responsibilities according to the Danish executive order on approved auditors' reports especially the companies act or equivalent legislation, that the company is subject to (Audit)",null,null,"Erklæringsforpligtelser i henhold til erklæringsbekendtgørelsen, herunder særligt den for virksomheden fastsatte selskabsretlige eller tilsvarende lovgivning (revision)"]
[null,null,null,null,null,null,null,null,null,null,"Reporting responsibilities according to the Danish executive order on approved auditors' reports especially the companies act or equivalent legislation, that the company is subject to (Extended review)",null,null,"Erklæringsforpligtelser i henhold til erklæringsbekendtgørelsen, herunder særligt den for virksomheden fastsatte selskabsretlige eller tilsvarende lovgivning (udvidet gennemgang)"]
[null,null,null,null,null,null,null,null,null,null,"Reporting responsibilities according to the Danish executive order on approved auditors' reports especially legislation on financial reporting, including accounting and storage of accounting records (Audit)",null,null,"Erklæringsforpligtelser i henhold til erklæringsbekendtgørelsen, herunder særligt lovgivningen om regnskabsaflæggelse, herunder om bogføring og bevaring af regnskabsmateriale (revision)"]
[null,null,null,null,null,null,null,null,null,null,"Reporting responsibilities according to the Danish executive order on approved auditors' reports especially legislation on financial reporting, including accounting and storage of accounting records (Extended review)",null,null,"Erklæringsforpligtelser i henhold til erklæringsbekendtgørelsen, herunder særligt lovgivningen om regnskabsaflæggelse, herunder om bogføring og bevaring af regnskabsmateriale (udvidet gennemgang)"]
[null,null,null,null,null,null,null,null,null,null,"Reporting responsibilities according to the Danish executive order on approved auditors' reports especially other matters (Audit)",null,null,"Erklæringsforpligtelser i henhold til erklæringsbekendtgørelsen, herunder særligt andre forhold (revision)"]
[null,null,null,null,null,null,null,null,null,null,"Reporting responsibilities according to the Danish executive order on approved auditors' reports especially other matters (Extended review)",null,null,"Erklæringsforpligtelser i henhold til erklæringsbekendtgørelsen, herunder særligt andre forhold (udvidet gennemgang)"]
[null,null,null,null,null,null,null,null,null,null,"Current period",null,null,"Aktuel periode"]
[null,null,null,null,null,null,null,null,null,null,"Previous period",null,null,"Foregående periode"]
[null,null,null,null,null,null,null,null,null,null,"Group",null,null,"Koncern"]
[null,null,null,null,null,null,null,null,null,null,"Parent",null,null,"Moder"]
[null,null,null,null,null,null,null,null,null,null,"Test customer",null,null,"Test kunde","Kunden testen",null,"Cliente de prueba",null,null,"Test client",null,null,null,"Cliente di prova",null,null,null,null,null,"Klient testowy"]
[null,null,null,null,null,null,null,null,null,null,"Period",null,null,"Periode","Zeitraum",null,"Periodo",null,null,"Période",null,null,null,"Periodo",null,null,null,null,null,"Okres"]

{"sheet":"Financial highlights","index":11,"n_rows":5,"n_cols":9,"rows_kept":5,"cut":false,"hidden":false,"merged":[]}
[]
[null,null,{"$f":"\"Period \"&COUNTIF(OFFSET(C2,0,-1,1,-COLUMN()+1),\"Period*\")+1","v":"Period 1"},{"$f":"\"Period \"&COUNTIF(OFFSET(D2,0,-1,1,-COLUMN()+1),\"Period*\")+1","v":"Period 2"},{"$f":"\"Period \"&COUNTIF(OFFSET(E2,0,-1,1,-COLUMN()+1),\"Period*\")+1","v":"Period 3"},{"$f":"\"Period \"&COUNTIF(OFFSET(F2,0,-1,1,-COLUMN()+1),\"Period*\")+1","v":"Period 4"},{"$f":"\"Period \"&COUNTIF(OFFSET(G2,0,-1,1,-COLUMN()+1),\"Period*\")+1","v":"Period 5"}]
[]
[null,null,null,null,null,null,null,null,{"$f":"\"/Financial highlights(headers=\"&CELL(\"address\",$B$1)&\":\"&CELL(\"address\",$H$3)&\",labels=\"&SUBSTITUTE(CELL(\"address\",A4)&\":\"&CELL(\"address\",A6),\"$\",\"\")&\")\"","v":"/Financial highlights(headers=$B$1:$H$3,labels=A4:A6)"}]
[{"$f":"\"Profit for the period \"&COUNTIF(OFFSET(A5,-1,0,-ROW()+1,1),\"Profit for the period*\")+1","v":"Profit for the period 1"}]

{"sheet":"Financial highlights DKGAAP","index":12,"n_rows":9,"n_cols":9,"rows_kept":9,"cut":false,"hidden":false,"merged":[[0,2,0,6]]}
[]
[null,null,{"$f":"\"Period \"&COUNTIF(OFFSET(C2,0,-1,1,-COLUMN()+1),\"Period*\")+1","v":"Period 1"},{"$f":"\"Period \"&COUNTIF(OFFSET(D2,0,-1,1,-COLUMN()+1),\"Period*\")+1","v":"Period 2"},{"$f":"\"Period \"&COUNTIF(OFFSET(E2,0,-1,1,-COLUMN()+1),\"Period*\")+1","v":"Period 3"},{"$f":"\"Period \"&COUNTIF(OFFSET(F2,0,-1,1,-COLUMN()+1),\"Period*\")+1","v":"Period 4"},{"$f":"\"Period \"&COUNTIF(OFFSET(G2,0,-1,1,-COLUMN()+1),\"Period*\")+1","v":"Period 5"}]
[null,null,{"$f":"\"t\"&INDIRECT(\"'General Data DKGAAP'!PP_Currency\")","v":"tEUR"},{"$f":"\"\"&OFFSET(D3,0,-1)","v":"tEUR"},{"$f":"\"\"&OFFSET(E3,0,-1)","v":"tEUR"},{"$f":"\"\"&OFFSET(F3,0,-1)","v":"tEUR"},{"$f":"\"\"&OFFSET(G3,0,-1)","v":"tEUR"}]
[null,null,null,null,null,null,null,null,{"$f":"\"/Financial highlights(headers=\"&CELL(\"address\",$B$1)&\":\"&CELL(\"address\",$H$3)&\",labels=\"&SUBSTITUTE(CELL(\"address\",A4)&\":\"&CELL(\"address\",A10),\"$\",\"\")&\")\"","v":"/Financial highlights(headers=$B$1:$H$3,labels=A4:A10)"}]
[{"$f":"\"Profit for the period \"&COUNTIF(OFFSET(A5,-1,0,-ROW()+1,1),\"Profit for the period*\")+1","v":"Profit for the period 1"}]
[{"$f":"\"Name of key figure \"&COUNTIF(OFFSET(A6,-1,0,-ROW()+1,1),\"Name of key figure*\")+1","v":"Name of key figure 1"},null,null,{"$f":"IF(COUNTBLANK(OFFSET(D6,1,0)),\"\",OFFSET(D6,0,-1))","v":""},"","",""]
[{"$f":"\"Value of key figure \"&COUNTIF(OFFSET(A7,-1,0,-ROW()+1,1),\"Value of key figure*\")+1","v":"Value of key figure 1"}]
[{"$f":"\"Name of financial ratio \"&COUNTIF(OFFSET(A8,-1,0,-ROW()+1,1),\"Name of financial ratio*\")+1&IF(LEFT(CELL(\"format\",C9),1)=\"P\",\"\",\" (%)\")","v":"Name of financial ratio 1 (%)"},null,null,"","","",""]
[{"$f":"\"Value of financial ratio \"&COUNTIF(OFFSET(A9,-1,0,-ROW()+1,1),\"Value of financial ratio*\")+1&IF(LEFT(CELL(\"format\",C9),1)=\"P\",\"\",\" (%)\")","v":"Value of financial ratio 1 (%)"}]

{"sheet":"Income statement","index":13,"n_rows":14,"n_cols":8,"rows_kept":14,"cut":false,"hidden":false,"merged":[]}
[]
[null,null,{"$f":"\"Period \"&COUNTIF(OFFSET(C2,0,-1,1,-COLUMN()+1),\"Period*\")+1","v":"Period 1"},{"$f":"\"Period \"&COUNTIF(OFFSET(D2,0,-1,1,-COLUMN()+1),\"Period*\")+1","v":"Period 2"},null,null,null,"TIPS"]
[]
[null,null,null,null,null,{"$f":"\"/Income statement by nature(headers=\"&CELL(\"address\",$B$1)&\":\"&CELL(\"address\",$E$3)&\",labels=\"&SUBSTITUTE(CELL(\"address\",A4)&\":\"&CELL(\"address\",A6),\"$\",\"\")&\")\"","v":"/Income statement by nature(headers=$B$1:$E$3,labels=A4:A6)"}]
[{"$f":"\"Profit for the period \"&COUNTIF(OFFSET(A5,-1,0,-ROW()+1,1),\"Profit for the period*\")+1","v":"Profit for the period 1"}]
[]
[null,null,null,null,null,{"$f":"\"/Income statement by function(headers=\"&CELL(\"address\",$B$1)&\":\"&CELL(\"address\",$E$3)&\",labels=\"&SUBSTITUTE(CELL(\"address\",A7)&\":\"&CELL(\"address\",A9),\"$\",\"\")&\")\"","v":"/Income statement by function(headers=$B$1:$E$3,labels=A7:A9)"}]
[{"$f":"\"Profit for the period \"&COUNTIF(OFFSET(A8,-1,0,-ROW()+1,1),\"Profit for the period*\")+1","v":"Profit for the period 2"}]
[]
[null,null,null,null,null,{"$f":"\"/Proposed distribution of results(headers=\"&CELL(\"address\",$B$1)&\":\"&CELL(\"address\",$E$3)&\",labels=\"&SUBSTITUTE(CELL(\"address\",A10)&\":\"&CELL(\"address\",A12),\"$\",\"\")&\")\"","v":"/Proposed distribution of results(headers=$B$1:$E$3,labels=A10:A12)"}]
[{"$f":"\"Profit for the period \"&COUNTIF(OFFSET(A11,-1,0,-ROW()+1,1),\"Profit for the period*\")+1","v":"Profit for the period 3"}]
[]
[null,null,null,null,null,{"$f":"\"/Proposed distribution of results after minority interests(headers=\"&CELL(\"address\",$B$1)&\":\"&CELL(\"address\",$E$3)&\",labels=\"&SUBSTITUTE(CELL(\"address\",A13)&\":\"&CELL(\"address\",A15),\"$\",\"\")&\")\"","v":"/Proposed distribution of results after minority interests(headers=$B$1:$E$3,labels=A13:A15)"}]
[{"$f":"\"Profit for the period \"&COUNTIF(OFFSET(A14,-1,0,-ROW()+1,1),\"Profit for the period*\")+1","v":"Profit for the period 4"}]

{"sheet":"Comprehensive income","index":14,"n_rows":14,"n_cols":8,"rows_kept":14,"cut":false,"hidden":false,"merged":[]}
[]
[null,null,{"$f":"\"Period \"&COUNTIF(OFFSET(C2,0,-1,1,-COLUMN()+1),\"Period*\")+1","v":"Period 1"},{"$f":"\"Period \"&COUNTIF(OFFSET(D2,0,-1,1,-COLUMN()+1),\"Period*\")+1","v":"Period 2"},null,null,null,"TIPS"]
[]
[null,null,null,null,null,{"$f":"\"/Comprehensive income by nature(headers=\"&CELL(\"address\",$B$1)&\":\"&CELL(\"address\",$E$3)&\",labels=\"&SUBSTITUTE(CELL(\"address\",A4)&\":\"&CELL(\"address\",A6),\"$\",\"\")&\")\"","v":"/Comprehensive income by nature(headers=$B$1:$E$3,labels=A4:A6)"}]
[{"$f":"\"Profit for the period \"&COUNTIF(OFFSET(A5,-1,0,-ROW()+1,1),\"Profit for the period*\")+1","v":"Profit for the period 1"}]
[]
[null,null,null,null,null,{"$f":"\"/Comprehensive income by function(headers=\"&CELL(\"address\",$B$1)&\":\"&CELL(\"address\",$E$3)&\",labels=\"&SUBSTITUTE(CELL(\"address\",A7)&\":\"&CELL(\"address\",A9),\"$\",\"\")&\")\"","v":"/Comprehensive income by function(headers=$B$1:$E$3,labels=A7:A9)"}]
[{"$f":"\"Profit for the period \"&COUNTIF(OFFSET(A8,-1,0,-ROW()+1,1),\"Profit for the period*\")+1","v":"Profit for the period 2"}]
[]
[null,null,null,null,null,{"$f":"\"/Comprehensive income before tax(headers=\"&CELL(\"address\",$B$1)&\":\"&CELL(\"address\",$E$3)&\",labels=\"&SUBSTITUTE(CELL(\"address\",A10)&\":\"&CELL(\"address\",A12),\"$\",\"\")&\")\"","v":"/Comprehensive income before tax(headers=$B$1:$E$3,labels=A10:A12)"}]
[{"$f":"\"Comprehensive income \"&COUNTIF(OFFSET(A11,-1,0,-ROW()+1,1),\"Comprehensive income*\")+1","v":"Comprehensive income 1"}]
[]
[null,null,null,null,null,{"$f":"\"/Comprehensive income net of tax(headers=\"&CELL(\"address\",$B$1)&\":\"&CELL(\"address\",$E$3)&\",labels=\"&SUBSTITUTE(CELL(\"address\",A13)&\":\"&CELL(\"address\",A15),\"$\",\"\")&\")\"","v":"/Comprehensive income net of tax(headers=$B$1:$E$3,labels=A13:A15)"}]
[{"$f":"\"Comprehensive income \"&COUNTIF(OFFSET(A14,-1,0,-ROW()+1,1),\"Comprehensive income*\")+1","v":"Comprehensive income 2"}]

{"sheet":"Balance sheet","index":15,"n_rows":29,"n_cols":6,"rows_kept":29,"cut":false,"hidden":false,"merged":[]}
[]
[null,null,{"$f":"\"Period \"&COUNTIF(OFFSET(C2,0,-1,1,-COLUMN()+1),\"Period*\")+1","v":"Period 1"},{"$f":"\"Period \"&COUNTIF(OFFSET(D2,0,-1,1,-COLUMN()+1),\"Period*\")+1","v":"Period 2"}]
[]
[null,null,null,null,null,{"$f":"\"/Non-current assets(headers=\"&CELL(\"address\",$B$1)&\":\"&CELL(\"address\",$E$3)&\",labels=\"&SUBSTITUTE(CELL(\"address\",A4)&\":\"&CELL(\"address\",A6),\"$\",\"\")&\")\"","v":"/Non-current assets(headers=$B$1:$E$3,labels=A4:A6)"}]
[{"$f":"\"Non-current assets \"&COUNTIF(OFFSET(A5,-1,0,-ROW()+1,1),\"Non-current assets*\")+1","v":"Non-current assets 1"}]
[]
[null,null,null,null,null,{"$f":"\"/Current assets(headers=\"&CELL(\"address\",$B$1)&\":\"&CELL(\"address\",$E$3)&\",labels=\"&SUBSTITUTE(CELL(\"address\",A7)&\":\"&CELL(\"address\",A9),\"$\",\"\")&\")\"","v":"/Current assets(headers=$B$1:$E$3,labels=A7:A9)"}]
[{"$f":"\"Current assets \"&COUNTIF(OFFSET(A8,-1,0,-ROW()+1,1),\"Current assets*\")+1","v":"Current assets 1"}]
[]
[null,null,null,null,null,{"$f":"\"/Assets(headers=\"&CELL(\"address\",$B$1)&\":\"&CELL(\"address\",$E$3)&\",labels=\"&SUBSTITUTE(CELL(\"address\",A10)&\":\"&CELL(\"address\",A12),\"$\",\"\")&\")\"","v":"/Assets(headers=$B$1:$E$3,labels=A10:A12)"}]
[{"$f":"\"Assets \"&COUNTIF(OFFSET(A11,-1,0,-ROW()+1,1),\"Assets*\")+1","v":"Assets 1"}]
[]
[null,null,null,null,null,{"$f":"\"/Equity(headers=\"&CELL(\"address\",$B$1)&\":\"&CELL(\"address\",$E$3)&\",labels=\"&SUBSTITUTE(CELL(\"address\",A13)&\":\"&CELL(\"address\",A15),\"$\",\"\")&\")\"","v":"/Equity(headers=$B$1:$E$3,labels=A13:A15)"}]
[{"$f":"\"Equity \"&COUNTIF(OFFSET(A14,-1,0,-ROW()+1,1),\"Equity*\")+1","v":"Equity 1"}]
[]
[null,null,null,null,null,{"$f":"\"/Provisions(headers=\"&CELL(\"address\",$B$1)&\":\"&CELL(\"address\",$E$3)&\",labels=\"&SUBSTITUTE(CELL(\"address\",A16)&\":\"&CELL(\"address\",A18),\"$\",\"\")&\")\"","v":"/Provisions(headers=$B$1:$E$3,labels=A16:A18)"}]
[{"$f":"\"Equity \"&COUNTIF(OFFSET(A17,-1,0,-ROW()+1,1),\"Equity*\")+1","v":"Equity 2"}]
[]
[null,null,null,null,null,{"$f":"\"/Non-current liabilities(headers=\"&CELL(\"address\",$B$1)&\":\"&CELL(\"address\",$E$3)&\",labels=\"&SUBSTITUTE(CELL(\"address\",A19)&\":\"&CELL(\"address\",A21),\"$\",\"\")&\")\"","v":"/Non-current liabilities(headers=$B$1:$E$3,labels=A19:A21)"}]
[{"$f":"\"Non-current liabilities \"&COUNTIF(OFFSET(A20,-1,0,-ROW()+1,1),\"Non-current liabilities*\")+1","v":"Non-current liabilities 1"}]
[]
[null,null,null,null,null,{"$f":"\"/Current liabilities(headers=\"&CELL(\"address\",$B$1)&\":\"&CELL(\"address\",$E$3)&\",labels=\"&SUBSTITUTE(CELL(\"address\",A22)&\":\"&CELL(\"address\",A24),\"$\",\"\")&\")\"","v":"/Current liabilities(headers=$B$1:$E$3,labels=A22:A24)"}]
[{"$f":"\"Current liabilities \"&COUNTIF(OFFSET(A23,-1,0,-ROW()+1,1),\"Current liabilities*\")+1","v":"Current liabilities 1"}]
[]
[null,null,null,null,null,{"$f":"\"/Liabilities(headers=\"&CELL(\"address\",$B$1)&\":\"&CELL(\"address\",$E$3)&\",labels=\"&SUBSTITUTE(CELL(\"address\",A25)&\":\"&CELL(\"address\",A27),\"$\",\"\")&\")\"","v":"/Liabilities(headers=$B$1:$E$3,labels=A25:A27)"}]
[{"$f":"\"Liabilities \"&COUNTIF(OFFSET(A26,-1,0,-ROW()+1,1),\"Liabilities*\")+1","v":"Liabilities 1"}]
[]
[null,null,null,null,null,{"$f":"\"/Equity and liabilities(headers=\"&CELL(\"address\",$B$1)&\":\"&CELL(\"address\",$E$3)&\",labels=\"&SUBSTITUTE(CELL(\"address\",A28)&\":\"&CELL(\"address\",A30),\"$\",\"\")&\")\"","v":"/Equity and liabilities(headers=$B$1:$E$3,labels=A28:A30)"}]
[{"$f":"\"Equity and liabilities \"&COUNTIF(OFFSET(A29,-1,0,-ROW()+1,1),\"Equity and liabilities*\")+1","v":"Equity and liabilities 1"}]

{"sheet":"Changes in equity","index":16,"n_rows":11,"n_cols":10,"rows_kept":11,"cut":false,"hidden":false,"merged":[[1,2,1,7],[7,2,7,7],[0,2,0,7],[6,2,6,7]]}
[]
[null,null,{"$f":"\"Period \"&COUNTIF(OFFSET(C2,-1,0,-ROW()+1,1),\"Period*\")+1","v":"Period 1"}]
[null,null,{"$f":"\"Equity \"&COUNTIF(OFFSET(C3,0,-1,1,-COLUMN()+1),\"Equity*\")+1","v":"Equity 1"},"Equity 2","Equity 3","Equity 4","Equity 5","Equity 6"]
[null,null,null,null,null,null,null,null,null,{"$f":"\"/Statement of changes in equity(headers=\"&CELL(\"address\",$B$1)&\":\"&CELL(\"address\",$I$3)&\",labels=\"&SUBSTITUTE(CELL(\"address\",A4)&\":\"&CELL(\"address\",A6),\"$\",\"\")&\")\"","v":"/Statement of changes in equity(headers=$B$1:$I$3,labels=A4:A6)"}]
[{"$f":"\"Changes in equity \"&COUNTIF(OFFSET(A5,-1,0,-ROW()+1,1),\"Changes in equity*\")+1","v":"Changes in equity 1"}]
[]
[]
[null,null,{"$f":"\"Period \"&COUNTIF(OFFSET(C8,-1,0,-ROW()+1,1),\"Period*\")+1","v":"Period 2"}]
[null,null,{"$f":"\"Equity \"&COUNTIF(OFFSET(C9,0,-1,1,-COLUMN()+1),\"Equity*\")+1","v":"Equity 1"},"Equity 2","Equity 3","Equity 4","Equity 5","Equity 6"]
[null,null,null,null,null,null,null,null,null,{"$f":"\"/Statement of changes in equity(headers=\"&CELL(\"address\",$B$7)&\":\"&CELL(\"address\",$I$9)&\",labels=\"&SUBSTITUTE(CELL(\"address\",A10)&\":\"&CELL(\"address\",A12),\"$\",\"\")&\")\"","v":"/Statement of changes in equity(headers=$B$7:$I$9,labels=A10:A12)"}]
[{"$f":"\"Changes in equity \"&COUNTIF(OFFSET(A11,-1,0,-ROW()+1,1),\"Changes in equity*\")+1","v":"Changes in equity 2"}]

{"sheet":"Cash flow","index":17,"n_rows":14,"n_cols":6,"rows_kept":14,"cut":false,"hidden":false,"merged":[]}
[]
[null,null,{"$f":"\"Period \"&COUNTIF(OFFSET(C2,0,-1,1,-COLUMN()+1),\"Period*\")+1","v":"Period 1"},{"$f":"\"Period \"&COUNTIF(OFFSET(D2,0,-1,1,-COLUMN()+1),\"Period*\")+1","v":"Period 2"}]
[]
[null,null,null,null,null,{"$f":"\"/Operating activities(headers=\"&CELL(\"address\",$B$1)&\":\"&CELL(\"address\",$E$3)&\",labels=\"&SUBSTITUTE(CELL(\"address\",A4)&\":\"&CELL(\"address\",A6),\"$\",\"\")&\")\"","v":"/Operating activities(headers=$B$1:$E$3,labels=A4:A6)"}]
[{"$f":"\"Cash flow from operating activities \"&COUNTIF(OFFSET(A5,-1,0,-ROW()+1,1),\"Cash flow from operating activities*\")+1","v":"Cash flow from operating activities 1"}]
[]
[null,null,null,null,null,{"$f":"\"/Investing activities(headers=\"&CELL(\"address\",$B$1)&\":\"&CELL(\"address\",$E$3)&\",labels=\"&SUBSTITUTE(CELL(\"address\",A7)&\":\"&CELL(\"address\",A9),\"$\",\"\")&\")\"","v":"/Investing activities(headers=$B$1:$E$3,labels=A7:A9)"}]
[{"$f":"\"Cash flow from investing activities \"&COUNTIF(OFFSET(A8,-1,0,-ROW()+1,1),\"Cash flow from investing activities*\")+1","v":"Cash flow from investing activities 1"}]
[]
[null,null,null,null,null,{"$f":"\"/Financing activities(headers=\"&CELL(\"address\",$B$1)&\":\"&CELL(\"address\",$E$3)&\",labels=\"&SUBSTITUTE(CELL(\"address\",A10)&\":\"&CELL(\"address\",A12),\"$\",\"\")&\")\"","v":"/Financing activities(headers=$B$1:$E$3,labels=A10:A12)"}]
[{"$f":"\"Cash flow from financing activities \"&COUNTIF(OFFSET(A11,-1,0,-ROW()+1,1),\"Cash flow from financing activities*\")+1","v":"Cash flow from financing activities 1"}]
[]
[null,null,null,null,null,{"$f":"\"/Cash flow statement(headers=\"&CELL(\"address\",$B$1)&\":\"&CELL(\"address\",$E$3)&\",labels=\"&SUBSTITUTE(CELL(\"address\",A13)&\":\"&CELL(\"address\",A15),\"$\",\"\")&\")\"","v":"/Cash flow statement(headers=$B$1:$E$3,labels=A13:A15)"}]
[{"$f":"\"Change in cash and cash equivalents \"&COUNTIF(OFFSET(A14,-1,0,-ROW()+1,1),\"Change in cash and cash equivalents*\")+1","v":"Change in cash and cash equivalents 1"}]

{"sheet":"Cash flow DKGAAP","index":18,"n_rows":20,"n_cols":6,"rows_kept":20,"cut":false,"hidden":false,"merged":[]}
[]
[null,null,{"$f":"\"Period \"&COUNTIF(OFFSET(C2,0,-1,1,-COLUMN()+1),\"Period*\")+1","v":"Period 1"},{"$f":"\"Period \"&COUNTIF(OFFSET(D2,0,-1,1,-COLUMN()+1),\"Period*\")+1","v":"Period 2"}]
[]
[null,null,null,null,null,{"$f":"\"/Operating activities(headers=\"&CELL(\"address\",$B$1)&\":\"&CELL(\"address\",$E$3)&\",labels=\"&SUBSTITUTE(CELL(\"address\",A4)&\":\"&CELL(\"address\",A8),\"$\",\"\")&\")\"","v":"/Operating activities(headers=$B$1:$E$3,labels=A4:A8)"}]
[{"$f":"\"Cash flow from operating activities \"&COUNTIF(OFFSET(A5,-1,0,-ROW()+1,1),\"Cash flow from operating activities*\")+1","v":"Cash flow from operating activities 1"}]
[{"$f":"\"Name of component of cash flows from (used in) operating activities \"&COUNTIF(OFFSET(A6,-1,0,-ROW()+1,1),\"Name of component of cash flows from (used in) operating activities*\")+1","v":"Name of component of cash flows from (used in) operating activities 1"},null,null,{"$f":"IF(COUNTBLANK(OFFSET(D6,1,0)),\"\",OFFSET(D6,0,-1))","v":""}]
[{"$f":"\"Amount of component of cash flows from (used in) operating activities \"&COUNTIF(OFFSET(A7,-1,0,-ROW()+1,1),\"Amount of component of cash flows from (used in) operating activities*\")+1","v":"Amount of component of cash flows from (used in) operating activities 1"}]
[]
[null,null,null,null,null,{"$f":"\"/Investing activities(headers=\"&CELL(\"address\",$B$1)&\":\"&CELL(\"address\",$E$3)&\",labels=\"&SUBSTITUTE(CELL(\"address\",A9)&\":\"&CELL(\"address\",A13),\"$\",\"\")&\")\"","v":"/Investing activities(headers=$B$1:$E$3,labels=A9:A13)"}]
[{"$f":"\"Cash flow from investing activities \"&COUNTIF(OFFSET(A10,-1,0,-ROW()+1,1),\"Cash flow from investing activities*\")+1","v":"Cash flow from investing activities 1"}]
[{"$f":"\"Name of component of cash flows from (used in) investing activities \"&COUNTIF(OFFSET(A11,-1,0,-ROW()+1,1),\"Name of component of cash flows from (used in) investing activities*\")+1","v":"Name of component of cash flows from (used in) investing activities 1"},null,null,{"$f":"IF(COUNTBLANK(OFFSET(D11,1,0)),\"\",OFFSET(D11,0,-1))","v":""}]
[{"$f":"\"Amount of component of cash flows from (used in) investing activities \"&COUNTIF(OFFSET(A12,-1,0,-ROW()+1,1),\"Amount of component of cash flows from (used in) investing activities*\")+1","v":"Amount of component of cash flows from (used in) investing activities 1"}]
[]
[null,null,null,null,null,{"$f":"\"/Financing activities(headers=\"&CELL(\"address\",$B$1)&\":\"&CELL(\"address\",$E$3)&\",labels=\"&SUBSTITUTE(CELL(\"address\",A14)&\":\"&CELL(\"address\",A18),\"$\",\"\")&\")\"","v":"/Financing activities(headers=$B$1:$E$3,labels=A14:A18)"}]
[{"$f":"\"Cash flow from financing activities \"&COUNTIF(OFFSET(A15,-1,0,-ROW()+1,1),\"Cash flow from financing activities*\")+1","v":"Cash flow from financing activities 1"}]
[{"$f":"\"Name of component of cash flows from (used in) financing activities \"&COUNTIF(OFFSET(A16,-1,0,-ROW()+1,1),\"Name of component of cash flows from (used in) financing activities*\")+1","v":"Name of component of cash flows from (used in) financing activities 1"},null,null,{"$f":"IF(COUNTBLANK(OFFSET(D16,1,0)),\"\",OFFSET(D16,0,-1))","v":""}]
[{"$f":"\"Amount of component of cash flows from (used in) financing activities \"&COUNTIF(OFFSET(A17,-1,0,-ROW()+1,1),\"Amount of component of cash flows from (used in) financing activities*\")+1","v":"Amount of component of cash flows from (used in) financing activities 1"}]
[]
[null,null,null,null,null,{"$f":"\"/Cash flow statement(headers=\"&CELL(\"address\",$B$1)&\":\"&CELL(\"address\",$E$3)&\",labels=\"&SUBSTITUTE(CELL(\"address\",A19)&\":\"&CELL(\"address\",A21),\"$\",\"\")&\")\"","v":"/Cash flow statement(headers=$B$1:$E$3,labels=A19:A21)"}]
[{"$f":"\"Change in cash and cash equivalents \"&COUNTIF(OFFSET(A20,-1,0,-ROW()+1,1),\"Change in cash and cash equivalents*\")+1","v":"Change in cash and cash equivalents 1"}]

{"sheet":"ESEF tags","index":19,"n_rows":270,"n_cols":1,"rows_kept":270,"cut":false,"hidden":false,"merged":[]}
["Local label / version 1.2.4"]
["SEARCH BOX:"]
[""]
[]
[]
["Footnotes (relating to item X)"]
["(any label, header or amount)"]
[]
["Various information (MANDATORY if information is in report):"]
["Name of reporting entity or other means of identification"]
["Explanation of change in name of reporting entity or other means of identification from end of preceding reporting period"]
["Domicile of entity"]
["Legal form of entity"]
["Country of incorporation"]
["Address of entity's registered office"]
["Principal place of business"]
["Description of nature of entity's operations and principal activities"]
["Name of parent entity"]
["Name of ultimate parent of group"]
["Length of life of limited life entity"]
["Statement of IFRS compliance"]
["Explanation of departure from IFRS"]
["Explanation of financial effect of departure from IFRS"]
["Disclosure of uncertainties of entity's ability to continue as going concern"]
["Explanation of fact and basis for preparation of financial statements when not going concern basis"]
["Explanation of why entity not regarded as going concern"]
["Description of reason for using longer or shorter reporting period"]
["Description of fact that amounts presented in financial statements are not entirely comparable"]
["Disclosure of reclassifications or changes in presentation"]
["Explanation of sources of estimation uncertainty with significant risk of causing material adjustment"]
["Disclosure of assets and liabilities with significant risk of material adjustment"]
[]
["Notes (MANDATORY if information is in report):"]
["Disclosure of notes and other explanatory information"]
["Disclosure of accounting judgements and estimates"]
["Disclosure of accrued expenses and other liabilities"]
["Disclosure of allowance for credit losses"]
["Disclosure of associates"]
["Disclosure of auditors' remuneration"]
["Disclosure of authorisation of financial statements"]
["Disclosure of available-for-sale financial assets"]
["Disclosure of basis of consolidation"]
["Disclosure of basis of preparation of financial statements"]
["Disclosure of biological assets, agriculture produce at point of harvest and government grants related to biological assets"]
["Disclosure of borrowing costs"]
["Disclosure of borrowings"]
["Disclosure of business combinations"]
["Disclosure of cash and bank balances at central banks"]
["Disclosure of cash and cash equivalents"]
["Disclosure of cash flow statement"]
["Disclosure of changes in accounting policies, accounting estimates and errors"]
["Disclosure of changes in accounting policies"]
["Disclosure of claims and benefits paid"]
["Disclosure of collateral"]
["Disclosure of commitments and contingent liabilities"]
["Disclosure of commitments"]
["Disclosure of contingent liabilities"]
["Disclosure of cost of sales"]
["Disclosure of credit risk"]
["Disclosure of debt instruments"]
["Disclosure of deferred acquisition costs arising from insurance contracts"]
["Disclosure of deferred income"]
["Disclosure of deferred taxes"]
["Disclosure of deposits from banks"]
["Disclosure of deposits from customers"]
["Disclosure of derivative financial instruments"]
["Disclosure of discontinued operations"]
["Disclosure of dividends"]
["Dividends recognised as distributions to owners per share"]
["Dividends proposed or declared before financial statements authorised for issue but not recognised as distribution to owners"]
["Dividends proposed or declared before financial statements authorised for issue but not recognised as distribution to owners per share"]
["Disclosure of earnings per share"]
["Disclosure of effect of changes in foreign exchange rates"]
["Disclosure of employee benefits"]
["Disclosure of entity's operating segments"]
["Disclosure of events after reporting period"]
["Disclosure of expenses"]
["Disclosure of expenses by nature"]
["Disclosure of depreciation and amortisation expense"]
["Disclosure of general and administrative expense"]
["Disclosure of research and development expense"]
["Disclosure of exploration and evaluation assets"]
["Disclosure of fair value measurement"]
["Disclosure of fair value of financial instruments"]
["Disclosure of fee and commission income (expense)"]
["Disclosure of finance income (cost)"]
["Disclosure of finance income"]
["Disclosure of finance cost"]
["Disclosure of financial assets held for trading"]
["Disclosure of financial instruments"]
["Disclosure of financial instruments at fair value through profit or loss"]
["Disclosure of financial instruments designated at fair value through profit or loss"]
["Disclosure of financial instruments held for trading"]
["Disclosure of financial liabilities held for trading"]
["Disclosure of financial risk management"]
["Disclosure of first-time adoption"]
["Disclosure of general information about financial statements"]
["Disclosure of going concern"]
["Disclosure of government grants"]
["Disclosure of hyperinflationary reporting"]
["Disclosure of impairment of assets"]
["Disclosure of income tax"]
["Disclosure of information about employees"]
["Disclosure of information about key management personnel"]
["Disclosure of insurance contracts"]
["Disclosure of insurance premium revenue"]
["Disclosure of intangible assets and goodwill"]
["Disclosure of intangible assets"]
["Disclosure of goodwill"]
["Disclosure of interest income (expense)"]
["Disclosure of interest income"]
["Disclosure of interest expense"]
["Disclosure of interests in other entities"]
["Disclosure of interim financial reporting"]
["Disclosure of inventories"]
["Disclosure of investment contracts liabilities"]
["Disclosure of investment property"]
["Disclosure of investments accounted for using equity method"]
["Disclosure of investments other than investments accounted for using equity method"]
["Disclosure of issued capital"]
["Disclosure of joint ventures"]
["Disclosure of lease prepayments"]
["Disclosure of leases"]
["Disclosure of liquidity risk"]
["Disclosure of loans and advances to banks"]
["Disclosure of loans and advances to customers"]
["Disclosure of market risk"]
["Disclosure of net asset value attributable to unit-holders"]
["Disclosure of non-controlling interests"]
["Disclosure of non-current assets held for sale and discontinued operations"]
["Disclosure of non-current assets or disposal groups classified as held for sale"]
["Disclosure of objectives, policies and processes for managing capital"]
["Disclosure of other assets"]
["Disclosure of other non-current assets"]
["Disclosure of other current assets"]
["Disclosure of other liabilities"]
["Disclosure of other non-current liabilities"]
["Disclosure of other current liabilities"]
["Disclosure of other operating income (expense)"]
["Disclosure of other operating income"]
["Disclosure of other operating expense"]
["Disclosure of other provisions, contingent liabilities and contingent assets"]
["Disclosure of prepayments and other assets"]
["Disclosure of profit (loss) from operating activities"]
["Disclosure of property, plant and equipment"]
["Disclosure of provisions"]
["Disclosure of reclassification of financial instruments"]
["Disclosure of regulatory deferral accounts"]
["Disclosure of reinsurance"]
["Disclosure of related party"]
["Disclosure of repurchase and reverse repurchase agreements"]
["Disclosure of reserves within equity"]
["Disclosure of restricted cash and cash equivalents"]
["Disclosure of revenue"]
["Disclosure of revenue from contracts with customers"]
["Disclosure of service concession arrangements"]
["Disclosure of share capital, reserves and other equity interest"]
["Disclosure of share-based payment arrangements"]
["Disclosure of subordinated liabilities"]
["Disclosure of subsidiaries"]
["Disclosure of tax receivables and payables"]
["Disclosure of trade and other payables"]
["Disclosure of trade and other receivables"]
["Disclosure of trading income (expense)"]
["Disclosure of treasury shares"]
[]
["Other notes (not mandatory):"]
["Disclosure of additional information"]
["Disclosure of separate financial statements"]
["Disclosure of composition of group"]
[]
["Accounting policies (MANDATORY if information is in report):"]
["Disclosure of significant accounting policies"]
["Disclosure of material accounting policy information"]
["Description of accounting policy for available-for-sale financial assets"]
["Description of accounting policy for biological assets"]
["Description of accounting policy for borrowing costs"]
["Description of accounting policy for borrowings"]
["Description of accounting policy for business combinations and goodwill"]
["Description of accounting policy for business combinations"]
["Description of accounting policy for cash flows"]
["Description of accounting policy for collateral"]
["Description of accounting policy for construction in progress"]
["Description of accounting policy for contingent liabilities and contingent assets"]
["Description of accounting policy for customer acquisition costs"]
["Description of accounting policy for customer loyalty programmes"]
["Description of accounting policy for decommissioning, restoration and rehabilitation provisions"]
["Description of accounting policy for deferred acquisition costs arising from insurance contracts"]
["Description of accounting policy for deferred income tax"]
["Description of accounting policy for derecognition of financial instruments"]
["Description of accounting policy for derivative financial instruments and hedging"]
["Description of accounting policy for derivative financial instruments"]
["Description of accounting policy for determining components of cash and cash equivalents"]
["Description of accounting policy for discontinued operations"]
["Description of accounting policy for discounts and rebates"]
["Description of accounting policy for dividends"]
["Description of accounting policy for earnings per share"]
["Description of accounting policy for emission rights"]
["Description of accounting policy for employee benefits"]
["Description of accounting policy for environment related expense"]
["Description of accounting policy for exceptional items"]
["Description of accounting policy for expenses"]
["Description of accounting policy for depreciation expense"]
["Description of accounting policy for research and development expense"]
["Description of accounting policy for exploration and evaluation expenditures"]
["Description of accounting policy for fair value measurement"]
["Description of accounting policy for fee and commission income and expense"]
["Description of accounting policy for finance income and costs"]
["Description of accounting policy for finance costs"]
["Description of accounting policy for financial assets"]
["Description of accounting policy for financial guarantees"]
["Description of accounting policy for financial instruments"]
["Description of accounting policy for financial instruments at fair value through profit or loss"]
["Description of accounting policy for financial liabilities"]
["Description of accounting policy for foreign currency translation"]
["Description of accounting policy for franchise fees"]
["Description of accounting policy for functional currency"]
["Description of accounting policy for government grants"]
["Description of accounting policy for hedging"]
["Description of accounting policy for held-to-maturity investments"]
["Description of accounting policy for impairment of assets"]
["Description of accounting policy for impairment of financial assets"]
["Description of accounting policy for impairment of non-financial assets"]
["Description of accounting policy for income tax"]
["Description of accounting policy for insurance contracts and related assets, liabilities, income and expense"]
["Description of accounting policy for intangible assets and goodwill"]
["Description of accounting policy for goodwill"]
["Description of accounting policy for intangible assets other than goodwill"]
["Description of accounting policy for interest income and expense"]
["Description of accounting policy for investment in associates and joint ventures"]
["Description of accounting policy for investment in associates"]
["Description of accounting policy for investments in joint ventures"]
["Description of accounting policy for investment property"]
["Description of accounting policy for investments other than investments accounted for using equity method"]
["Description of accounting policy for issued capital"]
["Description of accounting policy for leases"]
["Description of accounting policy for loans and receivables"]
["Description of accounting policy for measuring inventories"]
["Description of accounting policy for mining assets"]
["Description of accounting policy for mining rights"]
["Description of accounting policy for non-current assets or disposal groups classified as held for sale and discontinued operations"]
["Description of accounting policy for non-current assets or disposal groups classified as held for sale"]
["Description of accounting policy for offsetting of financial instruments"]
["Description of accounting policy for oil and gas assets"]
["Description of accounting policy for programming assets"]
["Description of accounting policy for property, plant and equipment"]
["Description of accounting policy for provisions"]
["Description of accounting policy for reclassification of financial instruments"]
["Description of accounting policy for recognising in profit or loss difference between fair value at initial recognition and transaction price"]
["Description of accounting policy for recognition of revenue"]
["Description of accounting policy for regulatory deferral accounts"]
["Description of accounting policy for reinsurance"]
["Description of accounting policy for repairs and maintenance"]
["Description of accounting policy for repurchase and reverse repurchase agreements"]
["Description of accounting policy for restricted cash and cash equivalents"]
["Description of accounting policy for segment reporting"]
["Description of accounting policy for service concession arrangements"]
["Description of accounting policy for share-based payment transactions"]
["Description of accounting policy for stripping costs"]
["Description of accounting policy for subsidiaries"]
["Description of accounting policy for taxes other than income tax"]
["Description of accounting policy for termination benefits"]
["Description of accounting policy for trade and other payables"]
["Description of accounting policy for trade and other receivables"]
["Description of accounting policy for trading income and expense"]
["Description of accounting policy for transactions with non-controlling interests"]
["Description of accounting policy for transactions with related parties"]
["Description of accounting policy for treasury shares"]
["Description of accounting policy for warrants"]
["Description of other accounting policies relevant to understanding of financial statements"]

{"sheet":"Areas","index":20,"n_rows":15,"n_cols":10,"rows_kept":15,"cut":false,"hidden":false,"merged":[]}
[]
[null,null,null,null,null,"After","In",{"$f":"\"Period \"&COUNTIF(OFFSET(H2,0,-1,1,-COLUMN()+1),\"Period*\")+1","v":"Period 1"}]
["Level","Note text","Join","Area Name"]
[null,null,null,"text",null,null,null,null,null,{"$f":"\"/Areas(headers=\"&CELL(\"address\",$E$1)&\":\"&CELL(\"address\",$I$3)&\",labels=\"&SUBSTITUTE(CELL(\"address\",D4)&\":\"&CELL(\"address\",D16),\"$\",\"\")&\")\"","v":"/Areas(headers=$E$1:$I$3,labels=D4:D16)"}]
[1,"Starting point","*<<","All notes",null,{"$f":"IFERROR(IF(INDIRECT(\"A\"&ROW())<4,LOOKUP(2,1/(INDIRECT(\"A1:A\"&ROW()-1)=INDIRECT(\"A\"&ROW())),INDIRECT(\"D1:D\"&ROW()-1)),\"\"),\"\")","v":""},{"$f":"LOOKUP(2,1/(INDIRECT(\"A1:A\"&ROW()-1)<INDIRECT(\"A\"&ROW())),INDIRECT(\"D1:D\"&ROW()-1))","v":"text"},{"$f":"INDIRECT(\"B\"&ROW())&IFERROR(IF(INDEX(INDIRECT(\"A\"&ROW()+1&\":A\"&ROW()+200),MATCH(TRUE,INDEX(INDIRECT(\"A\"&ROW()+1&\":A\"&ROW()+200)<=INDIRECT(\"A\"&ROW()),0),))<INDIRECT(\"A\"&ROW()),LEFT(INDIRECT(\"C\"&ROW()),FIND(\"*\",INDIRECT(\"C\"&ROW()))),C5&INDEX(INDIRECT(\"B\"&ROW()+1&\":B\"&ROW()+200),MATCH(TRUE,INDEX(INDIRECT(\"A\"&ROW()+1&\":A\"&ROW()+200)=INDIRECT(\"A\"&ROW()),0),))),\"*\")","v":"Starting point*"}]
[2,"1 First note","*<<","Note 1",null,{"$f":"IFERROR(IF(INDIRECT(\"A\"&ROW())<4,LOOKUP(2,1/(INDIRECT(\"A1:A\"&ROW()-1)=INDIRECT(\"A\"&ROW())),INDIRECT(\"D1:D\"&ROW()-1)),\"\"),\"\")","v":""},{"$f":"LOOKUP(2,1/(INDIRECT(\"A1:A\"&ROW()-1)<INDIRECT(\"A\"&ROW())),INDIRECT(\"D1:D\"&ROW()-1))","v":"All notes"},{"$f":"INDIRECT(\"B\"&ROW())&IFERROR(IF(INDEX(INDIRECT(\"A\"&ROW()+1&\":A\"&ROW()+200),MATCH(TRUE,INDEX(INDIRECT(\"A\"&ROW()+1&\":A\"&ROW()+200)<=INDIRECT(\"A\"&ROW()),0),))<INDIRECT(\"A\"&ROW()),LEFT(INDIRECT(\"C\"&ROW()),FIND(\"*\",INDIRECT(\"C\"&ROW()))),C6&INDEX(INDIRECT(\"B\"&ROW()+1&\":B\"&ROW()+200),MATCH(TRUE,INDEX(INDIRECT(\"A\"&ROW()+1&\":A\"&ROW()+200)=INDIRECT(\"A\"&ROW()),0),))),\"*\")","v":"1 First note*<<2 Second note"}]
[2,"2 Second note","*<<","Note 2",null,{"$f":"IFERROR(IF(INDIRECT(\"A\"&ROW())<4,LOOKUP(2,1/(INDIRECT(\"A1:A\"&ROW()-1)=INDIRECT(\"A\"&ROW())),INDIRECT(\"D1:D\"&ROW()-1)),\"\"),\"\")","v":"Note 1"},{"$f":"LOOKUP(2,1/(INDIRECT(\"A1:A\"&ROW()-1)<INDIRECT(\"A\"&ROW())),INDIRECT(\"D1:D\"&ROW()-1))","v":"All notes"},{"$f":"INDIRECT(\"B\"&ROW())&IFERROR(IF(INDEX(INDIRECT(\"A\"&ROW()+1&\":A\"&ROW()+200),MATCH(TRUE,INDEX(INDIRECT(\"A\"&ROW()+1&\":A\"&ROW()+200)<=INDIRECT(\"A\"&ROW()),0),))<INDIRECT(\"A\"&ROW()),LEFT(INDIRECT(\"C\"&ROW()),FIND(\"*\",INDIRECT(\"C\"&ROW()))),C7&INDEX(INDIRECT(\"B\"&ROW()+1&\":B\"&ROW()+200),MATCH(TRUE,INDEX(INDIRECT(\"A\"&ROW()+1&\":A\"&ROW()+200)=INDIRECT(\"A\"&ROW()),0),))),\"*\")","v":"2 Second note*<<3 Third note"}]
[3,"Note 2.1","*<<","Note 2.1",null,{"$f":"IFERROR(IF(INDIRECT(\"A\"&ROW())<4,LOOKUP(2,1/(INDIRECT(\"A1:A\"&ROW()-1)=INDIRECT(\"A\"&ROW())),INDIRECT(\"D1:D\"&ROW()-1)),\"\"),\"\")","v":""},{"$f":"LOOKUP(2,1/(INDIRECT(\"A1:A\"&ROW()-1)<INDIRECT(\"A\"&ROW())),INDIRECT(\"D1:D\"&ROW()-1))","v":"Note 2"},{"$f":"INDIRECT(\"B\"&ROW())&IFERROR(IF(INDEX(INDIRECT(\"A\"&ROW()+1&\":A\"&ROW()+200),MATCH(TRUE,INDEX(INDIRECT(\"A\"&ROW()+1&\":A\"&ROW()+200)<=INDIRECT(\"A\"&ROW()),0),))<INDIRECT(\"A\"&ROW()),LEFT(INDIRECT(\"C\"&ROW()),FIND(\"*\",INDIRECT(\"C\"&ROW()))),C8&INDEX(INDIRECT(\"B\"&ROW()+1&\":B\"&ROW()+200),MATCH(TRUE,INDEX(INDIRECT(\"A\"&ROW()+1&\":A\"&ROW()+200)=INDIRECT(\"A\"&ROW()),0),))),\"*\")","v":"Note 2.1*<<Note 2.2"}]
[3,"Note 2.2","*<<","Note 2.2",null,{"$f":"IFERROR(IF(INDIRECT(\"A\"&ROW())<4,LOOKUP(2,1/(INDIRECT(\"A1:A\"&ROW()-1)=INDIRECT(\"A\"&ROW())),INDIRECT(\"D1:D\"&ROW()-1)),\"\"),\"\")","v":"Note 2.1"},{"$f":"LOOKUP(2,1/(INDIRECT(\"A1:A\"&ROW()-1)<INDIRECT(\"A\"&ROW())),INDIRECT(\"D1:D\"&ROW()-1))","v":"Note 2"},{"$f":"INDIRECT(\"B\"&ROW())&IFERROR(IF(INDEX(INDIRECT(\"A\"&ROW()+1&\":A\"&ROW()+200),MATCH(TRUE,INDEX(INDIRECT(\"A\"&ROW()+1&\":A\"&ROW()+200)<=INDIRECT(\"A\"&ROW()),0),))<INDIRECT(\"A\"&ROW()),LEFT(INDIRECT(\"C\"&ROW()),FIND(\"*\",INDIRECT(\"C\"&ROW()))),C9&INDEX(INDIRECT(\"B\"&ROW()+1&\":B\"&ROW()+200),MATCH(TRUE,INDEX(INDIRECT(\"A\"&ROW()+1&\":A\"&ROW()+200)=INDIRECT(\"A\"&ROW()),0),))),\"*\")","v":"Note 2.2*<<Note 2.3"}]
[3,"Note 2.3","*<<","Note 2.3",null,{"$f":"IFERROR(IF(INDIRECT(\"A\"&ROW())<4,LOOKUP(2,1/(INDIRECT(\"A1:A\"&ROW()-1)=INDIRECT(\"A\"&ROW())),INDIRECT(\"D1:D\"&ROW()-1)),\"\"),\"\")","v":"Note 2.2"},{"$f":"LOOKUP(2,1/(INDIRECT(\"A1:A\"&ROW()-1)<INDIRECT(\"A\"&ROW())),INDIRECT(\"D1:D\"&ROW()-1))","v":"Note 2"},{"$f":"INDIRECT(\"B\"&ROW())&IFERROR(IF(INDEX(INDIRECT(\"A\"&ROW()+1&\":A\"&ROW()+200),MATCH(TRUE,INDEX(INDIRECT(\"A\"&ROW()+1&\":A\"&ROW()+200)<=INDIRECT(\"A\"&ROW()),0),))<INDIRECT(\"A\"&ROW()),LEFT(INDIRECT(\"C\"&ROW()),FIND(\"*\",INDIRECT(\"C\"&ROW()))),C10&INDEX(INDIRECT(\"B\"&ROW()+1&\":B\"&ROW()+200),MATCH(TRUE,INDEX(INDIRECT(\"A\"&ROW()+1&\":A\"&ROW()+200)=INDIRECT(\"A\"&ROW()),0),))),\"*\")","v":"Note 2.3*"}]
[2,"3 Third note","*<<","Note 3",null,{"$f":"IFERROR(IF(INDIRECT(\"A\"&ROW())<4,LOOKUP(2,1/(INDIRECT(\"A1:A\"&ROW()-1)=INDIRECT(\"A\"&ROW())),INDIRECT(\"D1:D\"&ROW()-1)),\"\"),\"\")","v":"Note 2"},{"$f":"LOOKUP(2,1/(INDIRECT(\"A1:A\"&ROW()-1)<INDIRECT(\"A\"&ROW())),INDIRECT(\"D1:D\"&ROW()-1))","v":"All notes"},{"$f":"INDIRECT(\"B\"&ROW())&IFERROR(IF(INDEX(INDIRECT(\"A\"&ROW()+1&\":A\"&ROW()+200),MATCH(TRUE,INDEX(INDIRECT(\"A\"&ROW()+1&\":A\"&ROW()+200)<=INDIRECT(\"A\"&ROW()),0),))<INDIRECT(\"A\"&ROW()),LEFT(INDIRECT(\"C\"&ROW()),FIND(\"*\",INDIRECT(\"C\"&ROW()))),C11&INDEX(INDIRECT(\"B\"&ROW()+1&\":B\"&ROW()+200),MATCH(TRUE,INDEX(INDIRECT(\"A\"&ROW()+1&\":A\"&ROW()+200)=INDIRECT(\"A\"&ROW()),0),))),\"*\")","v":"3 Third note*<<4 Fourth note"}]
[3,"Note 3.1","*<<","Note 3.1",null,{"$f":"IFERROR(IF(INDIRECT(\"A\"&ROW())<4,LOOKUP(2,1/(INDIRECT(\"A1:A\"&ROW()-1)=INDIRECT(\"A\"&ROW())),INDIRECT(\"D1:D\"&ROW()-1)),\"\"),\"\")","v":"Note 2.3"},{"$f":"LOOKUP(2,1/(INDIRECT(\"A1:A\"&ROW()-1)<INDIRECT(\"A\"&ROW())),INDIRECT(\"D1:D\"&ROW()-1))","v":"Note 3"},{"$f":"INDIRECT(\"B\"&ROW())&IFERROR(IF(INDEX(INDIRECT(\"A\"&ROW()+1&\":A\"&ROW()+200),MATCH(TRUE,INDEX(INDIRECT(\"A\"&ROW()+1&\":A\"&ROW()+200)<=INDIRECT(\"A\"&ROW()),0),))<INDIRECT(\"A\"&ROW()),LEFT(INDIRECT(\"C\"&ROW()),FIND(\"*\",INDIRECT(\"C\"&ROW()))),C12&INDEX(INDIRECT(\"B\"&ROW()+1&\":B\"&ROW()+200),MATCH(TRUE,INDEX(INDIRECT(\"A\"&ROW()+1&\":A\"&ROW()+200)=INDIRECT(\"A\"&ROW()),0),))),\"*\")","v":"Note 3.1*<<Note 3.2"}]
[3,"Note 3.2","*<<","Note 3.2",null,{"$f":"IFERROR(IF(INDIRECT(\"A\"&ROW())<4,LOOKUP(2,1/(INDIRECT(\"A1:A\"&ROW()-1)=INDIRECT(\"A\"&ROW())),INDIRECT(\"D1:D\"&ROW()-1)),\"\"),\"\")","v":"Note 3.1"},{"$f":"LOOKUP(2,1/(INDIRECT(\"A1:A\"&ROW()-1)<INDIRECT(\"A\"&ROW())),INDIRECT(\"D1:D\"&ROW()-1))","v":"Note 3"},{"$f":"INDIRECT(\"B\"&ROW())&IFERROR(IF(INDEX(INDIRECT(\"A\"&ROW()+1&\":A\"&ROW()+200),MATCH(TRUE,INDEX(INDIRECT(\"A\"&ROW()+1&\":A\"&ROW()+200)<=INDIRECT(\"A\"&ROW()),0),))<INDIRECT(\"A\"&ROW()),LEFT(INDIRECT(\"C\"&ROW()),FIND(\"*\",INDIRECT(\"C\"&ROW()))),C13&INDEX(INDIRECT(\"B\"&ROW()+1&\":B\"&ROW()+200),MATCH(TRUE,INDEX(INDIRECT(\"A\"&ROW()+1&\":A\"&ROW()+200)=INDIRECT(\"A\"&ROW()),0),))),\"*\")","v":"Note 3.2*<<Note 3.3"}]
[3,"Note 3.3","*<<","Note 3.3",null,{"$f":"IFERROR(IF(INDIRECT(\"A\"&ROW())<4,LOOKUP(2,1/(INDIRECT(\"A1:A\"&ROW()-1)=INDIRECT(\"A\"&ROW())),INDIRECT(\"D1:D\"&ROW()-1)),\"\"),\"\")","v":"Note 3.2"},{"$f":"LOOKUP(2,1/(INDIRECT(\"A1:A\"&ROW()-1)<INDIRECT(\"A\"&ROW())),INDIRECT(\"D1:D\"&ROW()-1))","v":"Note 3"},{"$f":"INDIRECT(\"B\"&ROW())&IFERROR(IF(INDEX(INDIRECT(\"A\"&ROW()+1&\":A\"&ROW()+200),MATCH(TRUE,INDEX(INDIRECT(\"A\"&ROW()+1&\":A\"&ROW()+200)<=INDIRECT(\"A\"&ROW()),0),))<INDIRECT(\"A\"&ROW()),LEFT(INDIRECT(\"C\"&ROW()),FIND(\"*\",INDIRECT(\"C\"&ROW()))),C14&INDEX(INDIRECT(\"B\"&ROW()+1&\":B\"&ROW()+200),MATCH(TRUE,INDEX(INDIRECT(\"A\"&ROW()+1&\":A\"&ROW()+200)=INDIRECT(\"A\"&ROW()),0),))),\"*\")","v":"Note 3.3*"}]
[2,"4 Fourth note","*<<","Note 4",null,{"$f":"IFERROR(IF(INDIRECT(\"A\"&ROW())<4,LOOKUP(2,1/(INDIRECT(\"A1:A\"&ROW()-1)=INDIRECT(\"A\"&ROW())),INDIRECT(\"D1:D\"&ROW()-1)),\"\"),\"\")","v":"Note 3"},{"$f":"LOOKUP(2,1/(INDIRECT(\"A1:A\"&ROW()-1)<INDIRECT(\"A\"&ROW())),INDIRECT(\"D1:D\"&ROW()-1))","v":"All notes"},{"$f":"INDIRECT(\"B\"&ROW())&IFERROR(IF(INDEX(INDIRECT(\"A\"&ROW()+1&\":A\"&ROW()+200),MATCH(TRUE,INDEX(INDIRECT(\"A\"&ROW()+1&\":A\"&ROW()+200)<=INDIRECT(\"A\"&ROW()),0),))<INDIRECT(\"A\"&ROW()),LEFT(INDIRECT(\"C\"&ROW()),FIND(\"*\",INDIRECT(\"C\"&ROW()))),C15&INDEX(INDIRECT(\"B\"&ROW()+1&\":B\"&ROW()+200),MATCH(TRUE,INDEX(INDIRECT(\"A\"&ROW()+1&\":A\"&ROW()+200)=INDIRECT(\"A\"&ROW()),0),))),\"*\")","v":"4 Fourth note*"}]

{"sheet":"Notes","index":21,"n_rows":6,"n_cols":9,"rows_kept":6,"cut":false,"hidden":false,"merged":[]}
["SEARCH FILTER:"]
["",null,"After","In","Skip presentation",{"$f":"\"Period \"&COUNTIF(OFFSET(F2,0,-1,1,-COLUMN()+1),\"Period*\")+1","v":"Period 1"},{"$f":"\"Period \"&COUNTIF(OFFSET(G2,0,-1,1,-COLUMN()+1),\"Period*\")+1","v":"Period 2"}]
["TIPS"]
[null,null,null,null,null,null,null,null,{"$f":"\"/Notes(headers=\"&CELL(\"address\",$B$1)&\":\"&CELL(\"address\",$H$3)&\",labels=\"&SUBSTITUTE(CELL(\"address\",A4)&\":\"&CELL(\"address\",A7),\"$\",\"\")&\")\"","v":"/Notes(headers=$B$1:$H$3,labels=A4:A7)"}]
["Note 1",null,null,"Note 1",null,"*"]
["Note 1",null,null,"Note 1",true,"*"]

{"sheet":"Notes ESEF+DKGAAP","index":22,"n_rows":119,"n_cols":10,"rows_kept":119,"cut":false,"hidden":false,"merged":[]}
["SEARCH FILTER:"]
["",null,"After","In","Skip presentation","Taxonomy",{"$f":"\"Period \"&COUNTIF(OFFSET(G2,0,-1,1,-COLUMN()+1),\"Period*\")+1","v":"Period 1"},{"$f":"\"Period \"&COUNTIF(OFFSET(H2,0,-1,1,-COLUMN()+1),\"Period*\")+1","v":"Period 2"}]
["TIPS"]
[null,null,null,null,null,null,null,null,null,{"$f":"\"/Notes(headers=\"&CELL(\"address\",$B$1)&\":\"&CELL(\"address\",$I$3)&\",labels=\"&SUBSTITUTE(CELL(\"address\",A4)&\":\"&CELL(\"address\",A120),\"$\",\"\")&\")\"","v":"/Notes(headers=$B$1:$I$3,labels=A4:A120)"}]
["Corporate governance report",null,null,"text",null,"DKGAAP"]
["Link to corporate governance report",null,null,"text",null,"DKGAAP"]
["Statement of corporate social responsibility",null,null,"text",null,"DKGAAP"]
["Link to statement of corporate social responsibility",null,null,"text",null,"DKGAAP"]
["Report on payments to authorities",null,null,"text",null,"DKGAAP"]
["Link to report on payments to authorities",null,null,"text",null,"DKGAAP"]
["Statement of the diversity policies",null,null,"text",null,"DKGAAP"]
["Link to statement of diversity policies",null,null,"text",null,"DKGAAP"]
["Statement of policy for data ethics",null,null,"text",null,"DKGAAP"]
["Link to statement of policy for data ethics",null,null,"text",null,"DKGAAP"]
["Statement of good management concerning foundation",null,null,"text",null,"DKGAAP"]
["Link to statement of good management concerning foundation",null,null,"text",null,"DKGAAP"]
["Statement of the foundation's distribution policy",null,null,"text",null,"DKGAAP"]
["Link to statement of the foundation's distribution policy",null,null,"text",null,"DKGAAP"]
["Statement of target figures and policies for the underrepresented gender",null,null,"text",null,"DKGAAP"]
["Sustainability report",null,null,"text",null,"DKGAAP"]
["Disclosure of material impacts, risks and opportunities and how they interact with strategy and business model",null,null,"text",null,"DKGAAP"]
["Description of the Taxonomy Regulation",null,null,"text",null,"DKGAAP"]
[]
["Statement of target figures and policies for the underrepresented gender [Board of Directors]"]
["Total number of members of board of Directors, excluding employee-elected members",null,null,"text",null,"DKGAAP"]
["Percentage of underrepresented gender [Board of Directors]",null,null,"text",null,"DKGAAP"]
["Target figure in percentage of underrepresented gender [Board of Directors]",null,null,"text",null,"DKGAAP"]
["Year of fulfillment of target figure of underrepresented gender [Board of Directors]",null,null,"text",null,"DKGAAP"]
["Information on equal distribution of women and men [Board of Directors]",null,null,"text",null,"DKGAAP"]
["Status of achievement of target figure of underrepresented gender [Board of Directors]",null,null,"text",null,"DKGAAP"]
["Primary actions for fulfillment of target figure of underrepresented gender [Board of Directors]",null,null,"text",null,"DKGAAP"]
["Reason for not fulfilling the target figure of underrepresented gender [Board of Directors]",null,null,"text",null,"DKGAAP"]
[]
["Statement of target figures and policies for the underrepresented gender [Other management levels]"]
["Total number of other management levels",null,null,"text",null,"DKGAAP"]
["Percentage of underrepresented gender [Other management levels]",null,null,"text",null,"DKGAAP"]
["Target figure in percentage of underrepresented gender [Other management levels]",null,null,"text",null,"DKGAAP"]
["Year of fulfillment of target figure of underrepresented gender [Other management levels]",null,null,"text",null,"DKGAAP"]
["Information on equal distribution of women and men [Other management levels]",null,null,"text",null,"DKGAAP"]
["Information on exempt from providing information on target figures of underrepresented gender for other management levels due to the number of employees",null,null,"text",null,"DKGAAP"]
["Statement of the policy to increase the percentage of underrepresented gender [Other management levels]",null,null,"text",null,"DKGAAP"]
["The main content of the policy of the underrepresented gender [Other management levels]",null,null,"text",null,"DKGAAP"]
["Primary actions for fulfillment of target figure [Other management levels]",null,null,"text",null,"DKGAAP"]
["Status of achievement of target figure [Other management levels]",null,null,"text",null,"DKGAAP"]
["Reason for not fulfilling the target figure [Other management levels]",null,null,"text",null,"DKGAAP"]
[]
["Average number of employees",null,null,"All notes",null,"DKGAAP",1,2]
[]
["Statement by executive and supervisory boards",null,null,"Management statement",null,"DKGAAP",{"$f":"\"Statement by the Executive Board>>*<<\"&G50","v":"Statement by the Executive Board>>*<<Test city"}]
["Place of signature of statement by management",null,{"$f":"LOOKUP(2,1/(OFFSET(INDEX(G:G,1),0,0,ROW()-1)<>\"\"),OFFSET(INDEX(A:A,1),0,0,ROW()-1))","v":"Statement by executive and supervisory boards"},"Management statement",null,"DKGAAP","Test city"]
["Date of approval of annual report",null,{"$f":"LOOKUP(2,1/(OFFSET(INDEX(G:G,1),0,0,ROW()-1)<>\"\"),OFFSET(INDEX(A:A,1),0,0,ROW()-1))","v":"Place of signature of statement by management"},"Management statement",null,"DKGAAP"]
["Name and surname of member of executive board 1",null,{"$f":"LOOKUP(2,1/(OFFSET(INDEX(G:G,1),0,0,ROW()-1)<>\"\"),OFFSET(INDEX(A:A,1),0,0,ROW()-1))","v":"Place of signature of statement by management"},"Management statement",null,"DKGAAP"]
["Title of member of executive board 1",null,{"$f":"LOOKUP(2,1/(OFFSET(INDEX(G:G,1),0,0,ROW()-1)<>\"\"),OFFSET(INDEX(A:A,1),0,0,ROW()-1))","v":"Place of signature of statement by management"},"Management statement",null,"DKGAAP"]
["Name and surname of member of supervisory board 1",null,{"$f":"LOOKUP(2,1/(OFFSET(INDEX(G:G,1),0,0,ROW()-1)<>\"\"),OFFSET(INDEX(A:A,1),0,0,ROW()-1))","v":"Place of signature of statement by management"},"Management statement",null,"DKGAAP"]
["Title of member of supervisory board 1",null,{"$f":"LOOKUP(2,1/(OFFSET(INDEX(G:G,1),0,0,ROW()-1)<>\"\"),OFFSET(INDEX(A:A,1),0,0,ROW()-1))","v":"Place of signature of statement by management"},"Management statement",null,"DKGAAP"]
["Name and surname of member of supervisory board 2",null,{"$f":"LOOKUP(2,1/(OFFSET(INDEX(G:G,1),0,0,ROW()-1)<>\"\"),OFFSET(INDEX(A:A,1),0,0,ROW()-1))","v":"Place of signature of statement by management"},"Management statement",null,"DKGAAP"]
["Title of member of supervisory board 2",null,{"$f":"LOOKUP(2,1/(OFFSET(INDEX(G:G,1),0,0,ROW()-1)<>\"\"),OFFSET(INDEX(A:A,1),0,0,ROW()-1))","v":"Place of signature of statement by management"},"Management statement",null,"DKGAAP"]
["Name and surname of member of supervisory board 3",null,{"$f":"LOOKUP(2,1/(OFFSET(INDEX(G:G,1),0,0,ROW()-1)<>\"\"),OFFSET(INDEX(A:A,1),0,0,ROW()-1))","v":"Place of signature of statement by management"},"Management statement",null,"DKGAAP"]
["Title of member of supervisory board 3",null,{"$f":"LOOKUP(2,1/(OFFSET(INDEX(G:G,1),0,0,ROW()-1)<>\"\"),OFFSET(INDEX(A:A,1),0,0,ROW()-1))","v":"Place of signature of statement by management"},"Management statement",null,"DKGAAP"]
[]
["Addressee",null,null,"Auditors report",null,"DKGAAP","To the shareholders of*<<Opinion"]
["Opinion",null,{"$f":"LOOKUP(2,1/(OFFSET(INDEX(G:G,1),0,0,ROW()-1)<>\"\"),OFFSET(INDEX(A:A,1),0,0,ROW()-1))","v":"Addressee"},"Auditors report",null,"DKGAAP"]
["Basis for opinion",null,{"$f":"LOOKUP(2,1/(OFFSET(INDEX(G:G,1),0,0,ROW()-1)<>\"\"),OFFSET(INDEX(A:A,1),0,0,ROW()-1))","v":"Addressee"},"Auditors report",null,"DKGAAP"]
["Key audit matters",null,{"$f":"LOOKUP(2,1/(OFFSET(INDEX(G:G,1),0,0,ROW()-1)<>\"\"),OFFSET(INDEX(A:A,1),0,0,ROW()-1))","v":"Addressee"},"Auditors report",null,"DKGAAP"]
["Statement on management's review",null,{"$f":"LOOKUP(2,1/(OFFSET(INDEX(G:G,1),0,0,ROW()-1)<>\"\"),OFFSET(INDEX(A:A,1),0,0,ROW()-1))","v":"Addressee"},"Auditors report",null,"DKGAAP"]
["Statement of executive and supervisory board's responsibility",null,{"$f":"LOOKUP(2,1/(OFFSET(INDEX(G:G,1),0,0,ROW()-1)<>\"\"),OFFSET(INDEX(A:A,1),0,0,ROW()-1))","v":"Addressee"},"Auditors report",null,"DKGAAP"]
["Statement of auditor's responsibility",null,{"$f":"LOOKUP(2,1/(OFFSET(INDEX(G:G,1),0,0,ROW()-1)<>\"\"),OFFSET(INDEX(A:A,1),0,0,ROW()-1))","v":"Addressee"},"Auditors report",null,"DKGAAP"]
["Identification of subject matter of assurance report and description of assurance engagement [Audit, Substainability report]",null,{"$f":"LOOKUP(2,1/(OFFSET(INDEX(G:G,1),0,0,ROW()-1)<>\"\"),OFFSET(INDEX(A:A,1),0,0,ROW()-1))","v":"Addressee"},"Auditors report",null,"DKGAAP"]
["Statement of auditor's responsibility (Audit, Substainability report)",null,{"$f":"LOOKUP(2,1/(OFFSET(INDEX(G:G,1),0,0,ROW()-1)<>\"\"),OFFSET(INDEX(A:A,1),0,0,ROW()-1))","v":"Addressee"},"Auditors report",null,"DKGAAP"]
["Description of qualifications of assurance engagement performed [Audit, substainability report]",null,{"$f":"LOOKUP(2,1/(OFFSET(INDEX(G:G,1),0,0,ROW()-1)<>\"\"),OFFSET(INDEX(A:A,1),0,0,ROW()-1))","v":"Addressee"},"Auditors report",null,"DKGAAP"]
["Opinion on subject matter of assurance report [Audit, Substainability report]",null,{"$f":"LOOKUP(2,1/(OFFSET(INDEX(G:G,1),0,0,ROW()-1)<>\"\"),OFFSET(INDEX(A:A,1),0,0,ROW()-1))","v":"Addressee"},"Auditors report",null,"DKGAAP"]
["Emphasis of matter (Audit, substainability report)",null,{"$f":"LOOKUP(2,1/(OFFSET(INDEX(G:G,1),0,0,ROW()-1)<>\"\"),OFFSET(INDEX(A:A,1),0,0,ROW()-1))","v":"Addressee"},"Auditors report",null,"DKGAAP"]
["Auditors report on XBRL-tagging",null,{"$f":"LOOKUP(2,1/(OFFSET(INDEX(G:G,1),0,0,ROW()-1)<>\"\"),OFFSET(INDEX(A:A,1),0,0,ROW()-1))","v":"Addressee"},"Auditors report",null,"DKGAAP"]
["Signature of auditors, place",null,{"$f":"LOOKUP(2,1/(OFFSET(INDEX(G:G,1),0,0,ROW()-1)<>\"\"),OFFSET(INDEX(A:A,1),0,0,ROW()-1))","v":"Addressee"},"Auditors report",null,"DKGAAP"]
["Signature of auditors, date",null,{"$f":"LOOKUP(2,1/(OFFSET(INDEX(G:G,1),0,0,ROW()-1)<>\"\"),OFFSET(INDEX(A:A,1),0,0,ROW()-1))","v":"Addressee"},"Auditors report",null,"DKGAAP"]
["Name of audit firm 1",null,{"$f":"LOOKUP(2,1/(OFFSET(INDEX(G:G,1),0,0,ROW()-1)<>\"\"),OFFSET(INDEX(A:A,1),0,0,ROW()-1))","v":"Addressee"},"Auditors report",null,"DKGAAP","Test auditor"]
["Name of audit firm 2",null,"Addressee","Auditors report",null,"DKGAAP",{"$f":"IF(COUNTBLANK(G83),\"\",\"\"&G76)","v":""}]
["Identification number [CVR] of audit firm 1",null,{"$f":"LOOKUP(2,1/(OFFSET(INDEX(G:G,1),0,0,ROW()-1)<>\"\"),OFFSET(INDEX(A:A,1),0,0,ROW()-1))","v":"Name of audit firm 1"},"Auditors report",null,"DKGAAP","12345678"]
["Identification number [CVR] of audit firm 2",null,"Name of audit firm 1","Auditors report",null,"DKGAAP",{"$f":"IF(COUNTBLANK(G83),\"\",\"\"&G78)","v":""}]
["Name and surname of auditor 1",null,{"$f":"LOOKUP(2,1/(OFFSET(INDEX(G:G,1),0,0,ROW()-1)<>\"\"),OFFSET(INDEX(A:A,1),0,0,ROW()-1))","v":"Identification number [CVR] of audit firm 1"},"Auditors report",null,"DKGAAP"]
["Description of auditor 1",null,{"$f":"LOOKUP(2,1/(OFFSET(INDEX(G:G,1),0,0,ROW()-1)<>\"\"),OFFSET(INDEX(A:A,1),0,0,ROW()-1))","v":"Identification number [CVR] of audit firm 1"},"Auditors report",null,"DKGAAP"]
["Identification number of auditor 1",null,{"$f":"LOOKUP(2,1/(OFFSET(INDEX(G:G,1),0,0,ROW()-1)<>\"\"),OFFSET(INDEX(A:A,1),0,0,ROW()-1))","v":"Identification number [CVR] of audit firm 1"},"Auditors report",null,"DKGAAP"]
["Name and surname of auditor 2",null,{"$f":"LOOKUP(2,1/(OFFSET(INDEX(G:G,1),0,0,ROW()-1)<>\"\"),OFFSET(INDEX(A:A,1),0,0,ROW()-1))","v":"Identification number [CVR] of audit firm 1"},"Auditors report",null,"DKGAAP"]
["Description of auditor 2",null,{"$f":"LOOKUP(2,1/(OFFSET(INDEX(G:G,1),0,0,ROW()-1)<>\"\"),OFFSET(INDEX(A:A,1),0,0,ROW()-1))","v":"Identification number [CVR] of audit firm 1"},"Auditors report",null,"DKGAAP"]
["Identification number of auditor 2",null,{"$f":"LOOKUP(2,1/(OFFSET(INDEX(G:G,1),0,0,ROW()-1)<>\"\"),OFFSET(INDEX(A:A,1),0,0,ROW()-1))","v":"Identification number [CVR] of audit firm 1"},"Auditors report",null,"DKGAAP"]
[]
["Auditor's report on substainability report",null,null,"Auditors report ESG",null,"DKGAAP"]
["Addressee of auditor's report (substainability report)",null,null,"Auditors report ESG",null,"DKGAAP"]
["Identification of subject matter of assurance report and description of assurance engagement [Substainability report]",null,null,"Auditors report ESG",null,"DKGAAP"]
["Statement of auditor's responsibility (Substainability report)",null,null,"Auditors report ESG",null,"DKGAAP"]
["Description of qualifications of assurance engagement performed [substainability report]",null,null,"Auditors report ESG",null,"DKGAAP"]
["Opinion on subject matter of assurance report [Substainability report]",null,null,"Auditors report ESG",null,"DKGAAP"]
["Emphasis of matter (substainability report)",null,null,"Auditors report ESG",null,"DKGAAP"]
["Signature of substainability auditor, date",null,null,"Auditors report ESG",null,"DKGAAP"]
["Signature of substainability auditor, place",null,null,"Auditors report ESG",null,"DKGAAP"]
["Name of audit firm [Substainability] 1",null,null,"Auditors report ESG",null,"DKGAAP"]
["Name of audit firm [Substainability] 2",null,null,"Auditors report ESG",null,"DKGAAP"]
["Identification number [CVR] of audit firm [Substainability] 1",null,null,"Auditors report ESG",null,"DKGAAP"]
["Identification number [CVR] of audit firm [Substainability] 2",null,null,"Auditors report ESG",null,"DKGAAP"]
["First name and surname of substainability auditor 1",null,null,"Auditors report ESG",null,"DKGAAP"]
["Description of substainability auditor 1",null,null,"Auditors report ESG",null,"DKGAAP"]
["Identification number of substainability auditor 1",null,null,"Auditors report ESG",null,"DKGAAP"]
["First name and surname of substainability auditor 2",null,null,"Auditors report ESG",null,"DKGAAP"]
["Description of substainability auditor 2",null,null,"Auditors report ESG",null,"DKGAAP"]
["Identification number of substainability auditor 2",null,null,"Auditors report ESG",null,"DKGAAP"]
[]
["Name of reporting entity or other means of identification",null,null,null,null,"ESEF"]
["Legal form of entity",null,{"$f":"LOOKUP(2,1/(OFFSET(INDEX(G:G,1),0,0,ROW()-1)<>\"\"),OFFSET(INDEX(A:A,1),0,0,ROW()-1))","v":"Identification number [CVR] of audit firm 1"},null,null,"ESEF"]
["Address of entity's registered office",null,{"$f":"LOOKUP(2,1/(OFFSET(INDEX(G:G,1),0,0,ROW()-1)<>\"\"),OFFSET(INDEX(A:A,1),0,0,ROW()-1))","v":"Identification number [CVR] of audit firm 1"},null,null,"ESEF"]
["Name of reporting entity",null,null,null,null,"DKGAAP"]
["Address of reporting entity, street name",null,{"$f":"LOOKUP(2,1/(OFFSET(INDEX(G:G,1),0,0,ROW()-1)<>\"\"),OFFSET(INDEX(A:A,1),0,0,ROW()-1))","v":"Identification number [CVR] of audit firm 1"},null,null,"DKGAAP"]
["Address of reporting entity, street building identifier",null,{"$f":"LOOKUP(2,1/(OFFSET(INDEX(G:G,1),0,0,ROW()-1)<>\"\"),OFFSET(INDEX(A:A,1),0,0,ROW()-1))","v":"Identification number [CVR] of audit firm 1"},null,null,"DKGAAP"]
["Address of reporting entity, post code identifier",null,{"$f":"LOOKUP(2,1/(OFFSET(INDEX(G:G,1),0,0,ROW()-1)<>\"\"),OFFSET(INDEX(A:A,1),0,0,ROW()-1))","v":"Identification number [CVR] of audit firm 1"},null,null,"DKGAAP"]
["Address of reporting entity, district name",null,{"$f":"LOOKUP(2,1/(OFFSET(INDEX(G:G,1),0,0,ROW()-1)<>\"\"),OFFSET(INDEX(A:A,1),0,0,ROW()-1))","v":"Identification number [CVR] of audit firm 1"},null,null,"DKGAAP"]
["Identification number [CVR] of reporting entity",null,{"$f":"LOOKUP(2,1/(OFFSET(INDEX(G:G,1),0,0,ROW()-1)<>\"\"),OFFSET(INDEX(A:A,1),0,0,ROW()-1))","v":"Identification number [CVR] of audit firm 1"},null,null,"DKGAAP"]
["Name of submitting enterprise",null,null,null,null,"DKGAAP",{"$f":"\"\"&G110","v":""}]
["Address of submitting enterprise, street and number",null,{"$f":"LOOKUP(2,1/(OFFSET(INDEX(G:G,1),0,0,ROW()-1)<>\"\"),OFFSET(INDEX(A:A,1),0,0,ROW()-1))","v":"Identification number [CVR] of audit firm 1"},null,null,"DKGAAP",{"$f":"G111&\" \"&G112","v":" "}]
["Address of submitting enterprise, postcode and town",null,{"$f":"LOOKUP(2,1/(OFFSET(INDEX(G:G,1),0,0,ROW()-1)<>\"\"),OFFSET(INDEX(A:A,1),0,0,ROW()-1))","v":"Address of submitting enterprise, street and number"},null,null,"DKGAAP",{"$f":"G113&\" \"&G114","v":" "}]
["Identification number [CVR] of submitting enterprise",null,{"$f":"LOOKUP(2,1/(OFFSET(INDEX(G:G,1),0,0,ROW()-1)<>\"\"),OFFSET(INDEX(A:A,1),0,0,ROW()-1))","v":"Address of submitting enterprise, postcode and town"},null,null,"DKGAAP",{"$f":"\"\"&G115","v":""}]

{"sheet":"Notes DKGAAP","index":23,"n_rows":11,"n_cols":8,"rows_kept":11,"cut":false,"hidden":false,"merged":[]}
[]
[null,null,"After","In",{"$f":"\"Period \"&COUNTIF(OFFSET(E2,0,-1,1,-COLUMN()+1),\"Period*\")+1","v":"Period 1"},{"$f":"\"Period \"&COUNTIF(OFFSET(F2,0,-1,1,-COLUMN()+1),\"Period*\")+1","v":"Period 2"}]
[]
[null,null,null,null,null,null,null,{"$f":"\"/Notes DKGAAP(headers=\"&CELL(\"address\",$B$1)&\":\"&CELL(\"address\",$G$3)&\",labels=\"&SUBSTITUTE(CELL(\"address\",A4)&\":\"&CELL(\"address\",A6),\"$\",\"\")&\")\"","v":"/Notes DKGAAP(headers=$B$1:$G$3,labels=A4:A6)"}]
[{"$f":"\"Note \"&COUNTIF(OFFSET(A5,-1,0,-ROW()+1,1),\"Note*\")+1","v":"Note 1"}]
[]
[null,null,null,null,null,null,null,{"$f":"\"/Proposed distribution of results(headers=\"&CELL(\"address\",$B$1)&\":\"&CELL(\"address\",$G$3)&\",labels=\"&SUBSTITUTE(CELL(\"address\",A7)&\":\"&CELL(\"address\",A9),\"$\",\"\")&\")\"","v":"/Proposed distribution of results(headers=$B$1:$G$3,labels=A7:A9)"}]
[{"$f":"\"Note \"&COUNTIF(OFFSET(A8,-1,0,-ROW()+1,1),\"Note*\")+1","v":"Note 2"}]
[]
[null,null,null,null,null,null,null,{"$f":"\"/Proposed distribution of results after minority interests(headers=\"&CELL(\"address\",$B$1)&\":\"&CELL(\"address\",$G$3)&\",labels=\"&SUBSTITUTE(CELL(\"address\",A10)&\":\"&CELL(\"address\",A12),\"$\",\"\")&\")\"","v":"/Proposed distribution of results after minority interests(headers=$B$1:$G$3,labels=A10:A12)"}]
[{"$f":"\"Note \"&COUNTIF(OFFSET(A11,-1,0,-ROW()+1,1),\"Note*\")+1","v":"Note 3"}]

{"sheet":"Transfer_REPORT","index":24,"n_rows":8,"n_cols":2,"rows_kept":8,"cut":false,"hidden":true,"merged":[[6,0,6,1],[0,0,0,1],[1,0,1,1],[2,0,2,1],[3,0,3,1],[4,0,4,1],[5,0,5,1]]}
["If the reference in \"Cell\" starts with \"PP_\", it is because of a field in the old sheet that has not been transferred to the new. Following errors can occur:"]
["1) The field is not available anymore or has been renamed"]
["2) The field is available, but the value under \"Formula\" is no longer accepted"]
["3) Feltet findes men der findes allerede en formel i feltet som er anderledes end nedenfor. Der ændres nu og da på disse formler, så hvis en eller flere henvisninger til \"PP_xxx\" indgår i formlen, har det sandsynligvis ingen betydning."]
[]
["If the reference in \"Cell\" is an ordinary cell reference (e.g. \"FrontPage!$A$1\"), it means that this cell still references the old sheet and should be updated manually to reference the new. If the value in \"Formula\" refers to a \"PP_xxx\"-field, this field is either not available anymore or has been renamed."]
[]
["Cell","Formula"]